{"text_format":"1","workbook":"xlsx","n_sheets":19,"sheets":["Gwybodaeth ymgeiswyr","Data Ffisegol","Physical Stats","PSA charts","Exempt Samples","Data metelau hybrin","Metals and TS Calcs","Data organotinau","Organotin calcs","Data PAH","PAH calcs","Data PCB","PCB calcs","Data organoclorin","Data BDE","Organochlorine calcs","BDE calcs","PR details","Import"],"not_rendered":{"charts":36,"images":0,"macros":1,"external_links":0,"defined_names":1,"comments":0,"pivot_tables":0},"unopened":[],"bounds":{"document_bytes":16777216,"sheet_cells":100000,"rows_first":2000,"rows_last":500,"rows_between":2000,"halvings":0,"cell_chars":16384,"cell_head_chars":4096},"cells_cut":0,"cells_raw":0,"read":"whole","date_system":"1900"}

{"sheet":"Gwybodaeth ymgeiswyr","index":0,"n_rows":100,"n_cols":17,"rows_kept":100,"cut":false,"hidden":false,"merged":[[34,2,36,3],[4,1,4,8],[5,16,6,16],[5,10,6,10],[5,12,5,13],[24,5,29,6],[23,5,23,6],[5,15,6,15],[5,14,6,14],[14,2,14,3],[15,2,15,3],[16,2,16,3],[18,2,18,3],[17,2,17,3],[5,11,6,11]]}
[]
[null,"Gwybodaeth Ymgeiswyr"]
[]
[null,"Cyfarwyddiadau:",null,null,null,null,null,null,null,"Rhifau a lleoliadau’r samplau"]
[null,"1. Dylai pob ymgeisydd a labordy gyfeirio at y canllawiau diweddaraf ar ddadansoddi gwaddodion i gefnogi ceisiadau am drwyddedau morol ar "]
[null,null,"dudalennau Trwyddedu Morol gwefan CNC",null,null,null,null,null,null,null,"Rhif adnabod y sampl ","Sampl wedi'i heithrio (defnydd Gwasanaeth Trwyddedu CNC)","Lleoliad y sampl (graddau degol, WGS84)",null,"Enw'r lleoliad (yn unol â'r cynllun samplu)","Dyfnder samplu (m)","Ardal garthu"]
[null,"2. Rhaid darparu gwybodaeth lawn o dan bob dalen berthnasol o'r llyfr gwaith. Mae celloedd wedi’u lliwio’n llwyd yn nodi lle gellir cofnodi gwybodaeth.",null,null,null,null,null,null,null,null,null,null,"Lledred y safle","Hydred y safle"]
[null,"3. Lle na ellir darparu gwybodaeth, dylai'r ymgeisydd ymgynghori â Gwasanaeth Trwyddedu CNC cyn cyflwyno."]
[null,"4. Mae taflenni gwaith yn cael eu diogelu i atal diwygiadau damweiniol i werthoedd a gyfrifwyd.  Os oes angen gwneud diwygiadau, ymgynghorwch â Gwasanaeth Trwyddedu CNC."]
[null,"5. Dylai rhifau adnabod samplau a ddefnyddir trwy'r taflenni gwaith allbwn data gyfateb i rifau adnabod samplau a ddarperir ar y daflen waith hon."]
[]
[]
[null,"Gwybodaeth yr ymgeisydd am drwydded forol:"]
[]
[null,null,"Ymgeisydd:"]
[null,null,"Cyfeirnod cynllun samplu CNC:"]
[null,null,"Teitl y cais:"]
[null,null,"Dyddiad samplu:"]
[null,null,"Lleoliad samplu:"]
[]
[]
[null,"Tunelli’r ardal garthu:"]
[]
[null,null,"Ardal Garthu","Tunelli a garthwyd","% cyfanswm y deunydd a garthwyd","Cyfanswm y deunydd a garthwyd"]
[null,null,"Ardal i",null,{"$f":"IF(D25=\"\",\"\",(D25/$F$25))","v":""},{"$f":"SUM(D25:D30)","v":0}]
[null,null,"Ardal ii",null,""]
[null,null,"Ardal iii",null,""]
[null,null,"Ardal iv",null,""]
[null,null,"Ardal v",null,""]
[null,null,"Ardal vi",null,""]
[]
[]
[]
[]
[null,null,"Defnydd Gwasanaeth Trwyddedu CNC yn unig"]
[]
[]
[]
[]
[]
[]
[]
[]
[]
[]
[]
[]
[]
[]
[]
[]
[]
[]
[]
[]
[]
[]
[]
[]
[]
[]
[]
[]
[]
[]
[]
[]
[]
[]
[]
[]
[]
[]
[]
[]
[]
[]
[]
[]
[]
[]
[]
[]
[]
[]
[]
[]
[]
[]
[]
[]
[]
[]
[]
[]
[]
[]
[]
[null,null,null,null,null,null,null,null,null,null,null,null,null,null,null,null,"Peidiwch â dileu"]
[null,null,null,null,null,null,null,null,null,null,null,null,null,null,null,null,"y"]

{"sheet":"Data Ffisegol","index":1,"n_rows":200,"n_cols":56,"rows_kept":200,"cut":false,"hidden":false,"merged":[[42,7,43,10],[39,7,41,10],[5,14,5,55],[5,13,7,13],[5,9,7,9],[5,7,7,7],[5,8,7,8],[5,10,7,10],[5,12,7,12],[5,11,7,11]]}
[]
[null,"Data nodweddion ffisegol"]
[]
[null,"Cyfarwyddiadau:",null,null,null,null,null,"Allbynnau dadansoddiad nodweddion ffisegol:"]
[null,"1. Cofnodwch y labordy/contractwr sy'n gyfrifol am ddadansoddi"]
[null,"2. Cofnodwch y dyddiad y dadansoddwyd y samplau.",null,null,null,null,null,"Rhif sampl y labordy","Ardal Garthu","Rhif(au) adnabod y samplau","Ymddangosiad gweledol*","Wedi'i eithrio rhag dadansoddiad cemegol ▫","Cyfanswm Solidau (% cyfanswm y gwaddodion)","Deunydd organig (cyfanswm carbon organig)","Dosbarthiad maint gronynnau (% fesul bwlch o 0.5 phi)"]
[null,"3. Rhowch set ddata lawn ar gyfer pob sampl yn nhabl canlyniadau'r dadansoddiad",null,null,null,null,null,null,null,null,null,null,null,null,-5.5,-5,-4.5,-4,-3.5,-3,-2.5,-2,-1.5,-1,-0.5,0,0.5,1,1.5,2,2.5,3,3.5,4,4.5,5,5.5,6,6.5,7,7.5,8,8.5,9,9.5,10,10.5,11,11.5,12,12.5,13,13.5,14,14.5,">14.5"]
[null,"4. Lle rydych yn copïo a gludo cofnodion, defnyddiwch y gwerthoedd yr ydych yn eu gludo yn unig",null,null,null,null,null,null,null,null,null,null,null,null,"45mm","31.5mm","22.4mm","16mm","11.2mm","8mm","5.6mm","4mm","2.8mm","2mm","1.4mm","1mm","707µm","500µm","353.6µm","250µm","176.8µm","125µm","88.39µm","63µm","44.2µm","31.3µm","22.1µm","15.6µm","11µm","7.8µm","5.5µm","3.9µm","2.75µm","1.95µm","1.38µm","0.98µm","0.69µm","0.49µm","0.34µm","0.24µm","0.17µm","0.12µm","0.09µm","0.06µm","0.04µm","<0.04µm"]
[null,"5. Pan fyddwch chi'n nodi rhifau adnabod sawl sampl, defnyddiwch ffurflen y naidlen (pop-up)"]
[null,null,"Dylai rhifau adnabod gael eu gwahanu gan goma"]
[]
[]
[null,"Gwybodaeth dadansoddi:"]
[]
[null,null,"Labordy/contractwr:"]
[null,null,"Dyddiad y dadansoddiad:"]
[]
[]
[]
[]
[]
[]
[]
[]
[]
[]
[]
[]
[]
[]
[]
[]
[]
[]
[]
[]
[]
[]
[]
[null,null,null,null,null,null,null,"* Ymddangosiad gweledol: Dylech gynnwys disgrifiad o sut olwg sydd ar y deunydd a’r hyn mae'n ei gynnwys, e.e. deunydd tywodlyd sy'n cynnwys darnau o frics, neu silt du, neu sylwedd artiffisial a ddaliwyd yn y sampl."]
[]
[]
[null,null,null,null,null,null,null,"▫ Wedi'i eithrio rhag dadansoddi cemegol: rhowch 'y' lle mae samplau gwaddod yn cynnwys deunydd rhewlifol neu'n rhy fras ac felly wedi'u heithrio rhag dadansoddi cemegol."]
[]
[]
[]
[]
[]
[]
[]
[]
[]
[]
[]
[]
[]
[]
[]
[]
[]
[]
[]
[]
[]
[]
[]
[]
[]
[]
[]
[]
[]
[]
[]
[]
[]
[]
[]
[]
[]
[]
[]
[]
[]
[]
[]
[]
[]
[]
[]
[]
[]
[]
[]
[]
[]
[]
[]
[]
[]
[]
[]
[]
[]
[]
[]
[]
[]
[]
[]
[]
[]
[]
[]
[]
[]
[]
[]
[]
[]
[]
[]
[]
[]
[]
[]
[]
[]
[]
[]
[]
[]
[]
[]
[]
[]
[]
[]
[]
[]
[]
[]
[]
[]
[]
[]
[]
[]
[]
[]
[]
[]
[]
[]
[]
[]
[]
[]
[]
[]
[]
[]
[]
[]
[]
[]
[]
[]
[]
[]
[]
[]
[]
[]
[]
[]
[]
[]
[]
[]
[]
[]
[]
[]
[]
[]
[]
[]
[]
[]
[]
[]
[]
[]
[]
[]
[]
[]
[]
["y"]

{"sheet":"Physical Stats","index":2,"n_rows":117,"n_cols":63,"rows_kept":117,"cut":false,"hidden":true,"merged":[[6,60,7,60],[6,61,7,61],[6,62,7,62],[5,57,5,62],[39,7,39,11],[5,9,7,9],[5,7,7,7],[5,8,7,8],[5,11,7,11],[5,13,7,13],[5,14,7,14],[6,57,7,57],[6,58,7,58],[6,59,7,59],[5,12,7,12],[5,10,7,10],[45,7,47,7],[45,8,47,8],[45,9,47,9],[85,10,87,10],[85,11,85,15],[86,11,87,11],[86,13,87,13],[86,14,87,14],[45,10,47,10],[45,11,45,15],[46,11,47,11],[46,13,47,13],[46,14,47,14],[46,15,47,15],[86,15,87,15],[85,7,93,9],[113,7,116,10],[99,7,107,9],[99,10,101,10],[99,11,99,15],[100,11,101,11],[100,13,101,13],[100,14,101,14],[100,15,101,15],[113,11,113,15],[114,11,115,11],[114,13,115,13],[114,14,115,14],[114,15,115,15]]}
[]
[null,"Physical characteristics summary"]
[]
[null,null,null,null,null,null,null,"Physical characteristics statistics:"]
[]
[null,"Analysis information:",null,null,null,null,null,"Laboratory sample number","Dredge Area","Sample ID","Excluded (y if yes)","Visual appearance ","Exempt from chemical analysis","Dry matter (% total sediments)","Organic matter (total organic carbon)",null,"Particle size distribution (% at 0.5 phi intervals)",null,null,null,null,null,null,null,null,null,null,null,null,null,null,null,null,null,null,null,null,null,null,null,null,null,null,null,null,null,null,null,null,null,null,null,null,null,null,null,null,"Particle size summary statistics"]
[null,null,null,null,null,null,null,null,null,null,null,null,null,null,null,-5.5,-5,-4.5,-4,-3.5,-3,-2.5,-2,-1.5,-1,-0.5,0,0.5,1,1.5,2,2.5,3,3.5,4,4.5,5,5.5,6,6.5,7,7.5,8,8.5,9,9.5,10,10.5,11,11.5,12,12.5,13,13.5,14,14.5,">14.5","Gravel (%)","Sand (%)","Very coarse and coarse sand (%)","Medium sand (%)","Fine sand and very fine sand (%)","Silt/Clay (%)"]
[null,null,"Applicant:",{"$f":"IF('Gwybodaeth ymgeiswyr'!E15=\"\",\"\",'Gwybodaeth ymgeiswyr'!E15)","v":""},null,null,null,null,null,null,null,null,null,null,null,"45mm","31.5mm","22.4mm","16mm","11.2mm","8mm","5.6mm","4mm","2.8mm","2mm","1.4mm","1mm","707µm","500µm","353.6µm","250µm","176.8µm","125µm","88.39µm","63µm","44.2µm","31.3µm","22.1µm","15.6µm","11µm","7.8µm","5.5µm","3.9µm","2.75µm","1.95µm","1.38µm","0.98µm","0.69µm","0.49µm","0.34µm","0.24µm","0.17µm","0.12µm","0.09µm","0.06µm","0.04µm","<0.04µm"]
[null,null,"Application number:",{"$f":"IF('Gwybodaeth ymgeiswyr'!E16=\"\",\"\",'Gwybodaeth ymgeiswyr'!E16)","v":""},null,null,null,{"$f":"IF('Data Ffisegol'!H9=\"\",\"\",'Data Ffisegol'!H9)","v":""},{"$f":"IF('Data Ffisegol'!I9=\"\",\"\",'Data Ffisegol'!I9)","v":""},{"$f":"IF('Data Ffisegol'!J9=\"\",\"\",'Data Ffisegol'!J9)","v":""},{"$f":"IFERROR(IF(J9=\"\",\"\",(IF(VLOOKUP(J9,'Gwybodaeth ymgeiswyr'!$K$8:$L$37,2,0)=\"y\",\"y\",\"\"))),\"Manual entry required\")","v":""},{"$f":"IF('Data Ffisegol'!K9=\"\",\"\",'Data Ffisegol'!K9)","v":""},{"$f":"IF('Data Ffisegol'!L9=\"\",\"\",'Data Ffisegol'!L9)","v":""},{"$f":"IF('Data Ffisegol'!M9=\"\",\"\",'Data Ffisegol'!M9)","v":""},{"$f":"IF('Data Ffisegol'!N9=\"\",\"\",'Data Ffisegol'!N9)","v":""},{"$f":"IF('Data Ffisegol'!O9=\"\",\"\",'Data Ffisegol'!O9)","v":""},{"$f":"IF('Data Ffisegol'!P9=\"\",\"\",'Data Ffisegol'!P9)","v":""},{"$f":"IF('Data Ffisegol'!Q9=\"\",\"\",'Data Ffisegol'!Q9)","v":""},{"$f":"IF('Data Ffisegol'!R9=\"\",\"\",'Data Ffisegol'!R9)","v":""},{"$f":"IF('Data Ffisegol'!S9=\"\",\"\",'Data Ffisegol'!S9)","v":""},{"$f":"IF('Data Ffisegol'!T9=\"\",\"\",'Data Ffisegol'!T9)","v":""},{"$f":"IF('Data Ffisegol'!U9=\"\",\"\",'Data Ffisegol'!U9)","v":""},{"$f":"IF('Data Ffisegol'!V9=\"\",\"\",'Data Ffisegol'!V9)","v":""},{"$f":"IF('Data Ffisegol'!W9=\"\",\"\",'Data Ffisegol'!W9)","v":""},{"$f":"IF('Data Ffisegol'!X9=\"\",\"\",'Data Ffisegol'!X9)","v":""},{"$f":"IF('Data Ffisegol'!Y9=\"\",\"\",'Data Ffisegol'!Y9)","v":""},{"$f":"IF('Data Ffisegol'!Z9=\"\",\"\",'Data Ffisegol'!Z9)","v":""},{"$f":"IF('Data Ffisegol'!AA9=\"\",\"\",'Data Ffisegol'!AA9)","v":""},{"$f":"IF('Data Ffisegol'!AB9=\"\",\"\",'Data Ffisegol'!AB9)","v":""},{"$f":"IF('Data Ffisegol'!AC9=\"\",\"\",'Data Ffisegol'!AC9)","v":""},{"$f":"IF('Data Ffisegol'!AD9=\"\",\"\",'Data Ffisegol'!AD9)","v":""},{"$f":"IF('Data Ffisegol'!AE9=\"\",\"\",'Data Ffisegol'!AE9)","v":""},{"$f":"IF('Data Ffisegol'!AF9=\"\",\"\",'Data Ffisegol'!AF9)","v":""},{"$f":"IF('Data Ffisegol'!AG9=\"\",\"\",'Data Ffisegol'!AG9)","v":""},{"$f":"IF('Data Ffisegol'!AH9=\"\",\"\",'Data Ffisegol'!AH9)","v":""},{"$f":"IF('Data Ffisegol'!AI9=\"\",\"\",'Data Ffisegol'!AI9)","v":""},{"$f":"IF('Data Ffisegol'!AJ9=\"\",\"\",'Data Ffisegol'!AJ9)","v":""},{"$f":"IF('Data Ffisegol'!AK9=\"\",\"\",'Data Ffisegol'!AK9)","v":""},{"$f":"IF('Data Ffisegol'!AL9=\"\",\"\",'Data Ffisegol'!AL9)","v":""},{"$f":"IF('Data Ffisegol'!AM9=\"\",\"\",'Data Ffisegol'!AM9)","v":""},{"$f":"IF('Data Ffisegol'!AN9=\"\",\"\",'Data Ffisegol'!AN9)","v":""},{"$f":"IF('Data Ffisegol'!AO9=\"\",\"\",'Data Ffisegol'!AO9)","v":""},{"$f":"IF('Data Ffisegol'!AP9=\"\",\"\",'Data Ffisegol'!AP9)","v":""},{"$f":"IF('Data Ffisegol'!AQ9=\"\",\"\",'Data Ffisegol'!AQ9)","v":""},{"$f":"IF('Data Ffisegol'!AR9=\"\",\"\",'Data Ffisegol'!AR9)","v":""},{"$f":"IF('Data Ffisegol'!AS9=\"\",\"\",'Data Ffisegol'!AS9)","v":""},{"$f":"IF('Data Ffisegol'!AT9=\"\",\"\",'Data Ffisegol'!AT9)","v":""},{"$f":"IF('Data Ffisegol'!AU9=\"\",\"\",'Data Ffisegol'!AU9)","v":""},{"$f":"IF('Data Ffisegol'!AV9=\"\",\"\",'Data Ffisegol'!AV9)","v":""},{"$f":"IF('Data Ffisegol'!AW9=\"\",\"\",'Data Ffisegol'!AW9)","v":""},{"$f":"IF('Data Ffisegol'!AX9=\"\",\"\",'Data Ffisegol'!AX9)","v":""},{"$f":"IF('Data Ffisegol'!AY9=\"\",\"\",'Data Ffisegol'!AY9)","v":""},{"$f":"IF('Data Ffisegol'!AZ9=\"\",\"\",'Data Ffisegol'!AZ9)","v":""},{"$f":"IF('Data Ffisegol'!BA9=\"\",\"\",'Data Ffisegol'!BA9)","v":""},{"$f":"IF('Data Ffisegol'!BB9=\"\",\"\",'Data Ffisegol'!BB9)","v":""},{"$f":"IF('Data Ffisegol'!BC9=\"\",\"\",'Data Ffisegol'!BC9)","v":""},{"$f":"IF('Data Ffisegol'!BD9=\"\",\"\",'Data Ffisegol'!BD9)","v":""},{"$f":"IF(SUM(P9:BE9)<1,\"\",SUM(P9:Y9))","v":""},{"$f":"IF(SUM(P9:BE9)<1,\"\",SUM(Z9:AI9))","v":""},{"$f":"IF(SUM(P9:BE9)<1,\"\",SUM(Z9:AC9))","v":""},{"$f":"IF(SUM(P9:BE9)<1,\"\", SUM(AD9:AE9))","v":""},{"$f":"IF(SUM(P9:BE9)<1,\"\",SUM(AF9:AI9))","v":""},{"$f":"IF(SUM(P9:BE9)<1,\"\",SUM(AJ9:BE9))","v":""}]
[null,null,"Application title:",{"$f":"IF('Gwybodaeth ymgeiswyr'!E17=\"\",\"\",'Gwybodaeth ymgeiswyr'!E17)","v":""},null,null,null,{"$f":"IF('Data Ffisegol'!H10=\"\",\"\",'Data Ffisegol'!H10)","v":""},{"$f":"IF('Data Ffisegol'!I10=\"\",\"\",'Data Ffisegol'!I10)","v":""},{"$f":"IF('Data Ffisegol'!J10=\"\",\"\",'Data Ffisegol'!J10)","v":""},{"$f":"IFERROR(IF(J10=\"\",\"\",(IF(VLOOKUP(J10,'Gwybodaeth ymgeiswyr'!$K$8:$L$37,2,0)=\"y\",\"y\",\"\"))),\"Manual entry required\")","v":""},{"$f":"IF('Data Ffisegol'!K10=\"\",\"\",'Data Ffisegol'!K10)","v":""},{"$f":"IF('Data Ffisegol'!L10=\"\",\"\",'Data Ffisegol'!L10)","v":""},{"$f":"IF('Data Ffisegol'!M10=\"\",\"\",'Data Ffisegol'!M10)","v":""},{"$f":"IF('Data Ffisegol'!N10=\"\",\"\",'Data Ffisegol'!N10)","v":""},{"$f":"IF('Data Ffisegol'!O10=\"\",\"\",'Data Ffisegol'!O10)","v":""},{"$f":"IF('Data Ffisegol'!P10=\"\",\"\",'Data Ffisegol'!P10)","v":""},{"$f":"IF('Data Ffisegol'!Q10=\"\",\"\",'Data Ffisegol'!Q10)","v":""},{"$f":"IF('Data Ffisegol'!R10=\"\",\"\",'Data Ffisegol'!R10)","v":""},{"$f":"IF('Data Ffisegol'!S10=\"\",\"\",'Data Ffisegol'!S10)","v":""},{"$f":"IF('Data Ffisegol'!T10=\"\",\"\",'Data Ffisegol'!T10)","v":""},{"$f":"IF('Data Ffisegol'!U10=\"\",\"\",'Data Ffisegol'!U10)","v":""},{"$f":"IF('Data Ffisegol'!V10=\"\",\"\",'Data Ffisegol'!V10)","v":""},{"$f":"IF('Data Ffisegol'!W10=\"\",\"\",'Data Ffisegol'!W10)","v":""},{"$f":"IF('Data Ffisegol'!X10=\"\",\"\",'Data Ffisegol'!X10)","v":""},{"$f":"IF('Data Ffisegol'!Y10=\"\",\"\",'Data Ffisegol'!Y10)","v":""},{"$f":"IF('Data Ffisegol'!Z10=\"\",\"\",'Data Ffisegol'!Z10)","v":""},{"$f":"IF('Data Ffisegol'!AA10=\"\",\"\",'Data Ffisegol'!AA10)","v":""},{"$f":"IF('Data Ffisegol'!AB10=\"\",\"\",'Data Ffisegol'!AB10)","v":""},{"$f":"IF('Data Ffisegol'!AC10=\"\",\"\",'Data Ffisegol'!AC10)","v":""},{"$f":"IF('Data Ffisegol'!AD10=\"\",\"\",'Data Ffisegol'!AD10)","v":""},{"$f":"IF('Data Ffisegol'!AE10=\"\",\"\",'Data Ffisegol'!AE10)","v":""},{"$f":"IF('Data Ffisegol'!AF10=\"\",\"\",'Data Ffisegol'!AF10)","v":""},{"$f":"IF('Data Ffisegol'!AG10=\"\",\"\",'Data Ffisegol'!AG10)","v":""},{"$f":"IF('Data Ffisegol'!AH10=\"\",\"\",'Data Ffisegol'!AH10)","v":""},{"$f":"IF('Data Ffisegol'!AI10=\"\",\"\",'Data Ffisegol'!AI10)","v":""},{"$f":"IF('Data Ffisegol'!AJ10=\"\",\"\",'Data Ffisegol'!AJ10)","v":""},{"$f":"IF('Data Ffisegol'!AK10=\"\",\"\",'Data Ffisegol'!AK10)","v":""},{"$f":"IF('Data Ffisegol'!AL10=\"\",\"\",'Data Ffisegol'!AL10)","v":""},{"$f":"IF('Data Ffisegol'!AM10=\"\",\"\",'Data Ffisegol'!AM10)","v":""},{"$f":"IF('Data Ffisegol'!AN10=\"\",\"\",'Data Ffisegol'!AN10)","v":""},{"$f":"IF('Data Ffisegol'!AO10=\"\",\"\",'Data Ffisegol'!AO10)","v":""},{"$f":"IF('Data Ffisegol'!AP10=\"\",\"\",'Data Ffisegol'!AP10)","v":""},{"$f":"IF('Data Ffisegol'!AQ10=\"\",\"\",'Data Ffisegol'!AQ10)","v":""},{"$f":"IF('Data Ffisegol'!AR10=\"\",\"\",'Data Ffisegol'!AR10)","v":""},{"$f":"IF('Data Ffisegol'!AS10=\"\",\"\",'Data Ffisegol'!AS10)","v":""},{"$f":"IF('Data Ffisegol'!AT10=\"\",\"\",'Data Ffisegol'!AT10)","v":""},{"$f":"IF('Data Ffisegol'!AU10=\"\",\"\",'Data Ffisegol'!AU10)","v":""},{"$f":"IF('Data Ffisegol'!AV10=\"\",\"\",'Data Ffisegol'!AV10)","v":""},{"$f":"IF('Data Ffisegol'!AW10=\"\",\"\",'Data Ffisegol'!AW10)","v":""},{"$f":"IF('Data Ffisegol'!AX10=\"\",\"\",'Data Ffisegol'!AX10)","v":""},{"$f":"IF('Data Ffisegol'!AY10=\"\",\"\",'Data Ffisegol'!AY10)","v":""},{"$f":"IF('Data Ffisegol'!AZ10=\"\",\"\",'Data Ffisegol'!AZ10)","v":""},{"$f":"IF('Data Ffisegol'!BA10=\"\",\"\",'Data Ffisegol'!BA10)","v":""},{"$f":"IF('Data Ffisegol'!BB10=\"\",\"\",'Data Ffisegol'!BB10)","v":""},{"$f":"IF('Data Ffisegol'!BC10=\"\",\"\",'Data Ffisegol'!BC10)","v":""},{"$f":"IF('Data Ffisegol'!BD10=\"\",\"\",'Data Ffisegol'!BD10)","v":""},"",{"$f":"IF(SUM(P10:BE10)<1,\"\",SUM(Z10:AI10))","v":""},"","","",""]
[null,null,"Date sampled:",{"$f":"IF('Gwybodaeth ymgeiswyr'!E18=\"\",\"\",'Gwybodaeth ymgeiswyr'!E18)","v":""},null,null,null,{"$f":"IF('Data Ffisegol'!H11=\"\",\"\",'Data Ffisegol'!H11)","v":""},{"$f":"IF('Data Ffisegol'!I11=\"\",\"\",'Data Ffisegol'!I11)","v":""},{"$f":"IF('Data Ffisegol'!J11=\"\",\"\",'Data Ffisegol'!J11)","v":""},{"$f":"IFERROR(IF(J11=\"\",\"\",(IF(VLOOKUP(J11,'Gwybodaeth ymgeiswyr'!$K$8:$L$37,2,0)=\"y\",\"y\",\"\"))),\"Manual entry required\")","v":""},{"$f":"IF('Data Ffisegol'!K11=\"\",\"\",'Data Ffisegol'!K11)","v":""},{"$f":"IF('Data Ffisegol'!L11=\"\",\"\",'Data Ffisegol'!L11)","v":""},{"$f":"IF('Data Ffisegol'!M11=\"\",\"\",'Data Ffisegol'!M11)","v":""},{"$f":"IF('Data Ffisegol'!N11=\"\",\"\",'Data Ffisegol'!N11)","v":""},{"$f":"IF('Data Ffisegol'!O11=\"\",\"\",'Data Ffisegol'!O11)","v":""},{"$f":"IF('Data Ffisegol'!P11=\"\",\"\",'Data Ffisegol'!P11)","v":""},{"$f":"IF('Data Ffisegol'!Q11=\"\",\"\",'Data Ffisegol'!Q11)","v":""},{"$f":"IF('Data Ffisegol'!R11=\"\",\"\",'Data Ffisegol'!R11)","v":""},{"$f":"IF('Data Ffisegol'!S11=\"\",\"\",'Data Ffisegol'!S11)","v":""},{"$f":"IF('Data Ffisegol'!T11=\"\",\"\",'Data Ffisegol'!T11)","v":""},{"$f":"IF('Data Ffisegol'!U11=\"\",\"\",'Data Ffisegol'!U11)","v":""},{"$f":"IF('Data Ffisegol'!V11=\"\",\"\",'Data Ffisegol'!V11)","v":""},{"$f":"IF('Data Ffisegol'!W11=\"\",\"\",'Data Ffisegol'!W11)","v":""},{"$f":"IF('Data Ffisegol'!X11=\"\",\"\",'Data Ffisegol'!X11)","v":""},{"$f":"IF('Data Ffisegol'!Y11=\"\",\"\",'Data Ffisegol'!Y11)","v":""},{"$f":"IF('Data Ffisegol'!Z11=\"\",\"\",'Data Ffisegol'!Z11)","v":""},{"$f":"IF('Data Ffisegol'!AA11=\"\",\"\",'Data Ffisegol'!AA11)","v":""},{"$f":"IF('Data Ffisegol'!AB11=\"\",\"\",'Data Ffisegol'!AB11)","v":""},{"$f":"IF('Data Ffisegol'!AC11=\"\",\"\",'Data Ffisegol'!AC11)","v":""},{"$f":"IF('Data Ffisegol'!AD11=\"\",\"\",'Data Ffisegol'!AD11)","v":""},{"$f":"IF('Data Ffisegol'!AE11=\"\",\"\",'Data Ffisegol'!AE11)","v":""},{"$f":"IF('Data Ffisegol'!AF11=\"\",\"\",'Data Ffisegol'!AF11)","v":""},{"$f":"IF('Data Ffisegol'!AG11=\"\",\"\",'Data Ffisegol'!AG11)","v":""},{"$f":"IF('Data Ffisegol'!AH11=\"\",\"\",'Data Ffisegol'!AH11)","v":""},{"$f":"IF('Data Ffisegol'!AI11=\"\",\"\",'Data Ffisegol'!AI11)","v":""},{"$f":"IF('Data Ffisegol'!AJ11=\"\",\"\",'Data Ffisegol'!AJ11)","v":""},{"$f":"IF('Data Ffisegol'!AK11=\"\",\"\",'Data Ffisegol'!AK11)","v":""},{"$f":"IF('Data Ffisegol'!AL11=\"\",\"\",'Data Ffisegol'!AL11)","v":""},{"$f":"IF('Data Ffisegol'!AM11=\"\",\"\",'Data Ffisegol'!AM11)","v":""},{"$f":"IF('Data Ffisegol'!AN11=\"\",\"\",'Data Ffisegol'!AN11)","v":""},{"$f":"IF('Data Ffisegol'!AO11=\"\",\"\",'Data Ffisegol'!AO11)","v":""},{"$f":"IF('Data Ffisegol'!AP11=\"\",\"\",'Data Ffisegol'!AP11)","v":""},{"$f":"IF('Data Ffisegol'!AQ11=\"\",\"\",'Data Ffisegol'!AQ11)","v":""},{"$f":"IF('Data Ffisegol'!AR11=\"\",\"\",'Data Ffisegol'!AR11)","v":""},{"$f":"IF('Data Ffisegol'!AS11=\"\",\"\",'Data Ffisegol'!AS11)","v":""},{"$f":"IF('Data Ffisegol'!AT11=\"\",\"\",'Data Ffisegol'!AT11)","v":""},{"$f":"IF('Data Ffisegol'!AU11=\"\",\"\",'Data Ffisegol'!AU11)","v":""},{"$f":"IF('Data Ffisegol'!AV11=\"\",\"\",'Data Ffisegol'!AV11)","v":""},{"$f":"IF('Data Ffisegol'!AW11=\"\",\"\",'Data Ffisegol'!AW11)","v":""},{"$f":"IF('Data Ffisegol'!AX11=\"\",\"\",'Data Ffisegol'!AX11)","v":""},{"$f":"IF('Data Ffisegol'!AY11=\"\",\"\",'Data Ffisegol'!AY11)","v":""},{"$f":"IF('Data Ffisegol'!AZ11=\"\",\"\",'Data Ffisegol'!AZ11)","v":""},{"$f":"IF('Data Ffisegol'!BA11=\"\",\"\",'Data Ffisegol'!BA11)","v":""},{"$f":"IF('Data Ffisegol'!BB11=\"\",\"\",'Data Ffisegol'!BB11)","v":""},{"$f":"IF('Data Ffisegol'!BC11=\"\",\"\",'Data Ffisegol'!BC11)","v":""},{"$f":"IF('Data Ffisegol'!BD11=\"\",\"\",'Data Ffisegol'!BD11)","v":""},"","","","","",""]
[null,null,"Sampling location:",{"$f":"IF('Gwybodaeth ymgeiswyr'!E19=\"\",\"\",'Gwybodaeth ymgeiswyr'!E19)","v":""},null,null,null,{"$f":"IF('Data Ffisegol'!H12=\"\",\"\",'Data Ffisegol'!H12)","v":""},{"$f":"IF('Data Ffisegol'!I12=\"\",\"\",'Data Ffisegol'!I12)","v":""},{"$f":"IF('Data Ffisegol'!J12=\"\",\"\",'Data Ffisegol'!J12)","v":""},{"$f":"IFERROR(IF(J12=\"\",\"\",(IF(VLOOKUP(J12,'Gwybodaeth ymgeiswyr'!$K$8:$L$37,2,0)=\"y\",\"y\",\"\"))),\"Manual entry required\")","v":""},{"$f":"IF('Data Ffisegol'!K12=\"\",\"\",'Data Ffisegol'!K12)","v":""},{"$f":"IF('Data Ffisegol'!L12=\"\",\"\",'Data Ffisegol'!L12)","v":""},{"$f":"IF('Data Ffisegol'!M12=\"\",\"\",'Data Ffisegol'!M12)","v":""},{"$f":"IF('Data Ffisegol'!N12=\"\",\"\",'Data Ffisegol'!N12)","v":""},{"$f":"IF('Data Ffisegol'!O12=\"\",\"\",'Data Ffisegol'!O12)","v":""},{"$f":"IF('Data Ffisegol'!P12=\"\",\"\",'Data Ffisegol'!P12)","v":""},{"$f":"IF('Data Ffisegol'!Q12=\"\",\"\",'Data Ffisegol'!Q12)","v":""},{"$f":"IF('Data Ffisegol'!R12=\"\",\"\",'Data Ffisegol'!R12)","v":""},{"$f":"IF('Data Ffisegol'!S12=\"\",\"\",'Data Ffisegol'!S12)","v":""},{"$f":"IF('Data Ffisegol'!T12=\"\",\"\",'Data Ffisegol'!T12)","v":""},{"$f":"IF('Data Ffisegol'!U12=\"\",\"\",'Data Ffisegol'!U12)","v":""},{"$f":"IF('Data Ffisegol'!V12=\"\",\"\",'Data Ffisegol'!V12)","v":""},{"$f":"IF('Data Ffisegol'!W12=\"\",\"\",'Data Ffisegol'!W12)","v":""},{"$f":"IF('Data Ffisegol'!X12=\"\",\"\",'Data Ffisegol'!X12)","v":""},{"$f":"IF('Data Ffisegol'!Y12=\"\",\"\",'Data Ffisegol'!Y12)","v":""},{"$f":"IF('Data Ffisegol'!Z12=\"\",\"\",'Data Ffisegol'!Z12)","v":""},{"$f":"IF('Data Ffisegol'!AA12=\"\",\"\",'Data Ffisegol'!AA12)","v":""},{"$f":"IF('Data Ffisegol'!AB12=\"\",\"\",'Data Ffisegol'!AB12)","v":""},{"$f":"IF('Data Ffisegol'!AC12=\"\",\"\",'Data Ffisegol'!AC12)","v":""},{"$f":"IF('Data Ffisegol'!AD12=\"\",\"\",'Data Ffisegol'!AD12)","v":""},{"$f":"IF('Data Ffisegol'!AE12=\"\",\"\",'Data Ffisegol'!AE12)","v":""},{"$f":"IF('Data Ffisegol'!AF12=\"\",\"\",'Data Ffisegol'!AF12)","v":""},{"$f":"IF('Data Ffisegol'!AG12=\"\",\"\",'Data Ffisegol'!AG12)","v":""},{"$f":"IF('Data Ffisegol'!AH12=\"\",\"\",'Data Ffisegol'!AH12)","v":""},{"$f":"IF('Data Ffisegol'!AI12=\"\",\"\",'Data Ffisegol'!AI12)","v":""},{"$f":"IF('Data Ffisegol'!AJ12=\"\",\"\",'Data Ffisegol'!AJ12)","v":""},{"$f":"IF('Data Ffisegol'!AK12=\"\",\"\",'Data Ffisegol'!AK12)","v":""},{"$f":"IF('Data Ffisegol'!AL12=\"\",\"\",'Data Ffisegol'!AL12)","v":""},{"$f":"IF('Data Ffisegol'!AM12=\"\",\"\",'Data Ffisegol'!AM12)","v":""},{"$f":"IF('Data Ffisegol'!AN12=\"\",\"\",'Data Ffisegol'!AN12)","v":""},{"$f":"IF('Data Ffisegol'!AO12=\"\",\"\",'Data Ffisegol'!AO12)","v":""},{"$f":"IF('Data Ffisegol'!AP12=\"\",\"\",'Data Ffisegol'!AP12)","v":""},{"$f":"IF('Data Ffisegol'!AQ12=\"\",\"\",'Data Ffisegol'!AQ12)","v":""},{"$f":"IF('Data Ffisegol'!AR12=\"\",\"\",'Data Ffisegol'!AR12)","v":""},{"$f":"IF('Data Ffisegol'!AS12=\"\",\"\",'Data Ffisegol'!AS12)","v":""},{"$f":"IF('Data Ffisegol'!AT12=\"\",\"\",'Data Ffisegol'!AT12)","v":""},{"$f":"IF('Data Ffisegol'!AU12=\"\",\"\",'Data Ffisegol'!AU12)","v":""},{"$f":"IF('Data Ffisegol'!AV12=\"\",\"\",'Data Ffisegol'!AV12)","v":""},{"$f":"IF('Data Ffisegol'!AW12=\"\",\"\",'Data Ffisegol'!AW12)","v":""},{"$f":"IF('Data Ffisegol'!AX12=\"\",\"\",'Data Ffisegol'!AX12)","v":""},{"$f":"IF('Data Ffisegol'!AY12=\"\",\"\",'Data Ffisegol'!AY12)","v":""},{"$f":"IF('Data Ffisegol'!AZ12=\"\",\"\",'Data Ffisegol'!AZ12)","v":""},{"$f":"IF('Data Ffisegol'!BA12=\"\",\"\",'Data Ffisegol'!BA12)","v":""},{"$f":"IF('Data Ffisegol'!BB12=\"\",\"\",'Data Ffisegol'!BB12)","v":""},{"$f":"IF('Data Ffisegol'!BC12=\"\",\"\",'Data Ffisegol'!BC12)","v":""},{"$f":"IF('Data Ffisegol'!BD12=\"\",\"\",'Data Ffisegol'!BD12)","v":""},"","","","","",""]
[null,null,null,null,null,null,null,{"$f":"IF('Data Ffisegol'!H13=\"\",\"\",'Data Ffisegol'!H13)","v":""},{"$f":"IF('Data Ffisegol'!I13=\"\",\"\",'Data Ffisegol'!I13)","v":""},{"$f":"IF('Data Ffisegol'!J13=\"\",\"\",'Data Ffisegol'!J13)","v":""},{"$f":"IFERROR(IF(J13=\"\",\"\",(IF(VLOOKUP(J13,'Gwybodaeth ymgeiswyr'!$K$8:$L$37,2,0)=\"y\",\"y\",\"\"))),\"Manual entry required\")","v":""},{"$f":"IF('Data Ffisegol'!K13=\"\",\"\",'Data Ffisegol'!K13)","v":""},{"$f":"IF('Data Ffisegol'!L13=\"\",\"\",'Data Ffisegol'!L13)","v":""},{"$f":"IF('Data Ffisegol'!M13=\"\",\"\",'Data Ffisegol'!M13)","v":""},{"$f":"IF('Data Ffisegol'!N13=\"\",\"\",'Data Ffisegol'!N13)","v":""},{"$f":"IF('Data Ffisegol'!O13=\"\",\"\",'Data Ffisegol'!O13)","v":""},{"$f":"IF('Data Ffisegol'!P13=\"\",\"\",'Data Ffisegol'!P13)","v":""},{"$f":"IF('Data Ffisegol'!Q13=\"\",\"\",'Data Ffisegol'!Q13)","v":""},{"$f":"IF('Data Ffisegol'!R13=\"\",\"\",'Data Ffisegol'!R13)","v":""},{"$f":"IF('Data Ffisegol'!S13=\"\",\"\",'Data Ffisegol'!S13)","v":""},{"$f":"IF('Data Ffisegol'!T13=\"\",\"\",'Data Ffisegol'!T13)","v":""},{"$f":"IF('Data Ffisegol'!U13=\"\",\"\",'Data Ffisegol'!U13)","v":""},{"$f":"IF('Data Ffisegol'!V13=\"\",\"\",'Data Ffisegol'!V13)","v":""},{"$f":"IF('Data Ffisegol'!W13=\"\",\"\",'Data Ffisegol'!W13)","v":""},{"$f":"IF('Data Ffisegol'!X13=\"\",\"\",'Data Ffisegol'!X13)","v":""},{"$f":"IF('Data Ffisegol'!Y13=\"\",\"\",'Data Ffisegol'!Y13)","v":""},{"$f":"IF('Data Ffisegol'!Z13=\"\",\"\",'Data Ffisegol'!Z13)","v":""},{"$f":"IF('Data Ffisegol'!AA13=\"\",\"\",'Data Ffisegol'!AA13)","v":""},{"$f":"IF('Data Ffisegol'!AB13=\"\",\"\",'Data Ffisegol'!AB13)","v":""},{"$f":"IF('Data Ffisegol'!AC13=\"\",\"\",'Data Ffisegol'!AC13)","v":""},{"$f":"IF('Data Ffisegol'!AD13=\"\",\"\",'Data Ffisegol'!AD13)","v":""},{"$f":"IF('Data Ffisegol'!AE13=\"\",\"\",'Data Ffisegol'!AE13)","v":""},{"$f":"IF('Data Ffisegol'!AF13=\"\",\"\",'Data Ffisegol'!AF13)","v":""},{"$f":"IF('Data Ffisegol'!AG13=\"\",\"\",'Data Ffisegol'!AG13)","v":""},{"$f":"IF('Data Ffisegol'!AH13=\"\",\"\",'Data Ffisegol'!AH13)","v":""},{"$f":"IF('Data Ffisegol'!AI13=\"\",\"\",'Data Ffisegol'!AI13)","v":""},{"$f":"IF('Data Ffisegol'!AJ13=\"\",\"\",'Data Ffisegol'!AJ13)","v":""},{"$f":"IF('Data Ffisegol'!AK13=\"\",\"\",'Data Ffisegol'!AK13)","v":""},{"$f":"IF('Data Ffisegol'!AL13=\"\",\"\",'Data Ffisegol'!AL13)","v":""},{"$f":"IF('Data Ffisegol'!AM13=\"\",\"\",'Data Ffisegol'!AM13)","v":""},{"$f":"IF('Data Ffisegol'!AN13=\"\",\"\",'Data Ffisegol'!AN13)","v":""},{"$f":"IF('Data Ffisegol'!AO13=\"\",\"\",'Data Ffisegol'!AO13)","v":""},{"$f":"IF('Data Ffisegol'!AP13=\"\",\"\",'Data Ffisegol'!AP13)","v":""},{"$f":"IF('Data Ffisegol'!AQ13=\"\",\"\",'Data Ffisegol'!AQ13)","v":""},{"$f":"IF('Data Ffisegol'!AR13=\"\",\"\",'Data Ffisegol'!AR13)","v":""},{"$f":"IF('Data Ffisegol'!AS13=\"\",\"\",'Data Ffisegol'!AS13)","v":""},{"$f":"IF('Data Ffisegol'!AT13=\"\",\"\",'Data Ffisegol'!AT13)","v":""},{"$f":"IF('Data Ffisegol'!AU13=\"\",\"\",'Data Ffisegol'!AU13)","v":""},{"$f":"IF('Data Ffisegol'!AV13=\"\",\"\",'Data Ffisegol'!AV13)","v":""},{"$f":"IF('Data Ffisegol'!AW13=\"\",\"\",'Data Ffisegol'!AW13)","v":""},{"$f":"IF('Data Ffisegol'!AX13=\"\",\"\",'Data Ffisegol'!AX13)","v":""},{"$f":"IF('Data Ffisegol'!AY13=\"\",\"\",'Data Ffisegol'!AY13)","v":""},{"$f":"IF('Data Ffisegol'!AZ13=\"\",\"\",'Data Ffisegol'!AZ13)","v":""},{"$f":"IF('Data Ffisegol'!BA13=\"\",\"\",'Data Ffisegol'!BA13)","v":""},{"$f":"IF('Data Ffisegol'!BB13=\"\",\"\",'Data Ffisegol'!BB13)","v":""},{"$f":"IF('Data Ffisegol'!BC13=\"\",\"\",'Data Ffisegol'!BC13)","v":""},{"$f":"IF('Data Ffisegol'!BD13=\"\",\"\",'Data Ffisegol'!BD13)","v":""},"","","","","",""]
[null,null,"Laboratory/contractor:",{"$f":"IF('Data Ffisegol'!D15=\"\",\"\",'Data Ffisegol'!D15)","v":""},null,null,null,{"$f":"IF('Data Ffisegol'!H14=\"\",\"\",'Data Ffisegol'!H14)","v":""},{"$f":"IF('Data Ffisegol'!I14=\"\",\"\",'Data Ffisegol'!I14)","v":""},{"$f":"IF('Data Ffisegol'!J14=\"\",\"\",'Data Ffisegol'!J14)","v":""},{"$f":"IFERROR(IF(J14=\"\",\"\",(IF(VLOOKUP(J14,'Gwybodaeth ymgeiswyr'!$K$8:$L$37,2,0)=\"y\",\"y\",\"\"))),\"Manual entry required\")","v":""},{"$f":"IF('Data Ffisegol'!K14=\"\",\"\",'Data Ffisegol'!K14)","v":""},{"$f":"IF('Data Ffisegol'!L14=\"\",\"\",'Data Ffisegol'!L14)","v":""},{"$f":"IF('Data Ffisegol'!M14=\"\",\"\",'Data Ffisegol'!M14)","v":""},{"$f":"IF('Data Ffisegol'!N14=\"\",\"\",'Data Ffisegol'!N14)","v":""},{"$f":"IF('Data Ffisegol'!O14=\"\",\"\",'Data Ffisegol'!O14)","v":""},{"$f":"IF('Data Ffisegol'!P14=\"\",\"\",'Data Ffisegol'!P14)","v":""},{"$f":"IF('Data Ffisegol'!Q14=\"\",\"\",'Data Ffisegol'!Q14)","v":""},{"$f":"IF('Data Ffisegol'!R14=\"\",\"\",'Data Ffisegol'!R14)","v":""},{"$f":"IF('Data Ffisegol'!S14=\"\",\"\",'Data Ffisegol'!S14)","v":""},{"$f":"IF('Data Ffisegol'!T14=\"\",\"\",'Data Ffisegol'!T14)","v":""},{"$f":"IF('Data Ffisegol'!U14=\"\",\"\",'Data Ffisegol'!U14)","v":""},{"$f":"IF('Data Ffisegol'!V14=\"\",\"\",'Data Ffisegol'!V14)","v":""},{"$f":"IF('Data Ffisegol'!W14=\"\",\"\",'Data Ffisegol'!W14)","v":""},{"$f":"IF('Data Ffisegol'!X14=\"\",\"\",'Data Ffisegol'!X14)","v":""},{"$f":"IF('Data Ffisegol'!Y14=\"\",\"\",'Data Ffisegol'!Y14)","v":""},{"$f":"IF('Data Ffisegol'!Z14=\"\",\"\",'Data Ffisegol'!Z14)","v":""},{"$f":"IF('Data Ffisegol'!AA14=\"\",\"\",'Data Ffisegol'!AA14)","v":""},{"$f":"IF('Data Ffisegol'!AB14=\"\",\"\",'Data Ffisegol'!AB14)","v":""},{"$f":"IF('Data Ffisegol'!AC14=\"\",\"\",'Data Ffisegol'!AC14)","v":""},{"$f":"IF('Data Ffisegol'!AD14=\"\",\"\",'Data Ffisegol'!AD14)","v":""},{"$f":"IF('Data Ffisegol'!AE14=\"\",\"\",'Data Ffisegol'!AE14)","v":""},{"$f":"IF('Data Ffisegol'!AF14=\"\",\"\",'Data Ffisegol'!AF14)","v":""},{"$f":"IF('Data Ffisegol'!AG14=\"\",\"\",'Data Ffisegol'!AG14)","v":""},{"$f":"IF('Data Ffisegol'!AH14=\"\",\"\",'Data Ffisegol'!AH14)","v":""},{"$f":"IF('Data Ffisegol'!AI14=\"\",\"\",'Data Ffisegol'!AI14)","v":""},{"$f":"IF('Data Ffisegol'!AJ14=\"\",\"\",'Data Ffisegol'!AJ14)","v":""},{"$f":"IF('Data Ffisegol'!AK14=\"\",\"\",'Data Ffisegol'!AK14)","v":""},{"$f":"IF('Data Ffisegol'!AL14=\"\",\"\",'Data Ffisegol'!AL14)","v":""},{"$f":"IF('Data Ffisegol'!AM14=\"\",\"\",'Data Ffisegol'!AM14)","v":""},{"$f":"IF('Data Ffisegol'!AN14=\"\",\"\",'Data Ffisegol'!AN14)","v":""},{"$f":"IF('Data Ffisegol'!AO14=\"\",\"\",'Data Ffisegol'!AO14)","v":""},{"$f":"IF('Data Ffisegol'!AP14=\"\",\"\",'Data Ffisegol'!AP14)","v":""},{"$f":"IF('Data Ffisegol'!AQ14=\"\",\"\",'Data Ffisegol'!AQ14)","v":""},{"$f":"IF('Data Ffisegol'!AR14=\"\",\"\",'Data Ffisegol'!AR14)","v":""},{"$f":"IF('Data Ffisegol'!AS14=\"\",\"\",'Data Ffisegol'!AS14)","v":""},{"$f":"IF('Data Ffisegol'!AT14=\"\",\"\",'Data Ffisegol'!AT14)","v":""},{"$f":"IF('Data Ffisegol'!AU14=\"\",\"\",'Data Ffisegol'!AU14)","v":""},{"$f":"IF('Data Ffisegol'!AV14=\"\",\"\",'Data Ffisegol'!AV14)","v":""},{"$f":"IF('Data Ffisegol'!AW14=\"\",\"\",'Data Ffisegol'!AW14)","v":""},{"$f":"IF('Data Ffisegol'!AX14=\"\",\"\",'Data Ffisegol'!AX14)","v":""},{"$f":"IF('Data Ffisegol'!AY14=\"\",\"\",'Data Ffisegol'!AY14)","v":""},{"$f":"IF('Data Ffisegol'!AZ14=\"\",\"\",'Data Ffisegol'!AZ14)","v":""},{"$f":"IF('Data Ffisegol'!BA14=\"\",\"\",'Data Ffisegol'!BA14)","v":""},{"$f":"IF('Data Ffisegol'!BB14=\"\",\"\",'Data Ffisegol'!BB14)","v":""},{"$f":"IF('Data Ffisegol'!BC14=\"\",\"\",'Data Ffisegol'!BC14)","v":""},{"$f":"IF('Data Ffisegol'!BD14=\"\",\"\",'Data Ffisegol'!BD14)","v":""},"","","","","",""]
[null,null,"Date of analysis:",{"$f":"IF('Data Ffisegol'!D16=\"\",\"\",'Data Ffisegol'!D16)","v":""},null,null,null,{"$f":"IF('Data Ffisegol'!H15=\"\",\"\",'Data Ffisegol'!H15)","v":""},{"$f":"IF('Data Ffisegol'!I15=\"\",\"\",'Data Ffisegol'!I15)","v":""},{"$f":"IF('Data Ffisegol'!J15=\"\",\"\",'Data Ffisegol'!J15)","v":""},{"$f":"IFERROR(IF(J15=\"\",\"\",(IF(VLOOKUP(J15,'Gwybodaeth ymgeiswyr'!$K$8:$L$37,2,0)=\"y\",\"y\",\"\"))),\"Manual entry required\")","v":""},{"$f":"IF('Data Ffisegol'!K15=\"\",\"\",'Data Ffisegol'!K15)","v":""},{"$f":"IF('Data Ffisegol'!L15=\"\",\"\",'Data Ffisegol'!L15)","v":""},{"$f":"IF('Data Ffisegol'!M15=\"\",\"\",'Data Ffisegol'!M15)","v":""},{"$f":"IF('Data Ffisegol'!N15=\"\",\"\",'Data Ffisegol'!N15)","v":""},{"$f":"IF('Data Ffisegol'!O15=\"\",\"\",'Data Ffisegol'!O15)","v":""},{"$f":"IF('Data Ffisegol'!P15=\"\",\"\",'Data Ffisegol'!P15)","v":""},{"$f":"IF('Data Ffisegol'!Q15=\"\",\"\",'Data Ffisegol'!Q15)","v":""},{"$f":"IF('Data Ffisegol'!R15=\"\",\"\",'Data Ffisegol'!R15)","v":""},{"$f":"IF('Data Ffisegol'!S15=\"\",\"\",'Data Ffisegol'!S15)","v":""},{"$f":"IF('Data Ffisegol'!T15=\"\",\"\",'Data Ffisegol'!T15)","v":""},{"$f":"IF('Data Ffisegol'!U15=\"\",\"\",'Data Ffisegol'!U15)","v":""},{"$f":"IF('Data Ffisegol'!V15=\"\",\"\",'Data Ffisegol'!V15)","v":""},{"$f":"IF('Data Ffisegol'!W15=\"\",\"\",'Data Ffisegol'!W15)","v":""},{"$f":"IF('Data Ffisegol'!X15=\"\",\"\",'Data Ffisegol'!X15)","v":""},{"$f":"IF('Data Ffisegol'!Y15=\"\",\"\",'Data Ffisegol'!Y15)","v":""},{"$f":"IF('Data Ffisegol'!Z15=\"\",\"\",'Data Ffisegol'!Z15)","v":""},{"$f":"IF('Data Ffisegol'!AA15=\"\",\"\",'Data Ffisegol'!AA15)","v":""},{"$f":"IF('Data Ffisegol'!AB15=\"\",\"\",'Data Ffisegol'!AB15)","v":""},{"$f":"IF('Data Ffisegol'!AC15=\"\",\"\",'Data Ffisegol'!AC15)","v":""},{"$f":"IF('Data Ffisegol'!AD15=\"\",\"\",'Data Ffisegol'!AD15)","v":""},{"$f":"IF('Data Ffisegol'!AE15=\"\",\"\",'Data Ffisegol'!AE15)","v":""},{"$f":"IF('Data Ffisegol'!AF15=\"\",\"\",'Data Ffisegol'!AF15)","v":""},{"$f":"IF('Data Ffisegol'!AG15=\"\",\"\",'Data Ffisegol'!AG15)","v":""},{"$f":"IF('Data Ffisegol'!AH15=\"\",\"\",'Data Ffisegol'!AH15)","v":""},{"$f":"IF('Data Ffisegol'!AI15=\"\",\"\",'Data Ffisegol'!AI15)","v":""},{"$f":"IF('Data Ffisegol'!AJ15=\"\",\"\",'Data Ffisegol'!AJ15)","v":""},{"$f":"IF('Data Ffisegol'!AK15=\"\",\"\",'Data Ffisegol'!AK15)","v":""},{"$f":"IF('Data Ffisegol'!AL15=\"\",\"\",'Data Ffisegol'!AL15)","v":""},{"$f":"IF('Data Ffisegol'!AM15=\"\",\"\",'Data Ffisegol'!AM15)","v":""},{"$f":"IF('Data Ffisegol'!AN15=\"\",\"\",'Data Ffisegol'!AN15)","v":""},{"$f":"IF('Data Ffisegol'!AO15=\"\",\"\",'Data Ffisegol'!AO15)","v":""},{"$f":"IF('Data Ffisegol'!AP15=\"\",\"\",'Data Ffisegol'!AP15)","v":""},{"$f":"IF('Data Ffisegol'!AQ15=\"\",\"\",'Data Ffisegol'!AQ15)","v":""},{"$f":"IF('Data Ffisegol'!AR15=\"\",\"\",'Data Ffisegol'!AR15)","v":""},{"$f":"IF('Data Ffisegol'!AS15=\"\",\"\",'Data Ffisegol'!AS15)","v":""},{"$f":"IF('Data Ffisegol'!AT15=\"\",\"\",'Data Ffisegol'!AT15)","v":""},{"$f":"IF('Data Ffisegol'!AU15=\"\",\"\",'Data Ffisegol'!AU15)","v":""},{"$f":"IF('Data Ffisegol'!AV15=\"\",\"\",'Data Ffisegol'!AV15)","v":""},{"$f":"IF('Data Ffisegol'!AW15=\"\",\"\",'Data Ffisegol'!AW15)","v":""},{"$f":"IF('Data Ffisegol'!AX15=\"\",\"\",'Data Ffisegol'!AX15)","v":""},{"$f":"IF('Data Ffisegol'!AY15=\"\",\"\",'Data Ffisegol'!AY15)","v":""},{"$f":"IF('Data Ffisegol'!AZ15=\"\",\"\",'Data Ffisegol'!AZ15)","v":""},{"$f":"IF('Data Ffisegol'!BA15=\"\",\"\",'Data Ffisegol'!BA15)","v":""},{"$f":"IF('Data Ffisegol'!BB15=\"\",\"\",'Data Ffisegol'!BB15)","v":""},{"$f":"IF('Data Ffisegol'!BC15=\"\",\"\",'Data Ffisegol'!BC15)","v":""},{"$f":"IF('Data Ffisegol'!BD15=\"\",\"\",'Data Ffisegol'!BD15)","v":""},"","","","","",""]
[null,null,null,null,null,null,null,{"$f":"IF('Data Ffisegol'!H16=\"\",\"\",'Data Ffisegol'!H16)","v":""},{"$f":"IF('Data Ffisegol'!I16=\"\",\"\",'Data Ffisegol'!I16)","v":""},{"$f":"IF('Data Ffisegol'!J16=\"\",\"\",'Data Ffisegol'!J16)","v":""},{"$f":"IFERROR(IF(J16=\"\",\"\",(IF(VLOOKUP(J16,'Gwybodaeth ymgeiswyr'!$K$8:$L$37,2,0)=\"y\",\"y\",\"\"))),\"Manual entry required\")","v":""},{"$f":"IF('Data Ffisegol'!K16=\"\",\"\",'Data Ffisegol'!K16)","v":""},{"$f":"IF('Data Ffisegol'!L16=\"\",\"\",'Data Ffisegol'!L16)","v":""},{"$f":"IF('Data Ffisegol'!M16=\"\",\"\",'Data Ffisegol'!M16)","v":""},{"$f":"IF('Data Ffisegol'!N16=\"\",\"\",'Data Ffisegol'!N16)","v":""},{"$f":"IF('Data Ffisegol'!O16=\"\",\"\",'Data Ffisegol'!O16)","v":""},{"$f":"IF('Data Ffisegol'!P16=\"\",\"\",'Data Ffisegol'!P16)","v":""},{"$f":"IF('Data Ffisegol'!Q16=\"\",\"\",'Data Ffisegol'!Q16)","v":""},{"$f":"IF('Data Ffisegol'!R16=\"\",\"\",'Data Ffisegol'!R16)","v":""},{"$f":"IF('Data Ffisegol'!S16=\"\",\"\",'Data Ffisegol'!S16)","v":""},{"$f":"IF('Data Ffisegol'!T16=\"\",\"\",'Data Ffisegol'!T16)","v":""},{"$f":"IF('Data Ffisegol'!U16=\"\",\"\",'Data Ffisegol'!U16)","v":""},{"$f":"IF('Data Ffisegol'!V16=\"\",\"\",'Data Ffisegol'!V16)","v":""},{"$f":"IF('Data Ffisegol'!W16=\"\",\"\",'Data Ffisegol'!W16)","v":""},{"$f":"IF('Data Ffisegol'!X16=\"\",\"\",'Data Ffisegol'!X16)","v":""},{"$f":"IF('Data Ffisegol'!Y16=\"\",\"\",'Data Ffisegol'!Y16)","v":""},{"$f":"IF('Data Ffisegol'!Z16=\"\",\"\",'Data Ffisegol'!Z16)","v":""},{"$f":"IF('Data Ffisegol'!AA16=\"\",\"\",'Data Ffisegol'!AA16)","v":""},{"$f":"IF('Data Ffisegol'!AB16=\"\",\"\",'Data Ffisegol'!AB16)","v":""},{"$f":"IF('Data Ffisegol'!AC16=\"\",\"\",'Data Ffisegol'!AC16)","v":""},{"$f":"IF('Data Ffisegol'!AD16=\"\",\"\",'Data Ffisegol'!AD16)","v":""},{"$f":"IF('Data Ffisegol'!AE16=\"\",\"\",'Data Ffisegol'!AE16)","v":""},{"$f":"IF('Data Ffisegol'!AF16=\"\",\"\",'Data Ffisegol'!AF16)","v":""},{"$f":"IF('Data Ffisegol'!AG16=\"\",\"\",'Data Ffisegol'!AG16)","v":""},{"$f":"IF('Data Ffisegol'!AH16=\"\",\"\",'Data Ffisegol'!AH16)","v":""},{"$f":"IF('Data Ffisegol'!AI16=\"\",\"\",'Data Ffisegol'!AI16)","v":""},{"$f":"IF('Data Ffisegol'!AJ16=\"\",\"\",'Data Ffisegol'!AJ16)","v":""},{"$f":"IF('Data Ffisegol'!AK16=\"\",\"\",'Data Ffisegol'!AK16)","v":""},{"$f":"IF('Data Ffisegol'!AL16=\"\",\"\",'Data Ffisegol'!AL16)","v":""},{"$f":"IF('Data Ffisegol'!AM16=\"\",\"\",'Data Ffisegol'!AM16)","v":""},{"$f":"IF('Data Ffisegol'!AN16=\"\",\"\",'Data Ffisegol'!AN16)","v":""},{"$f":"IF('Data Ffisegol'!AO16=\"\",\"\",'Data Ffisegol'!AO16)","v":""},{"$f":"IF('Data Ffisegol'!AP16=\"\",\"\",'Data Ffisegol'!AP16)","v":""},{"$f":"IF('Data Ffisegol'!AQ16=\"\",\"\",'Data Ffisegol'!AQ16)","v":""},{"$f":"IF('Data Ffisegol'!AR16=\"\",\"\",'Data Ffisegol'!AR16)","v":""},{"$f":"IF('Data Ffisegol'!AS16=\"\",\"\",'Data Ffisegol'!AS16)","v":""},{"$f":"IF('Data Ffisegol'!AT16=\"\",\"\",'Data Ffisegol'!AT16)","v":""},{"$f":"IF('Data Ffisegol'!AU16=\"\",\"\",'Data Ffisegol'!AU16)","v":""},{"$f":"IF('Data Ffisegol'!AV16=\"\",\"\",'Data Ffisegol'!AV16)","v":""},{"$f":"IF('Data Ffisegol'!AW16=\"\",\"\",'Data Ffisegol'!AW16)","v":""},{"$f":"IF('Data Ffisegol'!AX16=\"\",\"\",'Data Ffisegol'!AX16)","v":""},{"$f":"IF('Data Ffisegol'!AY16=\"\",\"\",'Data Ffisegol'!AY16)","v":""},{"$f":"IF('Data Ffisegol'!AZ16=\"\",\"\",'Data Ffisegol'!AZ16)","v":""},{"$f":"IF('Data Ffisegol'!BA16=\"\",\"\",'Data Ffisegol'!BA16)","v":""},{"$f":"IF('Data Ffisegol'!BB16=\"\",\"\",'Data Ffisegol'!BB16)","v":""},{"$f":"IF('Data Ffisegol'!BC16=\"\",\"\",'Data Ffisegol'!BC16)","v":""},{"$f":"IF('Data Ffisegol'!BD16=\"\",\"\",'Data Ffisegol'!BD16)","v":""},"","","","","",""]
[null,null,null,null,null,null,null,{"$f":"IF('Data Ffisegol'!H17=\"\",\"\",'Data Ffisegol'!H17)","v":""},{"$f":"IF('Data Ffisegol'!I17=\"\",\"\",'Data Ffisegol'!I17)","v":""},{"$f":"IF('Data Ffisegol'!J17=\"\",\"\",'Data Ffisegol'!J17)","v":""},{"$f":"IFERROR(IF(J17=\"\",\"\",(IF(VLOOKUP(J17,'Gwybodaeth ymgeiswyr'!$K$8:$L$37,2,0)=\"y\",\"y\",\"\"))),\"Manual entry required\")","v":""},{"$f":"IF('Data Ffisegol'!K17=\"\",\"\",'Data Ffisegol'!K17)","v":""},{"$f":"IF('Data Ffisegol'!L17=\"\",\"\",'Data Ffisegol'!L17)","v":""},{"$f":"IF('Data Ffisegol'!M17=\"\",\"\",'Data Ffisegol'!M17)","v":""},{"$f":"IF('Data Ffisegol'!N17=\"\",\"\",'Data Ffisegol'!N17)","v":""},{"$f":"IF('Data Ffisegol'!O17=\"\",\"\",'Data Ffisegol'!O17)","v":""},{"$f":"IF('Data Ffisegol'!P17=\"\",\"\",'Data Ffisegol'!P17)","v":""},{"$f":"IF('Data Ffisegol'!Q17=\"\",\"\",'Data Ffisegol'!Q17)","v":""},{"$f":"IF('Data Ffisegol'!R17=\"\",\"\",'Data Ffisegol'!R17)","v":""},{"$f":"IF('Data Ffisegol'!S17=\"\",\"\",'Data Ffisegol'!S17)","v":""},{"$f":"IF('Data Ffisegol'!T17=\"\",\"\",'Data Ffisegol'!T17)","v":""},{"$f":"IF('Data Ffisegol'!U17=\"\",\"\",'Data Ffisegol'!U17)","v":""},{"$f":"IF('Data Ffisegol'!V17=\"\",\"\",'Data Ffisegol'!V17)","v":""},{"$f":"IF('Data Ffisegol'!W17=\"\",\"\",'Data Ffisegol'!W17)","v":""},{"$f":"IF('Data Ffisegol'!X17=\"\",\"\",'Data Ffisegol'!X17)","v":""},{"$f":"IF('Data Ffisegol'!Y17=\"\",\"\",'Data Ffisegol'!Y17)","v":""},{"$f":"IF('Data Ffisegol'!Z17=\"\",\"\",'Data Ffisegol'!Z17)","v":""},{"$f":"IF('Data Ffisegol'!AA17=\"\",\"\",'Data Ffisegol'!AA17)","v":""},{"$f":"IF('Data Ffisegol'!AB17=\"\",\"\",'Data Ffisegol'!AB17)","v":""},{"$f":"IF('Data Ffisegol'!AC17=\"\",\"\",'Data Ffisegol'!AC17)","v":""},{"$f":"IF('Data Ffisegol'!AD17=\"\",\"\",'Data Ffisegol'!AD17)","v":""},{"$f":"IF('Data Ffisegol'!AE17=\"\",\"\",'Data Ffisegol'!AE17)","v":""},{"$f":"IF('Data Ffisegol'!AF17=\"\",\"\",'Data Ffisegol'!AF17)","v":""},{"$f":"IF('Data Ffisegol'!AG17=\"\",\"\",'Data Ffisegol'!AG17)","v":""},{"$f":"IF('Data Ffisegol'!AH17=\"\",\"\",'Data Ffisegol'!AH17)","v":""},{"$f":"IF('Data Ffisegol'!AI17=\"\",\"\",'Data Ffisegol'!AI17)","v":""},{"$f":"IF('Data Ffisegol'!AJ17=\"\",\"\",'Data Ffisegol'!AJ17)","v":""},{"$f":"IF('Data Ffisegol'!AK17=\"\",\"\",'Data Ffisegol'!AK17)","v":""},{"$f":"IF('Data Ffisegol'!AL17=\"\",\"\",'Data Ffisegol'!AL17)","v":""},{"$f":"IF('Data Ffisegol'!AM17=\"\",\"\",'Data Ffisegol'!AM17)","v":""},{"$f":"IF('Data Ffisegol'!AN17=\"\",\"\",'Data Ffisegol'!AN17)","v":""},{"$f":"IF('Data Ffisegol'!AO17=\"\",\"\",'Data Ffisegol'!AO17)","v":""},{"$f":"IF('Data Ffisegol'!AP17=\"\",\"\",'Data Ffisegol'!AP17)","v":""},{"$f":"IF('Data Ffisegol'!AQ17=\"\",\"\",'Data Ffisegol'!AQ17)","v":""},{"$f":"IF('Data Ffisegol'!AR17=\"\",\"\",'Data Ffisegol'!AR17)","v":""},{"$f":"IF('Data Ffisegol'!AS17=\"\",\"\",'Data Ffisegol'!AS17)","v":""},{"$f":"IF('Data Ffisegol'!AT17=\"\",\"\",'Data Ffisegol'!AT17)","v":""},{"$f":"IF('Data Ffisegol'!AU17=\"\",\"\",'Data Ffisegol'!AU17)","v":""},{"$f":"IF('Data Ffisegol'!AV17=\"\",\"\",'Data Ffisegol'!AV17)","v":""},{"$f":"IF('Data Ffisegol'!AW17=\"\",\"\",'Data Ffisegol'!AW17)","v":""},{"$f":"IF('Data Ffisegol'!AX17=\"\",\"\",'Data Ffisegol'!AX17)","v":""},{"$f":"IF('Data Ffisegol'!AY17=\"\",\"\",'Data Ffisegol'!AY17)","v":""},{"$f":"IF('Data Ffisegol'!AZ17=\"\",\"\",'Data Ffisegol'!AZ17)","v":""},{"$f":"IF('Data Ffisegol'!BA17=\"\",\"\",'Data Ffisegol'!BA17)","v":""},{"$f":"IF('Data Ffisegol'!BB17=\"\",\"\",'Data Ffisegol'!BB17)","v":""},{"$f":"IF('Data Ffisegol'!BC17=\"\",\"\",'Data Ffisegol'!BC17)","v":""},{"$f":"IF('Data Ffisegol'!BD17=\"\",\"\",'Data Ffisegol'!BD17)","v":""},"","","","","",""]
[null,null,null,null,null,null,null,{"$f":"IF('Data Ffisegol'!H18=\"\",\"\",'Data Ffisegol'!H18)","v":""},{"$f":"IF('Data Ffisegol'!I18=\"\",\"\",'Data Ffisegol'!I18)","v":""},{"$f":"IF('Data Ffisegol'!J18=\"\",\"\",'Data Ffisegol'!J18)","v":""},{"$f":"IFERROR(IF(J18=\"\",\"\",(IF(VLOOKUP(J18,'Gwybodaeth ymgeiswyr'!$K$8:$L$37,2,0)=\"y\",\"y\",\"\"))),\"Manual entry required\")","v":""},{"$f":"IF('Data Ffisegol'!K18=\"\",\"\",'Data Ffisegol'!K18)","v":""},{"$f":"IF('Data Ffisegol'!L18=\"\",\"\",'Data Ffisegol'!L18)","v":""},{"$f":"IF('Data Ffisegol'!M18=\"\",\"\",'Data Ffisegol'!M18)","v":""},{"$f":"IF('Data Ffisegol'!N18=\"\",\"\",'Data Ffisegol'!N18)","v":""},{"$f":"IF('Data Ffisegol'!O18=\"\",\"\",'Data Ffisegol'!O18)","v":""},{"$f":"IF('Data Ffisegol'!P18=\"\",\"\",'Data Ffisegol'!P18)","v":""},{"$f":"IF('Data Ffisegol'!Q18=\"\",\"\",'Data Ffisegol'!Q18)","v":""},{"$f":"IF('Data Ffisegol'!R18=\"\",\"\",'Data Ffisegol'!R18)","v":""},{"$f":"IF('Data Ffisegol'!S18=\"\",\"\",'Data Ffisegol'!S18)","v":""},{"$f":"IF('Data Ffisegol'!T18=\"\",\"\",'Data Ffisegol'!T18)","v":""},{"$f":"IF('Data Ffisegol'!U18=\"\",\"\",'Data Ffisegol'!U18)","v":""},{"$f":"IF('Data Ffisegol'!V18=\"\",\"\",'Data Ffisegol'!V18)","v":""},{"$f":"IF('Data Ffisegol'!W18=\"\",\"\",'Data Ffisegol'!W18)","v":""},{"$f":"IF('Data Ffisegol'!X18=\"\",\"\",'Data Ffisegol'!X18)","v":""},{"$f":"IF('Data Ffisegol'!Y18=\"\",\"\",'Data Ffisegol'!Y18)","v":""},{"$f":"IF('Data Ffisegol'!Z18=\"\",\"\",'Data Ffisegol'!Z18)","v":""},{"$f":"IF('Data Ffisegol'!AA18=\"\",\"\",'Data Ffisegol'!AA18)","v":""},{"$f":"IF('Data Ffisegol'!AB18=\"\",\"\",'Data Ffisegol'!AB18)","v":""},{"$f":"IF('Data Ffisegol'!AC18=\"\",\"\",'Data Ffisegol'!AC18)","v":""},{"$f":"IF('Data Ffisegol'!AD18=\"\",\"\",'Data Ffisegol'!AD18)","v":""},{"$f":"IF('Data Ffisegol'!AE18=\"\",\"\",'Data Ffisegol'!AE18)","v":""},{"$f":"IF('Data Ffisegol'!AF18=\"\",\"\",'Data Ffisegol'!AF18)","v":""},{"$f":"IF('Data Ffisegol'!AG18=\"\",\"\",'Data Ffisegol'!AG18)","v":""},{"$f":"IF('Data Ffisegol'!AH18=\"\",\"\",'Data Ffisegol'!AH18)","v":""},{"$f":"IF('Data Ffisegol'!AI18=\"\",\"\",'Data Ffisegol'!AI18)","v":""},{"$f":"IF('Data Ffisegol'!AJ18=\"\",\"\",'Data Ffisegol'!AJ18)","v":""},{"$f":"IF('Data Ffisegol'!AK18=\"\",\"\",'Data Ffisegol'!AK18)","v":""},{"$f":"IF('Data Ffisegol'!AL18=\"\",\"\",'Data Ffisegol'!AL18)","v":""},{"$f":"IF('Data Ffisegol'!AM18=\"\",\"\",'Data Ffisegol'!AM18)","v":""},{"$f":"IF('Data Ffisegol'!AN18=\"\",\"\",'Data Ffisegol'!AN18)","v":""},{"$f":"IF('Data Ffisegol'!AO18=\"\",\"\",'Data Ffisegol'!AO18)","v":""},{"$f":"IF('Data Ffisegol'!AP18=\"\",\"\",'Data Ffisegol'!AP18)","v":""},{"$f":"IF('Data Ffisegol'!AQ18=\"\",\"\",'Data Ffisegol'!AQ18)","v":""},{"$f":"IF('Data Ffisegol'!AR18=\"\",\"\",'Data Ffisegol'!AR18)","v":""},{"$f":"IF('Data Ffisegol'!AS18=\"\",\"\",'Data Ffisegol'!AS18)","v":""},{"$f":"IF('Data Ffisegol'!AT18=\"\",\"\",'Data Ffisegol'!AT18)","v":""},{"$f":"IF('Data Ffisegol'!AU18=\"\",\"\",'Data Ffisegol'!AU18)","v":""},{"$f":"IF('Data Ffisegol'!AV18=\"\",\"\",'Data Ffisegol'!AV18)","v":""},{"$f":"IF('Data Ffisegol'!AW18=\"\",\"\",'Data Ffisegol'!AW18)","v":""},{"$f":"IF('Data Ffisegol'!AX18=\"\",\"\",'Data Ffisegol'!AX18)","v":""},{"$f":"IF('Data Ffisegol'!AY18=\"\",\"\",'Data Ffisegol'!AY18)","v":""},{"$f":"IF('Data Ffisegol'!AZ18=\"\",\"\",'Data Ffisegol'!AZ18)","v":""},{"$f":"IF('Data Ffisegol'!BA18=\"\",\"\",'Data Ffisegol'!BA18)","v":""},{"$f":"IF('Data Ffisegol'!BB18=\"\",\"\",'Data Ffisegol'!BB18)","v":""},{"$f":"IF('Data Ffisegol'!BC18=\"\",\"\",'Data Ffisegol'!BC18)","v":""},{"$f":"IF('Data Ffisegol'!BD18=\"\",\"\",'Data Ffisegol'!BD18)","v":""},"","","","","",""]
[null,null,null,null,null,null,null,{"$f":"IF('Data Ffisegol'!H19=\"\",\"\",'Data Ffisegol'!H19)","v":""},{"$f":"IF('Data Ffisegol'!I19=\"\",\"\",'Data Ffisegol'!I19)","v":""},{"$f":"IF('Data Ffisegol'!J19=\"\",\"\",'Data Ffisegol'!J19)","v":""},{"$f":"IFERROR(IF(J19=\"\",\"\",(IF(VLOOKUP(J19,'Gwybodaeth ymgeiswyr'!$K$8:$L$37,2,0)=\"y\",\"y\",\"\"))),\"Manual entry required\")","v":""},{"$f":"IF('Data Ffisegol'!K19=\"\",\"\",'Data Ffisegol'!K19)","v":""},{"$f":"IF('Data Ffisegol'!L19=\"\",\"\",'Data Ffisegol'!L19)","v":""},{"$f":"IF('Data Ffisegol'!M19=\"\",\"\",'Data Ffisegol'!M19)","v":""},{"$f":"IF('Data Ffisegol'!N19=\"\",\"\",'Data Ffisegol'!N19)","v":""},{"$f":"IF('Data Ffisegol'!O19=\"\",\"\",'Data Ffisegol'!O19)","v":""},{"$f":"IF('Data Ffisegol'!P19=\"\",\"\",'Data Ffisegol'!P19)","v":""},{"$f":"IF('Data Ffisegol'!Q19=\"\",\"\",'Data Ffisegol'!Q19)","v":""},{"$f":"IF('Data Ffisegol'!R19=\"\",\"\",'Data Ffisegol'!R19)","v":""},{"$f":"IF('Data Ffisegol'!S19=\"\",\"\",'Data Ffisegol'!S19)","v":""},{"$f":"IF('Data Ffisegol'!T19=\"\",\"\",'Data Ffisegol'!T19)","v":""},{"$f":"IF('Data Ffisegol'!U19=\"\",\"\",'Data Ffisegol'!U19)","v":""},{"$f":"IF('Data Ffisegol'!V19=\"\",\"\",'Data Ffisegol'!V19)","v":""},{"$f":"IF('Data Ffisegol'!W19=\"\",\"\",'Data Ffisegol'!W19)","v":""},{"$f":"IF('Data Ffisegol'!X19=\"\",\"\",'Data Ffisegol'!X19)","v":""},{"$f":"IF('Data Ffisegol'!Y19=\"\",\"\",'Data Ffisegol'!Y19)","v":""},{"$f":"IF('Data Ffisegol'!Z19=\"\",\"\",'Data Ffisegol'!Z19)","v":""},{"$f":"IF('Data Ffisegol'!AA19=\"\",\"\",'Data Ffisegol'!AA19)","v":""},{"$f":"IF('Data Ffisegol'!AB19=\"\",\"\",'Data Ffisegol'!AB19)","v":""},{"$f":"IF('Data Ffisegol'!AC19=\"\",\"\",'Data Ffisegol'!AC19)","v":""},{"$f":"IF('Data Ffisegol'!AD19=\"\",\"\",'Data Ffisegol'!AD19)","v":""},{"$f":"IF('Data Ffisegol'!AE19=\"\",\"\",'Data Ffisegol'!AE19)","v":""},{"$f":"IF('Data Ffisegol'!AF19=\"\",\"\",'Data Ffisegol'!AF19)","v":""},{"$f":"IF('Data Ffisegol'!AG19=\"\",\"\",'Data Ffisegol'!AG19)","v":""},{"$f":"IF('Data Ffisegol'!AH19=\"\",\"\",'Data Ffisegol'!AH19)","v":""},{"$f":"IF('Data Ffisegol'!AI19=\"\",\"\",'Data Ffisegol'!AI19)","v":""},{"$f":"IF('Data Ffisegol'!AJ19=\"\",\"\",'Data Ffisegol'!AJ19)","v":""},{"$f":"IF('Data Ffisegol'!AK19=\"\",\"\",'Data Ffisegol'!AK19)","v":""},{"$f":"IF('Data Ffisegol'!AL19=\"\",\"\",'Data Ffisegol'!AL19)","v":""},{"$f":"IF('Data Ffisegol'!AM19=\"\",\"\",'Data Ffisegol'!AM19)","v":""},{"$f":"IF('Data Ffisegol'!AN19=\"\",\"\",'Data Ffisegol'!AN19)","v":""},{"$f":"IF('Data Ffisegol'!AO19=\"\",\"\",'Data Ffisegol'!AO19)","v":""},{"$f":"IF('Data Ffisegol'!AP19=\"\",\"\",'Data Ffisegol'!AP19)","v":""},{"$f":"IF('Data Ffisegol'!AQ19=\"\",\"\",'Data Ffisegol'!AQ19)","v":""},{"$f":"IF('Data Ffisegol'!AR19=\"\",\"\",'Data Ffisegol'!AR19)","v":""},{"$f":"IF('Data Ffisegol'!AS19=\"\",\"\",'Data Ffisegol'!AS19)","v":""},{"$f":"IF('Data Ffisegol'!AT19=\"\",\"\",'Data Ffisegol'!AT19)","v":""},{"$f":"IF('Data Ffisegol'!AU19=\"\",\"\",'Data Ffisegol'!AU19)","v":""},{"$f":"IF('Data Ffisegol'!AV19=\"\",\"\",'Data Ffisegol'!AV19)","v":""},{"$f":"IF('Data Ffisegol'!AW19=\"\",\"\",'Data Ffisegol'!AW19)","v":""},{"$f":"IF('Data Ffisegol'!AX19=\"\",\"\",'Data Ffisegol'!AX19)","v":""},{"$f":"IF('Data Ffisegol'!AY19=\"\",\"\",'Data Ffisegol'!AY19)","v":""},{"$f":"IF('Data Ffisegol'!AZ19=\"\",\"\",'Data Ffisegol'!AZ19)","v":""},{"$f":"IF('Data Ffisegol'!BA19=\"\",\"\",'Data Ffisegol'!BA19)","v":""},{"$f":"IF('Data Ffisegol'!BB19=\"\",\"\",'Data Ffisegol'!BB19)","v":""},{"$f":"IF('Data Ffisegol'!BC19=\"\",\"\",'Data Ffisegol'!BC19)","v":""},{"$f":"IF('Data Ffisegol'!BD19=\"\",\"\",'Data Ffisegol'!BD19)","v":""},"","","","","",""]
[null,null,null,null,null,null,null,{"$f":"IF('Data Ffisegol'!H20=\"\",\"\",'Data Ffisegol'!H20)","v":""},{"$f":"IF('Data Ffisegol'!I20=\"\",\"\",'Data Ffisegol'!I20)","v":""},{"$f":"IF('Data Ffisegol'!J20=\"\",\"\",'Data Ffisegol'!J20)","v":""},{"$f":"IFERROR(IF(J20=\"\",\"\",(IF(VLOOKUP(J20,'Gwybodaeth ymgeiswyr'!$K$8:$L$37,2,0)=\"y\",\"y\",\"\"))),\"Manual entry required\")","v":""},{"$f":"IF('Data Ffisegol'!K20=\"\",\"\",'Data Ffisegol'!K20)","v":""},{"$f":"IF('Data Ffisegol'!L20=\"\",\"\",'Data Ffisegol'!L20)","v":""},{"$f":"IF('Data Ffisegol'!M20=\"\",\"\",'Data Ffisegol'!M20)","v":""},{"$f":"IF('Data Ffisegol'!N20=\"\",\"\",'Data Ffisegol'!N20)","v":""},{"$f":"IF('Data Ffisegol'!O20=\"\",\"\",'Data Ffisegol'!O20)","v":""},{"$f":"IF('Data Ffisegol'!P20=\"\",\"\",'Data Ffisegol'!P20)","v":""},{"$f":"IF('Data Ffisegol'!Q20=\"\",\"\",'Data Ffisegol'!Q20)","v":""},{"$f":"IF('Data Ffisegol'!R20=\"\",\"\",'Data Ffisegol'!R20)","v":""},{"$f":"IF('Data Ffisegol'!S20=\"\",\"\",'Data Ffisegol'!S20)","v":""},{"$f":"IF('Data Ffisegol'!T20=\"\",\"\",'Data Ffisegol'!T20)","v":""},{"$f":"IF('Data Ffisegol'!U20=\"\",\"\",'Data Ffisegol'!U20)","v":""},{"$f":"IF('Data Ffisegol'!V20=\"\",\"\",'Data Ffisegol'!V20)","v":""},{"$f":"IF('Data Ffisegol'!W20=\"\",\"\",'Data Ffisegol'!W20)","v":""},{"$f":"IF('Data Ffisegol'!X20=\"\",\"\",'Data Ffisegol'!X20)","v":""},{"$f":"IF('Data Ffisegol'!Y20=\"\",\"\",'Data Ffisegol'!Y20)","v":""},{"$f":"IF('Data Ffisegol'!Z20=\"\",\"\",'Data Ffisegol'!Z20)","v":""},{"$f":"IF('Data Ffisegol'!AA20=\"\",\"\",'Data Ffisegol'!AA20)","v":""},{"$f":"IF('Data Ffisegol'!AB20=\"\",\"\",'Data Ffisegol'!AB20)","v":""},{"$f":"IF('Data Ffisegol'!AC20=\"\",\"\",'Data Ffisegol'!AC20)","v":""},{"$f":"IF('Data Ffisegol'!AD20=\"\",\"\",'Data Ffisegol'!AD20)","v":""},{"$f":"IF('Data Ffisegol'!AE20=\"\",\"\",'Data Ffisegol'!AE20)","v":""},{"$f":"IF('Data Ffisegol'!AF20=\"\",\"\",'Data Ffisegol'!AF20)","v":""},{"$f":"IF('Data Ffisegol'!AG20=\"\",\"\",'Data Ffisegol'!AG20)","v":""},{"$f":"IF('Data Ffisegol'!AH20=\"\",\"\",'Data Ffisegol'!AH20)","v":""},{"$f":"IF('Data Ffisegol'!AI20=\"\",\"\",'Data Ffisegol'!AI20)","v":""},{"$f":"IF('Data Ffisegol'!AJ20=\"\",\"\",'Data Ffisegol'!AJ20)","v":""},{"$f":"IF('Data Ffisegol'!AK20=\"\",\"\",'Data Ffisegol'!AK20)","v":""},{"$f":"IF('Data Ffisegol'!AL20=\"\",\"\",'Data Ffisegol'!AL20)","v":""},{"$f":"IF('Data Ffisegol'!AM20=\"\",\"\",'Data Ffisegol'!AM20)","v":""},{"$f":"IF('Data Ffisegol'!AN20=\"\",\"\",'Data Ffisegol'!AN20)","v":""},{"$f":"IF('Data Ffisegol'!AO20=\"\",\"\",'Data Ffisegol'!AO20)","v":""},{"$f":"IF('Data Ffisegol'!AP20=\"\",\"\",'Data Ffisegol'!AP20)","v":""},{"$f":"IF('Data Ffisegol'!AQ20=\"\",\"\",'Data Ffisegol'!AQ20)","v":""},{"$f":"IF('Data Ffisegol'!AR20=\"\",\"\",'Data Ffisegol'!AR20)","v":""},{"$f":"IF('Data Ffisegol'!AS20=\"\",\"\",'Data Ffisegol'!AS20)","v":""},{"$f":"IF('Data Ffisegol'!AT20=\"\",\"\",'Data Ffisegol'!AT20)","v":""},{"$f":"IF('Data Ffisegol'!AU20=\"\",\"\",'Data Ffisegol'!AU20)","v":""},{"$f":"IF('Data Ffisegol'!AV20=\"\",\"\",'Data Ffisegol'!AV20)","v":""},{"$f":"IF('Data Ffisegol'!AW20=\"\",\"\",'Data Ffisegol'!AW20)","v":""},{"$f":"IF('Data Ffisegol'!AX20=\"\",\"\",'Data Ffisegol'!AX20)","v":""},{"$f":"IF('Data Ffisegol'!AY20=\"\",\"\",'Data Ffisegol'!AY20)","v":""},{"$f":"IF('Data Ffisegol'!AZ20=\"\",\"\",'Data Ffisegol'!AZ20)","v":""},{"$f":"IF('Data Ffisegol'!BA20=\"\",\"\",'Data Ffisegol'!BA20)","v":""},{"$f":"IF('Data Ffisegol'!BB20=\"\",\"\",'Data Ffisegol'!BB20)","v":""},{"$f":"IF('Data Ffisegol'!BC20=\"\",\"\",'Data Ffisegol'!BC20)","v":""},{"$f":"IF('Data Ffisegol'!BD20=\"\",\"\",'Data Ffisegol'!BD20)","v":""},"","","","","",""]
[null,null,null,null,null,null,null,{"$f":"IF('Data Ffisegol'!H21=\"\",\"\",'Data Ffisegol'!H21)","v":""},{"$f":"IF('Data Ffisegol'!I21=\"\",\"\",'Data Ffisegol'!I21)","v":""},{"$f":"IF('Data Ffisegol'!J21=\"\",\"\",'Data Ffisegol'!J21)","v":""},{"$f":"IFERROR(IF(J21=\"\",\"\",(IF(VLOOKUP(J21,'Gwybodaeth ymgeiswyr'!$K$8:$L$37,2,0)=\"y\",\"y\",\"\"))),\"Manual entry required\")","v":""},{"$f":"IF('Data Ffisegol'!K21=\"\",\"\",'Data Ffisegol'!K21)","v":""},{"$f":"IF('Data Ffisegol'!L21=\"\",\"\",'Data Ffisegol'!L21)","v":""},{"$f":"IF('Data Ffisegol'!M21=\"\",\"\",'Data Ffisegol'!M21)","v":""},{"$f":"IF('Data Ffisegol'!N21=\"\",\"\",'Data Ffisegol'!N21)","v":""},{"$f":"IF('Data Ffisegol'!O21=\"\",\"\",'Data Ffisegol'!O21)","v":""},{"$f":"IF('Data Ffisegol'!P21=\"\",\"\",'Data Ffisegol'!P21)","v":""},{"$f":"IF('Data Ffisegol'!Q21=\"\",\"\",'Data Ffisegol'!Q21)","v":""},{"$f":"IF('Data Ffisegol'!R21=\"\",\"\",'Data Ffisegol'!R21)","v":""},{"$f":"IF('Data Ffisegol'!S21=\"\",\"\",'Data Ffisegol'!S21)","v":""},{"$f":"IF('Data Ffisegol'!T21=\"\",\"\",'Data Ffisegol'!T21)","v":""},{"$f":"IF('Data Ffisegol'!U21=\"\",\"\",'Data Ffisegol'!U21)","v":""},{"$f":"IF('Data Ffisegol'!V21=\"\",\"\",'Data Ffisegol'!V21)","v":""},{"$f":"IF('Data Ffisegol'!W21=\"\",\"\",'Data Ffisegol'!W21)","v":""},{"$f":"IF('Data Ffisegol'!X21=\"\",\"\",'Data Ffisegol'!X21)","v":""},{"$f":"IF('Data Ffisegol'!Y21=\"\",\"\",'Data Ffisegol'!Y21)","v":""},{"$f":"IF('Data Ffisegol'!Z21=\"\",\"\",'Data Ffisegol'!Z21)","v":""},{"$f":"IF('Data Ffisegol'!AA21=\"\",\"\",'Data Ffisegol'!AA21)","v":""},{"$f":"IF('Data Ffisegol'!AB21=\"\",\"\",'Data Ffisegol'!AB21)","v":""},{"$f":"IF('Data Ffisegol'!AC21=\"\",\"\",'Data Ffisegol'!AC21)","v":""},{"$f":"IF('Data Ffisegol'!AD21=\"\",\"\",'Data Ffisegol'!AD21)","v":""},{"$f":"IF('Data Ffisegol'!AE21=\"\",\"\",'Data Ffisegol'!AE21)","v":""},{"$f":"IF('Data Ffisegol'!AF21=\"\",\"\",'Data Ffisegol'!AF21)","v":""},{"$f":"IF('Data Ffisegol'!AG21=\"\",\"\",'Data Ffisegol'!AG21)","v":""},{"$f":"IF('Data Ffisegol'!AH21=\"\",\"\",'Data Ffisegol'!AH21)","v":""},{"$f":"IF('Data Ffisegol'!AI21=\"\",\"\",'Data Ffisegol'!AI21)","v":""},{"$f":"IF('Data Ffisegol'!AJ21=\"\",\"\",'Data Ffisegol'!AJ21)","v":""},{"$f":"IF('Data Ffisegol'!AK21=\"\",\"\",'Data Ffisegol'!AK21)","v":""},{"$f":"IF('Data Ffisegol'!AL21=\"\",\"\",'Data Ffisegol'!AL21)","v":""},{"$f":"IF('Data Ffisegol'!AM21=\"\",\"\",'Data Ffisegol'!AM21)","v":""},{"$f":"IF('Data Ffisegol'!AN21=\"\",\"\",'Data Ffisegol'!AN21)","v":""},{"$f":"IF('Data Ffisegol'!AO21=\"\",\"\",'Data Ffisegol'!AO21)","v":""},{"$f":"IF('Data Ffisegol'!AP21=\"\",\"\",'Data Ffisegol'!AP21)","v":""},{"$f":"IF('Data Ffisegol'!AQ21=\"\",\"\",'Data Ffisegol'!AQ21)","v":""},{"$f":"IF('Data Ffisegol'!AR21=\"\",\"\",'Data Ffisegol'!AR21)","v":""},{"$f":"IF('Data Ffisegol'!AS21=\"\",\"\",'Data Ffisegol'!AS21)","v":""},{"$f":"IF('Data Ffisegol'!AT21=\"\",\"\",'Data Ffisegol'!AT21)","v":""},{"$f":"IF('Data Ffisegol'!AU21=\"\",\"\",'Data Ffisegol'!AU21)","v":""},{"$f":"IF('Data Ffisegol'!AV21=\"\",\"\",'Data Ffisegol'!AV21)","v":""},{"$f":"IF('Data Ffisegol'!AW21=\"\",\"\",'Data Ffisegol'!AW21)","v":""},{"$f":"IF('Data Ffisegol'!AX21=\"\",\"\",'Data Ffisegol'!AX21)","v":""},{"$f":"IF('Data Ffisegol'!AY21=\"\",\"\",'Data Ffisegol'!AY21)","v":""},{"$f":"IF('Data Ffisegol'!AZ21=\"\",\"\",'Data Ffisegol'!AZ21)","v":""},{"$f":"IF('Data Ffisegol'!BA21=\"\",\"\",'Data Ffisegol'!BA21)","v":""},{"$f":"IF('Data Ffisegol'!BB21=\"\",\"\",'Data Ffisegol'!BB21)","v":""},{"$f":"IF('Data Ffisegol'!BC21=\"\",\"\",'Data Ffisegol'!BC21)","v":""},{"$f":"IF('Data Ffisegol'!BD21=\"\",\"\",'Data Ffisegol'!BD21)","v":""},"","","","","",""]
[null,null,null,null,null,null,null,{"$f":"IF('Data Ffisegol'!H22=\"\",\"\",'Data Ffisegol'!H22)","v":""},{"$f":"IF('Data Ffisegol'!I22=\"\",\"\",'Data Ffisegol'!I22)","v":""},{"$f":"IF('Data Ffisegol'!J22=\"\",\"\",'Data Ffisegol'!J22)","v":""},{"$f":"IFERROR(IF(J22=\"\",\"\",(IF(VLOOKUP(J22,'Gwybodaeth ymgeiswyr'!$K$8:$L$37,2,0)=\"y\",\"y\",\"\"))),\"Manual entry required\")","v":""},{"$f":"IF('Data Ffisegol'!K22=\"\",\"\",'Data Ffisegol'!K22)","v":""},{"$f":"IF('Data Ffisegol'!L22=\"\",\"\",'Data Ffisegol'!L22)","v":""},{"$f":"IF('Data Ffisegol'!M22=\"\",\"\",'Data Ffisegol'!M22)","v":""},{"$f":"IF('Data Ffisegol'!N22=\"\",\"\",'Data Ffisegol'!N22)","v":""},{"$f":"IF('Data Ffisegol'!O22=\"\",\"\",'Data Ffisegol'!O22)","v":""},{"$f":"IF('Data Ffisegol'!P22=\"\",\"\",'Data Ffisegol'!P22)","v":""},{"$f":"IF('Data Ffisegol'!Q22=\"\",\"\",'Data Ffisegol'!Q22)","v":""},{"$f":"IF('Data Ffisegol'!R22=\"\",\"\",'Data Ffisegol'!R22)","v":""},{"$f":"IF('Data Ffisegol'!S22=\"\",\"\",'Data Ffisegol'!S22)","v":""},{"$f":"IF('Data Ffisegol'!T22=\"\",\"\",'Data Ffisegol'!T22)","v":""},{"$f":"IF('Data Ffisegol'!U22=\"\",\"\",'Data Ffisegol'!U22)","v":""},{"$f":"IF('Data Ffisegol'!V22=\"\",\"\",'Data Ffisegol'!V22)","v":""},{"$f":"IF('Data Ffisegol'!W22=\"\",\"\",'Data Ffisegol'!W22)","v":""},{"$f":"IF('Data Ffisegol'!X22=\"\",\"\",'Data Ffisegol'!X22)","v":""},{"$f":"IF('Data Ffisegol'!Y22=\"\",\"\",'Data Ffisegol'!Y22)","v":""},{"$f":"IF('Data Ffisegol'!Z22=\"\",\"\",'Data Ffisegol'!Z22)","v":""},{"$f":"IF('Data Ffisegol'!AA22=\"\",\"\",'Data Ffisegol'!AA22)","v":""},{"$f":"IF('Data Ffisegol'!AB22=\"\",\"\",'Data Ffisegol'!AB22)","v":""},{"$f":"IF('Data Ffisegol'!AC22=\"\",\"\",'Data Ffisegol'!AC22)","v":""},{"$f":"IF('Data Ffisegol'!AD22=\"\",\"\",'Data Ffisegol'!AD22)","v":""},{"$f":"IF('Data Ffisegol'!AE22=\"\",\"\",'Data Ffisegol'!AE22)","v":""},{"$f":"IF('Data Ffisegol'!AF22=\"\",\"\",'Data Ffisegol'!AF22)","v":""},{"$f":"IF('Data Ffisegol'!AG22=\"\",\"\",'Data Ffisegol'!AG22)","v":""},{"$f":"IF('Data Ffisegol'!AH22=\"\",\"\",'Data Ffisegol'!AH22)","v":""},{"$f":"IF('Data Ffisegol'!AI22=\"\",\"\",'Data Ffisegol'!AI22)","v":""},{"$f":"IF('Data Ffisegol'!AJ22=\"\",\"\",'Data Ffisegol'!AJ22)","v":""},{"$f":"IF('Data Ffisegol'!AK22=\"\",\"\",'Data Ffisegol'!AK22)","v":""},{"$f":"IF('Data Ffisegol'!AL22=\"\",\"\",'Data Ffisegol'!AL22)","v":""},{"$f":"IF('Data Ffisegol'!AM22=\"\",\"\",'Data Ffisegol'!AM22)","v":""},{"$f":"IF('Data Ffisegol'!AN22=\"\",\"\",'Data Ffisegol'!AN22)","v":""},{"$f":"IF('Data Ffisegol'!AO22=\"\",\"\",'Data Ffisegol'!AO22)","v":""},{"$f":"IF('Data Ffisegol'!AP22=\"\",\"\",'Data Ffisegol'!AP22)","v":""},{"$f":"IF('Data Ffisegol'!AQ22=\"\",\"\",'Data Ffisegol'!AQ22)","v":""},{"$f":"IF('Data Ffisegol'!AR22=\"\",\"\",'Data Ffisegol'!AR22)","v":""},{"$f":"IF('Data Ffisegol'!AS22=\"\",\"\",'Data Ffisegol'!AS22)","v":""},{"$f":"IF('Data Ffisegol'!AT22=\"\",\"\",'Data Ffisegol'!AT22)","v":""},{"$f":"IF('Data Ffisegol'!AU22=\"\",\"\",'Data Ffisegol'!AU22)","v":""},{"$f":"IF('Data Ffisegol'!AV22=\"\",\"\",'Data Ffisegol'!AV22)","v":""},{"$f":"IF('Data Ffisegol'!AW22=\"\",\"\",'Data Ffisegol'!AW22)","v":""},{"$f":"IF('Data Ffisegol'!AX22=\"\",\"\",'Data Ffisegol'!AX22)","v":""},{"$f":"IF('Data Ffisegol'!AY22=\"\",\"\",'Data Ffisegol'!AY22)","v":""},{"$f":"IF('Data Ffisegol'!AZ22=\"\",\"\",'Data Ffisegol'!AZ22)","v":""},{"$f":"IF('Data Ffisegol'!BA22=\"\",\"\",'Data Ffisegol'!BA22)","v":""},{"$f":"IF('Data Ffisegol'!BB22=\"\",\"\",'Data Ffisegol'!BB22)","v":""},{"$f":"IF('Data Ffisegol'!BC22=\"\",\"\",'Data Ffisegol'!BC22)","v":""},{"$f":"IF('Data Ffisegol'!BD22=\"\",\"\",'Data Ffisegol'!BD22)","v":""},"","","","","",""]
[null,null,null,null,null,null,null,{"$f":"IF('Data Ffisegol'!H23=\"\",\"\",'Data Ffisegol'!H23)","v":""},{"$f":"IF('Data Ffisegol'!I23=\"\",\"\",'Data Ffisegol'!I23)","v":""},{"$f":"IF('Data Ffisegol'!J23=\"\",\"\",'Data Ffisegol'!J23)","v":""},{"$f":"IFERROR(IF(J23=\"\",\"\",(IF(VLOOKUP(J23,'Gwybodaeth ymgeiswyr'!$K$8:$L$37,2,0)=\"y\",\"y\",\"\"))),\"Manual entry required\")","v":""},{"$f":"IF('Data Ffisegol'!K23=\"\",\"\",'Data Ffisegol'!K23)","v":""},{"$f":"IF('Data Ffisegol'!L23=\"\",\"\",'Data Ffisegol'!L23)","v":""},{"$f":"IF('Data Ffisegol'!M23=\"\",\"\",'Data Ffisegol'!M23)","v":""},{"$f":"IF('Data Ffisegol'!N23=\"\",\"\",'Data Ffisegol'!N23)","v":""},{"$f":"IF('Data Ffisegol'!O23=\"\",\"\",'Data Ffisegol'!O23)","v":""},{"$f":"IF('Data Ffisegol'!P23=\"\",\"\",'Data Ffisegol'!P23)","v":""},{"$f":"IF('Data Ffisegol'!Q23=\"\",\"\",'Data Ffisegol'!Q23)","v":""},{"$f":"IF('Data Ffisegol'!R23=\"\",\"\",'Data Ffisegol'!R23)","v":""},{"$f":"IF('Data Ffisegol'!S23=\"\",\"\",'Data Ffisegol'!S23)","v":""},{"$f":"IF('Data Ffisegol'!T23=\"\",\"\",'Data Ffisegol'!T23)","v":""},{"$f":"IF('Data Ffisegol'!U23=\"\",\"\",'Data Ffisegol'!U23)","v":""},{"$f":"IF('Data Ffisegol'!V23=\"\",\"\",'Data Ffisegol'!V23)","v":""},{"$f":"IF('Data Ffisegol'!W23=\"\",\"\",'Data Ffisegol'!W23)","v":""},{"$f":"IF('Data Ffisegol'!X23=\"\",\"\",'Data Ffisegol'!X23)","v":""},{"$f":"IF('Data Ffisegol'!Y23=\"\",\"\",'Data Ffisegol'!Y23)","v":""},{"$f":"IF('Data Ffisegol'!Z23=\"\",\"\",'Data Ffisegol'!Z23)","v":""},{"$f":"IF('Data Ffisegol'!AA23=\"\",\"\",'Data Ffisegol'!AA23)","v":""},{"$f":"IF('Data Ffisegol'!AB23=\"\",\"\",'Data Ffisegol'!AB23)","v":""},{"$f":"IF('Data Ffisegol'!AC23=\"\",\"\",'Data Ffisegol'!AC23)","v":""},{"$f":"IF('Data Ffisegol'!AD23=\"\",\"\",'Data Ffisegol'!AD23)","v":""},{"$f":"IF('Data Ffisegol'!AE23=\"\",\"\",'Data Ffisegol'!AE23)","v":""},{"$f":"IF('Data Ffisegol'!AF23=\"\",\"\",'Data Ffisegol'!AF23)","v":""},{"$f":"IF('Data Ffisegol'!AG23=\"\",\"\",'Data Ffisegol'!AG23)","v":""},{"$f":"IF('Data Ffisegol'!AH23=\"\",\"\",'Data Ffisegol'!AH23)","v":""},{"$f":"IF('Data Ffisegol'!AI23=\"\",\"\",'Data Ffisegol'!AI23)","v":""},{"$f":"IF('Data Ffisegol'!AJ23=\"\",\"\",'Data Ffisegol'!AJ23)","v":""},{"$f":"IF('Data Ffisegol'!AK23=\"\",\"\",'Data Ffisegol'!AK23)","v":""},{"$f":"IF('Data Ffisegol'!AL23=\"\",\"\",'Data Ffisegol'!AL23)","v":""},{"$f":"IF('Data Ffisegol'!AM23=\"\",\"\",'Data Ffisegol'!AM23)","v":""},{"$f":"IF('Data Ffisegol'!AN23=\"\",\"\",'Data Ffisegol'!AN23)","v":""},{"$f":"IF('Data Ffisegol'!AO23=\"\",\"\",'Data Ffisegol'!AO23)","v":""},{"$f":"IF('Data Ffisegol'!AP23=\"\",\"\",'Data Ffisegol'!AP23)","v":""},{"$f":"IF('Data Ffisegol'!AQ23=\"\",\"\",'Data Ffisegol'!AQ23)","v":""},{"$f":"IF('Data Ffisegol'!AR23=\"\",\"\",'Data Ffisegol'!AR23)","v":""},{"$f":"IF('Data Ffisegol'!AS23=\"\",\"\",'Data Ffisegol'!AS23)","v":""},{"$f":"IF('Data Ffisegol'!AT23=\"\",\"\",'Data Ffisegol'!AT23)","v":""},{"$f":"IF('Data Ffisegol'!AU23=\"\",\"\",'Data Ffisegol'!AU23)","v":""},{"$f":"IF('Data Ffisegol'!AV23=\"\",\"\",'Data Ffisegol'!AV23)","v":""},{"$f":"IF('Data Ffisegol'!AW23=\"\",\"\",'Data Ffisegol'!AW23)","v":""},{"$f":"IF('Data Ffisegol'!AX23=\"\",\"\",'Data Ffisegol'!AX23)","v":""},{"$f":"IF('Data Ffisegol'!AY23=\"\",\"\",'Data Ffisegol'!AY23)","v":""},{"$f":"IF('Data Ffisegol'!AZ23=\"\",\"\",'Data Ffisegol'!AZ23)","v":""},{"$f":"IF('Data Ffisegol'!BA23=\"\",\"\",'Data Ffisegol'!BA23)","v":""},{"$f":"IF('Data Ffisegol'!BB23=\"\",\"\",'Data Ffisegol'!BB23)","v":""},{"$f":"IF('Data Ffisegol'!BC23=\"\",\"\",'Data Ffisegol'!BC23)","v":""},{"$f":"IF('Data Ffisegol'!BD23=\"\",\"\",'Data Ffisegol'!BD23)","v":""},"","","","","",""]
[null,null,null,null,null,null,null,{"$f":"IF('Data Ffisegol'!H24=\"\",\"\",'Data Ffisegol'!H24)","v":""},{"$f":"IF('Data Ffisegol'!I24=\"\",\"\",'Data Ffisegol'!I24)","v":""},{"$f":"IF('Data Ffisegol'!J24=\"\",\"\",'Data Ffisegol'!J24)","v":""},{"$f":"IFERROR(IF(J24=\"\",\"\",(IF(VLOOKUP(J24,'Gwybodaeth ymgeiswyr'!$K$8:$L$37,2,0)=\"y\",\"y\",\"\"))),\"Manual entry required\")","v":""},{"$f":"IF('Data Ffisegol'!K24=\"\",\"\",'Data Ffisegol'!K24)","v":""},{"$f":"IF('Data Ffisegol'!L24=\"\",\"\",'Data Ffisegol'!L24)","v":""},{"$f":"IF('Data Ffisegol'!M24=\"\",\"\",'Data Ffisegol'!M24)","v":""},{"$f":"IF('Data Ffisegol'!N24=\"\",\"\",'Data Ffisegol'!N24)","v":""},{"$f":"IF('Data Ffisegol'!O24=\"\",\"\",'Data Ffisegol'!O24)","v":""},{"$f":"IF('Data Ffisegol'!P24=\"\",\"\",'Data Ffisegol'!P24)","v":""},{"$f":"IF('Data Ffisegol'!Q24=\"\",\"\",'Data Ffisegol'!Q24)","v":""},{"$f":"IF('Data Ffisegol'!R24=\"\",\"\",'Data Ffisegol'!R24)","v":""},{"$f":"IF('Data Ffisegol'!S24=\"\",\"\",'Data Ffisegol'!S24)","v":""},{"$f":"IF('Data Ffisegol'!T24=\"\",\"\",'Data Ffisegol'!T24)","v":""},{"$f":"IF('Data Ffisegol'!U24=\"\",\"\",'Data Ffisegol'!U24)","v":""},{"$f":"IF('Data Ffisegol'!V24=\"\",\"\",'Data Ffisegol'!V24)","v":""},{"$f":"IF('Data Ffisegol'!W24=\"\",\"\",'Data Ffisegol'!W24)","v":""},{"$f":"IF('Data Ffisegol'!X24=\"\",\"\",'Data Ffisegol'!X24)","v":""},{"$f":"IF('Data Ffisegol'!Y24=\"\",\"\",'Data Ffisegol'!Y24)","v":""},{"$f":"IF('Data Ffisegol'!Z24=\"\",\"\",'Data Ffisegol'!Z24)","v":""},{"$f":"IF('Data Ffisegol'!AA24=\"\",\"\",'Data Ffisegol'!AA24)","v":""},{"$f":"IF('Data Ffisegol'!AB24=\"\",\"\",'Data Ffisegol'!AB24)","v":""},{"$f":"IF('Data Ffisegol'!AC24=\"\",\"\",'Data Ffisegol'!AC24)","v":""},{"$f":"IF('Data Ffisegol'!AD24=\"\",\"\",'Data Ffisegol'!AD24)","v":""},{"$f":"IF('Data Ffisegol'!AE24=\"\",\"\",'Data Ffisegol'!AE24)","v":""},{"$f":"IF('Data Ffisegol'!AF24=\"\",\"\",'Data Ffisegol'!AF24)","v":""},{"$f":"IF('Data Ffisegol'!AG24=\"\",\"\",'Data Ffisegol'!AG24)","v":""},{"$f":"IF('Data Ffisegol'!AH24=\"\",\"\",'Data Ffisegol'!AH24)","v":""},{"$f":"IF('Data Ffisegol'!AI24=\"\",\"\",'Data Ffisegol'!AI24)","v":""},{"$f":"IF('Data Ffisegol'!AJ24=\"\",\"\",'Data Ffisegol'!AJ24)","v":""},{"$f":"IF('Data Ffisegol'!AK24=\"\",\"\",'Data Ffisegol'!AK24)","v":""},{"$f":"IF('Data Ffisegol'!AL24=\"\",\"\",'Data Ffisegol'!AL24)","v":""},{"$f":"IF('Data Ffisegol'!AM24=\"\",\"\",'Data Ffisegol'!AM24)","v":""},{"$f":"IF('Data Ffisegol'!AN24=\"\",\"\",'Data Ffisegol'!AN24)","v":""},{"$f":"IF('Data Ffisegol'!AO24=\"\",\"\",'Data Ffisegol'!AO24)","v":""},{"$f":"IF('Data Ffisegol'!AP24=\"\",\"\",'Data Ffisegol'!AP24)","v":""},{"$f":"IF('Data Ffisegol'!AQ24=\"\",\"\",'Data Ffisegol'!AQ24)","v":""},{"$f":"IF('Data Ffisegol'!AR24=\"\",\"\",'Data Ffisegol'!AR24)","v":""},{"$f":"IF('Data Ffisegol'!AS24=\"\",\"\",'Data Ffisegol'!AS24)","v":""},{"$f":"IF('Data Ffisegol'!AT24=\"\",\"\",'Data Ffisegol'!AT24)","v":""},{"$f":"IF('Data Ffisegol'!AU24=\"\",\"\",'Data Ffisegol'!AU24)","v":""},{"$f":"IF('Data Ffisegol'!AV24=\"\",\"\",'Data Ffisegol'!AV24)","v":""},{"$f":"IF('Data Ffisegol'!AW24=\"\",\"\",'Data Ffisegol'!AW24)","v":""},{"$f":"IF('Data Ffisegol'!AX24=\"\",\"\",'Data Ffisegol'!AX24)","v":""},{"$f":"IF('Data Ffisegol'!AY24=\"\",\"\",'Data Ffisegol'!AY24)","v":""},{"$f":"IF('Data Ffisegol'!AZ24=\"\",\"\",'Data Ffisegol'!AZ24)","v":""},{"$f":"IF('Data Ffisegol'!BA24=\"\",\"\",'Data Ffisegol'!BA24)","v":""},{"$f":"IF('Data Ffisegol'!BB24=\"\",\"\",'Data Ffisegol'!BB24)","v":""},{"$f":"IF('Data Ffisegol'!BC24=\"\",\"\",'Data Ffisegol'!BC24)","v":""},{"$f":"IF('Data Ffisegol'!BD24=\"\",\"\",'Data Ffisegol'!BD24)","v":""},"","","","","",""]
[null,null,null,null,null,null,null,{"$f":"IF('Data Ffisegol'!H25=\"\",\"\",'Data Ffisegol'!H25)","v":""},{"$f":"IF('Data Ffisegol'!I25=\"\",\"\",'Data Ffisegol'!I25)","v":""},{"$f":"IF('Data Ffisegol'!J25=\"\",\"\",'Data Ffisegol'!J25)","v":""},{"$f":"IFERROR(IF(J25=\"\",\"\",(IF(VLOOKUP(J25,'Gwybodaeth ymgeiswyr'!$K$8:$L$37,2,0)=\"y\",\"y\",\"\"))),\"Manual entry required\")","v":""},{"$f":"IF('Data Ffisegol'!K25=\"\",\"\",'Data Ffisegol'!K25)","v":""},{"$f":"IF('Data Ffisegol'!L25=\"\",\"\",'Data Ffisegol'!L25)","v":""},{"$f":"IF('Data Ffisegol'!M25=\"\",\"\",'Data Ffisegol'!M25)","v":""},{"$f":"IF('Data Ffisegol'!N25=\"\",\"\",'Data Ffisegol'!N25)","v":""},{"$f":"IF('Data Ffisegol'!O25=\"\",\"\",'Data Ffisegol'!O25)","v":""},{"$f":"IF('Data Ffisegol'!P25=\"\",\"\",'Data Ffisegol'!P25)","v":""},{"$f":"IF('Data Ffisegol'!Q25=\"\",\"\",'Data Ffisegol'!Q25)","v":""},{"$f":"IF('Data Ffisegol'!R25=\"\",\"\",'Data Ffisegol'!R25)","v":""},{"$f":"IF('Data Ffisegol'!S25=\"\",\"\",'Data Ffisegol'!S25)","v":""},{"$f":"IF('Data Ffisegol'!T25=\"\",\"\",'Data Ffisegol'!T25)","v":""},{"$f":"IF('Data Ffisegol'!U25=\"\",\"\",'Data Ffisegol'!U25)","v":""},{"$f":"IF('Data Ffisegol'!V25=\"\",\"\",'Data Ffisegol'!V25)","v":""},{"$f":"IF('Data Ffisegol'!W25=\"\",\"\",'Data Ffisegol'!W25)","v":""},{"$f":"IF('Data Ffisegol'!X25=\"\",\"\",'Data Ffisegol'!X25)","v":""},{"$f":"IF('Data Ffisegol'!Y25=\"\",\"\",'Data Ffisegol'!Y25)","v":""},{"$f":"IF('Data Ffisegol'!Z25=\"\",\"\",'Data Ffisegol'!Z25)","v":""},{"$f":"IF('Data Ffisegol'!AA25=\"\",\"\",'Data Ffisegol'!AA25)","v":""},{"$f":"IF('Data Ffisegol'!AB25=\"\",\"\",'Data Ffisegol'!AB25)","v":""},{"$f":"IF('Data Ffisegol'!AC25=\"\",\"\",'Data Ffisegol'!AC25)","v":""},{"$f":"IF('Data Ffisegol'!AD25=\"\",\"\",'Data Ffisegol'!AD25)","v":""},{"$f":"IF('Data Ffisegol'!AE25=\"\",\"\",'Data Ffisegol'!AE25)","v":""},{"$f":"IF('Data Ffisegol'!AF25=\"\",\"\",'Data Ffisegol'!AF25)","v":""},{"$f":"IF('Data Ffisegol'!AG25=\"\",\"\",'Data Ffisegol'!AG25)","v":""},{"$f":"IF('Data Ffisegol'!AH25=\"\",\"\",'Data Ffisegol'!AH25)","v":""},{"$f":"IF('Data Ffisegol'!AI25=\"\",\"\",'Data Ffisegol'!AI25)","v":""},{"$f":"IF('Data Ffisegol'!AJ25=\"\",\"\",'Data Ffisegol'!AJ25)","v":""},{"$f":"IF('Data Ffisegol'!AK25=\"\",\"\",'Data Ffisegol'!AK25)","v":""},{"$f":"IF('Data Ffisegol'!AL25=\"\",\"\",'Data Ffisegol'!AL25)","v":""},{"$f":"IF('Data Ffisegol'!AM25=\"\",\"\",'Data Ffisegol'!AM25)","v":""},{"$f":"IF('Data Ffisegol'!AN25=\"\",\"\",'Data Ffisegol'!AN25)","v":""},{"$f":"IF('Data Ffisegol'!AO25=\"\",\"\",'Data Ffisegol'!AO25)","v":""},{"$f":"IF('Data Ffisegol'!AP25=\"\",\"\",'Data Ffisegol'!AP25)","v":""},{"$f":"IF('Data Ffisegol'!AQ25=\"\",\"\",'Data Ffisegol'!AQ25)","v":""},{"$f":"IF('Data Ffisegol'!AR25=\"\",\"\",'Data Ffisegol'!AR25)","v":""},{"$f":"IF('Data Ffisegol'!AS25=\"\",\"\",'Data Ffisegol'!AS25)","v":""},{"$f":"IF('Data Ffisegol'!AT25=\"\",\"\",'Data Ffisegol'!AT25)","v":""},{"$f":"IF('Data Ffisegol'!AU25=\"\",\"\",'Data Ffisegol'!AU25)","v":""},{"$f":"IF('Data Ffisegol'!AV25=\"\",\"\",'Data Ffisegol'!AV25)","v":""},{"$f":"IF('Data Ffisegol'!AW25=\"\",\"\",'Data Ffisegol'!AW25)","v":""},{"$f":"IF('Data Ffisegol'!AX25=\"\",\"\",'Data Ffisegol'!AX25)","v":""},{"$f":"IF('Data Ffisegol'!AY25=\"\",\"\",'Data Ffisegol'!AY25)","v":""},{"$f":"IF('Data Ffisegol'!AZ25=\"\",\"\",'Data Ffisegol'!AZ25)","v":""},{"$f":"IF('Data Ffisegol'!BA25=\"\",\"\",'Data Ffisegol'!BA25)","v":""},{"$f":"IF('Data Ffisegol'!BB25=\"\",\"\",'Data Ffisegol'!BB25)","v":""},{"$f":"IF('Data Ffisegol'!BC25=\"\",\"\",'Data Ffisegol'!BC25)","v":""},{"$f":"IF('Data Ffisegol'!BD25=\"\",\"\",'Data Ffisegol'!BD25)","v":""},"","","","","",""]
[null,null,null,null,null,null,null,{"$f":"IF('Data Ffisegol'!H26=\"\",\"\",'Data Ffisegol'!H26)","v":""},{"$f":"IF('Data Ffisegol'!I26=\"\",\"\",'Data Ffisegol'!I26)","v":""},{"$f":"IF('Data Ffisegol'!J26=\"\",\"\",'Data Ffisegol'!J26)","v":""},{"$f":"IFERROR(IF(J26=\"\",\"\",(IF(VLOOKUP(J26,'Gwybodaeth ymgeiswyr'!$K$8:$L$37,2,0)=\"y\",\"y\",\"\"))),\"Manual entry required\")","v":""},{"$f":"IF('Data Ffisegol'!K26=\"\",\"\",'Data Ffisegol'!K26)","v":""},{"$f":"IF('Data Ffisegol'!L26=\"\",\"\",'Data Ffisegol'!L26)","v":""},{"$f":"IF('Data Ffisegol'!M26=\"\",\"\",'Data Ffisegol'!M26)","v":""},{"$f":"IF('Data Ffisegol'!N26=\"\",\"\",'Data Ffisegol'!N26)","v":""},{"$f":"IF('Data Ffisegol'!O26=\"\",\"\",'Data Ffisegol'!O26)","v":""},{"$f":"IF('Data Ffisegol'!P26=\"\",\"\",'Data Ffisegol'!P26)","v":""},{"$f":"IF('Data Ffisegol'!Q26=\"\",\"\",'Data Ffisegol'!Q26)","v":""},{"$f":"IF('Data Ffisegol'!R26=\"\",\"\",'Data Ffisegol'!R26)","v":""},{"$f":"IF('Data Ffisegol'!S26=\"\",\"\",'Data Ffisegol'!S26)","v":""},{"$f":"IF('Data Ffisegol'!T26=\"\",\"\",'Data Ffisegol'!T26)","v":""},{"$f":"IF('Data Ffisegol'!U26=\"\",\"\",'Data Ffisegol'!U26)","v":""},{"$f":"IF('Data Ffisegol'!V26=\"\",\"\",'Data Ffisegol'!V26)","v":""},{"$f":"IF('Data Ffisegol'!W26=\"\",\"\",'Data Ffisegol'!W26)","v":""},{"$f":"IF('Data Ffisegol'!X26=\"\",\"\",'Data Ffisegol'!X26)","v":""},{"$f":"IF('Data Ffisegol'!Y26=\"\",\"\",'Data Ffisegol'!Y26)","v":""},{"$f":"IF('Data Ffisegol'!Z26=\"\",\"\",'Data Ffisegol'!Z26)","v":""},{"$f":"IF('Data Ffisegol'!AA26=\"\",\"\",'Data Ffisegol'!AA26)","v":""},{"$f":"IF('Data Ffisegol'!AB26=\"\",\"\",'Data Ffisegol'!AB26)","v":""},{"$f":"IF('Data Ffisegol'!AC26=\"\",\"\",'Data Ffisegol'!AC26)","v":""},{"$f":"IF('Data Ffisegol'!AD26=\"\",\"\",'Data Ffisegol'!AD26)","v":""},{"$f":"IF('Data Ffisegol'!AE26=\"\",\"\",'Data Ffisegol'!AE26)","v":""},{"$f":"IF('Data Ffisegol'!AF26=\"\",\"\",'Data Ffisegol'!AF26)","v":""},{"$f":"IF('Data Ffisegol'!AG26=\"\",\"\",'Data Ffisegol'!AG26)","v":""},{"$f":"IF('Data Ffisegol'!AH26=\"\",\"\",'Data Ffisegol'!AH26)","v":""},{"$f":"IF('Data Ffisegol'!AI26=\"\",\"\",'Data Ffisegol'!AI26)","v":""},{"$f":"IF('Data Ffisegol'!AJ26=\"\",\"\",'Data Ffisegol'!AJ26)","v":""},{"$f":"IF('Data Ffisegol'!AK26=\"\",\"\",'Data Ffisegol'!AK26)","v":""},{"$f":"IF('Data Ffisegol'!AL26=\"\",\"\",'Data Ffisegol'!AL26)","v":""},{"$f":"IF('Data Ffisegol'!AM26=\"\",\"\",'Data Ffisegol'!AM26)","v":""},{"$f":"IF('Data Ffisegol'!AN26=\"\",\"\",'Data Ffisegol'!AN26)","v":""},{"$f":"IF('Data Ffisegol'!AO26=\"\",\"\",'Data Ffisegol'!AO26)","v":""},{"$f":"IF('Data Ffisegol'!AP26=\"\",\"\",'Data Ffisegol'!AP26)","v":""},{"$f":"IF('Data Ffisegol'!AQ26=\"\",\"\",'Data Ffisegol'!AQ26)","v":""},{"$f":"IF('Data Ffisegol'!AR26=\"\",\"\",'Data Ffisegol'!AR26)","v":""},{"$f":"IF('Data Ffisegol'!AS26=\"\",\"\",'Data Ffisegol'!AS26)","v":""},{"$f":"IF('Data Ffisegol'!AT26=\"\",\"\",'Data Ffisegol'!AT26)","v":""},{"$f":"IF('Data Ffisegol'!AU26=\"\",\"\",'Data Ffisegol'!AU26)","v":""},{"$f":"IF('Data Ffisegol'!AV26=\"\",\"\",'Data Ffisegol'!AV26)","v":""},{"$f":"IF('Data Ffisegol'!AW26=\"\",\"\",'Data Ffisegol'!AW26)","v":""},{"$f":"IF('Data Ffisegol'!AX26=\"\",\"\",'Data Ffisegol'!AX26)","v":""},{"$f":"IF('Data Ffisegol'!AY26=\"\",\"\",'Data Ffisegol'!AY26)","v":""},{"$f":"IF('Data Ffisegol'!AZ26=\"\",\"\",'Data Ffisegol'!AZ26)","v":""},{"$f":"IF('Data Ffisegol'!BA26=\"\",\"\",'Data Ffisegol'!BA26)","v":""},{"$f":"IF('Data Ffisegol'!BB26=\"\",\"\",'Data Ffisegol'!BB26)","v":""},{"$f":"IF('Data Ffisegol'!BC26=\"\",\"\",'Data Ffisegol'!BC26)","v":""},{"$f":"IF('Data Ffisegol'!BD26=\"\",\"\",'Data Ffisegol'!BD26)","v":""},"","","","","",""]
[null,null,null,null,null,null,null,{"$f":"IF('Data Ffisegol'!H27=\"\",\"\",'Data Ffisegol'!H27)","v":""},{"$f":"IF('Data Ffisegol'!I27=\"\",\"\",'Data Ffisegol'!I27)","v":""},{"$f":"IF('Data Ffisegol'!J27=\"\",\"\",'Data Ffisegol'!J27)","v":""},{"$f":"IFERROR(IF(J27=\"\",\"\",(IF(VLOOKUP(J27,'Gwybodaeth ymgeiswyr'!$K$8:$L$37,2,0)=\"y\",\"y\",\"\"))),\"Manual entry required\")","v":""},{"$f":"IF('Data Ffisegol'!K27=\"\",\"\",'Data Ffisegol'!K27)","v":""},{"$f":"IF('Data Ffisegol'!L27=\"\",\"\",'Data Ffisegol'!L27)","v":""},{"$f":"IF('Data Ffisegol'!M27=\"\",\"\",'Data Ffisegol'!M27)","v":""},{"$f":"IF('Data Ffisegol'!N27=\"\",\"\",'Data Ffisegol'!N27)","v":""},{"$f":"IF('Data Ffisegol'!O27=\"\",\"\",'Data Ffisegol'!O27)","v":""},{"$f":"IF('Data Ffisegol'!P27=\"\",\"\",'Data Ffisegol'!P27)","v":""},{"$f":"IF('Data Ffisegol'!Q27=\"\",\"\",'Data Ffisegol'!Q27)","v":""},{"$f":"IF('Data Ffisegol'!R27=\"\",\"\",'Data Ffisegol'!R27)","v":""},{"$f":"IF('Data Ffisegol'!S27=\"\",\"\",'Data Ffisegol'!S27)","v":""},{"$f":"IF('Data Ffisegol'!T27=\"\",\"\",'Data Ffisegol'!T27)","v":""},{"$f":"IF('Data Ffisegol'!U27=\"\",\"\",'Data Ffisegol'!U27)","v":""},{"$f":"IF('Data Ffisegol'!V27=\"\",\"\",'Data Ffisegol'!V27)","v":""},{"$f":"IF('Data Ffisegol'!W27=\"\",\"\",'Data Ffisegol'!W27)","v":""},{"$f":"IF('Data Ffisegol'!X27=\"\",\"\",'Data Ffisegol'!X27)","v":""},{"$f":"IF('Data Ffisegol'!Y27=\"\",\"\",'Data Ffisegol'!Y27)","v":""},{"$f":"IF('Data Ffisegol'!Z27=\"\",\"\",'Data Ffisegol'!Z27)","v":""},{"$f":"IF('Data Ffisegol'!AA27=\"\",\"\",'Data Ffisegol'!AA27)","v":""},{"$f":"IF('Data Ffisegol'!AB27=\"\",\"\",'Data Ffisegol'!AB27)","v":""},{"$f":"IF('Data Ffisegol'!AC27=\"\",\"\",'Data Ffisegol'!AC27)","v":""},{"$f":"IF('Data Ffisegol'!AD27=\"\",\"\",'Data Ffisegol'!AD27)","v":""},{"$f":"IF('Data Ffisegol'!AE27=\"\",\"\",'Data Ffisegol'!AE27)","v":""},{"$f":"IF('Data Ffisegol'!AF27=\"\",\"\",'Data Ffisegol'!AF27)","v":""},{"$f":"IF('Data Ffisegol'!AG27=\"\",\"\",'Data Ffisegol'!AG27)","v":""},{"$f":"IF('Data Ffisegol'!AH27=\"\",\"\",'Data Ffisegol'!AH27)","v":""},{"$f":"IF('Data Ffisegol'!AI27=\"\",\"\",'Data Ffisegol'!AI27)","v":""},{"$f":"IF('Data Ffisegol'!AJ27=\"\",\"\",'Data Ffisegol'!AJ27)","v":""},{"$f":"IF('Data Ffisegol'!AK27=\"\",\"\",'Data Ffisegol'!AK27)","v":""},{"$f":"IF('Data Ffisegol'!AL27=\"\",\"\",'Data Ffisegol'!AL27)","v":""},{"$f":"IF('Data Ffisegol'!AM27=\"\",\"\",'Data Ffisegol'!AM27)","v":""},{"$f":"IF('Data Ffisegol'!AN27=\"\",\"\",'Data Ffisegol'!AN27)","v":""},{"$f":"IF('Data Ffisegol'!AO27=\"\",\"\",'Data Ffisegol'!AO27)","v":""},{"$f":"IF('Data Ffisegol'!AP27=\"\",\"\",'Data Ffisegol'!AP27)","v":""},{"$f":"IF('Data Ffisegol'!AQ27=\"\",\"\",'Data Ffisegol'!AQ27)","v":""},{"$f":"IF('Data Ffisegol'!AR27=\"\",\"\",'Data Ffisegol'!AR27)","v":""},{"$f":"IF('Data Ffisegol'!AS27=\"\",\"\",'Data Ffisegol'!AS27)","v":""},{"$f":"IF('Data Ffisegol'!AT27=\"\",\"\",'Data Ffisegol'!AT27)","v":""},{"$f":"IF('Data Ffisegol'!AU27=\"\",\"\",'Data Ffisegol'!AU27)","v":""},{"$f":"IF('Data Ffisegol'!AV27=\"\",\"\",'Data Ffisegol'!AV27)","v":""},{"$f":"IF('Data Ffisegol'!AW27=\"\",\"\",'Data Ffisegol'!AW27)","v":""},{"$f":"IF('Data Ffisegol'!AX27=\"\",\"\",'Data Ffisegol'!AX27)","v":""},{"$f":"IF('Data Ffisegol'!AY27=\"\",\"\",'Data Ffisegol'!AY27)","v":""},{"$f":"IF('Data Ffisegol'!AZ27=\"\",\"\",'Data Ffisegol'!AZ27)","v":""},{"$f":"IF('Data Ffisegol'!BA27=\"\",\"\",'Data Ffisegol'!BA27)","v":""},{"$f":"IF('Data Ffisegol'!BB27=\"\",\"\",'Data Ffisegol'!BB27)","v":""},{"$f":"IF('Data Ffisegol'!BC27=\"\",\"\",'Data Ffisegol'!BC27)","v":""},{"$f":"IF('Data Ffisegol'!BD27=\"\",\"\",'Data Ffisegol'!BD27)","v":""},"","","","","",""]
[null,null,null,null,null,null,null,{"$f":"IF('Data Ffisegol'!H28=\"\",\"\",'Data Ffisegol'!H28)","v":""},{"$f":"IF('Data Ffisegol'!I28=\"\",\"\",'Data Ffisegol'!I28)","v":""},{"$f":"IF('Data Ffisegol'!J28=\"\",\"\",'Data Ffisegol'!J28)","v":""},{"$f":"IFERROR(IF(J28=\"\",\"\",(IF(VLOOKUP(J28,'Gwybodaeth ymgeiswyr'!$K$8:$L$37,2,0)=\"y\",\"y\",\"\"))),\"Manual entry required\")","v":""},{"$f":"IF('Data Ffisegol'!K28=\"\",\"\",'Data Ffisegol'!K28)","v":""},{"$f":"IF('Data Ffisegol'!L28=\"\",\"\",'Data Ffisegol'!L28)","v":""},{"$f":"IF('Data Ffisegol'!M28=\"\",\"\",'Data Ffisegol'!M28)","v":""},{"$f":"IF('Data Ffisegol'!N28=\"\",\"\",'Data Ffisegol'!N28)","v":""},{"$f":"IF('Data Ffisegol'!O28=\"\",\"\",'Data Ffisegol'!O28)","v":""},{"$f":"IF('Data Ffisegol'!P28=\"\",\"\",'Data Ffisegol'!P28)","v":""},{"$f":"IF('Data Ffisegol'!Q28=\"\",\"\",'Data Ffisegol'!Q28)","v":""},{"$f":"IF('Data Ffisegol'!R28=\"\",\"\",'Data Ffisegol'!R28)","v":""},{"$f":"IF('Data Ffisegol'!S28=\"\",\"\",'Data Ffisegol'!S28)","v":""},{"$f":"IF('Data Ffisegol'!T28=\"\",\"\",'Data Ffisegol'!T28)","v":""},{"$f":"IF('Data Ffisegol'!U28=\"\",\"\",'Data Ffisegol'!U28)","v":""},{"$f":"IF('Data Ffisegol'!V28=\"\",\"\",'Data Ffisegol'!V28)","v":""},{"$f":"IF('Data Ffisegol'!W28=\"\",\"\",'Data Ffisegol'!W28)","v":""},{"$f":"IF('Data Ffisegol'!X28=\"\",\"\",'Data Ffisegol'!X28)","v":""},{"$f":"IF('Data Ffisegol'!Y28=\"\",\"\",'Data Ffisegol'!Y28)","v":""},{"$f":"IF('Data Ffisegol'!Z28=\"\",\"\",'Data Ffisegol'!Z28)","v":""},{"$f":"IF('Data Ffisegol'!AA28=\"\",\"\",'Data Ffisegol'!AA28)","v":""},{"$f":"IF('Data Ffisegol'!AB28=\"\",\"\",'Data Ffisegol'!AB28)","v":""},{"$f":"IF('Data Ffisegol'!AC28=\"\",\"\",'Data Ffisegol'!AC28)","v":""},{"$f":"IF('Data Ffisegol'!AD28=\"\",\"\",'Data Ffisegol'!AD28)","v":""},{"$f":"IF('Data Ffisegol'!AE28=\"\",\"\",'Data Ffisegol'!AE28)","v":""},{"$f":"IF('Data Ffisegol'!AF28=\"\",\"\",'Data Ffisegol'!AF28)","v":""},{"$f":"IF('Data Ffisegol'!AG28=\"\",\"\",'Data Ffisegol'!AG28)","v":""},{"$f":"IF('Data Ffisegol'!AH28=\"\",\"\",'Data Ffisegol'!AH28)","v":""},{"$f":"IF('Data Ffisegol'!AI28=\"\",\"\",'Data Ffisegol'!AI28)","v":""},{"$f":"IF('Data Ffisegol'!AJ28=\"\",\"\",'Data Ffisegol'!AJ28)","v":""},{"$f":"IF('Data Ffisegol'!AK28=\"\",\"\",'Data Ffisegol'!AK28)","v":""},{"$f":"IF('Data Ffisegol'!AL28=\"\",\"\",'Data Ffisegol'!AL28)","v":""},{"$f":"IF('Data Ffisegol'!AM28=\"\",\"\",'Data Ffisegol'!AM28)","v":""},{"$f":"IF('Data Ffisegol'!AN28=\"\",\"\",'Data Ffisegol'!AN28)","v":""},{"$f":"IF('Data Ffisegol'!AO28=\"\",\"\",'Data Ffisegol'!AO28)","v":""},{"$f":"IF('Data Ffisegol'!AP28=\"\",\"\",'Data Ffisegol'!AP28)","v":""},{"$f":"IF('Data Ffisegol'!AQ28=\"\",\"\",'Data Ffisegol'!AQ28)","v":""},{"$f":"IF('Data Ffisegol'!AR28=\"\",\"\",'Data Ffisegol'!AR28)","v":""},{"$f":"IF('Data Ffisegol'!AS28=\"\",\"\",'Data Ffisegol'!AS28)","v":""},{"$f":"IF('Data Ffisegol'!AT28=\"\",\"\",'Data Ffisegol'!AT28)","v":""},{"$f":"IF('Data Ffisegol'!AU28=\"\",\"\",'Data Ffisegol'!AU28)","v":""},{"$f":"IF('Data Ffisegol'!AV28=\"\",\"\",'Data Ffisegol'!AV28)","v":""},{"$f":"IF('Data Ffisegol'!AW28=\"\",\"\",'Data Ffisegol'!AW28)","v":""},{"$f":"IF('Data Ffisegol'!AX28=\"\",\"\",'Data Ffisegol'!AX28)","v":""},{"$f":"IF('Data Ffisegol'!AY28=\"\",\"\",'Data Ffisegol'!AY28)","v":""},{"$f":"IF('Data Ffisegol'!AZ28=\"\",\"\",'Data Ffisegol'!AZ28)","v":""},{"$f":"IF('Data Ffisegol'!BA28=\"\",\"\",'Data Ffisegol'!BA28)","v":""},{"$f":"IF('Data Ffisegol'!BB28=\"\",\"\",'Data Ffisegol'!BB28)","v":""},{"$f":"IF('Data Ffisegol'!BC28=\"\",\"\",'Data Ffisegol'!BC28)","v":""},{"$f":"IF('Data Ffisegol'!BD28=\"\",\"\",'Data Ffisegol'!BD28)","v":""},"","","","","",""]
[null,null,null,null,null,null,null,{"$f":"IF('Data Ffisegol'!H29=\"\",\"\",'Data Ffisegol'!H29)","v":""},{"$f":"IF('Data Ffisegol'!I29=\"\",\"\",'Data Ffisegol'!I29)","v":""},{"$f":"IF('Data Ffisegol'!J29=\"\",\"\",'Data Ffisegol'!J29)","v":""},{"$f":"IFERROR(IF(J29=\"\",\"\",(IF(VLOOKUP(J29,'Gwybodaeth ymgeiswyr'!$K$8:$L$37,2,0)=\"y\",\"y\",\"\"))),\"Manual entry required\")","v":""},{"$f":"IF('Data Ffisegol'!K29=\"\",\"\",'Data Ffisegol'!K29)","v":""},{"$f":"IF('Data Ffisegol'!L29=\"\",\"\",'Data Ffisegol'!L29)","v":""},{"$f":"IF('Data Ffisegol'!M29=\"\",\"\",'Data Ffisegol'!M29)","v":""},{"$f":"IF('Data Ffisegol'!N29=\"\",\"\",'Data Ffisegol'!N29)","v":""},{"$f":"IF('Data Ffisegol'!O29=\"\",\"\",'Data Ffisegol'!O29)","v":""},{"$f":"IF('Data Ffisegol'!P29=\"\",\"\",'Data Ffisegol'!P29)","v":""},{"$f":"IF('Data Ffisegol'!Q29=\"\",\"\",'Data Ffisegol'!Q29)","v":""},{"$f":"IF('Data Ffisegol'!R29=\"\",\"\",'Data Ffisegol'!R29)","v":""},{"$f":"IF('Data Ffisegol'!S29=\"\",\"\",'Data Ffisegol'!S29)","v":""},{"$f":"IF('Data Ffisegol'!T29=\"\",\"\",'Data Ffisegol'!T29)","v":""},{"$f":"IF('Data Ffisegol'!U29=\"\",\"\",'Data Ffisegol'!U29)","v":""},{"$f":"IF('Data Ffisegol'!V29=\"\",\"\",'Data Ffisegol'!V29)","v":""},{"$f":"IF('Data Ffisegol'!W29=\"\",\"\",'Data Ffisegol'!W29)","v":""},{"$f":"IF('Data Ffisegol'!X29=\"\",\"\",'Data Ffisegol'!X29)","v":""},{"$f":"IF('Data Ffisegol'!Y29=\"\",\"\",'Data Ffisegol'!Y29)","v":""},{"$f":"IF('Data Ffisegol'!Z29=\"\",\"\",'Data Ffisegol'!Z29)","v":""},{"$f":"IF('Data Ffisegol'!AA29=\"\",\"\",'Data Ffisegol'!AA29)","v":""},{"$f":"IF('Data Ffisegol'!AB29=\"\",\"\",'Data Ffisegol'!AB29)","v":""},{"$f":"IF('Data Ffisegol'!AC29=\"\",\"\",'Data Ffisegol'!AC29)","v":""},{"$f":"IF('Data Ffisegol'!AD29=\"\",\"\",'Data Ffisegol'!AD29)","v":""},{"$f":"IF('Data Ffisegol'!AE29=\"\",\"\",'Data Ffisegol'!AE29)","v":""},{"$f":"IF('Data Ffisegol'!AF29=\"\",\"\",'Data Ffisegol'!AF29)","v":""},{"$f":"IF('Data Ffisegol'!AG29=\"\",\"\",'Data Ffisegol'!AG29)","v":""},{"$f":"IF('Data Ffisegol'!AH29=\"\",\"\",'Data Ffisegol'!AH29)","v":""},{"$f":"IF('Data Ffisegol'!AI29=\"\",\"\",'Data Ffisegol'!AI29)","v":""},{"$f":"IF('Data Ffisegol'!AJ29=\"\",\"\",'Data Ffisegol'!AJ29)","v":""},{"$f":"IF('Data Ffisegol'!AK29=\"\",\"\",'Data Ffisegol'!AK29)","v":""},{"$f":"IF('Data Ffisegol'!AL29=\"\",\"\",'Data Ffisegol'!AL29)","v":""},{"$f":"IF('Data Ffisegol'!AM29=\"\",\"\",'Data Ffisegol'!AM29)","v":""},{"$f":"IF('Data Ffisegol'!AN29=\"\",\"\",'Data Ffisegol'!AN29)","v":""},{"$f":"IF('Data Ffisegol'!AO29=\"\",\"\",'Data Ffisegol'!AO29)","v":""},{"$f":"IF('Data Ffisegol'!AP29=\"\",\"\",'Data Ffisegol'!AP29)","v":""},{"$f":"IF('Data Ffisegol'!AQ29=\"\",\"\",'Data Ffisegol'!AQ29)","v":""},{"$f":"IF('Data Ffisegol'!AR29=\"\",\"\",'Data Ffisegol'!AR29)","v":""},{"$f":"IF('Data Ffisegol'!AS29=\"\",\"\",'Data Ffisegol'!AS29)","v":""},{"$f":"IF('Data Ffisegol'!AT29=\"\",\"\",'Data Ffisegol'!AT29)","v":""},{"$f":"IF('Data Ffisegol'!AU29=\"\",\"\",'Data Ffisegol'!AU29)","v":""},{"$f":"IF('Data Ffisegol'!AV29=\"\",\"\",'Data Ffisegol'!AV29)","v":""},{"$f":"IF('Data Ffisegol'!AW29=\"\",\"\",'Data Ffisegol'!AW29)","v":""},{"$f":"IF('Data Ffisegol'!AX29=\"\",\"\",'Data Ffisegol'!AX29)","v":""},{"$f":"IF('Data Ffisegol'!AY29=\"\",\"\",'Data Ffisegol'!AY29)","v":""},{"$f":"IF('Data Ffisegol'!AZ29=\"\",\"\",'Data Ffisegol'!AZ29)","v":""},{"$f":"IF('Data Ffisegol'!BA29=\"\",\"\",'Data Ffisegol'!BA29)","v":""},{"$f":"IF('Data Ffisegol'!BB29=\"\",\"\",'Data Ffisegol'!BB29)","v":""},{"$f":"IF('Data Ffisegol'!BC29=\"\",\"\",'Data Ffisegol'!BC29)","v":""},{"$f":"IF('Data Ffisegol'!BD29=\"\",\"\",'Data Ffisegol'!BD29)","v":""},"","","","","",""]
[null,null,null,null,null,null,null,{"$f":"IF('Data Ffisegol'!H30=\"\",\"\",'Data Ffisegol'!H30)","v":""},{"$f":"IF('Data Ffisegol'!I30=\"\",\"\",'Data Ffisegol'!I30)","v":""},{"$f":"IF('Data Ffisegol'!J30=\"\",\"\",'Data Ffisegol'!J30)","v":""},{"$f":"IFERROR(IF(J30=\"\",\"\",(IF(VLOOKUP(J30,'Gwybodaeth ymgeiswyr'!$K$8:$L$37,2,0)=\"y\",\"y\",\"\"))),\"Manual entry required\")","v":""},{"$f":"IF('Data Ffisegol'!K30=\"\",\"\",'Data Ffisegol'!K30)","v":""},{"$f":"IF('Data Ffisegol'!L30=\"\",\"\",'Data Ffisegol'!L30)","v":""},{"$f":"IF('Data Ffisegol'!M30=\"\",\"\",'Data Ffisegol'!M30)","v":""},{"$f":"IF('Data Ffisegol'!N30=\"\",\"\",'Data Ffisegol'!N30)","v":""},{"$f":"IF('Data Ffisegol'!O30=\"\",\"\",'Data Ffisegol'!O30)","v":""},{"$f":"IF('Data Ffisegol'!P30=\"\",\"\",'Data Ffisegol'!P30)","v":""},{"$f":"IF('Data Ffisegol'!Q30=\"\",\"\",'Data Ffisegol'!Q30)","v":""},{"$f":"IF('Data Ffisegol'!R30=\"\",\"\",'Data Ffisegol'!R30)","v":""},{"$f":"IF('Data Ffisegol'!S30=\"\",\"\",'Data Ffisegol'!S30)","v":""},{"$f":"IF('Data Ffisegol'!T30=\"\",\"\",'Data Ffisegol'!T30)","v":""},{"$f":"IF('Data Ffisegol'!U30=\"\",\"\",'Data Ffisegol'!U30)","v":""},{"$f":"IF('Data Ffisegol'!V30=\"\",\"\",'Data Ffisegol'!V30)","v":""},{"$f":"IF('Data Ffisegol'!W30=\"\",\"\",'Data Ffisegol'!W30)","v":""},{"$f":"IF('Data Ffisegol'!X30=\"\",\"\",'Data Ffisegol'!X30)","v":""},{"$f":"IF('Data Ffisegol'!Y30=\"\",\"\",'Data Ffisegol'!Y30)","v":""},{"$f":"IF('Data Ffisegol'!Z30=\"\",\"\",'Data Ffisegol'!Z30)","v":""},{"$f":"IF('Data Ffisegol'!AA30=\"\",\"\",'Data Ffisegol'!AA30)","v":""},{"$f":"IF('Data Ffisegol'!AB30=\"\",\"\",'Data Ffisegol'!AB30)","v":""},{"$f":"IF('Data Ffisegol'!AC30=\"\",\"\",'Data Ffisegol'!AC30)","v":""},{"$f":"IF('Data Ffisegol'!AD30=\"\",\"\",'Data Ffisegol'!AD30)","v":""},{"$f":"IF('Data Ffisegol'!AE30=\"\",\"\",'Data Ffisegol'!AE30)","v":""},{"$f":"IF('Data Ffisegol'!AF30=\"\",\"\",'Data Ffisegol'!AF30)","v":""},{"$f":"IF('Data Ffisegol'!AG30=\"\",\"\",'Data Ffisegol'!AG30)","v":""},{"$f":"IF('Data Ffisegol'!AH30=\"\",\"\",'Data Ffisegol'!AH30)","v":""},{"$f":"IF('Data Ffisegol'!AI30=\"\",\"\",'Data Ffisegol'!AI30)","v":""},{"$f":"IF('Data Ffisegol'!AJ30=\"\",\"\",'Data Ffisegol'!AJ30)","v":""},{"$f":"IF('Data Ffisegol'!AK30=\"\",\"\",'Data Ffisegol'!AK30)","v":""},{"$f":"IF('Data Ffisegol'!AL30=\"\",\"\",'Data Ffisegol'!AL30)","v":""},{"$f":"IF('Data Ffisegol'!AM30=\"\",\"\",'Data Ffisegol'!AM30)","v":""},{"$f":"IF('Data Ffisegol'!AN30=\"\",\"\",'Data Ffisegol'!AN30)","v":""},{"$f":"IF('Data Ffisegol'!AO30=\"\",\"\",'Data Ffisegol'!AO30)","v":""},{"$f":"IF('Data Ffisegol'!AP30=\"\",\"\",'Data Ffisegol'!AP30)","v":""},{"$f":"IF('Data Ffisegol'!AQ30=\"\",\"\",'Data Ffisegol'!AQ30)","v":""},{"$f":"IF('Data Ffisegol'!AR30=\"\",\"\",'Data Ffisegol'!AR30)","v":""},{"$f":"IF('Data Ffisegol'!AS30=\"\",\"\",'Data Ffisegol'!AS30)","v":""},{"$f":"IF('Data Ffisegol'!AT30=\"\",\"\",'Data Ffisegol'!AT30)","v":""},{"$f":"IF('Data Ffisegol'!AU30=\"\",\"\",'Data Ffisegol'!AU30)","v":""},{"$f":"IF('Data Ffisegol'!AV30=\"\",\"\",'Data Ffisegol'!AV30)","v":""},{"$f":"IF('Data Ffisegol'!AW30=\"\",\"\",'Data Ffisegol'!AW30)","v":""},{"$f":"IF('Data Ffisegol'!AX30=\"\",\"\",'Data Ffisegol'!AX30)","v":""},{"$f":"IF('Data Ffisegol'!AY30=\"\",\"\",'Data Ffisegol'!AY30)","v":""},{"$f":"IF('Data Ffisegol'!AZ30=\"\",\"\",'Data Ffisegol'!AZ30)","v":""},{"$f":"IF('Data Ffisegol'!BA30=\"\",\"\",'Data Ffisegol'!BA30)","v":""},{"$f":"IF('Data Ffisegol'!BB30=\"\",\"\",'Data Ffisegol'!BB30)","v":""},{"$f":"IF('Data Ffisegol'!BC30=\"\",\"\",'Data Ffisegol'!BC30)","v":""},{"$f":"IF('Data Ffisegol'!BD30=\"\",\"\",'Data Ffisegol'!BD30)","v":""},"","","","","",""]
[null,null,null,null,null,null,null,{"$f":"IF('Data Ffisegol'!H31=\"\",\"\",'Data Ffisegol'!H31)","v":""},{"$f":"IF('Data Ffisegol'!I31=\"\",\"\",'Data Ffisegol'!I31)","v":""},{"$f":"IF('Data Ffisegol'!J31=\"\",\"\",'Data Ffisegol'!J31)","v":""},{"$f":"IFERROR(IF(J31=\"\",\"\",(IF(VLOOKUP(J31,'Gwybodaeth ymgeiswyr'!$K$8:$L$37,2,0)=\"y\",\"y\",\"\"))),\"Manual entry required\")","v":""},{"$f":"IF('Data Ffisegol'!K31=\"\",\"\",'Data Ffisegol'!K31)","v":""},{"$f":"IF('Data Ffisegol'!L31=\"\",\"\",'Data Ffisegol'!L31)","v":""},{"$f":"IF('Data Ffisegol'!M31=\"\",\"\",'Data Ffisegol'!M31)","v":""},{"$f":"IF('Data Ffisegol'!N31=\"\",\"\",'Data Ffisegol'!N31)","v":""},{"$f":"IF('Data Ffisegol'!O31=\"\",\"\",'Data Ffisegol'!O31)","v":""},{"$f":"IF('Data Ffisegol'!P31=\"\",\"\",'Data Ffisegol'!P31)","v":""},{"$f":"IF('Data Ffisegol'!Q31=\"\",\"\",'Data Ffisegol'!Q31)","v":""},{"$f":"IF('Data Ffisegol'!R31=\"\",\"\",'Data Ffisegol'!R31)","v":""},{"$f":"IF('Data Ffisegol'!S31=\"\",\"\",'Data Ffisegol'!S31)","v":""},{"$f":"IF('Data Ffisegol'!T31=\"\",\"\",'Data Ffisegol'!T31)","v":""},{"$f":"IF('Data Ffisegol'!U31=\"\",\"\",'Data Ffisegol'!U31)","v":""},{"$f":"IF('Data Ffisegol'!V31=\"\",\"\",'Data Ffisegol'!V31)","v":""},{"$f":"IF('Data Ffisegol'!W31=\"\",\"\",'Data Ffisegol'!W31)","v":""},{"$f":"IF('Data Ffisegol'!X31=\"\",\"\",'Data Ffisegol'!X31)","v":""},{"$f":"IF('Data Ffisegol'!Y31=\"\",\"\",'Data Ffisegol'!Y31)","v":""},{"$f":"IF('Data Ffisegol'!Z31=\"\",\"\",'Data Ffisegol'!Z31)","v":""},{"$f":"IF('Data Ffisegol'!AA31=\"\",\"\",'Data Ffisegol'!AA31)","v":""},{"$f":"IF('Data Ffisegol'!AB31=\"\",\"\",'Data Ffisegol'!AB31)","v":""},{"$f":"IF('Data Ffisegol'!AC31=\"\",\"\",'Data Ffisegol'!AC31)","v":""},{"$f":"IF('Data Ffisegol'!AD31=\"\",\"\",'Data Ffisegol'!AD31)","v":""},{"$f":"IF('Data Ffisegol'!AE31=\"\",\"\",'Data Ffisegol'!AE31)","v":""},{"$f":"IF('Data Ffisegol'!AF31=\"\",\"\",'Data Ffisegol'!AF31)","v":""},{"$f":"IF('Data Ffisegol'!AG31=\"\",\"\",'Data Ffisegol'!AG31)","v":""},{"$f":"IF('Data Ffisegol'!AH31=\"\",\"\",'Data Ffisegol'!AH31)","v":""},{"$f":"IF('Data Ffisegol'!AI31=\"\",\"\",'Data Ffisegol'!AI31)","v":""},{"$f":"IF('Data Ffisegol'!AJ31=\"\",\"\",'Data Ffisegol'!AJ31)","v":""},{"$f":"IF('Data Ffisegol'!AK31=\"\",\"\",'Data Ffisegol'!AK31)","v":""},{"$f":"IF('Data Ffisegol'!AL31=\"\",\"\",'Data Ffisegol'!AL31)","v":""},{"$f":"IF('Data Ffisegol'!AM31=\"\",\"\",'Data Ffisegol'!AM31)","v":""},{"$f":"IF('Data Ffisegol'!AN31=\"\",\"\",'Data Ffisegol'!AN31)","v":""},{"$f":"IF('Data Ffisegol'!AO31=\"\",\"\",'Data Ffisegol'!AO31)","v":""},{"$f":"IF('Data Ffisegol'!AP31=\"\",\"\",'Data Ffisegol'!AP31)","v":""},{"$f":"IF('Data Ffisegol'!AQ31=\"\",\"\",'Data Ffisegol'!AQ31)","v":""},{"$f":"IF('Data Ffisegol'!AR31=\"\",\"\",'Data Ffisegol'!AR31)","v":""},{"$f":"IF('Data Ffisegol'!AS31=\"\",\"\",'Data Ffisegol'!AS31)","v":""},{"$f":"IF('Data Ffisegol'!AT31=\"\",\"\",'Data Ffisegol'!AT31)","v":""},{"$f":"IF('Data Ffisegol'!AU31=\"\",\"\",'Data Ffisegol'!AU31)","v":""},{"$f":"IF('Data Ffisegol'!AV31=\"\",\"\",'Data Ffisegol'!AV31)","v":""},{"$f":"IF('Data Ffisegol'!AW31=\"\",\"\",'Data Ffisegol'!AW31)","v":""},{"$f":"IF('Data Ffisegol'!AX31=\"\",\"\",'Data Ffisegol'!AX31)","v":""},{"$f":"IF('Data Ffisegol'!AY31=\"\",\"\",'Data Ffisegol'!AY31)","v":""},{"$f":"IF('Data Ffisegol'!AZ31=\"\",\"\",'Data Ffisegol'!AZ31)","v":""},{"$f":"IF('Data Ffisegol'!BA31=\"\",\"\",'Data Ffisegol'!BA31)","v":""},{"$f":"IF('Data Ffisegol'!BB31=\"\",\"\",'Data Ffisegol'!BB31)","v":""},{"$f":"IF('Data Ffisegol'!BC31=\"\",\"\",'Data Ffisegol'!BC31)","v":""},{"$f":"IF('Data Ffisegol'!BD31=\"\",\"\",'Data Ffisegol'!BD31)","v":""},"","","","","",""]
[null,null,null,null,null,null,null,{"$f":"IF('Data Ffisegol'!H32=\"\",\"\",'Data Ffisegol'!H32)","v":""},{"$f":"IF('Data Ffisegol'!I32=\"\",\"\",'Data Ffisegol'!I32)","v":""},{"$f":"IF('Data Ffisegol'!J32=\"\",\"\",'Data Ffisegol'!J32)","v":""},{"$f":"IFERROR(IF(J32=\"\",\"\",(IF(VLOOKUP(J32,'Gwybodaeth ymgeiswyr'!$K$8:$L$37,2,0)=\"y\",\"y\",\"\"))),\"Manual entry required\")","v":""},{"$f":"IF('Data Ffisegol'!K32=\"\",\"\",'Data Ffisegol'!K32)","v":""},{"$f":"IF('Data Ffisegol'!L32=\"\",\"\",'Data Ffisegol'!L32)","v":""},{"$f":"IF('Data Ffisegol'!M32=\"\",\"\",'Data Ffisegol'!M32)","v":""},{"$f":"IF('Data Ffisegol'!N32=\"\",\"\",'Data Ffisegol'!N32)","v":""},{"$f":"IF('Data Ffisegol'!O32=\"\",\"\",'Data Ffisegol'!O32)","v":""},{"$f":"IF('Data Ffisegol'!P32=\"\",\"\",'Data Ffisegol'!P32)","v":""},{"$f":"IF('Data Ffisegol'!Q32=\"\",\"\",'Data Ffisegol'!Q32)","v":""},{"$f":"IF('Data Ffisegol'!R32=\"\",\"\",'Data Ffisegol'!R32)","v":""},{"$f":"IF('Data Ffisegol'!S32=\"\",\"\",'Data Ffisegol'!S32)","v":""},{"$f":"IF('Data Ffisegol'!T32=\"\",\"\",'Data Ffisegol'!T32)","v":""},{"$f":"IF('Data Ffisegol'!U32=\"\",\"\",'Data Ffisegol'!U32)","v":""},{"$f":"IF('Data Ffisegol'!V32=\"\",\"\",'Data Ffisegol'!V32)","v":""},{"$f":"IF('Data Ffisegol'!W32=\"\",\"\",'Data Ffisegol'!W32)","v":""},{"$f":"IF('Data Ffisegol'!X32=\"\",\"\",'Data Ffisegol'!X32)","v":""},{"$f":"IF('Data Ffisegol'!Y32=\"\",\"\",'Data Ffisegol'!Y32)","v":""},{"$f":"IF('Data Ffisegol'!Z32=\"\",\"\",'Data Ffisegol'!Z32)","v":""},{"$f":"IF('Data Ffisegol'!AA32=\"\",\"\",'Data Ffisegol'!AA32)","v":""},{"$f":"IF('Data Ffisegol'!AB32=\"\",\"\",'Data Ffisegol'!AB32)","v":""},{"$f":"IF('Data Ffisegol'!AC32=\"\",\"\",'Data Ffisegol'!AC32)","v":""},{"$f":"IF('Data Ffisegol'!AD32=\"\",\"\",'Data Ffisegol'!AD32)","v":""},{"$f":"IF('Data Ffisegol'!AE32=\"\",\"\",'Data Ffisegol'!AE32)","v":""},{"$f":"IF('Data Ffisegol'!AF32=\"\",\"\",'Data Ffisegol'!AF32)","v":""},{"$f":"IF('Data Ffisegol'!AG32=\"\",\"\",'Data Ffisegol'!AG32)","v":""},{"$f":"IF('Data Ffisegol'!AH32=\"\",\"\",'Data Ffisegol'!AH32)","v":""},{"$f":"IF('Data Ffisegol'!AI32=\"\",\"\",'Data Ffisegol'!AI32)","v":""},{"$f":"IF('Data Ffisegol'!AJ32=\"\",\"\",'Data Ffisegol'!AJ32)","v":""},{"$f":"IF('Data Ffisegol'!AK32=\"\",\"\",'Data Ffisegol'!AK32)","v":""},{"$f":"IF('Data Ffisegol'!AL32=\"\",\"\",'Data Ffisegol'!AL32)","v":""},{"$f":"IF('Data Ffisegol'!AM32=\"\",\"\",'Data Ffisegol'!AM32)","v":""},{"$f":"IF('Data Ffisegol'!AN32=\"\",\"\",'Data Ffisegol'!AN32)","v":""},{"$f":"IF('Data Ffisegol'!AO32=\"\",\"\",'Data Ffisegol'!AO32)","v":""},{"$f":"IF('Data Ffisegol'!AP32=\"\",\"\",'Data Ffisegol'!AP32)","v":""},{"$f":"IF('Data Ffisegol'!AQ32=\"\",\"\",'Data Ffisegol'!AQ32)","v":""},{"$f":"IF('Data Ffisegol'!AR32=\"\",\"\",'Data Ffisegol'!AR32)","v":""},{"$f":"IF('Data Ffisegol'!AS32=\"\",\"\",'Data Ffisegol'!AS32)","v":""},{"$f":"IF('Data Ffisegol'!AT32=\"\",\"\",'Data Ffisegol'!AT32)","v":""},{"$f":"IF('Data Ffisegol'!AU32=\"\",\"\",'Data Ffisegol'!AU32)","v":""},{"$f":"IF('Data Ffisegol'!AV32=\"\",\"\",'Data Ffisegol'!AV32)","v":""},{"$f":"IF('Data Ffisegol'!AW32=\"\",\"\",'Data Ffisegol'!AW32)","v":""},{"$f":"IF('Data Ffisegol'!AX32=\"\",\"\",'Data Ffisegol'!AX32)","v":""},{"$f":"IF('Data Ffisegol'!AY32=\"\",\"\",'Data Ffisegol'!AY32)","v":""},{"$f":"IF('Data Ffisegol'!AZ32=\"\",\"\",'Data Ffisegol'!AZ32)","v":""},{"$f":"IF('Data Ffisegol'!BA32=\"\",\"\",'Data Ffisegol'!BA32)","v":""},{"$f":"IF('Data Ffisegol'!BB32=\"\",\"\",'Data Ffisegol'!BB32)","v":""},{"$f":"IF('Data Ffisegol'!BC32=\"\",\"\",'Data Ffisegol'!BC32)","v":""},{"$f":"IF('Data Ffisegol'!BD32=\"\",\"\",'Data Ffisegol'!BD32)","v":""},"","","","","",""]
[null,null,null,null,null,null,null,{"$f":"IF('Data Ffisegol'!H33=\"\",\"\",'Data Ffisegol'!H33)","v":""},{"$f":"IF('Data Ffisegol'!I33=\"\",\"\",'Data Ffisegol'!I33)","v":""},{"$f":"IF('Data Ffisegol'!J33=\"\",\"\",'Data Ffisegol'!J33)","v":""},{"$f":"IFERROR(IF(J33=\"\",\"\",(IF(VLOOKUP(J33,'Gwybodaeth ymgeiswyr'!$K$8:$L$37,2,0)=\"y\",\"y\",\"\"))),\"Manual entry required\")","v":""},{"$f":"IF('Data Ffisegol'!K33=\"\",\"\",'Data Ffisegol'!K33)","v":""},{"$f":"IF('Data Ffisegol'!L33=\"\",\"\",'Data Ffisegol'!L33)","v":""},{"$f":"IF('Data Ffisegol'!M33=\"\",\"\",'Data Ffisegol'!M33)","v":""},{"$f":"IF('Data Ffisegol'!N33=\"\",\"\",'Data Ffisegol'!N33)","v":""},{"$f":"IF('Data Ffisegol'!O33=\"\",\"\",'Data Ffisegol'!O33)","v":""},{"$f":"IF('Data Ffisegol'!P33=\"\",\"\",'Data Ffisegol'!P33)","v":""},{"$f":"IF('Data Ffisegol'!Q33=\"\",\"\",'Data Ffisegol'!Q33)","v":""},{"$f":"IF('Data Ffisegol'!R33=\"\",\"\",'Data Ffisegol'!R33)","v":""},{"$f":"IF('Data Ffisegol'!S33=\"\",\"\",'Data Ffisegol'!S33)","v":""},{"$f":"IF('Data Ffisegol'!T33=\"\",\"\",'Data Ffisegol'!T33)","v":""},{"$f":"IF('Data Ffisegol'!U33=\"\",\"\",'Data Ffisegol'!U33)","v":""},{"$f":"IF('Data Ffisegol'!V33=\"\",\"\",'Data Ffisegol'!V33)","v":""},{"$f":"IF('Data Ffisegol'!W33=\"\",\"\",'Data Ffisegol'!W33)","v":""},{"$f":"IF('Data Ffisegol'!X33=\"\",\"\",'Data Ffisegol'!X33)","v":""},{"$f":"IF('Data Ffisegol'!Y33=\"\",\"\",'Data Ffisegol'!Y33)","v":""},{"$f":"IF('Data Ffisegol'!Z33=\"\",\"\",'Data Ffisegol'!Z33)","v":""},{"$f":"IF('Data Ffisegol'!AA33=\"\",\"\",'Data Ffisegol'!AA33)","v":""},{"$f":"IF('Data Ffisegol'!AB33=\"\",\"\",'Data Ffisegol'!AB33)","v":""},{"$f":"IF('Data Ffisegol'!AC33=\"\",\"\",'Data Ffisegol'!AC33)","v":""},{"$f":"IF('Data Ffisegol'!AD33=\"\",\"\",'Data Ffisegol'!AD33)","v":""},{"$f":"IF('Data Ffisegol'!AE33=\"\",\"\",'Data Ffisegol'!AE33)","v":""},{"$f":"IF('Data Ffisegol'!AF33=\"\",\"\",'Data Ffisegol'!AF33)","v":""},{"$f":"IF('Data Ffisegol'!AG33=\"\",\"\",'Data Ffisegol'!AG33)","v":""},{"$f":"IF('Data Ffisegol'!AH33=\"\",\"\",'Data Ffisegol'!AH33)","v":""},{"$f":"IF('Data Ffisegol'!AI33=\"\",\"\",'Data Ffisegol'!AI33)","v":""},{"$f":"IF('Data Ffisegol'!AJ33=\"\",\"\",'Data Ffisegol'!AJ33)","v":""},{"$f":"IF('Data Ffisegol'!AK33=\"\",\"\",'Data Ffisegol'!AK33)","v":""},{"$f":"IF('Data Ffisegol'!AL33=\"\",\"\",'Data Ffisegol'!AL33)","v":""},{"$f":"IF('Data Ffisegol'!AM33=\"\",\"\",'Data Ffisegol'!AM33)","v":""},{"$f":"IF('Data Ffisegol'!AN33=\"\",\"\",'Data Ffisegol'!AN33)","v":""},{"$f":"IF('Data Ffisegol'!AO33=\"\",\"\",'Data Ffisegol'!AO33)","v":""},{"$f":"IF('Data Ffisegol'!AP33=\"\",\"\",'Data Ffisegol'!AP33)","v":""},{"$f":"IF('Data Ffisegol'!AQ33=\"\",\"\",'Data Ffisegol'!AQ33)","v":""},{"$f":"IF('Data Ffisegol'!AR33=\"\",\"\",'Data Ffisegol'!AR33)","v":""},{"$f":"IF('Data Ffisegol'!AS33=\"\",\"\",'Data Ffisegol'!AS33)","v":""},{"$f":"IF('Data Ffisegol'!AT33=\"\",\"\",'Data Ffisegol'!AT33)","v":""},{"$f":"IF('Data Ffisegol'!AU33=\"\",\"\",'Data Ffisegol'!AU33)","v":""},{"$f":"IF('Data Ffisegol'!AV33=\"\",\"\",'Data Ffisegol'!AV33)","v":""},{"$f":"IF('Data Ffisegol'!AW33=\"\",\"\",'Data Ffisegol'!AW33)","v":""},{"$f":"IF('Data Ffisegol'!AX33=\"\",\"\",'Data Ffisegol'!AX33)","v":""},{"$f":"IF('Data Ffisegol'!AY33=\"\",\"\",'Data Ffisegol'!AY33)","v":""},{"$f":"IF('Data Ffisegol'!AZ33=\"\",\"\",'Data Ffisegol'!AZ33)","v":""},{"$f":"IF('Data Ffisegol'!BA33=\"\",\"\",'Data Ffisegol'!BA33)","v":""},{"$f":"IF('Data Ffisegol'!BB33=\"\",\"\",'Data Ffisegol'!BB33)","v":""},{"$f":"IF('Data Ffisegol'!BC33=\"\",\"\",'Data Ffisegol'!BC33)","v":""},{"$f":"IF('Data Ffisegol'!BD33=\"\",\"\",'Data Ffisegol'!BD33)","v":""},"","","","","",""]
[null,null,null,null,null,null,null,{"$f":"IF('Data Ffisegol'!H34=\"\",\"\",'Data Ffisegol'!H34)","v":""},{"$f":"IF('Data Ffisegol'!I34=\"\",\"\",'Data Ffisegol'!I34)","v":""},{"$f":"IF('Data Ffisegol'!J34=\"\",\"\",'Data Ffisegol'!J34)","v":""},{"$f":"IFERROR(IF(J34=\"\",\"\",(IF(VLOOKUP(J34,'Gwybodaeth ymgeiswyr'!$K$8:$L$37,2,0)=\"y\",\"y\",\"\"))),\"Manual entry required\")","v":""},{"$f":"IF('Data Ffisegol'!K34=\"\",\"\",'Data Ffisegol'!K34)","v":""},{"$f":"IF('Data Ffisegol'!L34=\"\",\"\",'Data Ffisegol'!L34)","v":""},{"$f":"IF('Data Ffisegol'!M34=\"\",\"\",'Data Ffisegol'!M34)","v":""},{"$f":"IF('Data Ffisegol'!N34=\"\",\"\",'Data Ffisegol'!N34)","v":""},{"$f":"IF('Data Ffisegol'!O34=\"\",\"\",'Data Ffisegol'!O34)","v":""},{"$f":"IF('Data Ffisegol'!P34=\"\",\"\",'Data Ffisegol'!P34)","v":""},{"$f":"IF('Data Ffisegol'!Q34=\"\",\"\",'Data Ffisegol'!Q34)","v":""},{"$f":"IF('Data Ffisegol'!R34=\"\",\"\",'Data Ffisegol'!R34)","v":""},{"$f":"IF('Data Ffisegol'!S34=\"\",\"\",'Data Ffisegol'!S34)","v":""},{"$f":"IF('Data Ffisegol'!T34=\"\",\"\",'Data Ffisegol'!T34)","v":""},{"$f":"IF('Data Ffisegol'!U34=\"\",\"\",'Data Ffisegol'!U34)","v":""},{"$f":"IF('Data Ffisegol'!V34=\"\",\"\",'Data Ffisegol'!V34)","v":""},{"$f":"IF('Data Ffisegol'!W34=\"\",\"\",'Data Ffisegol'!W34)","v":""},{"$f":"IF('Data Ffisegol'!X34=\"\",\"\",'Data Ffisegol'!X34)","v":""},{"$f":"IF('Data Ffisegol'!Y34=\"\",\"\",'Data Ffisegol'!Y34)","v":""},{"$f":"IF('Data Ffisegol'!Z34=\"\",\"\",'Data Ffisegol'!Z34)","v":""},{"$f":"IF('Data Ffisegol'!AA34=\"\",\"\",'Data Ffisegol'!AA34)","v":""},{"$f":"IF('Data Ffisegol'!AB34=\"\",\"\",'Data Ffisegol'!AB34)","v":""},{"$f":"IF('Data Ffisegol'!AC34=\"\",\"\",'Data Ffisegol'!AC34)","v":""},{"$f":"IF('Data Ffisegol'!AD34=\"\",\"\",'Data Ffisegol'!AD34)","v":""},{"$f":"IF('Data Ffisegol'!AE34=\"\",\"\",'Data Ffisegol'!AE34)","v":""},{"$f":"IF('Data Ffisegol'!AF34=\"\",\"\",'Data Ffisegol'!AF34)","v":""},{"$f":"IF('Data Ffisegol'!AG34=\"\",\"\",'Data Ffisegol'!AG34)","v":""},{"$f":"IF('Data Ffisegol'!AH34=\"\",\"\",'Data Ffisegol'!AH34)","v":""},{"$f":"IF('Data Ffisegol'!AI34=\"\",\"\",'Data Ffisegol'!AI34)","v":""},{"$f":"IF('Data Ffisegol'!AJ34=\"\",\"\",'Data Ffisegol'!AJ34)","v":""},{"$f":"IF('Data Ffisegol'!AK34=\"\",\"\",'Data Ffisegol'!AK34)","v":""},{"$f":"IF('Data Ffisegol'!AL34=\"\",\"\",'Data Ffisegol'!AL34)","v":""},{"$f":"IF('Data Ffisegol'!AM34=\"\",\"\",'Data Ffisegol'!AM34)","v":""},{"$f":"IF('Data Ffisegol'!AN34=\"\",\"\",'Data Ffisegol'!AN34)","v":""},{"$f":"IF('Data Ffisegol'!AO34=\"\",\"\",'Data Ffisegol'!AO34)","v":""},{"$f":"IF('Data Ffisegol'!AP34=\"\",\"\",'Data Ffisegol'!AP34)","v":""},{"$f":"IF('Data Ffisegol'!AQ34=\"\",\"\",'Data Ffisegol'!AQ34)","v":""},{"$f":"IF('Data Ffisegol'!AR34=\"\",\"\",'Data Ffisegol'!AR34)","v":""},{"$f":"IF('Data Ffisegol'!AS34=\"\",\"\",'Data Ffisegol'!AS34)","v":""},{"$f":"IF('Data Ffisegol'!AT34=\"\",\"\",'Data Ffisegol'!AT34)","v":""},{"$f":"IF('Data Ffisegol'!AU34=\"\",\"\",'Data Ffisegol'!AU34)","v":""},{"$f":"IF('Data Ffisegol'!AV34=\"\",\"\",'Data Ffisegol'!AV34)","v":""},{"$f":"IF('Data Ffisegol'!AW34=\"\",\"\",'Data Ffisegol'!AW34)","v":""},{"$f":"IF('Data Ffisegol'!AX34=\"\",\"\",'Data Ffisegol'!AX34)","v":""},{"$f":"IF('Data Ffisegol'!AY34=\"\",\"\",'Data Ffisegol'!AY34)","v":""},{"$f":"IF('Data Ffisegol'!AZ34=\"\",\"\",'Data Ffisegol'!AZ34)","v":""},{"$f":"IF('Data Ffisegol'!BA34=\"\",\"\",'Data Ffisegol'!BA34)","v":""},{"$f":"IF('Data Ffisegol'!BB34=\"\",\"\",'Data Ffisegol'!BB34)","v":""},{"$f":"IF('Data Ffisegol'!BC34=\"\",\"\",'Data Ffisegol'!BC34)","v":""},{"$f":"IF('Data Ffisegol'!BD34=\"\",\"\",'Data Ffisegol'!BD34)","v":""},"","","","","",""]
[null,null,null,null,null,null,null,{"$f":"IF('Data Ffisegol'!H35=\"\",\"\",'Data Ffisegol'!H35)","v":""},{"$f":"IF('Data Ffisegol'!I35=\"\",\"\",'Data Ffisegol'!I35)","v":""},{"$f":"IF('Data Ffisegol'!J35=\"\",\"\",'Data Ffisegol'!J35)","v":""},{"$f":"IFERROR(IF(J35=\"\",\"\",(IF(VLOOKUP(J35,'Gwybodaeth ymgeiswyr'!$K$8:$L$37,2,0)=\"y\",\"y\",\"\"))),\"Manual entry required\")","v":""},{"$f":"IF('Data Ffisegol'!K35=\"\",\"\",'Data Ffisegol'!K35)","v":""},{"$f":"IF('Data Ffisegol'!L35=\"\",\"\",'Data Ffisegol'!L35)","v":""},{"$f":"IF('Data Ffisegol'!M35=\"\",\"\",'Data Ffisegol'!M35)","v":""},{"$f":"IF('Data Ffisegol'!N35=\"\",\"\",'Data Ffisegol'!N35)","v":""},{"$f":"IF('Data Ffisegol'!O35=\"\",\"\",'Data Ffisegol'!O35)","v":""},{"$f":"IF('Data Ffisegol'!P35=\"\",\"\",'Data Ffisegol'!P35)","v":""},{"$f":"IF('Data Ffisegol'!Q35=\"\",\"\",'Data Ffisegol'!Q35)","v":""},{"$f":"IF('Data Ffisegol'!R35=\"\",\"\",'Data Ffisegol'!R35)","v":""},{"$f":"IF('Data Ffisegol'!S35=\"\",\"\",'Data Ffisegol'!S35)","v":""},{"$f":"IF('Data Ffisegol'!T35=\"\",\"\",'Data Ffisegol'!T35)","v":""},{"$f":"IF('Data Ffisegol'!U35=\"\",\"\",'Data Ffisegol'!U35)","v":""},{"$f":"IF('Data Ffisegol'!V35=\"\",\"\",'Data Ffisegol'!V35)","v":""},{"$f":"IF('Data Ffisegol'!W35=\"\",\"\",'Data Ffisegol'!W35)","v":""},{"$f":"IF('Data Ffisegol'!X35=\"\",\"\",'Data Ffisegol'!X35)","v":""},{"$f":"IF('Data Ffisegol'!Y35=\"\",\"\",'Data Ffisegol'!Y35)","v":""},{"$f":"IF('Data Ffisegol'!Z35=\"\",\"\",'Data Ffisegol'!Z35)","v":""},{"$f":"IF('Data Ffisegol'!AA35=\"\",\"\",'Data Ffisegol'!AA35)","v":""},{"$f":"IF('Data Ffisegol'!AB35=\"\",\"\",'Data Ffisegol'!AB35)","v":""},{"$f":"IF('Data Ffisegol'!AC35=\"\",\"\",'Data Ffisegol'!AC35)","v":""},{"$f":"IF('Data Ffisegol'!AD35=\"\",\"\",'Data Ffisegol'!AD35)","v":""},{"$f":"IF('Data Ffisegol'!AE35=\"\",\"\",'Data Ffisegol'!AE35)","v":""},{"$f":"IF('Data Ffisegol'!AF35=\"\",\"\",'Data Ffisegol'!AF35)","v":""},{"$f":"IF('Data Ffisegol'!AG35=\"\",\"\",'Data Ffisegol'!AG35)","v":""},{"$f":"IF('Data Ffisegol'!AH35=\"\",\"\",'Data Ffisegol'!AH35)","v":""},{"$f":"IF('Data Ffisegol'!AI35=\"\",\"\",'Data Ffisegol'!AI35)","v":""},{"$f":"IF('Data Ffisegol'!AJ35=\"\",\"\",'Data Ffisegol'!AJ35)","v":""},{"$f":"IF('Data Ffisegol'!AK35=\"\",\"\",'Data Ffisegol'!AK35)","v":""},{"$f":"IF('Data Ffisegol'!AL35=\"\",\"\",'Data Ffisegol'!AL35)","v":""},{"$f":"IF('Data Ffisegol'!AM35=\"\",\"\",'Data Ffisegol'!AM35)","v":""},{"$f":"IF('Data Ffisegol'!AN35=\"\",\"\",'Data Ffisegol'!AN35)","v":""},{"$f":"IF('Data Ffisegol'!AO35=\"\",\"\",'Data Ffisegol'!AO35)","v":""},{"$f":"IF('Data Ffisegol'!AP35=\"\",\"\",'Data Ffisegol'!AP35)","v":""},{"$f":"IF('Data Ffisegol'!AQ35=\"\",\"\",'Data Ffisegol'!AQ35)","v":""},{"$f":"IF('Data Ffisegol'!AR35=\"\",\"\",'Data Ffisegol'!AR35)","v":""},{"$f":"IF('Data Ffisegol'!AS35=\"\",\"\",'Data Ffisegol'!AS35)","v":""},{"$f":"IF('Data Ffisegol'!AT35=\"\",\"\",'Data Ffisegol'!AT35)","v":""},{"$f":"IF('Data Ffisegol'!AU35=\"\",\"\",'Data Ffisegol'!AU35)","v":""},{"$f":"IF('Data Ffisegol'!AV35=\"\",\"\",'Data Ffisegol'!AV35)","v":""},{"$f":"IF('Data Ffisegol'!AW35=\"\",\"\",'Data Ffisegol'!AW35)","v":""},{"$f":"IF('Data Ffisegol'!AX35=\"\",\"\",'Data Ffisegol'!AX35)","v":""},{"$f":"IF('Data Ffisegol'!AY35=\"\",\"\",'Data Ffisegol'!AY35)","v":""},{"$f":"IF('Data Ffisegol'!AZ35=\"\",\"\",'Data Ffisegol'!AZ35)","v":""},{"$f":"IF('Data Ffisegol'!BA35=\"\",\"\",'Data Ffisegol'!BA35)","v":""},{"$f":"IF('Data Ffisegol'!BB35=\"\",\"\",'Data Ffisegol'!BB35)","v":""},{"$f":"IF('Data Ffisegol'!BC35=\"\",\"\",'Data Ffisegol'!BC35)","v":""},{"$f":"IF('Data Ffisegol'!BD35=\"\",\"\",'Data Ffisegol'!BD35)","v":""},"","","","","",""]
[null,null,null,null,null,null,null,{"$f":"IF('Data Ffisegol'!H36=\"\",\"\",'Data Ffisegol'!H36)","v":""},{"$f":"IF('Data Ffisegol'!I36=\"\",\"\",'Data Ffisegol'!I36)","v":""},{"$f":"IF('Data Ffisegol'!J36=\"\",\"\",'Data Ffisegol'!J36)","v":""},{"$f":"IFERROR(IF(J36=\"\",\"\",(IF(VLOOKUP(J36,'Gwybodaeth ymgeiswyr'!$K$8:$L$37,2,0)=\"y\",\"y\",\"\"))),\"Manual entry required\")","v":""},{"$f":"IF('Data Ffisegol'!K36=\"\",\"\",'Data Ffisegol'!K36)","v":""},{"$f":"IF('Data Ffisegol'!L36=\"\",\"\",'Data Ffisegol'!L36)","v":""},{"$f":"IF('Data Ffisegol'!M36=\"\",\"\",'Data Ffisegol'!M36)","v":""},{"$f":"IF('Data Ffisegol'!N36=\"\",\"\",'Data Ffisegol'!N36)","v":""},{"$f":"IF('Data Ffisegol'!O36=\"\",\"\",'Data Ffisegol'!O36)","v":""},{"$f":"IF('Data Ffisegol'!P36=\"\",\"\",'Data Ffisegol'!P36)","v":""},{"$f":"IF('Data Ffisegol'!Q36=\"\",\"\",'Data Ffisegol'!Q36)","v":""},{"$f":"IF('Data Ffisegol'!R36=\"\",\"\",'Data Ffisegol'!R36)","v":""},{"$f":"IF('Data Ffisegol'!S36=\"\",\"\",'Data Ffisegol'!S36)","v":""},{"$f":"IF('Data Ffisegol'!T36=\"\",\"\",'Data Ffisegol'!T36)","v":""},{"$f":"IF('Data Ffisegol'!U36=\"\",\"\",'Data Ffisegol'!U36)","v":""},{"$f":"IF('Data Ffisegol'!V36=\"\",\"\",'Data Ffisegol'!V36)","v":""},{"$f":"IF('Data Ffisegol'!W36=\"\",\"\",'Data Ffisegol'!W36)","v":""},{"$f":"IF('Data Ffisegol'!X36=\"\",\"\",'Data Ffisegol'!X36)","v":""},{"$f":"IF('Data Ffisegol'!Y36=\"\",\"\",'Data Ffisegol'!Y36)","v":""},{"$f":"IF('Data Ffisegol'!Z36=\"\",\"\",'Data Ffisegol'!Z36)","v":""},{"$f":"IF('Data Ffisegol'!AA36=\"\",\"\",'Data Ffisegol'!AA36)","v":""},{"$f":"IF('Data Ffisegol'!AB36=\"\",\"\",'Data Ffisegol'!AB36)","v":""},{"$f":"IF('Data Ffisegol'!AC36=\"\",\"\",'Data Ffisegol'!AC36)","v":""},{"$f":"IF('Data Ffisegol'!AD36=\"\",\"\",'Data Ffisegol'!AD36)","v":""},{"$f":"IF('Data Ffisegol'!AE36=\"\",\"\",'Data Ffisegol'!AE36)","v":""},{"$f":"IF('Data Ffisegol'!AF36=\"\",\"\",'Data Ffisegol'!AF36)","v":""},{"$f":"IF('Data Ffisegol'!AG36=\"\",\"\",'Data Ffisegol'!AG36)","v":""},{"$f":"IF('Data Ffisegol'!AH36=\"\",\"\",'Data Ffisegol'!AH36)","v":""},{"$f":"IF('Data Ffisegol'!AI36=\"\",\"\",'Data Ffisegol'!AI36)","v":""},{"$f":"IF('Data Ffisegol'!AJ36=\"\",\"\",'Data Ffisegol'!AJ36)","v":""},{"$f":"IF('Data Ffisegol'!AK36=\"\",\"\",'Data Ffisegol'!AK36)","v":""},{"$f":"IF('Data Ffisegol'!AL36=\"\",\"\",'Data Ffisegol'!AL36)","v":""},{"$f":"IF('Data Ffisegol'!AM36=\"\",\"\",'Data Ffisegol'!AM36)","v":""},{"$f":"IF('Data Ffisegol'!AN36=\"\",\"\",'Data Ffisegol'!AN36)","v":""},{"$f":"IF('Data Ffisegol'!AO36=\"\",\"\",'Data Ffisegol'!AO36)","v":""},{"$f":"IF('Data Ffisegol'!AP36=\"\",\"\",'Data Ffisegol'!AP36)","v":""},{"$f":"IF('Data Ffisegol'!AQ36=\"\",\"\",'Data Ffisegol'!AQ36)","v":""},{"$f":"IF('Data Ffisegol'!AR36=\"\",\"\",'Data Ffisegol'!AR36)","v":""},{"$f":"IF('Data Ffisegol'!AS36=\"\",\"\",'Data Ffisegol'!AS36)","v":""},{"$f":"IF('Data Ffisegol'!AT36=\"\",\"\",'Data Ffisegol'!AT36)","v":""},{"$f":"IF('Data Ffisegol'!AU36=\"\",\"\",'Data Ffisegol'!AU36)","v":""},{"$f":"IF('Data Ffisegol'!AV36=\"\",\"\",'Data Ffisegol'!AV36)","v":""},{"$f":"IF('Data Ffisegol'!AW36=\"\",\"\",'Data Ffisegol'!AW36)","v":""},{"$f":"IF('Data Ffisegol'!AX36=\"\",\"\",'Data Ffisegol'!AX36)","v":""},{"$f":"IF('Data Ffisegol'!AY36=\"\",\"\",'Data Ffisegol'!AY36)","v":""},{"$f":"IF('Data Ffisegol'!AZ36=\"\",\"\",'Data Ffisegol'!AZ36)","v":""},{"$f":"IF('Data Ffisegol'!BA36=\"\",\"\",'Data Ffisegol'!BA36)","v":""},{"$f":"IF('Data Ffisegol'!BB36=\"\",\"\",'Data Ffisegol'!BB36)","v":""},{"$f":"IF('Data Ffisegol'!BC36=\"\",\"\",'Data Ffisegol'!BC36)","v":""},{"$f":"IF('Data Ffisegol'!BD36=\"\",\"\",'Data Ffisegol'!BD36)","v":""},"","","","","",""]
[null,null,null,null,null,null,null,{"$f":"IF('Data Ffisegol'!H37=\"\",\"\",'Data Ffisegol'!H37)","v":""},{"$f":"IF('Data Ffisegol'!I37=\"\",\"\",'Data Ffisegol'!I37)","v":""},{"$f":"IF('Data Ffisegol'!J37=\"\",\"\",'Data Ffisegol'!J37)","v":""},{"$f":"IFERROR(IF(J37=\"\",\"\",(IF(VLOOKUP(J37,'Gwybodaeth ymgeiswyr'!$K$8:$L$37,2,0)=\"y\",\"y\",\"\"))),\"Manual entry required\")","v":""},{"$f":"IF('Data Ffisegol'!K37=\"\",\"\",'Data Ffisegol'!K37)","v":""},{"$f":"IF('Data Ffisegol'!L37=\"\",\"\",'Data Ffisegol'!L37)","v":""},{"$f":"IF('Data Ffisegol'!M37=\"\",\"\",'Data Ffisegol'!M37)","v":""},{"$f":"IF('Data Ffisegol'!N37=\"\",\"\",'Data Ffisegol'!N37)","v":""},{"$f":"IF('Data Ffisegol'!O37=\"\",\"\",'Data Ffisegol'!O37)","v":""},{"$f":"IF('Data Ffisegol'!P37=\"\",\"\",'Data Ffisegol'!P37)","v":""},{"$f":"IF('Data Ffisegol'!Q37=\"\",\"\",'Data Ffisegol'!Q37)","v":""},{"$f":"IF('Data Ffisegol'!R37=\"\",\"\",'Data Ffisegol'!R37)","v":""},{"$f":"IF('Data Ffisegol'!S37=\"\",\"\",'Data Ffisegol'!S37)","v":""},{"$f":"IF('Data Ffisegol'!T37=\"\",\"\",'Data Ffisegol'!T37)","v":""},{"$f":"IF('Data Ffisegol'!U37=\"\",\"\",'Data Ffisegol'!U37)","v":""},{"$f":"IF('Data Ffisegol'!V37=\"\",\"\",'Data Ffisegol'!V37)","v":""},{"$f":"IF('Data Ffisegol'!W37=\"\",\"\",'Data Ffisegol'!W37)","v":""},{"$f":"IF('Data Ffisegol'!X37=\"\",\"\",'Data Ffisegol'!X37)","v":""},{"$f":"IF('Data Ffisegol'!Y37=\"\",\"\",'Data Ffisegol'!Y37)","v":""},{"$f":"IF('Data Ffisegol'!Z37=\"\",\"\",'Data Ffisegol'!Z37)","v":""},{"$f":"IF('Data Ffisegol'!AA37=\"\",\"\",'Data Ffisegol'!AA37)","v":""},{"$f":"IF('Data Ffisegol'!AB37=\"\",\"\",'Data Ffisegol'!AB37)","v":""},{"$f":"IF('Data Ffisegol'!AC37=\"\",\"\",'Data Ffisegol'!AC37)","v":""},{"$f":"IF('Data Ffisegol'!AD37=\"\",\"\",'Data Ffisegol'!AD37)","v":""},{"$f":"IF('Data Ffisegol'!AE37=\"\",\"\",'Data Ffisegol'!AE37)","v":""},{"$f":"IF('Data Ffisegol'!AF37=\"\",\"\",'Data Ffisegol'!AF37)","v":""},{"$f":"IF('Data Ffisegol'!AG37=\"\",\"\",'Data Ffisegol'!AG37)","v":""},{"$f":"IF('Data Ffisegol'!AH37=\"\",\"\",'Data Ffisegol'!AH37)","v":""},{"$f":"IF('Data Ffisegol'!AI37=\"\",\"\",'Data Ffisegol'!AI37)","v":""},{"$f":"IF('Data Ffisegol'!AJ37=\"\",\"\",'Data Ffisegol'!AJ37)","v":""},{"$f":"IF('Data Ffisegol'!AK37=\"\",\"\",'Data Ffisegol'!AK37)","v":""},{"$f":"IF('Data Ffisegol'!AL37=\"\",\"\",'Data Ffisegol'!AL37)","v":""},{"$f":"IF('Data Ffisegol'!AM37=\"\",\"\",'Data Ffisegol'!AM37)","v":""},{"$f":"IF('Data Ffisegol'!AN37=\"\",\"\",'Data Ffisegol'!AN37)","v":""},{"$f":"IF('Data Ffisegol'!AO37=\"\",\"\",'Data Ffisegol'!AO37)","v":""},{"$f":"IF('Data Ffisegol'!AP37=\"\",\"\",'Data Ffisegol'!AP37)","v":""},{"$f":"IF('Data Ffisegol'!AQ37=\"\",\"\",'Data Ffisegol'!AQ37)","v":""},{"$f":"IF('Data Ffisegol'!AR37=\"\",\"\",'Data Ffisegol'!AR37)","v":""},{"$f":"IF('Data Ffisegol'!AS37=\"\",\"\",'Data Ffisegol'!AS37)","v":""},{"$f":"IF('Data Ffisegol'!AT37=\"\",\"\",'Data Ffisegol'!AT37)","v":""},{"$f":"IF('Data Ffisegol'!AU37=\"\",\"\",'Data Ffisegol'!AU37)","v":""},{"$f":"IF('Data Ffisegol'!AV37=\"\",\"\",'Data Ffisegol'!AV37)","v":""},{"$f":"IF('Data Ffisegol'!AW37=\"\",\"\",'Data Ffisegol'!AW37)","v":""},{"$f":"IF('Data Ffisegol'!AX37=\"\",\"\",'Data Ffisegol'!AX37)","v":""},{"$f":"IF('Data Ffisegol'!AY37=\"\",\"\",'Data Ffisegol'!AY37)","v":""},{"$f":"IF('Data Ffisegol'!AZ37=\"\",\"\",'Data Ffisegol'!AZ37)","v":""},{"$f":"IF('Data Ffisegol'!BA37=\"\",\"\",'Data Ffisegol'!BA37)","v":""},{"$f":"IF('Data Ffisegol'!BB37=\"\",\"\",'Data Ffisegol'!BB37)","v":""},{"$f":"IF('Data Ffisegol'!BC37=\"\",\"\",'Data Ffisegol'!BC37)","v":""},{"$f":"IF('Data Ffisegol'!BD37=\"\",\"\",'Data Ffisegol'!BD37)","v":""},"","","","","",""]
[null,null,null,null,null,null,null,{"$f":"IF('Data Ffisegol'!H38=\"\",\"\",'Data Ffisegol'!H38)","v":""},{"$f":"IF('Data Ffisegol'!I38=\"\",\"\",'Data Ffisegol'!I38)","v":""},{"$f":"IF('Data Ffisegol'!J38=\"\",\"\",'Data Ffisegol'!J38)","v":""},{"$f":"IFERROR(IF(J38=\"\",\"\",(IF(VLOOKUP(J38,'Gwybodaeth ymgeiswyr'!$K$8:$L$37,2,0)=\"y\",\"y\",\"\"))),\"Manual entry required\")","v":""},{"$f":"IF('Data Ffisegol'!K38=\"\",\"\",'Data Ffisegol'!K38)","v":""},{"$f":"IF('Data Ffisegol'!L38=\"\",\"\",'Data Ffisegol'!L38)","v":""},{"$f":"IF('Data Ffisegol'!M38=\"\",\"\",'Data Ffisegol'!M38)","v":""},{"$f":"IF('Data Ffisegol'!N38=\"\",\"\",'Data Ffisegol'!N38)","v":""},{"$f":"IF('Data Ffisegol'!O38=\"\",\"\",'Data Ffisegol'!O38)","v":""},{"$f":"IF('Data Ffisegol'!P38=\"\",\"\",'Data Ffisegol'!P38)","v":""},{"$f":"IF('Data Ffisegol'!Q38=\"\",\"\",'Data Ffisegol'!Q38)","v":""},{"$f":"IF('Data Ffisegol'!R38=\"\",\"\",'Data Ffisegol'!R38)","v":""},{"$f":"IF('Data Ffisegol'!S38=\"\",\"\",'Data Ffisegol'!S38)","v":""},{"$f":"IF('Data Ffisegol'!T38=\"\",\"\",'Data Ffisegol'!T38)","v":""},{"$f":"IF('Data Ffisegol'!U38=\"\",\"\",'Data Ffisegol'!U38)","v":""},{"$f":"IF('Data Ffisegol'!V38=\"\",\"\",'Data Ffisegol'!V38)","v":""},{"$f":"IF('Data Ffisegol'!W38=\"\",\"\",'Data Ffisegol'!W38)","v":""},{"$f":"IF('Data Ffisegol'!X38=\"\",\"\",'Data Ffisegol'!X38)","v":""},{"$f":"IF('Data Ffisegol'!Y38=\"\",\"\",'Data Ffisegol'!Y38)","v":""},{"$f":"IF('Data Ffisegol'!Z38=\"\",\"\",'Data Ffisegol'!Z38)","v":""},{"$f":"IF('Data Ffisegol'!AA38=\"\",\"\",'Data Ffisegol'!AA38)","v":""},{"$f":"IF('Data Ffisegol'!AB38=\"\",\"\",'Data Ffisegol'!AB38)","v":""},{"$f":"IF('Data Ffisegol'!AC38=\"\",\"\",'Data Ffisegol'!AC38)","v":""},{"$f":"IF('Data Ffisegol'!AD38=\"\",\"\",'Data Ffisegol'!AD38)","v":""},{"$f":"IF('Data Ffisegol'!AE38=\"\",\"\",'Data Ffisegol'!AE38)","v":""},{"$f":"IF('Data Ffisegol'!AF38=\"\",\"\",'Data Ffisegol'!AF38)","v":""},{"$f":"IF('Data Ffisegol'!AG38=\"\",\"\",'Data Ffisegol'!AG38)","v":""},{"$f":"IF('Data Ffisegol'!AH38=\"\",\"\",'Data Ffisegol'!AH38)","v":""},{"$f":"IF('Data Ffisegol'!AI38=\"\",\"\",'Data Ffisegol'!AI38)","v":""},{"$f":"IF('Data Ffisegol'!AJ38=\"\",\"\",'Data Ffisegol'!AJ38)","v":""},{"$f":"IF('Data Ffisegol'!AK38=\"\",\"\",'Data Ffisegol'!AK38)","v":""},{"$f":"IF('Data Ffisegol'!AL38=\"\",\"\",'Data Ffisegol'!AL38)","v":""},{"$f":"IF('Data Ffisegol'!AM38=\"\",\"\",'Data Ffisegol'!AM38)","v":""},{"$f":"IF('Data Ffisegol'!AN38=\"\",\"\",'Data Ffisegol'!AN38)","v":""},{"$f":"IF('Data Ffisegol'!AO38=\"\",\"\",'Data Ffisegol'!AO38)","v":""},{"$f":"IF('Data Ffisegol'!AP38=\"\",\"\",'Data Ffisegol'!AP38)","v":""},{"$f":"IF('Data Ffisegol'!AQ38=\"\",\"\",'Data Ffisegol'!AQ38)","v":""},{"$f":"IF('Data Ffisegol'!AR38=\"\",\"\",'Data Ffisegol'!AR38)","v":""},{"$f":"IF('Data Ffisegol'!AS38=\"\",\"\",'Data Ffisegol'!AS38)","v":""},{"$f":"IF('Data Ffisegol'!AT38=\"\",\"\",'Data Ffisegol'!AT38)","v":""},{"$f":"IF('Data Ffisegol'!AU38=\"\",\"\",'Data Ffisegol'!AU38)","v":""},{"$f":"IF('Data Ffisegol'!AV38=\"\",\"\",'Data Ffisegol'!AV38)","v":""},{"$f":"IF('Data Ffisegol'!AW38=\"\",\"\",'Data Ffisegol'!AW38)","v":""},{"$f":"IF('Data Ffisegol'!AX38=\"\",\"\",'Data Ffisegol'!AX38)","v":""},{"$f":"IF('Data Ffisegol'!AY38=\"\",\"\",'Data Ffisegol'!AY38)","v":""},{"$f":"IF('Data Ffisegol'!AZ38=\"\",\"\",'Data Ffisegol'!AZ38)","v":""},{"$f":"IF('Data Ffisegol'!BA38=\"\",\"\",'Data Ffisegol'!BA38)","v":""},{"$f":"IF('Data Ffisegol'!BB38=\"\",\"\",'Data Ffisegol'!BB38)","v":""},{"$f":"IF('Data Ffisegol'!BC38=\"\",\"\",'Data Ffisegol'!BC38)","v":""},{"$f":"IF('Data Ffisegol'!BD38=\"\",\"\",'Data Ffisegol'!BD38)","v":""},"","","","","",""]
[]
[null,null,null,null,null,null,null,"Averages:  ",null,null,null,null,null,{"$f":"IF(COUNT(N9:N38)<1,\"\", AVERAGE(N9:N38))","v":""},"","","","","","","","","","","","","","","","","","","","","","","","","","","","","","","","","","","","","","","","","","","","","","","","",""]
[]
[]
[]
[null,null,null,null,null,null,"Removal of excluded areas"]
[]
[null,null,null,null,null,null,null,"Laboratory sample number","Dredge Area","Sample ID(s)","Excluded (y if yes)","Particle size summary statistics"]
[null,null,null,null,null,null,null,null,null,null,null,"Total solids (%)",null,"Gravel (%)","Sand (%)","Silt/Clay (%)"]
[]
[null,null,null,null,null,null,null,{"$f":"IF(H9=\"\",\"\",H9)","v":""},{"$f":"IF($K9=\"y\",\"\",I9)","v":""},{"$f":"IF($K9=\"y\",\"\",J9)","v":""},{"$f":"IF(K9=\"\",\"\",K9)","v":""},{"$f":"IF($K9=\"y\",\"\",N9)","v":""},null,{"$f":"IF($K9=\"y\",\"\",BF9)","v":""},{"$f":"IF($K9=\"y\",\"\",BG9)","v":""},{"$f":"IF($K9=\"y\",\"\",BK9)","v":""}]
[null,null,null,null,null,null,null,{"$f":"IF(H10=\"\",\"\",H10)","v":""},{"$f":"IF($K10=\"y\",\"\",I10)","v":""},"","",{"$f":"IF($K10=\"y\",\"\",N10)","v":""},null,{"$f":"IF($K10=\"y\",\"\",BF10)","v":""},{"$f":"IF($K10=\"y\",\"\",BG10)","v":""},{"$f":"IF($K10=\"y\",\"\",BK10)","v":""}]
[null,null,null,null,null,null,null,{"$f":"IF(H11=\"\",\"\",H11)","v":""},"","","","",null,"","",""]
[null,null,null,null,null,null,null,{"$f":"IF(H12=\"\",\"\",H12)","v":""},"","","","",null,"","",""]
[null,null,null,null,null,null,null,{"$f":"IF(H13=\"\",\"\",H13)","v":""},"","","","",null,"","",""]
[null,null,null,null,null,null,null,{"$f":"IF(H14=\"\",\"\",H14)","v":""},"","","","",null,"","",""]
[null,null,null,null,null,null,null,{"$f":"IF(H15=\"\",\"\",H15)","v":""},"","","","",null,"","",""]
[null,null,null,null,null,null,null,{"$f":"IF(H16=\"\",\"\",H16)","v":""},"","","","",null,"","",""]
[null,null,null,null,null,null,null,{"$f":"IF(H17=\"\",\"\",H17)","v":""},"","","","",null,"","",""]
[null,null,null,null,null,null,null,{"$f":"IF(H18=\"\",\"\",H18)","v":""},"","","","",null,"","",""]
[null,null,null,null,null,null,null,{"$f":"IF(H19=\"\",\"\",H19)","v":""},"","","","",null,"","",""]
[null,null,null,null,null,null,null,{"$f":"IF(H20=\"\",\"\",H20)","v":""},"","","","",null,"","",""]
[null,null,null,null,null,null,null,{"$f":"IF(H21=\"\",\"\",H21)","v":""},"","","","",null,"","",""]
[null,null,null,null,null,null,null,{"$f":"IF(H22=\"\",\"\",H22)","v":""},"","","","",null,"","",""]
[null,null,null,null,null,null,null,{"$f":"IF(H23=\"\",\"\",H23)","v":""},"","","","",null,"","",""]
[null,null,null,null,null,null,null,{"$f":"IF(H24=\"\",\"\",H24)","v":""},"","","","",null,"","",""]
[null,null,null,null,null,null,null,{"$f":"IF(H25=\"\",\"\",H25)","v":""},"","","","",null,"","",""]
[null,null,null,null,null,null,null,{"$f":"IF(H26=\"\",\"\",H26)","v":""},"","","","",null,"","",""]
[null,null,null,null,null,null,null,{"$f":"IF(H27=\"\",\"\",H27)","v":""},"","","","",null,"","",""]
[null,null,null,null,null,null,null,{"$f":"IF(H28=\"\",\"\",H28)","v":""},"","","","",null,"","",""]
[null,null,null,null,null,null,null,{"$f":"IF(H29=\"\",\"\",H29)","v":""},"","","","",null,"","",""]
[null,null,null,null,null,null,null,{"$f":"IF(H30=\"\",\"\",H30)","v":""},"","","","",null,"","",""]
[null,null,null,null,null,null,null,{"$f":"IF(H31=\"\",\"\",H31)","v":""},"","","","",null,"","",""]
[null,null,null,null,null,null,null,{"$f":"IF(H32=\"\",\"\",H32)","v":""},"","","","",null,"","",""]
[null,null,null,null,null,null,null,{"$f":"IF(H33=\"\",\"\",H33)","v":""},"","","","",null,"","",""]
[null,null,null,null,null,null,null,{"$f":"IF(H34=\"\",\"\",H34)","v":""},"","","","",null,"","",""]
[null,null,null,null,null,null,null,{"$f":"IF(H35=\"\",\"\",H35)","v":""},"","","","",null,"","",""]
[null,null,null,null,null,null,null,{"$f":"IF(H36=\"\",\"\",H36)","v":""},"","","","",null,"","",""]
[null,null,null,null,null,null,null,{"$f":"IF(H37=\"\",\"\",H37)","v":""},"","","","",null,"","",""]
[null,null,null,null,null,null,null,{"$f":"IF(H38=\"\",\"\",H38)","v":""},"","","","",null,"","",""]
[]
[null,null,null,null,null,null,null,"Averages:  ",null,null,null,{"$f":"IF(COUNT(L49:L78)<1,\"\", AVERAGE(L49:L78))","v":""},null,"","",""]
[]
[]
[]
[null,null,null,null,null,null,"Average of dredge areas"]
[]
[null,null,null,null,null,null,null,null,null,null,"Dredge area","Particle size summary statistics"]
[null,null,null,null,null,null,null,null,null,null,null,"Total solids (%)",null,"Gravel (%)","Sand (%)","Silt/Clay (%)"]
[]
[null,null,null,null,null,null,null,null,null,null,"Area i",{"$f":"IF(COUNTIF($I$49:$I$78,\"Area i\")<1,\"\",AVERAGEIF($I$49:$I$78,\"Area i\",L$49:L$78))","v":""},null,{"$f":"IF(COUNTIF($I$49:$I$78,\"Area i\")<1,\"\",AVERAGEIF($I$49:$I$78,\"Area i\",N$49:N$78))","v":""},{"$f":"IF(COUNTIF($I$49:$I$78,\"Area i\")<1,\"\",AVERAGEIF($I$49:$I$78,\"Area i\",O$49:O$78))","v":""},""]
[null,null,null,null,null,null,null,null,null,null,"Area ii",{"$f":"IF(COUNTIF($I$49:$I$78,\"Area ii\")<1,\"\",AVERAGEIF($I$49:$I$78,\"Area ii\",L$49:L$78))","v":""},null,{"$f":"IF(COUNTIF($I$49:$I$78,\"Area ii\")<1,\"\",AVERAGEIF($I$49:$I$78,\"Area ii\",N$49:N$78))","v":""},{"$f":"IF(COUNTIF($I$49:$I$78,\"Area ii\")<1,\"\",AVERAGEIF($I$49:$I$78,\"Area ii\",O$49:O$78))","v":""},""]
[null,null,null,null,null,null,null,null,null,null,"Area iii",{"$f":"IF(COUNTIF($I$49:$I$78,\"Area iii\")<1,\"\",AVERAGEIF($I$49:$I$78,\"Area iii\",L$49:L$78))","v":""},null,{"$f":"IF(COUNTIF($I$49:$I$78,\"Area iii\")<1,\"\",AVERAGEIF($I$49:$I$78,\"Area iii\",N$49:N$78))","v":""},{"$f":"IF(COUNTIF($I$49:$I$78,\"Area iii\")<1,\"\",AVERAGEIF($I$49:$I$78,\"Area iii\",O$49:O$78))","v":""},""]
[null,null,null,null,null,null,null,null,null,null,"Area iv",{"$f":"IF(COUNTIF($I$49:$I$78,\"Area iv\")<1,\"\",AVERAGEIF($I$49:$I$78,\"Area iv\",L$49:L$78))","v":""},null,{"$f":"IF(COUNTIF($I$49:$I$78,\"Area iv\")<1,\"\",AVERAGEIF($I$49:$I$78,\"Area iv\",N$49:N$78))","v":""},{"$f":"IF(COUNTIF($I$49:$I$78,\"Area iv\")<1,\"\",AVERAGEIF($I$49:$I$78,\"Area iv\",O$49:O$78))","v":""},""]
[null,null,null,null,null,null,null,null,null,null,"Area v",{"$f":"IF(COUNTIF($I$49:$I$78,\"Area v\")<1,\"\",AVERAGEIF($I$49:$I$78,\"Area v\",L$49:L$78))","v":""},null,{"$f":"IF(COUNTIF($I$49:$I$78,\"Area v\")<1,\"\",AVERAGEIF($I$49:$I$78,\"Area v\",N$49:N$78))","v":""},{"$f":"IF(COUNTIF($I$49:$I$78,\"Area v\")<1,\"\",AVERAGEIF($I$49:$I$78,\"Area v\",O$49:O$78))","v":""},""]
[null,null,null,null,null,null,null,null,null,null,"Area vi",{"$f":"IF(COUNTIF($I$49:$I$78,\"Area vi\")<1,\"\",AVERAGEIF($I$49:$I$78,\"Area vi\",L$49:L$78))","v":""},null,{"$f":"IF(COUNTIF($I$49:$I$78,\"Area vi\")<1,\"\",AVERAGEIF($I$49:$I$78,\"Area vi\",N$49:N$78))","v":""},{"$f":"IF(COUNTIF($I$49:$I$78,\"Area vi\")<1,\"\",AVERAGEIF($I$49:$I$78,\"Area vi\",O$49:O$78))","v":""},""]
[]
[]
[]
[null,null,null,null,null,null,"PR weightings (dredge area averages multiplied by proportion of total tonnages)"]
[]
[null,null,null,null,null,null,null,null,null,null,"Dredge area","Particle size summary statistics"]
[null,null,null,null,null,null,null,null,null,null,null,"Total solids (%)",null,"Gravel (%)","Sand (%)","Silt/Clay (%)"]
[]
[null,null,null,null,null,null,null,null,null,null,"Area i",{"$f":"IF(L89=\"\",\"\",L89*'PR details'!$G4)","v":""},null,{"$f":"IF(N89=\"\",\"\",N89*'PR details'!$G4)","v":""},{"$f":"IF(O89=\"\",\"\",O89*'PR details'!$G4)","v":""},{"$f":"IF(P89=\"\",\"\",P89*'PR details'!$G4)","v":""}]
[null,null,null,null,null,null,null,null,null,null,"Area ii",{"$f":"IF(L90=\"\",\"\",L90*'PR details'!$G5)","v":""},null,{"$f":"IF(N90=\"\",\"\",N90*'PR details'!$G5)","v":""},{"$f":"IF(O90=\"\",\"\",O90*'PR details'!$G5)","v":""},{"$f":"IF(P90=\"\",\"\",P90*'PR details'!$G5)","v":""}]
[null,null,null,null,null,null,null,null,null,null,"Area iii",{"$f":"IF(L91=\"\",\"\",L91*'PR details'!$G6)","v":""},null,{"$f":"IF(N91=\"\",\"\",N91*'PR details'!$G6)","v":""},{"$f":"IF(O91=\"\",\"\",O91*'PR details'!$G6)","v":""},{"$f":"IF(P91=\"\",\"\",P91*'PR details'!$G6)","v":""}]
[null,null,null,null,null,null,null,null,null,null,"Area iv",{"$f":"IF(L92=\"\",\"\",L92*'PR details'!$G7)","v":""},null,{"$f":"IF(N92=\"\",\"\",N92*'PR details'!$G7)","v":""},{"$f":"IF(O92=\"\",\"\",O92*'PR details'!$G7)","v":""},{"$f":"IF(P92=\"\",\"\",P92*'PR details'!$G7)","v":""}]
[null,null,null,null,null,null,null,null,null,null,"Area v",{"$f":"IF(L93=\"\",\"\",L93*'PR details'!$G8)","v":""},null,{"$f":"IF(N93=\"\",\"\",N93*'PR details'!$G8)","v":""},{"$f":"IF(O93=\"\",\"\",O93*'PR details'!$G8)","v":""},{"$f":"IF(P93=\"\",\"\",P93*'PR details'!$G8)","v":""}]
[null,null,null,null,null,null,null,null,null,null,"Area vi",{"$f":"IF(L94=\"\",\"\",L94*'PR details'!$G9)","v":""},null,{"$f":"IF(N94=\"\",\"\",N94*'PR details'!$G9)","v":""},{"$f":"IF(O94=\"\",\"\",O94*'PR details'!$G9)","v":""},{"$f":"IF(P94=\"\",\"\",P94*'PR details'!$G9)","v":""}]
[]
[]
[]
[null,null,null,null,null,null,"PR average"]
[]
[null,null,null,null,null,null,null,null,null,null,null,"Particle size summary statistics"]
[null,null,null,null,null,null,null,null,null,null,null,"Total solids (%)",null,"Gravel (%)","Sand (%)","Silt/Clay (%)"]
[]
[null,null,null,null,null,null,null,null,null,null,null,{"$f":"IF(COUNT(L103:L108)<1,\"\",SUM(L103:L108))","v":""},null,{"$f":"IF(COUNT(N103:N108)<1,\"\",SUM(N103:N108))","v":""},{"$f":"IF(COUNT(O103:O108)<1,\"\",SUM(O103:O108))","v":""},{"$f":"IF(COUNT(P103:P108)<1,\"\",SUM(P103:P108))","v":""}]

{"sheet":"PSA charts","index":3,"n_rows":610,"n_cols":90,"rows_kept":610,"cut":false,"hidden":true,"merged":[]}
[]
[]
[]
[]
[]
[]
[]
[]
[]
[]
[]
[]
[]
[]
[]
[]
[]
[]
[]
[]
[]
[]
[]
[]
[]
[]
[]
[]
[]
[]
[]
[]
[]
[]
[]
[]
[]
[]
[]
[]
[]
[]
[]
[]
[]
[]
[]
[]
[]
[]
[]
[]
[]
[]
[]
[]
[]
[]
[]
[]
[]
[]
[]
[]
[]
[]
[]
[]
[]
[]
[]
[]
[]
[]
[]
[]
[]
[]
[]
[]
[]
[]
[]
[]
[]
[]
[]
[]
[]
[]
[]
[]
[]
[]
[]
[]
[]
[]
[]
[]
[]
[]
[]
[]
[]
[]
[]
[]
[]
[]
[]
[]
[]
[]
[]
[]
[]
[]
[]
[]
[]
[]
[]
[]
[]
[]
[]
[]
[]
[]
[]
[]
[]
[]
[]
[]
[]
[]
[]
[]
[]
[]
[]
[]
[]
[]
[]
[]
[]
[]
[]
[]
[]
[]
[]
[]
[]
[]
[]
[]
[]
[]
[]
[]
[]
[]
[]
[]
[]
[]
[]
[]
[]
[]
[]
[]
[]
[]
[]
[]
[]
[]
[]
[]
[]
[]
[]
[]
[]
[]
[]
[]
[]
[]
[]
[]
[]
[]
[]
[]
[]
[]
[]
[]
[]
[]
[]
[]
[]
[]
[]
[]
[]
[]
[]
[]
[]
[]
[]
[]
[]
[]
[]
[]
[]
[]
[]
[]
[]
[]
[]
[]
[]
[]
[]
[]
[]
[]
[]
[]
[]
[]
[]
[]
[]
[]
[]
[]
[]
[]
[]
[]
[]
[]
[]
[]
[]
[]
[]
[]
[]
[]
[]
[]
[]
[]
[]
[]
[]
[]
[]
[]
[]
[]
[]
[]
[]
[]
[]
[]
[]
[]
[]
[]
[]
[]
[]
[]
[]
[]
[]
[]
[]
[]
[]
[]
[]
[]
[]
[]
[]
[]
[]
[]
[]
[]
[]
[]
[]
[]
[]
[]
[]
[]
[]
[]
[]
[]
[]
[]
[]
[]
[]
[]
[]
[]
[]
[]
[]
[]
[]
[]
[]
[]
[]
[]
[]
[]
[]
[]
[]
[]
[]
[]
[]
[]
[]
[]
[]
[]
[]
[]
[]
[]
[]
[]
[]
[]
[]
[]
[]
[]
[]
[]
[]
[]
[]
[]
[]
[]
[]
[]
[]
[]
[]
[]
[]
[]
[]
[]
[]
[]
[]
[]
[]
[]
[]
[]
[]
[]
[]
[]
[]
[]
[]
[]
[]
[]
[]
[]
[]
[]
[]
[]
[]
[]
[]
[]
[]
[]
[]
[]
[]
[]
[]
[]
[]
[]
[]
[]
[]
[]
[]
[]
[]
[]
[]
[]
[]
[]
[]
[]
[]
[]
[]
[]
[]
[]
[]
[]
[]
[]
[]
[]
[]
[]
[]
[]
[]
[]
[]
[]
[]
[]
[]
[]
[]
[]
[]
[]
[]
[]
[]
[]
[]
[]
[]
[]
[]
[]
[]
[]
[]
[]
[]
[]
[]
[]
[]
[]
[]
[]
[]
[]
[]
[]
[]
[]
[]
[]
[]
[]
[]
[]
[]
[]
[]
[]
[]
[]
[]
[]
[]
[]
[]
[]
[]
[]
[]
[]
[]
[]
[]
[]
[]
[]
[]
[]
[]
[]
[]
[]
[]
[]
[]
[]
[]
[]
[]
[]
[]
[]
[]
[]
[]
[]
[]
[]
[]
[]
[]
[]
[]
[]
[]
[]
[]
[]
[]
[]
[]
[]
[]
[]
[]
[]
[]
[]
[]
[]
[]
[]
[]
[]
[]
[]
[]
[]
[]
[]
[]
[]
[]
[]
[]
[]
[]
[null,"LSN",45000,31500,22400,16000,11200,8000,5600,4000,2800,2000,1400,1000,707,500,353.6,250,176.8,125,88.39,63,44.2,31.3,22.1,15.6,11,7.8,5.5,3.9,2.75,1.95,1.38,0.98,0.69,0.49,0.34,0.24000000000000002,0.17,0.12000000000000001,9.0000000000000011E-2,6.0000000000000005E-2,0.04,0]
["x-axis (phi)",null,-5.5,-5,-4.5,-4,-3.5,-3,-2.5,-2,-1.5,-1,-0.5,0,0.5,1,1.5,2,2.5,3,3.5,4,4.5,5,5.5,6,6.5,7,7.5,8,8.5,9,9.5,10,10.5,11,11.5,12,12.5,13,13.5,14,14.5,">14.5"]
[null,null,null,null,null,null,null,null,null,null,null,null,null,null,null,null,null,null,null,null,null,null,null,null,null,null,null,null,null,null,null,null,null,null,null,null,null,null,null,null,null,null,null,null,null,"Area",null,null,-5.5,-5,-4.5,-4,-3.5,-3,-2.5,-2,-1.5,-1,-0.5,0,0.5,1,1.5,2,2.5,3,3.5,4,4.5,5,5.5,6,6.5,7,7.5,8,8.5,9,9.5,10,10.5,11,11.5,12,12.5,13,13.5,14,14.5,">14.5"]
["y-axis",{"$f":"IF('Data Ffisegol'!J9=\"\",\"\",'Data Ffisegol'!J9)","v":""},{"$f":"'Physical Stats'!P9","v":""},{"$f":"'Physical Stats'!Q9","v":""},{"$f":"'Physical Stats'!R9","v":""},{"$f":"'Physical Stats'!S9","v":""},{"$f":"'Physical Stats'!T9","v":""},{"$f":"'Physical Stats'!U9","v":""},{"$f":"'Physical Stats'!V9","v":""},{"$f":"'Physical Stats'!W9","v":""},{"$f":"'Physical Stats'!X9","v":""},{"$f":"'Physical Stats'!Y9","v":""},{"$f":"'Physical Stats'!Z9","v":""},{"$f":"'Physical Stats'!AA9","v":""},{"$f":"'Physical Stats'!AB9","v":""},{"$f":"'Physical Stats'!AC9","v":""},{"$f":"'Physical Stats'!AD9","v":""},{"$f":"'Physical Stats'!AE9","v":""},{"$f":"'Physical Stats'!AF9","v":""},{"$f":"'Physical Stats'!AG9","v":""},{"$f":"'Physical Stats'!AH9","v":""},{"$f":"'Physical Stats'!AI9","v":""},{"$f":"'Physical Stats'!AJ9","v":""},{"$f":"'Physical Stats'!AK9","v":""},{"$f":"'Physical Stats'!AL9","v":""},{"$f":"'Physical Stats'!AM9","v":""},{"$f":"'Physical Stats'!AN9","v":""},{"$f":"'Physical Stats'!AO9","v":""},{"$f":"'Physical Stats'!AP9","v":""},{"$f":"'Physical Stats'!AQ9","v":""},{"$f":"'Physical Stats'!AR9","v":""},{"$f":"'Physical Stats'!AS9","v":""},{"$f":"'Physical Stats'!AT9","v":""},{"$f":"'Physical Stats'!AU9","v":""},{"$f":"'Physical Stats'!AV9","v":""},{"$f":"'Physical Stats'!AW9","v":""},{"$f":"'Physical Stats'!AX9","v":""},{"$f":"'Physical Stats'!AY9","v":""},{"$f":"'Physical Stats'!AZ9","v":""},{"$f":"'Physical Stats'!BA9","v":""},{"$f":"'Physical Stats'!BB9","v":""},{"$f":"'Physical Stats'!BC9","v":""},{"$f":"'Physical Stats'!BD9","v":""},{"$f":"'Physical Stats'!BE9","v":""},null,{"$f":"'Physical Stats'!I9","v":""},null,"Area i",{"$f":"IF(COUNTIF($AT$581:$AT$610,\"Area i\")<1,\"\",AVERAGEIF($AT$581:$AT$610,\"Area i\",C581:C610))","v":""},"","","","","","","","","","","","","","","","","","","","","","","","","","","","","","","","","","","","","","","","",""]
[null,{"$f":"IF('Data Ffisegol'!J10=\"\",\"\",'Data Ffisegol'!J10)","v":""},{"$f":"'Physical Stats'!P10","v":""},{"$f":"'Physical Stats'!Q10","v":""},{"$f":"'Physical Stats'!R10","v":""},{"$f":"'Physical Stats'!S10","v":""},{"$f":"'Physical Stats'!T10","v":""},{"$f":"'Physical Stats'!U10","v":""},{"$f":"'Physical Stats'!V10","v":""},{"$f":"'Physical Stats'!W10","v":""},{"$f":"'Physical Stats'!X10","v":""},{"$f":"'Physical Stats'!Y10","v":""},{"$f":"'Physical Stats'!Z10","v":""},{"$f":"'Physical Stats'!AA10","v":""},{"$f":"'Physical Stats'!AB10","v":""},{"$f":"'Physical Stats'!AC10","v":""},{"$f":"'Physical Stats'!AD10","v":""},{"$f":"'Physical Stats'!AE10","v":""},{"$f":"'Physical Stats'!AF10","v":""},{"$f":"'Physical Stats'!AG10","v":""},{"$f":"'Physical Stats'!AH10","v":""},{"$f":"'Physical Stats'!AI10","v":""},{"$f":"'Physical Stats'!AJ10","v":""},{"$f":"'Physical Stats'!AK10","v":""},{"$f":"'Physical Stats'!AL10","v":""},{"$f":"'Physical Stats'!AM10","v":""},{"$f":"'Physical Stats'!AN10","v":""},{"$f":"'Physical Stats'!AO10","v":""},{"$f":"'Physical Stats'!AP10","v":""},{"$f":"'Physical Stats'!AQ10","v":""},{"$f":"'Physical Stats'!AR10","v":""},{"$f":"'Physical Stats'!AS10","v":""},{"$f":"'Physical Stats'!AT10","v":""},{"$f":"'Physical Stats'!AU10","v":""},{"$f":"'Physical Stats'!AV10","v":""},{"$f":"'Physical Stats'!AW10","v":""},{"$f":"'Physical Stats'!AX10","v":""},{"$f":"'Physical Stats'!AY10","v":""},{"$f":"'Physical Stats'!AZ10","v":""},{"$f":"'Physical Stats'!BA10","v":""},{"$f":"'Physical Stats'!BB10","v":""},{"$f":"'Physical Stats'!BC10","v":""},{"$f":"'Physical Stats'!BD10","v":""},{"$f":"'Physical Stats'!BE10","v":""},null,{"$f":"'Physical Stats'!I10","v":""},null,"Area ii",{"$f":"IF(COUNTIF($AT$581:$AT$610,\"Area ii\")<1,\"\",AVERAGEIF($AT$581:$AT$610,\"Area ii\",C581:C610))","v":""},"","","","","","","","","","","","","","","","","","","","","","","","","","","","","","","","","","","","","","","","",""]
[null,{"$f":"IF('Data Ffisegol'!J11=\"\",\"\",'Data Ffisegol'!J11)","v":""},{"$f":"'Physical Stats'!P11","v":""},{"$f":"'Physical Stats'!Q11","v":""},{"$f":"'Physical Stats'!R11","v":""},{"$f":"'Physical Stats'!S11","v":""},{"$f":"'Physical Stats'!T11","v":""},{"$f":"'Physical Stats'!U11","v":""},{"$f":"'Physical Stats'!V11","v":""},{"$f":"'Physical Stats'!W11","v":""},{"$f":"'Physical Stats'!X11","v":""},{"$f":"'Physical Stats'!Y11","v":""},{"$f":"'Physical Stats'!Z11","v":""},{"$f":"'Physical Stats'!AA11","v":""},{"$f":"'Physical Stats'!AB11","v":""},{"$f":"'Physical Stats'!AC11","v":""},{"$f":"'Physical Stats'!AD11","v":""},{"$f":"'Physical Stats'!AE11","v":""},{"$f":"'Physical Stats'!AF11","v":""},{"$f":"'Physical Stats'!AG11","v":""},{"$f":"'Physical Stats'!AH11","v":""},{"$f":"'Physical Stats'!AI11","v":""},{"$f":"'Physical Stats'!AJ11","v":""},{"$f":"'Physical Stats'!AK11","v":""},{"$f":"'Physical Stats'!AL11","v":""},{"$f":"'Physical Stats'!AM11","v":""},{"$f":"'Physical Stats'!AN11","v":""},{"$f":"'Physical Stats'!AO11","v":""},{"$f":"'Physical Stats'!AP11","v":""},{"$f":"'Physical Stats'!AQ11","v":""},{"$f":"'Physical Stats'!AR11","v":""},{"$f":"'Physical Stats'!AS11","v":""},{"$f":"'Physical Stats'!AT11","v":""},{"$f":"'Physical Stats'!AU11","v":""},{"$f":"'Physical Stats'!AV11","v":""},{"$f":"'Physical Stats'!AW11","v":""},{"$f":"'Physical Stats'!AX11","v":""},{"$f":"'Physical Stats'!AY11","v":""},{"$f":"'Physical Stats'!AZ11","v":""},{"$f":"'Physical Stats'!BA11","v":""},{"$f":"'Physical Stats'!BB11","v":""},{"$f":"'Physical Stats'!BC11","v":""},{"$f":"'Physical Stats'!BD11","v":""},{"$f":"'Physical Stats'!BE11","v":""},null,{"$f":"'Physical Stats'!I11","v":""},null,"Area iii",{"$f":"IF(COUNTIF($AT$581:$AT$610,\"Area iii\")<1,\"\",AVERAGEIF($AT$581:$AT$610,\"Area iii\",C581:C610))","v":""},"","","","","","","","","","","","","","","","","","","","","","","","","","","","","","","","","","","","","","","","",""]
[null,{"$f":"IF('Data Ffisegol'!J12=\"\",\"\",'Data Ffisegol'!J12)","v":""},{"$f":"'Physical Stats'!P12","v":""},{"$f":"'Physical Stats'!Q12","v":""},{"$f":"'Physical Stats'!R12","v":""},{"$f":"'Physical Stats'!S12","v":""},{"$f":"'Physical Stats'!T12","v":""},{"$f":"'Physical Stats'!U12","v":""},{"$f":"'Physical Stats'!V12","v":""},{"$f":"'Physical Stats'!W12","v":""},{"$f":"'Physical Stats'!X12","v":""},{"$f":"'Physical Stats'!Y12","v":""},{"$f":"'Physical Stats'!Z12","v":""},{"$f":"'Physical Stats'!AA12","v":""},{"$f":"'Physical Stats'!AB12","v":""},{"$f":"'Physical Stats'!AC12","v":""},{"$f":"'Physical Stats'!AD12","v":""},{"$f":"'Physical Stats'!AE12","v":""},{"$f":"'Physical Stats'!AF12","v":""},{"$f":"'Physical Stats'!AG12","v":""},{"$f":"'Physical Stats'!AH12","v":""},{"$f":"'Physical Stats'!AI12","v":""},{"$f":"'Physical Stats'!AJ12","v":""},{"$f":"'Physical Stats'!AK12","v":""},{"$f":"'Physical Stats'!AL12","v":""},{"$f":"'Physical Stats'!AM12","v":""},{"$f":"'Physical Stats'!AN12","v":""},{"$f":"'Physical Stats'!AO12","v":""},{"$f":"'Physical Stats'!AP12","v":""},{"$f":"'Physical Stats'!AQ12","v":""},{"$f":"'Physical Stats'!AR12","v":""},{"$f":"'Physical Stats'!AS12","v":""},{"$f":"'Physical Stats'!AT12","v":""},{"$f":"'Physical Stats'!AU12","v":""},{"$f":"'Physical Stats'!AV12","v":""},{"$f":"'Physical Stats'!AW12","v":""},{"$f":"'Physical Stats'!AX12","v":""},{"$f":"'Physical Stats'!AY12","v":""},{"$f":"'Physical Stats'!AZ12","v":""},{"$f":"'Physical Stats'!BA12","v":""},{"$f":"'Physical Stats'!BB12","v":""},{"$f":"'Physical Stats'!BC12","v":""},{"$f":"'Physical Stats'!BD12","v":""},{"$f":"'Physical Stats'!BE12","v":""},null,{"$f":"'Physical Stats'!I12","v":""},null,"Area iv",{"$f":"IF(COUNTIF($AT$581:$AT$610,\"Area iv\")<1,\"\",AVERAGEIF($AT$581:$AT$610,\"Area iv\",C581:C610))","v":""},"","","","","","","","","","","","","","","","","","","","","","","","","","","","","","","","","","","","","","","","",""]
[null,{"$f":"IF('Data Ffisegol'!J13=\"\",\"\",'Data Ffisegol'!J13)","v":""},{"$f":"'Physical Stats'!P13","v":""},{"$f":"'Physical Stats'!Q13","v":""},{"$f":"'Physical Stats'!R13","v":""},{"$f":"'Physical Stats'!S13","v":""},{"$f":"'Physical Stats'!T13","v":""},{"$f":"'Physical Stats'!U13","v":""},{"$f":"'Physical Stats'!V13","v":""},{"$f":"'Physical Stats'!W13","v":""},{"$f":"'Physical Stats'!X13","v":""},{"$f":"'Physical Stats'!Y13","v":""},{"$f":"'Physical Stats'!Z13","v":""},{"$f":"'Physical Stats'!AA13","v":""},{"$f":"'Physical Stats'!AB13","v":""},{"$f":"'Physical Stats'!AC13","v":""},{"$f":"'Physical Stats'!AD13","v":""},{"$f":"'Physical Stats'!AE13","v":""},{"$f":"'Physical Stats'!AF13","v":""},{"$f":"'Physical Stats'!AG13","v":""},{"$f":"'Physical Stats'!AH13","v":""},{"$f":"'Physical Stats'!AI13","v":""},{"$f":"'Physical Stats'!AJ13","v":""},{"$f":"'Physical Stats'!AK13","v":""},{"$f":"'Physical Stats'!AL13","v":""},{"$f":"'Physical Stats'!AM13","v":""},{"$f":"'Physical Stats'!AN13","v":""},{"$f":"'Physical Stats'!AO13","v":""},{"$f":"'Physical Stats'!AP13","v":""},{"$f":"'Physical Stats'!AQ13","v":""},{"$f":"'Physical Stats'!AR13","v":""},{"$f":"'Physical Stats'!AS13","v":""},{"$f":"'Physical Stats'!AT13","v":""},{"$f":"'Physical Stats'!AU13","v":""},{"$f":"'Physical Stats'!AV13","v":""},{"$f":"'Physical Stats'!AW13","v":""},{"$f":"'Physical Stats'!AX13","v":""},{"$f":"'Physical Stats'!AY13","v":""},{"$f":"'Physical Stats'!AZ13","v":""},{"$f":"'Physical Stats'!BA13","v":""},{"$f":"'Physical Stats'!BB13","v":""},{"$f":"'Physical Stats'!BC13","v":""},{"$f":"'Physical Stats'!BD13","v":""},{"$f":"'Physical Stats'!BE13","v":""},null,{"$f":"'Physical Stats'!I13","v":""},null,"Area v",{"$f":"IF(COUNTIF($AT$581:$AT$610,\"Area v\")<1,\"\",AVERAGEIF($AT$581:$AT$610,\"Area v\",C581:C610))","v":""},"","","","","","","","","","","","","","","","","","","","","","","","","","","","","","","","","","","","","","","","",""]
[null,{"$f":"IF('Data Ffisegol'!J14=\"\",\"\",'Data Ffisegol'!J14)","v":""},{"$f":"'Physical Stats'!P14","v":""},{"$f":"'Physical Stats'!Q14","v":""},{"$f":"'Physical Stats'!R14","v":""},{"$f":"'Physical Stats'!S14","v":""},{"$f":"'Physical Stats'!T14","v":""},{"$f":"'Physical Stats'!U14","v":""},{"$f":"'Physical Stats'!V14","v":""},{"$f":"'Physical Stats'!W14","v":""},{"$f":"'Physical Stats'!X14","v":""},{"$f":"'Physical Stats'!Y14","v":""},{"$f":"'Physical Stats'!Z14","v":""},{"$f":"'Physical Stats'!AA14","v":""},{"$f":"'Physical Stats'!AB14","v":""},{"$f":"'Physical Stats'!AC14","v":""},{"$f":"'Physical Stats'!AD14","v":""},{"$f":"'Physical Stats'!AE14","v":""},{"$f":"'Physical Stats'!AF14","v":""},{"$f":"'Physical Stats'!AG14","v":""},{"$f":"'Physical Stats'!AH14","v":""},{"$f":"'Physical Stats'!AI14","v":""},{"$f":"'Physical Stats'!AJ14","v":""},{"$f":"'Physical Stats'!AK14","v":""},{"$f":"'Physical Stats'!AL14","v":""},{"$f":"'Physical Stats'!AM14","v":""},{"$f":"'Physical Stats'!AN14","v":""},{"$f":"'Physical Stats'!AO14","v":""},{"$f":"'Physical Stats'!AP14","v":""},{"$f":"'Physical Stats'!AQ14","v":""},{"$f":"'Physical Stats'!AR14","v":""},{"$f":"'Physical Stats'!AS14","v":""},{"$f":"'Physical Stats'!AT14","v":""},{"$f":"'Physical Stats'!AU14","v":""},{"$f":"'Physical Stats'!AV14","v":""},{"$f":"'Physical Stats'!AW14","v":""},{"$f":"'Physical Stats'!AX14","v":""},{"$f":"'Physical Stats'!AY14","v":""},{"$f":"'Physical Stats'!AZ14","v":""},{"$f":"'Physical Stats'!BA14","v":""},{"$f":"'Physical Stats'!BB14","v":""},{"$f":"'Physical Stats'!BC14","v":""},{"$f":"'Physical Stats'!BD14","v":""},{"$f":"'Physical Stats'!BE14","v":""},null,{"$f":"'Physical Stats'!I14","v":""},null,"Area vi",{"$f":"IF(COUNTIF($AT$581:$AT$610,\"Area vi\")<1,\"\",AVERAGEIF($AT$581:$AT$610,\"Area vi\",C581:C610))","v":""},"","","","","","","","","","","","","","","","","","","","","","","","","","","","","","","","","","","","","","","","",""]
[null,{"$f":"IF('Data Ffisegol'!J15=\"\",\"\",'Data Ffisegol'!J15)","v":""},{"$f":"'Physical Stats'!P15","v":""},{"$f":"'Physical Stats'!Q15","v":""},{"$f":"'Physical Stats'!R15","v":""},{"$f":"'Physical Stats'!S15","v":""},{"$f":"'Physical Stats'!T15","v":""},{"$f":"'Physical Stats'!U15","v":""},{"$f":"'Physical Stats'!V15","v":""},{"$f":"'Physical Stats'!W15","v":""},{"$f":"'Physical Stats'!X15","v":""},{"$f":"'Physical Stats'!Y15","v":""},{"$f":"'Physical Stats'!Z15","v":""},{"$f":"'Physical Stats'!AA15","v":""},{"$f":"'Physical Stats'!AB15","v":""},{"$f":"'Physical Stats'!AC15","v":""},{"$f":"'Physical Stats'!AD15","v":""},{"$f":"'Physical Stats'!AE15","v":""},{"$f":"'Physical Stats'!AF15","v":""},{"$f":"'Physical Stats'!AG15","v":""},{"$f":"'Physical Stats'!AH15","v":""},{"$f":"'Physical Stats'!AI15","v":""},{"$f":"'Physical Stats'!AJ15","v":""},{"$f":"'Physical Stats'!AK15","v":""},{"$f":"'Physical Stats'!AL15","v":""},{"$f":"'Physical Stats'!AM15","v":""},{"$f":"'Physical Stats'!AN15","v":""},{"$f":"'Physical Stats'!AO15","v":""},{"$f":"'Physical Stats'!AP15","v":""},{"$f":"'Physical Stats'!AQ15","v":""},{"$f":"'Physical Stats'!AR15","v":""},{"$f":"'Physical Stats'!AS15","v":""},{"$f":"'Physical Stats'!AT15","v":""},{"$f":"'Physical Stats'!AU15","v":""},{"$f":"'Physical Stats'!AV15","v":""},{"$f":"'Physical Stats'!AW15","v":""},{"$f":"'Physical Stats'!AX15","v":""},{"$f":"'Physical Stats'!AY15","v":""},{"$f":"'Physical Stats'!AZ15","v":""},{"$f":"'Physical Stats'!BA15","v":""},{"$f":"'Physical Stats'!BB15","v":""},{"$f":"'Physical Stats'!BC15","v":""},{"$f":"'Physical Stats'!BD15","v":""},{"$f":"'Physical Stats'!BE15","v":""},null,{"$f":"'Physical Stats'!I15","v":""}]
[null,{"$f":"IF('Data Ffisegol'!J16=\"\",\"\",'Data Ffisegol'!J16)","v":""},{"$f":"'Physical Stats'!P16","v":""},{"$f":"'Physical Stats'!Q16","v":""},{"$f":"'Physical Stats'!R16","v":""},{"$f":"'Physical Stats'!S16","v":""},{"$f":"'Physical Stats'!T16","v":""},{"$f":"'Physical Stats'!U16","v":""},{"$f":"'Physical Stats'!V16","v":""},{"$f":"'Physical Stats'!W16","v":""},{"$f":"'Physical Stats'!X16","v":""},{"$f":"'Physical Stats'!Y16","v":""},{"$f":"'Physical Stats'!Z16","v":""},{"$f":"'Physical Stats'!AA16","v":""},{"$f":"'Physical Stats'!AB16","v":""},{"$f":"'Physical Stats'!AC16","v":""},{"$f":"'Physical Stats'!AD16","v":""},{"$f":"'Physical Stats'!AE16","v":""},{"$f":"'Physical Stats'!AF16","v":""},{"$f":"'Physical Stats'!AG16","v":""},{"$f":"'Physical Stats'!AH16","v":""},{"$f":"'Physical Stats'!AI16","v":""},{"$f":"'Physical Stats'!AJ16","v":""},{"$f":"'Physical Stats'!AK16","v":""},{"$f":"'Physical Stats'!AL16","v":""},{"$f":"'Physical Stats'!AM16","v":""},{"$f":"'Physical Stats'!AN16","v":""},{"$f":"'Physical Stats'!AO16","v":""},{"$f":"'Physical Stats'!AP16","v":""},{"$f":"'Physical Stats'!AQ16","v":""},{"$f":"'Physical Stats'!AR16","v":""},{"$f":"'Physical Stats'!AS16","v":""},{"$f":"'Physical Stats'!AT16","v":""},{"$f":"'Physical Stats'!AU16","v":""},{"$f":"'Physical Stats'!AV16","v":""},{"$f":"'Physical Stats'!AW16","v":""},{"$f":"'Physical Stats'!AX16","v":""},{"$f":"'Physical Stats'!AY16","v":""},{"$f":"'Physical Stats'!AZ16","v":""},{"$f":"'Physical Stats'!BA16","v":""},{"$f":"'Physical Stats'!BB16","v":""},{"$f":"'Physical Stats'!BC16","v":""},{"$f":"'Physical Stats'!BD16","v":""},{"$f":"'Physical Stats'!BE16","v":""},null,{"$f":"'Physical Stats'!I16","v":""}]
[null,{"$f":"IF('Data Ffisegol'!J17=\"\",\"\",'Data Ffisegol'!J17)","v":""},{"$f":"'Physical Stats'!P17","v":""},{"$f":"'Physical Stats'!Q17","v":""},{"$f":"'Physical Stats'!R17","v":""},{"$f":"'Physical Stats'!S17","v":""},{"$f":"'Physical Stats'!T17","v":""},{"$f":"'Physical Stats'!U17","v":""},{"$f":"'Physical Stats'!V17","v":""},{"$f":"'Physical Stats'!W17","v":""},{"$f":"'Physical Stats'!X17","v":""},{"$f":"'Physical Stats'!Y17","v":""},{"$f":"'Physical Stats'!Z17","v":""},{"$f":"'Physical Stats'!AA17","v":""},{"$f":"'Physical Stats'!AB17","v":""},{"$f":"'Physical Stats'!AC17","v":""},{"$f":"'Physical Stats'!AD17","v":""},{"$f":"'Physical Stats'!AE17","v":""},{"$f":"'Physical Stats'!AF17","v":""},{"$f":"'Physical Stats'!AG17","v":""},{"$f":"'Physical Stats'!AH17","v":""},{"$f":"'Physical Stats'!AI17","v":""},{"$f":"'Physical Stats'!AJ17","v":""},{"$f":"'Physical Stats'!AK17","v":""},{"$f":"'Physical Stats'!AL17","v":""},{"$f":"'Physical Stats'!AM17","v":""},{"$f":"'Physical Stats'!AN17","v":""},{"$f":"'Physical Stats'!AO17","v":""},{"$f":"'Physical Stats'!AP17","v":""},{"$f":"'Physical Stats'!AQ17","v":""},{"$f":"'Physical Stats'!AR17","v":""},{"$f":"'Physical Stats'!AS17","v":""},{"$f":"'Physical Stats'!AT17","v":""},{"$f":"'Physical Stats'!AU17","v":""},{"$f":"'Physical Stats'!AV17","v":""},{"$f":"'Physical Stats'!AW17","v":""},{"$f":"'Physical Stats'!AX17","v":""},{"$f":"'Physical Stats'!AY17","v":""},{"$f":"'Physical Stats'!AZ17","v":""},{"$f":"'Physical Stats'!BA17","v":""},{"$f":"'Physical Stats'!BB17","v":""},{"$f":"'Physical Stats'!BC17","v":""},{"$f":"'Physical Stats'!BD17","v":""},{"$f":"'Physical Stats'!BE17","v":""},null,{"$f":"'Physical Stats'!I17","v":""}]
[null,{"$f":"IF('Data Ffisegol'!J18=\"\",\"\",'Data Ffisegol'!J18)","v":""},{"$f":"'Physical Stats'!P18","v":""},{"$f":"'Physical Stats'!Q18","v":""},{"$f":"'Physical Stats'!R18","v":""},{"$f":"'Physical Stats'!S18","v":""},{"$f":"'Physical Stats'!T18","v":""},{"$f":"'Physical Stats'!U18","v":""},{"$f":"'Physical Stats'!V18","v":""},{"$f":"'Physical Stats'!W18","v":""},{"$f":"'Physical Stats'!X18","v":""},{"$f":"'Physical Stats'!Y18","v":""},{"$f":"'Physical Stats'!Z18","v":""},{"$f":"'Physical Stats'!AA18","v":""},{"$f":"'Physical Stats'!AB18","v":""},{"$f":"'Physical Stats'!AC18","v":""},{"$f":"'Physical Stats'!AD18","v":""},{"$f":"'Physical Stats'!AE18","v":""},{"$f":"'Physical Stats'!AF18","v":""},{"$f":"'Physical Stats'!AG18","v":""},{"$f":"'Physical Stats'!AH18","v":""},{"$f":"'Physical Stats'!AI18","v":""},{"$f":"'Physical Stats'!AJ18","v":""},{"$f":"'Physical Stats'!AK18","v":""},{"$f":"'Physical Stats'!AL18","v":""},{"$f":"'Physical Stats'!AM18","v":""},{"$f":"'Physical Stats'!AN18","v":""},{"$f":"'Physical Stats'!AO18","v":""},{"$f":"'Physical Stats'!AP18","v":""},{"$f":"'Physical Stats'!AQ18","v":""},{"$f":"'Physical Stats'!AR18","v":""},{"$f":"'Physical Stats'!AS18","v":""},{"$f":"'Physical Stats'!AT18","v":""},{"$f":"'Physical Stats'!AU18","v":""},{"$f":"'Physical Stats'!AV18","v":""},{"$f":"'Physical Stats'!AW18","v":""},{"$f":"'Physical Stats'!AX18","v":""},{"$f":"'Physical Stats'!AY18","v":""},{"$f":"'Physical Stats'!AZ18","v":""},{"$f":"'Physical Stats'!BA18","v":""},{"$f":"'Physical Stats'!BB18","v":""},{"$f":"'Physical Stats'!BC18","v":""},{"$f":"'Physical Stats'!BD18","v":""},{"$f":"'Physical Stats'!BE18","v":""},null,{"$f":"'Physical Stats'!I18","v":""}]
[null,{"$f":"IF('Data Ffisegol'!J19=\"\",\"\",'Data Ffisegol'!J19)","v":""},{"$f":"'Physical Stats'!P19","v":""},{"$f":"'Physical Stats'!Q19","v":""},{"$f":"'Physical Stats'!R19","v":""},{"$f":"'Physical Stats'!S19","v":""},{"$f":"'Physical Stats'!T19","v":""},{"$f":"'Physical Stats'!U19","v":""},{"$f":"'Physical Stats'!V19","v":""},{"$f":"'Physical Stats'!W19","v":""},{"$f":"'Physical Stats'!X19","v":""},{"$f":"'Physical Stats'!Y19","v":""},{"$f":"'Physical Stats'!Z19","v":""},{"$f":"'Physical Stats'!AA19","v":""},{"$f":"'Physical Stats'!AB19","v":""},{"$f":"'Physical Stats'!AC19","v":""},{"$f":"'Physical Stats'!AD19","v":""},{"$f":"'Physical Stats'!AE19","v":""},{"$f":"'Physical Stats'!AF19","v":""},{"$f":"'Physical Stats'!AG19","v":""},{"$f":"'Physical Stats'!AH19","v":""},{"$f":"'Physical Stats'!AI19","v":""},{"$f":"'Physical Stats'!AJ19","v":""},{"$f":"'Physical Stats'!AK19","v":""},{"$f":"'Physical Stats'!AL19","v":""},{"$f":"'Physical Stats'!AM19","v":""},{"$f":"'Physical Stats'!AN19","v":""},{"$f":"'Physical Stats'!AO19","v":""},{"$f":"'Physical Stats'!AP19","v":""},{"$f":"'Physical Stats'!AQ19","v":""},{"$f":"'Physical Stats'!AR19","v":""},{"$f":"'Physical Stats'!AS19","v":""},{"$f":"'Physical Stats'!AT19","v":""},{"$f":"'Physical Stats'!AU19","v":""},{"$f":"'Physical Stats'!AV19","v":""},{"$f":"'Physical Stats'!AW19","v":""},{"$f":"'Physical Stats'!AX19","v":""},{"$f":"'Physical Stats'!AY19","v":""},{"$f":"'Physical Stats'!AZ19","v":""},{"$f":"'Physical Stats'!BA19","v":""},{"$f":"'Physical Stats'!BB19","v":""},{"$f":"'Physical Stats'!BC19","v":""},{"$f":"'Physical Stats'!BD19","v":""},{"$f":"'Physical Stats'!BE19","v":""},null,{"$f":"'Physical Stats'!I19","v":""}]
[null,{"$f":"IF('Data Ffisegol'!J20=\"\",\"\",'Data Ffisegol'!J20)","v":""},{"$f":"'Physical Stats'!P20","v":""},{"$f":"'Physical Stats'!Q20","v":""},{"$f":"'Physical Stats'!R20","v":""},{"$f":"'Physical Stats'!S20","v":""},{"$f":"'Physical Stats'!T20","v":""},{"$f":"'Physical Stats'!U20","v":""},{"$f":"'Physical Stats'!V20","v":""},{"$f":"'Physical Stats'!W20","v":""},{"$f":"'Physical Stats'!X20","v":""},{"$f":"'Physical Stats'!Y20","v":""},{"$f":"'Physical Stats'!Z20","v":""},{"$f":"'Physical Stats'!AA20","v":""},{"$f":"'Physical Stats'!AB20","v":""},{"$f":"'Physical Stats'!AC20","v":""},{"$f":"'Physical Stats'!AD20","v":""},{"$f":"'Physical Stats'!AE20","v":""},{"$f":"'Physical Stats'!AF20","v":""},{"$f":"'Physical Stats'!AG20","v":""},{"$f":"'Physical Stats'!AH20","v":""},{"$f":"'Physical Stats'!AI20","v":""},{"$f":"'Physical Stats'!AJ20","v":""},{"$f":"'Physical Stats'!AK20","v":""},{"$f":"'Physical Stats'!AL20","v":""},{"$f":"'Physical Stats'!AM20","v":""},{"$f":"'Physical Stats'!AN20","v":""},{"$f":"'Physical Stats'!AO20","v":""},{"$f":"'Physical Stats'!AP20","v":""},{"$f":"'Physical Stats'!AQ20","v":""},{"$f":"'Physical Stats'!AR20","v":""},{"$f":"'Physical Stats'!AS20","v":""},{"$f":"'Physical Stats'!AT20","v":""},{"$f":"'Physical Stats'!AU20","v":""},{"$f":"'Physical Stats'!AV20","v":""},{"$f":"'Physical Stats'!AW20","v":""},{"$f":"'Physical Stats'!AX20","v":""},{"$f":"'Physical Stats'!AY20","v":""},{"$f":"'Physical Stats'!AZ20","v":""},{"$f":"'Physical Stats'!BA20","v":""},{"$f":"'Physical Stats'!BB20","v":""},{"$f":"'Physical Stats'!BC20","v":""},{"$f":"'Physical Stats'!BD20","v":""},{"$f":"'Physical Stats'!BE20","v":""},null,{"$f":"'Physical Stats'!I20","v":""}]
[null,{"$f":"IF('Data Ffisegol'!J21=\"\",\"\",'Data Ffisegol'!J21)","v":""},{"$f":"'Physical Stats'!P21","v":""},{"$f":"'Physical Stats'!Q21","v":""},{"$f":"'Physical Stats'!R21","v":""},{"$f":"'Physical Stats'!S21","v":""},{"$f":"'Physical Stats'!T21","v":""},{"$f":"'Physical Stats'!U21","v":""},{"$f":"'Physical Stats'!V21","v":""},{"$f":"'Physical Stats'!W21","v":""},{"$f":"'Physical Stats'!X21","v":""},{"$f":"'Physical Stats'!Y21","v":""},{"$f":"'Physical Stats'!Z21","v":""},{"$f":"'Physical Stats'!AA21","v":""},{"$f":"'Physical Stats'!AB21","v":""},{"$f":"'Physical Stats'!AC21","v":""},{"$f":"'Physical Stats'!AD21","v":""},{"$f":"'Physical Stats'!AE21","v":""},{"$f":"'Physical Stats'!AF21","v":""},{"$f":"'Physical Stats'!AG21","v":""},{"$f":"'Physical Stats'!AH21","v":""},{"$f":"'Physical Stats'!AI21","v":""},{"$f":"'Physical Stats'!AJ21","v":""},{"$f":"'Physical Stats'!AK21","v":""},{"$f":"'Physical Stats'!AL21","v":""},{"$f":"'Physical Stats'!AM21","v":""},{"$f":"'Physical Stats'!AN21","v":""},{"$f":"'Physical Stats'!AO21","v":""},{"$f":"'Physical Stats'!AP21","v":""},{"$f":"'Physical Stats'!AQ21","v":""},{"$f":"'Physical Stats'!AR21","v":""},{"$f":"'Physical Stats'!AS21","v":""},{"$f":"'Physical Stats'!AT21","v":""},{"$f":"'Physical Stats'!AU21","v":""},{"$f":"'Physical Stats'!AV21","v":""},{"$f":"'Physical Stats'!AW21","v":""},{"$f":"'Physical Stats'!AX21","v":""},{"$f":"'Physical Stats'!AY21","v":""},{"$f":"'Physical Stats'!AZ21","v":""},{"$f":"'Physical Stats'!BA21","v":""},{"$f":"'Physical Stats'!BB21","v":""},{"$f":"'Physical Stats'!BC21","v":""},{"$f":"'Physical Stats'!BD21","v":""},{"$f":"'Physical Stats'!BE21","v":""},null,{"$f":"'Physical Stats'!I21","v":""}]
[null,{"$f":"IF('Data Ffisegol'!J22=\"\",\"\",'Data Ffisegol'!J22)","v":""},{"$f":"'Physical Stats'!P22","v":""},{"$f":"'Physical Stats'!Q22","v":""},{"$f":"'Physical Stats'!R22","v":""},{"$f":"'Physical Stats'!S22","v":""},{"$f":"'Physical Stats'!T22","v":""},{"$f":"'Physical Stats'!U22","v":""},{"$f":"'Physical Stats'!V22","v":""},{"$f":"'Physical Stats'!W22","v":""},{"$f":"'Physical Stats'!X22","v":""},{"$f":"'Physical Stats'!Y22","v":""},{"$f":"'Physical Stats'!Z22","v":""},{"$f":"'Physical Stats'!AA22","v":""},{"$f":"'Physical Stats'!AB22","v":""},{"$f":"'Physical Stats'!AC22","v":""},{"$f":"'Physical Stats'!AD22","v":""},{"$f":"'Physical Stats'!AE22","v":""},{"$f":"'Physical Stats'!AF22","v":""},{"$f":"'Physical Stats'!AG22","v":""},{"$f":"'Physical Stats'!AH22","v":""},{"$f":"'Physical Stats'!AI22","v":""},{"$f":"'Physical Stats'!AJ22","v":""},{"$f":"'Physical Stats'!AK22","v":""},{"$f":"'Physical Stats'!AL22","v":""},{"$f":"'Physical Stats'!AM22","v":""},{"$f":"'Physical Stats'!AN22","v":""},{"$f":"'Physical Stats'!AO22","v":""},{"$f":"'Physical Stats'!AP22","v":""},{"$f":"'Physical Stats'!AQ22","v":""},{"$f":"'Physical Stats'!AR22","v":""},{"$f":"'Physical Stats'!AS22","v":""},{"$f":"'Physical Stats'!AT22","v":""},{"$f":"'Physical Stats'!AU22","v":""},{"$f":"'Physical Stats'!AV22","v":""},{"$f":"'Physical Stats'!AW22","v":""},{"$f":"'Physical Stats'!AX22","v":""},{"$f":"'Physical Stats'!AY22","v":""},{"$f":"'Physical Stats'!AZ22","v":""},{"$f":"'Physical Stats'!BA22","v":""},{"$f":"'Physical Stats'!BB22","v":""},{"$f":"'Physical Stats'!BC22","v":""},{"$f":"'Physical Stats'!BD22","v":""},{"$f":"'Physical Stats'!BE22","v":""},null,{"$f":"'Physical Stats'!I22","v":""}]
[null,{"$f":"IF('Data Ffisegol'!J23=\"\",\"\",'Data Ffisegol'!J23)","v":""},{"$f":"'Physical Stats'!P23","v":""},{"$f":"'Physical Stats'!Q23","v":""},{"$f":"'Physical Stats'!R23","v":""},{"$f":"'Physical Stats'!S23","v":""},{"$f":"'Physical Stats'!T23","v":""},{"$f":"'Physical Stats'!U23","v":""},{"$f":"'Physical Stats'!V23","v":""},{"$f":"'Physical Stats'!W23","v":""},{"$f":"'Physical Stats'!X23","v":""},{"$f":"'Physical Stats'!Y23","v":""},{"$f":"'Physical Stats'!Z23","v":""},{"$f":"'Physical Stats'!AA23","v":""},{"$f":"'Physical Stats'!AB23","v":""},{"$f":"'Physical Stats'!AC23","v":""},{"$f":"'Physical Stats'!AD23","v":""},{"$f":"'Physical Stats'!AE23","v":""},{"$f":"'Physical Stats'!AF23","v":""},{"$f":"'Physical Stats'!AG23","v":""},{"$f":"'Physical Stats'!AH23","v":""},{"$f":"'Physical Stats'!AI23","v":""},{"$f":"'Physical Stats'!AJ23","v":""},{"$f":"'Physical Stats'!AK23","v":""},{"$f":"'Physical Stats'!AL23","v":""},{"$f":"'Physical Stats'!AM23","v":""},{"$f":"'Physical Stats'!AN23","v":""},{"$f":"'Physical Stats'!AO23","v":""},{"$f":"'Physical Stats'!AP23","v":""},{"$f":"'Physical Stats'!AQ23","v":""},{"$f":"'Physical Stats'!AR23","v":""},{"$f":"'Physical Stats'!AS23","v":""},{"$f":"'Physical Stats'!AT23","v":""},{"$f":"'Physical Stats'!AU23","v":""},{"$f":"'Physical Stats'!AV23","v":""},{"$f":"'Physical Stats'!AW23","v":""},{"$f":"'Physical Stats'!AX23","v":""},{"$f":"'Physical Stats'!AY23","v":""},{"$f":"'Physical Stats'!AZ23","v":""},{"$f":"'Physical Stats'!BA23","v":""},{"$f":"'Physical Stats'!BB23","v":""},{"$f":"'Physical Stats'!BC23","v":""},{"$f":"'Physical Stats'!BD23","v":""},{"$f":"'Physical Stats'!BE23","v":""},null,{"$f":"'Physical Stats'!I23","v":""}]
[null,{"$f":"IF('Data Ffisegol'!J24=\"\",\"\",'Data Ffisegol'!J24)","v":""},{"$f":"'Physical Stats'!P24","v":""},{"$f":"'Physical Stats'!Q24","v":""},{"$f":"'Physical Stats'!R24","v":""},{"$f":"'Physical Stats'!S24","v":""},{"$f":"'Physical Stats'!T24","v":""},{"$f":"'Physical Stats'!U24","v":""},{"$f":"'Physical Stats'!V24","v":""},{"$f":"'Physical Stats'!W24","v":""},{"$f":"'Physical Stats'!X24","v":""},{"$f":"'Physical Stats'!Y24","v":""},{"$f":"'Physical Stats'!Z24","v":""},{"$f":"'Physical Stats'!AA24","v":""},{"$f":"'Physical Stats'!AB24","v":""},{"$f":"'Physical Stats'!AC24","v":""},{"$f":"'Physical Stats'!AD24","v":""},{"$f":"'Physical Stats'!AE24","v":""},{"$f":"'Physical Stats'!AF24","v":""},{"$f":"'Physical Stats'!AG24","v":""},{"$f":"'Physical Stats'!AH24","v":""},{"$f":"'Physical Stats'!AI24","v":""},{"$f":"'Physical Stats'!AJ24","v":""},{"$f":"'Physical Stats'!AK24","v":""},{"$f":"'Physical Stats'!AL24","v":""},{"$f":"'Physical Stats'!AM24","v":""},{"$f":"'Physical Stats'!AN24","v":""},{"$f":"'Physical Stats'!AO24","v":""},{"$f":"'Physical Stats'!AP24","v":""},{"$f":"'Physical Stats'!AQ24","v":""},{"$f":"'Physical Stats'!AR24","v":""},{"$f":"'Physical Stats'!AS24","v":""},{"$f":"'Physical Stats'!AT24","v":""},{"$f":"'Physical Stats'!AU24","v":""},{"$f":"'Physical Stats'!AV24","v":""},{"$f":"'Physical Stats'!AW24","v":""},{"$f":"'Physical Stats'!AX24","v":""},{"$f":"'Physical Stats'!AY24","v":""},{"$f":"'Physical Stats'!AZ24","v":""},{"$f":"'Physical Stats'!BA24","v":""},{"$f":"'Physical Stats'!BB24","v":""},{"$f":"'Physical Stats'!BC24","v":""},{"$f":"'Physical Stats'!BD24","v":""},{"$f":"'Physical Stats'!BE24","v":""},null,{"$f":"'Physical Stats'!I24","v":""}]
[null,{"$f":"IF('Data Ffisegol'!J25=\"\",\"\",'Data Ffisegol'!J25)","v":""},{"$f":"'Physical Stats'!P25","v":""},{"$f":"'Physical Stats'!Q25","v":""},{"$f":"'Physical Stats'!R25","v":""},{"$f":"'Physical Stats'!S25","v":""},{"$f":"'Physical Stats'!T25","v":""},{"$f":"'Physical Stats'!U25","v":""},{"$f":"'Physical Stats'!V25","v":""},{"$f":"'Physical Stats'!W25","v":""},{"$f":"'Physical Stats'!X25","v":""},{"$f":"'Physical Stats'!Y25","v":""},{"$f":"'Physical Stats'!Z25","v":""},{"$f":"'Physical Stats'!AA25","v":""},{"$f":"'Physical Stats'!AB25","v":""},{"$f":"'Physical Stats'!AC25","v":""},{"$f":"'Physical Stats'!AD25","v":""},{"$f":"'Physical Stats'!AE25","v":""},{"$f":"'Physical Stats'!AF25","v":""},{"$f":"'Physical Stats'!AG25","v":""},{"$f":"'Physical Stats'!AH25","v":""},{"$f":"'Physical Stats'!AI25","v":""},{"$f":"'Physical Stats'!AJ25","v":""},{"$f":"'Physical Stats'!AK25","v":""},{"$f":"'Physical Stats'!AL25","v":""},{"$f":"'Physical Stats'!AM25","v":""},{"$f":"'Physical Stats'!AN25","v":""},{"$f":"'Physical Stats'!AO25","v":""},{"$f":"'Physical Stats'!AP25","v":""},{"$f":"'Physical Stats'!AQ25","v":""},{"$f":"'Physical Stats'!AR25","v":""},{"$f":"'Physical Stats'!AS25","v":""},{"$f":"'Physical Stats'!AT25","v":""},{"$f":"'Physical Stats'!AU25","v":""},{"$f":"'Physical Stats'!AV25","v":""},{"$f":"'Physical Stats'!AW25","v":""},{"$f":"'Physical Stats'!AX25","v":""},{"$f":"'Physical Stats'!AY25","v":""},{"$f":"'Physical Stats'!AZ25","v":""},{"$f":"'Physical Stats'!BA25","v":""},{"$f":"'Physical Stats'!BB25","v":""},{"$f":"'Physical Stats'!BC25","v":""},{"$f":"'Physical Stats'!BD25","v":""},{"$f":"'Physical Stats'!BE25","v":""},null,{"$f":"'Physical Stats'!I25","v":""}]
[null,{"$f":"IF('Data Ffisegol'!J26=\"\",\"\",'Data Ffisegol'!J26)","v":""},{"$f":"'Physical Stats'!P26","v":""},{"$f":"'Physical Stats'!Q26","v":""},{"$f":"'Physical Stats'!R26","v":""},{"$f":"'Physical Stats'!S26","v":""},{"$f":"'Physical Stats'!T26","v":""},{"$f":"'Physical Stats'!U26","v":""},{"$f":"'Physical Stats'!V26","v":""},{"$f":"'Physical Stats'!W26","v":""},{"$f":"'Physical Stats'!X26","v":""},{"$f":"'Physical Stats'!Y26","v":""},{"$f":"'Physical Stats'!Z26","v":""},{"$f":"'Physical Stats'!AA26","v":""},{"$f":"'Physical Stats'!AB26","v":""},{"$f":"'Physical Stats'!AC26","v":""},{"$f":"'Physical Stats'!AD26","v":""},{"$f":"'Physical Stats'!AE26","v":""},{"$f":"'Physical Stats'!AF26","v":""},{"$f":"'Physical Stats'!AG26","v":""},{"$f":"'Physical Stats'!AH26","v":""},{"$f":"'Physical Stats'!AI26","v":""},{"$f":"'Physical Stats'!AJ26","v":""},{"$f":"'Physical Stats'!AK26","v":""},{"$f":"'Physical Stats'!AL26","v":""},{"$f":"'Physical Stats'!AM26","v":""},{"$f":"'Physical Stats'!AN26","v":""},{"$f":"'Physical Stats'!AO26","v":""},{"$f":"'Physical Stats'!AP26","v":""},{"$f":"'Physical Stats'!AQ26","v":""},{"$f":"'Physical Stats'!AR26","v":""},{"$f":"'Physical Stats'!AS26","v":""},{"$f":"'Physical Stats'!AT26","v":""},{"$f":"'Physical Stats'!AU26","v":""},{"$f":"'Physical Stats'!AV26","v":""},{"$f":"'Physical Stats'!AW26","v":""},{"$f":"'Physical Stats'!AX26","v":""},{"$f":"'Physical Stats'!AY26","v":""},{"$f":"'Physical Stats'!AZ26","v":""},{"$f":"'Physical Stats'!BA26","v":""},{"$f":"'Physical Stats'!BB26","v":""},{"$f":"'Physical Stats'!BC26","v":""},{"$f":"'Physical Stats'!BD26","v":""},{"$f":"'Physical Stats'!BE26","v":""},null,{"$f":"'Physical Stats'!I26","v":""}]
[null,{"$f":"IF('Data Ffisegol'!J27=\"\",\"\",'Data Ffisegol'!J27)","v":""},{"$f":"'Physical Stats'!P27","v":""},{"$f":"'Physical Stats'!Q27","v":""},{"$f":"'Physical Stats'!R27","v":""},{"$f":"'Physical Stats'!S27","v":""},{"$f":"'Physical Stats'!T27","v":""},{"$f":"'Physical Stats'!U27","v":""},{"$f":"'Physical Stats'!V27","v":""},{"$f":"'Physical Stats'!W27","v":""},{"$f":"'Physical Stats'!X27","v":""},{"$f":"'Physical Stats'!Y27","v":""},{"$f":"'Physical Stats'!Z27","v":""},{"$f":"'Physical Stats'!AA27","v":""},{"$f":"'Physical Stats'!AB27","v":""},{"$f":"'Physical Stats'!AC27","v":""},{"$f":"'Physical Stats'!AD27","v":""},{"$f":"'Physical Stats'!AE27","v":""},{"$f":"'Physical Stats'!AF27","v":""},{"$f":"'Physical Stats'!AG27","v":""},{"$f":"'Physical Stats'!AH27","v":""},{"$f":"'Physical Stats'!AI27","v":""},{"$f":"'Physical Stats'!AJ27","v":""},{"$f":"'Physical Stats'!AK27","v":""},{"$f":"'Physical Stats'!AL27","v":""},{"$f":"'Physical Stats'!AM27","v":""},{"$f":"'Physical Stats'!AN27","v":""},{"$f":"'Physical Stats'!AO27","v":""},{"$f":"'Physical Stats'!AP27","v":""},{"$f":"'Physical Stats'!AQ27","v":""},{"$f":"'Physical Stats'!AR27","v":""},{"$f":"'Physical Stats'!AS27","v":""},{"$f":"'Physical Stats'!AT27","v":""},{"$f":"'Physical Stats'!AU27","v":""},{"$f":"'Physical Stats'!AV27","v":""},{"$f":"'Physical Stats'!AW27","v":""},{"$f":"'Physical Stats'!AX27","v":""},{"$f":"'Physical Stats'!AY27","v":""},{"$f":"'Physical Stats'!AZ27","v":""},{"$f":"'Physical Stats'!BA27","v":""},{"$f":"'Physical Stats'!BB27","v":""},{"$f":"'Physical Stats'!BC27","v":""},{"$f":"'Physical Stats'!BD27","v":""},{"$f":"'Physical Stats'!BE27","v":""},null,{"$f":"'Physical Stats'!I27","v":""}]
[null,{"$f":"IF('Data Ffisegol'!J28=\"\",\"\",'Data Ffisegol'!J28)","v":""},{"$f":"'Physical Stats'!P28","v":""},{"$f":"'Physical Stats'!Q28","v":""},{"$f":"'Physical Stats'!R28","v":""},{"$f":"'Physical Stats'!S28","v":""},{"$f":"'Physical Stats'!T28","v":""},{"$f":"'Physical Stats'!U28","v":""},{"$f":"'Physical Stats'!V28","v":""},{"$f":"'Physical Stats'!W28","v":""},{"$f":"'Physical Stats'!X28","v":""},{"$f":"'Physical Stats'!Y28","v":""},{"$f":"'Physical Stats'!Z28","v":""},{"$f":"'Physical Stats'!AA28","v":""},{"$f":"'Physical Stats'!AB28","v":""},{"$f":"'Physical Stats'!AC28","v":""},{"$f":"'Physical Stats'!AD28","v":""},{"$f":"'Physical Stats'!AE28","v":""},{"$f":"'Physical Stats'!AF28","v":""},{"$f":"'Physical Stats'!AG28","v":""},{"$f":"'Physical Stats'!AH28","v":""},{"$f":"'Physical Stats'!AI28","v":""},{"$f":"'Physical Stats'!AJ28","v":""},{"$f":"'Physical Stats'!AK28","v":""},{"$f":"'Physical Stats'!AL28","v":""},{"$f":"'Physical Stats'!AM28","v":""},{"$f":"'Physical Stats'!AN28","v":""},{"$f":"'Physical Stats'!AO28","v":""},{"$f":"'Physical Stats'!AP28","v":""},{"$f":"'Physical Stats'!AQ28","v":""},{"$f":"'Physical Stats'!AR28","v":""},{"$f":"'Physical Stats'!AS28","v":""},{"$f":"'Physical Stats'!AT28","v":""},{"$f":"'Physical Stats'!AU28","v":""},{"$f":"'Physical Stats'!AV28","v":""},{"$f":"'Physical Stats'!AW28","v":""},{"$f":"'Physical Stats'!AX28","v":""},{"$f":"'Physical Stats'!AY28","v":""},{"$f":"'Physical Stats'!AZ28","v":""},{"$f":"'Physical Stats'!BA28","v":""},{"$f":"'Physical Stats'!BB28","v":""},{"$f":"'Physical Stats'!BC28","v":""},{"$f":"'Physical Stats'!BD28","v":""},{"$f":"'Physical Stats'!BE28","v":""},null,{"$f":"'Physical Stats'!I28","v":""}]
[null,{"$f":"IF('Data Ffisegol'!J29=\"\",\"\",'Data Ffisegol'!J29)","v":""},{"$f":"'Physical Stats'!P29","v":""},{"$f":"'Physical Stats'!Q29","v":""},{"$f":"'Physical Stats'!R29","v":""},{"$f":"'Physical Stats'!S29","v":""},{"$f":"'Physical Stats'!T29","v":""},{"$f":"'Physical Stats'!U29","v":""},{"$f":"'Physical Stats'!V29","v":""},{"$f":"'Physical Stats'!W29","v":""},{"$f":"'Physical Stats'!X29","v":""},{"$f":"'Physical Stats'!Y29","v":""},{"$f":"'Physical Stats'!Z29","v":""},{"$f":"'Physical Stats'!AA29","v":""},{"$f":"'Physical Stats'!AB29","v":""},{"$f":"'Physical Stats'!AC29","v":""},{"$f":"'Physical Stats'!AD29","v":""},{"$f":"'Physical Stats'!AE29","v":""},{"$f":"'Physical Stats'!AF29","v":""},{"$f":"'Physical Stats'!AG29","v":""},{"$f":"'Physical Stats'!AH29","v":""},{"$f":"'Physical Stats'!AI29","v":""},{"$f":"'Physical Stats'!AJ29","v":""},{"$f":"'Physical Stats'!AK29","v":""},{"$f":"'Physical Stats'!AL29","v":""},{"$f":"'Physical Stats'!AM29","v":""},{"$f":"'Physical Stats'!AN29","v":""},{"$f":"'Physical Stats'!AO29","v":""},{"$f":"'Physical Stats'!AP29","v":""},{"$f":"'Physical Stats'!AQ29","v":""},{"$f":"'Physical Stats'!AR29","v":""},{"$f":"'Physical Stats'!AS29","v":""},{"$f":"'Physical Stats'!AT29","v":""},{"$f":"'Physical Stats'!AU29","v":""},{"$f":"'Physical Stats'!AV29","v":""},{"$f":"'Physical Stats'!AW29","v":""},{"$f":"'Physical Stats'!AX29","v":""},{"$f":"'Physical Stats'!AY29","v":""},{"$f":"'Physical Stats'!AZ29","v":""},{"$f":"'Physical Stats'!BA29","v":""},{"$f":"'Physical Stats'!BB29","v":""},{"$f":"'Physical Stats'!BC29","v":""},{"$f":"'Physical Stats'!BD29","v":""},{"$f":"'Physical Stats'!BE29","v":""},null,{"$f":"'Physical Stats'!I29","v":""}]
[null,{"$f":"IF('Data Ffisegol'!J30=\"\",\"\",'Data Ffisegol'!J30)","v":""},{"$f":"'Physical Stats'!P30","v":""},{"$f":"'Physical Stats'!Q30","v":""},{"$f":"'Physical Stats'!R30","v":""},{"$f":"'Physical Stats'!S30","v":""},{"$f":"'Physical Stats'!T30","v":""},{"$f":"'Physical Stats'!U30","v":""},{"$f":"'Physical Stats'!V30","v":""},{"$f":"'Physical Stats'!W30","v":""},{"$f":"'Physical Stats'!X30","v":""},{"$f":"'Physical Stats'!Y30","v":""},{"$f":"'Physical Stats'!Z30","v":""},{"$f":"'Physical Stats'!AA30","v":""},{"$f":"'Physical Stats'!AB30","v":""},{"$f":"'Physical Stats'!AC30","v":""},{"$f":"'Physical Stats'!AD30","v":""},{"$f":"'Physical Stats'!AE30","v":""},{"$f":"'Physical Stats'!AF30","v":""},{"$f":"'Physical Stats'!AG30","v":""},{"$f":"'Physical Stats'!AH30","v":""},{"$f":"'Physical Stats'!AI30","v":""},{"$f":"'Physical Stats'!AJ30","v":""},{"$f":"'Physical Stats'!AK30","v":""},{"$f":"'Physical Stats'!AL30","v":""},{"$f":"'Physical Stats'!AM30","v":""},{"$f":"'Physical Stats'!AN30","v":""},{"$f":"'Physical Stats'!AO30","v":""},{"$f":"'Physical Stats'!AP30","v":""},{"$f":"'Physical Stats'!AQ30","v":""},{"$f":"'Physical Stats'!AR30","v":""},{"$f":"'Physical Stats'!AS30","v":""},{"$f":"'Physical Stats'!AT30","v":""},{"$f":"'Physical Stats'!AU30","v":""},{"$f":"'Physical Stats'!AV30","v":""},{"$f":"'Physical Stats'!AW30","v":""},{"$f":"'Physical Stats'!AX30","v":""},{"$f":"'Physical Stats'!AY30","v":""},{"$f":"'Physical Stats'!AZ30","v":""},{"$f":"'Physical Stats'!BA30","v":""},{"$f":"'Physical Stats'!BB30","v":""},{"$f":"'Physical Stats'!BC30","v":""},{"$f":"'Physical Stats'!BD30","v":""},{"$f":"'Physical Stats'!BE30","v":""},null,{"$f":"'Physical Stats'!I30","v":""}]
[null,{"$f":"IF('Data Ffisegol'!J31=\"\",\"\",'Data Ffisegol'!J31)","v":""},{"$f":"'Physical Stats'!P31","v":""},{"$f":"'Physical Stats'!Q31","v":""},{"$f":"'Physical Stats'!R31","v":""},{"$f":"'Physical Stats'!S31","v":""},{"$f":"'Physical Stats'!T31","v":""},{"$f":"'Physical Stats'!U31","v":""},{"$f":"'Physical Stats'!V31","v":""},{"$f":"'Physical Stats'!W31","v":""},{"$f":"'Physical Stats'!X31","v":""},{"$f":"'Physical Stats'!Y31","v":""},{"$f":"'Physical Stats'!Z31","v":""},{"$f":"'Physical Stats'!AA31","v":""},{"$f":"'Physical Stats'!AB31","v":""},{"$f":"'Physical Stats'!AC31","v":""},{"$f":"'Physical Stats'!AD31","v":""},{"$f":"'Physical Stats'!AE31","v":""},{"$f":"'Physical Stats'!AF31","v":""},{"$f":"'Physical Stats'!AG31","v":""},{"$f":"'Physical Stats'!AH31","v":""},{"$f":"'Physical Stats'!AI31","v":""},{"$f":"'Physical Stats'!AJ31","v":""},{"$f":"'Physical Stats'!AK31","v":""},{"$f":"'Physical Stats'!AL31","v":""},{"$f":"'Physical Stats'!AM31","v":""},{"$f":"'Physical Stats'!AN31","v":""},{"$f":"'Physical Stats'!AO31","v":""},{"$f":"'Physical Stats'!AP31","v":""},{"$f":"'Physical Stats'!AQ31","v":""},{"$f":"'Physical Stats'!AR31","v":""},{"$f":"'Physical Stats'!AS31","v":""},{"$f":"'Physical Stats'!AT31","v":""},{"$f":"'Physical Stats'!AU31","v":""},{"$f":"'Physical Stats'!AV31","v":""},{"$f":"'Physical Stats'!AW31","v":""},{"$f":"'Physical Stats'!AX31","v":""},{"$f":"'Physical Stats'!AY31","v":""},{"$f":"'Physical Stats'!AZ31","v":""},{"$f":"'Physical Stats'!BA31","v":""},{"$f":"'Physical Stats'!BB31","v":""},{"$f":"'Physical Stats'!BC31","v":""},{"$f":"'Physical Stats'!BD31","v":""},{"$f":"'Physical Stats'!BE31","v":""},null,{"$f":"'Physical Stats'!I31","v":""}]
[null,{"$f":"IF('Data Ffisegol'!J32=\"\",\"\",'Data Ffisegol'!J32)","v":""},{"$f":"'Physical Stats'!P32","v":""},{"$f":"'Physical Stats'!Q32","v":""},{"$f":"'Physical Stats'!R32","v":""},{"$f":"'Physical Stats'!S32","v":""},{"$f":"'Physical Stats'!T32","v":""},{"$f":"'Physical Stats'!U32","v":""},{"$f":"'Physical Stats'!V32","v":""},{"$f":"'Physical Stats'!W32","v":""},{"$f":"'Physical Stats'!X32","v":""},{"$f":"'Physical Stats'!Y32","v":""},{"$f":"'Physical Stats'!Z32","v":""},{"$f":"'Physical Stats'!AA32","v":""},{"$f":"'Physical Stats'!AB32","v":""},{"$f":"'Physical Stats'!AC32","v":""},{"$f":"'Physical Stats'!AD32","v":""},{"$f":"'Physical Stats'!AE32","v":""},{"$f":"'Physical Stats'!AF32","v":""},{"$f":"'Physical Stats'!AG32","v":""},{"$f":"'Physical Stats'!AH32","v":""},{"$f":"'Physical Stats'!AI32","v":""},{"$f":"'Physical Stats'!AJ32","v":""},{"$f":"'Physical Stats'!AK32","v":""},{"$f":"'Physical Stats'!AL32","v":""},{"$f":"'Physical Stats'!AM32","v":""},{"$f":"'Physical Stats'!AN32","v":""},{"$f":"'Physical Stats'!AO32","v":""},{"$f":"'Physical Stats'!AP32","v":""},{"$f":"'Physical Stats'!AQ32","v":""},{"$f":"'Physical Stats'!AR32","v":""},{"$f":"'Physical Stats'!AS32","v":""},{"$f":"'Physical Stats'!AT32","v":""},{"$f":"'Physical Stats'!AU32","v":""},{"$f":"'Physical Stats'!AV32","v":""},{"$f":"'Physical Stats'!AW32","v":""},{"$f":"'Physical Stats'!AX32","v":""},{"$f":"'Physical Stats'!AY32","v":""},{"$f":"'Physical Stats'!AZ32","v":""},{"$f":"'Physical Stats'!BA32","v":""},{"$f":"'Physical Stats'!BB32","v":""},{"$f":"'Physical Stats'!BC32","v":""},{"$f":"'Physical Stats'!BD32","v":""},{"$f":"'Physical Stats'!BE32","v":""},null,{"$f":"'Physical Stats'!I32","v":""}]
[null,{"$f":"IF('Data Ffisegol'!J33=\"\",\"\",'Data Ffisegol'!J33)","v":""},{"$f":"'Physical Stats'!P33","v":""},{"$f":"'Physical Stats'!Q33","v":""},{"$f":"'Physical Stats'!R33","v":""},{"$f":"'Physical Stats'!S33","v":""},{"$f":"'Physical Stats'!T33","v":""},{"$f":"'Physical Stats'!U33","v":""},{"$f":"'Physical Stats'!V33","v":""},{"$f":"'Physical Stats'!W33","v":""},{"$f":"'Physical Stats'!X33","v":""},{"$f":"'Physical Stats'!Y33","v":""},{"$f":"'Physical Stats'!Z33","v":""},{"$f":"'Physical Stats'!AA33","v":""},{"$f":"'Physical Stats'!AB33","v":""},{"$f":"'Physical Stats'!AC33","v":""},{"$f":"'Physical Stats'!AD33","v":""},{"$f":"'Physical Stats'!AE33","v":""},{"$f":"'Physical Stats'!AF33","v":""},{"$f":"'Physical Stats'!AG33","v":""},{"$f":"'Physical Stats'!AH33","v":""},{"$f":"'Physical Stats'!AI33","v":""},{"$f":"'Physical Stats'!AJ33","v":""},{"$f":"'Physical Stats'!AK33","v":""},{"$f":"'Physical Stats'!AL33","v":""},{"$f":"'Physical Stats'!AM33","v":""},{"$f":"'Physical Stats'!AN33","v":""},{"$f":"'Physical Stats'!AO33","v":""},{"$f":"'Physical Stats'!AP33","v":""},{"$f":"'Physical Stats'!AQ33","v":""},{"$f":"'Physical Stats'!AR33","v":""},{"$f":"'Physical Stats'!AS33","v":""},{"$f":"'Physical Stats'!AT33","v":""},{"$f":"'Physical Stats'!AU33","v":""},{"$f":"'Physical Stats'!AV33","v":""},{"$f":"'Physical Stats'!AW33","v":""},{"$f":"'Physical Stats'!AX33","v":""},{"$f":"'Physical Stats'!AY33","v":""},{"$f":"'Physical Stats'!AZ33","v":""},{"$f":"'Physical Stats'!BA33","v":""},{"$f":"'Physical Stats'!BB33","v":""},{"$f":"'Physical Stats'!BC33","v":""},{"$f":"'Physical Stats'!BD33","v":""},{"$f":"'Physical Stats'!BE33","v":""},null,{"$f":"'Physical Stats'!I33","v":""}]
[null,{"$f":"IF('Data Ffisegol'!J34=\"\",\"\",'Data Ffisegol'!J34)","v":""},{"$f":"'Physical Stats'!P34","v":""},{"$f":"'Physical Stats'!Q34","v":""},{"$f":"'Physical Stats'!R34","v":""},{"$f":"'Physical Stats'!S34","v":""},{"$f":"'Physical Stats'!T34","v":""},{"$f":"'Physical Stats'!U34","v":""},{"$f":"'Physical Stats'!V34","v":""},{"$f":"'Physical Stats'!W34","v":""},{"$f":"'Physical Stats'!X34","v":""},{"$f":"'Physical Stats'!Y34","v":""},{"$f":"'Physical Stats'!Z34","v":""},{"$f":"'Physical Stats'!AA34","v":""},{"$f":"'Physical Stats'!AB34","v":""},{"$f":"'Physical Stats'!AC34","v":""},{"$f":"'Physical Stats'!AD34","v":""},{"$f":"'Physical Stats'!AE34","v":""},{"$f":"'Physical Stats'!AF34","v":""},{"$f":"'Physical Stats'!AG34","v":""},{"$f":"'Physical Stats'!AH34","v":""},{"$f":"'Physical Stats'!AI34","v":""},{"$f":"'Physical Stats'!AJ34","v":""},{"$f":"'Physical Stats'!AK34","v":""},{"$f":"'Physical Stats'!AL34","v":""},{"$f":"'Physical Stats'!AM34","v":""},{"$f":"'Physical Stats'!AN34","v":""},{"$f":"'Physical Stats'!AO34","v":""},{"$f":"'Physical Stats'!AP34","v":""},{"$f":"'Physical Stats'!AQ34","v":""},{"$f":"'Physical Stats'!AR34","v":""},{"$f":"'Physical Stats'!AS34","v":""},{"$f":"'Physical Stats'!AT34","v":""},{"$f":"'Physical Stats'!AU34","v":""},{"$f":"'Physical Stats'!AV34","v":""},{"$f":"'Physical Stats'!AW34","v":""},{"$f":"'Physical Stats'!AX34","v":""},{"$f":"'Physical Stats'!AY34","v":""},{"$f":"'Physical Stats'!AZ34","v":""},{"$f":"'Physical Stats'!BA34","v":""},{"$f":"'Physical Stats'!BB34","v":""},{"$f":"'Physical Stats'!BC34","v":""},{"$f":"'Physical Stats'!BD34","v":""},{"$f":"'Physical Stats'!BE34","v":""},null,{"$f":"'Physical Stats'!I34","v":""}]
[null,{"$f":"IF('Data Ffisegol'!J35=\"\",\"\",'Data Ffisegol'!J35)","v":""},{"$f":"'Physical Stats'!P35","v":""},{"$f":"'Physical Stats'!Q35","v":""},{"$f":"'Physical Stats'!R35","v":""},{"$f":"'Physical Stats'!S35","v":""},{"$f":"'Physical Stats'!T35","v":""},{"$f":"'Physical Stats'!U35","v":""},{"$f":"'Physical Stats'!V35","v":""},{"$f":"'Physical Stats'!W35","v":""},{"$f":"'Physical Stats'!X35","v":""},{"$f":"'Physical Stats'!Y35","v":""},{"$f":"'Physical Stats'!Z35","v":""},{"$f":"'Physical Stats'!AA35","v":""},{"$f":"'Physical Stats'!AB35","v":""},{"$f":"'Physical Stats'!AC35","v":""},{"$f":"'Physical Stats'!AD35","v":""},{"$f":"'Physical Stats'!AE35","v":""},{"$f":"'Physical Stats'!AF35","v":""},{"$f":"'Physical Stats'!AG35","v":""},{"$f":"'Physical Stats'!AH35","v":""},{"$f":"'Physical Stats'!AI35","v":""},{"$f":"'Physical Stats'!AJ35","v":""},{"$f":"'Physical Stats'!AK35","v":""},{"$f":"'Physical Stats'!AL35","v":""},{"$f":"'Physical Stats'!AM35","v":""},{"$f":"'Physical Stats'!AN35","v":""},{"$f":"'Physical Stats'!AO35","v":""},{"$f":"'Physical Stats'!AP35","v":""},{"$f":"'Physical Stats'!AQ35","v":""},{"$f":"'Physical Stats'!AR35","v":""},{"$f":"'Physical Stats'!AS35","v":""},{"$f":"'Physical Stats'!AT35","v":""},{"$f":"'Physical Stats'!AU35","v":""},{"$f":"'Physical Stats'!AV35","v":""},{"$f":"'Physical Stats'!AW35","v":""},{"$f":"'Physical Stats'!AX35","v":""},{"$f":"'Physical Stats'!AY35","v":""},{"$f":"'Physical Stats'!AZ35","v":""},{"$f":"'Physical Stats'!BA35","v":""},{"$f":"'Physical Stats'!BB35","v":""},{"$f":"'Physical Stats'!BC35","v":""},{"$f":"'Physical Stats'!BD35","v":""},{"$f":"'Physical Stats'!BE35","v":""},null,{"$f":"'Physical Stats'!I35","v":""}]
[null,{"$f":"IF('Data Ffisegol'!J36=\"\",\"\",'Data Ffisegol'!J36)","v":""},{"$f":"'Physical Stats'!P36","v":""},{"$f":"'Physical Stats'!Q36","v":""},{"$f":"'Physical Stats'!R36","v":""},{"$f":"'Physical Stats'!S36","v":""},{"$f":"'Physical Stats'!T36","v":""},{"$f":"'Physical Stats'!U36","v":""},{"$f":"'Physical Stats'!V36","v":""},{"$f":"'Physical Stats'!W36","v":""},{"$f":"'Physical Stats'!X36","v":""},{"$f":"'Physical Stats'!Y36","v":""},{"$f":"'Physical Stats'!Z36","v":""},{"$f":"'Physical Stats'!AA36","v":""},{"$f":"'Physical Stats'!AB36","v":""},{"$f":"'Physical Stats'!AC36","v":""},{"$f":"'Physical Stats'!AD36","v":""},{"$f":"'Physical Stats'!AE36","v":""},{"$f":"'Physical Stats'!AF36","v":""},{"$f":"'Physical Stats'!AG36","v":""},{"$f":"'Physical Stats'!AH36","v":""},{"$f":"'Physical Stats'!AI36","v":""},{"$f":"'Physical Stats'!AJ36","v":""},{"$f":"'Physical Stats'!AK36","v":""},{"$f":"'Physical Stats'!AL36","v":""},{"$f":"'Physical Stats'!AM36","v":""},{"$f":"'Physical Stats'!AN36","v":""},{"$f":"'Physical Stats'!AO36","v":""},{"$f":"'Physical Stats'!AP36","v":""},{"$f":"'Physical Stats'!AQ36","v":""},{"$f":"'Physical Stats'!AR36","v":""},{"$f":"'Physical Stats'!AS36","v":""},{"$f":"'Physical Stats'!AT36","v":""},{"$f":"'Physical Stats'!AU36","v":""},{"$f":"'Physical Stats'!AV36","v":""},{"$f":"'Physical Stats'!AW36","v":""},{"$f":"'Physical Stats'!AX36","v":""},{"$f":"'Physical Stats'!AY36","v":""},{"$f":"'Physical Stats'!AZ36","v":""},{"$f":"'Physical Stats'!BA36","v":""},{"$f":"'Physical Stats'!BB36","v":""},{"$f":"'Physical Stats'!BC36","v":""},{"$f":"'Physical Stats'!BD36","v":""},{"$f":"'Physical Stats'!BE36","v":""},null,{"$f":"'Physical Stats'!I36","v":""}]
[null,{"$f":"IF('Data Ffisegol'!J37=\"\",\"\",'Data Ffisegol'!J37)","v":""},{"$f":"'Physical Stats'!P37","v":""},{"$f":"'Physical Stats'!Q37","v":""},{"$f":"'Physical Stats'!R37","v":""},{"$f":"'Physical Stats'!S37","v":""},{"$f":"'Physical Stats'!T37","v":""},{"$f":"'Physical Stats'!U37","v":""},{"$f":"'Physical Stats'!V37","v":""},{"$f":"'Physical Stats'!W37","v":""},{"$f":"'Physical Stats'!X37","v":""},{"$f":"'Physical Stats'!Y37","v":""},{"$f":"'Physical Stats'!Z37","v":""},{"$f":"'Physical Stats'!AA37","v":""},{"$f":"'Physical Stats'!AB37","v":""},{"$f":"'Physical Stats'!AC37","v":""},{"$f":"'Physical Stats'!AD37","v":""},{"$f":"'Physical Stats'!AE37","v":""},{"$f":"'Physical Stats'!AF37","v":""},{"$f":"'Physical Stats'!AG37","v":""},{"$f":"'Physical Stats'!AH37","v":""},{"$f":"'Physical Stats'!AI37","v":""},{"$f":"'Physical Stats'!AJ37","v":""},{"$f":"'Physical Stats'!AK37","v":""},{"$f":"'Physical Stats'!AL37","v":""},{"$f":"'Physical Stats'!AM37","v":""},{"$f":"'Physical Stats'!AN37","v":""},{"$f":"'Physical Stats'!AO37","v":""},{"$f":"'Physical Stats'!AP37","v":""},{"$f":"'Physical Stats'!AQ37","v":""},{"$f":"'Physical Stats'!AR37","v":""},{"$f":"'Physical Stats'!AS37","v":""},{"$f":"'Physical Stats'!AT37","v":""},{"$f":"'Physical Stats'!AU37","v":""},{"$f":"'Physical Stats'!AV37","v":""},{"$f":"'Physical Stats'!AW37","v":""},{"$f":"'Physical Stats'!AX37","v":""},{"$f":"'Physical Stats'!AY37","v":""},{"$f":"'Physical Stats'!AZ37","v":""},{"$f":"'Physical Stats'!BA37","v":""},{"$f":"'Physical Stats'!BB37","v":""},{"$f":"'Physical Stats'!BC37","v":""},{"$f":"'Physical Stats'!BD37","v":""},{"$f":"'Physical Stats'!BE37","v":""},null,{"$f":"'Physical Stats'!I37","v":""}]
[null,{"$f":"IF('Data Ffisegol'!J38=\"\",\"\",'Data Ffisegol'!J38)","v":""},{"$f":"'Physical Stats'!P38","v":""},{"$f":"'Physical Stats'!Q38","v":""},{"$f":"'Physical Stats'!R38","v":""},{"$f":"'Physical Stats'!S38","v":""},{"$f":"'Physical Stats'!T38","v":""},{"$f":"'Physical Stats'!U38","v":""},{"$f":"'Physical Stats'!V38","v":""},{"$f":"'Physical Stats'!W38","v":""},{"$f":"'Physical Stats'!X38","v":""},{"$f":"'Physical Stats'!Y38","v":""},{"$f":"'Physical Stats'!Z38","v":""},{"$f":"'Physical Stats'!AA38","v":""},{"$f":"'Physical Stats'!AB38","v":""},{"$f":"'Physical Stats'!AC38","v":""},{"$f":"'Physical Stats'!AD38","v":""},{"$f":"'Physical Stats'!AE38","v":""},{"$f":"'Physical Stats'!AF38","v":""},{"$f":"'Physical Stats'!AG38","v":""},{"$f":"'Physical Stats'!AH38","v":""},{"$f":"'Physical Stats'!AI38","v":""},{"$f":"'Physical Stats'!AJ38","v":""},{"$f":"'Physical Stats'!AK38","v":""},{"$f":"'Physical Stats'!AL38","v":""},{"$f":"'Physical Stats'!AM38","v":""},{"$f":"'Physical Stats'!AN38","v":""},{"$f":"'Physical Stats'!AO38","v":""},{"$f":"'Physical Stats'!AP38","v":""},{"$f":"'Physical Stats'!AQ38","v":""},{"$f":"'Physical Stats'!AR38","v":""},{"$f":"'Physical Stats'!AS38","v":""},{"$f":"'Physical Stats'!AT38","v":""},{"$f":"'Physical Stats'!AU38","v":""},{"$f":"'Physical Stats'!AV38","v":""},{"$f":"'Physical Stats'!AW38","v":""},{"$f":"'Physical Stats'!AX38","v":""},{"$f":"'Physical Stats'!AY38","v":""},{"$f":"'Physical Stats'!AZ38","v":""},{"$f":"'Physical Stats'!BA38","v":""},{"$f":"'Physical Stats'!BB38","v":""},{"$f":"'Physical Stats'!BC38","v":""},{"$f":"'Physical Stats'!BD38","v":""},{"$f":"'Physical Stats'!BE38","v":""},null,{"$f":"'Physical Stats'!I38","v":""}]

{"sheet":"Exempt Samples","index":4,"n_rows":54,"n_cols":14,"rows_kept":54,"cut":false,"hidden":true,"merged":[[5,13,7,13],[43,7,45,7],[43,8,45,8],[43,9,45,9],[43,11,45,11],[43,12,45,12],[43,10,45,10],[5,7,7,7],[5,8,7,8],[5,9,7,9],[5,10,7,10],[5,11,7,11],[5,12,7,12]]}
[]
[null,"Exempt samples calculations"]
[]
[null,null,null,null,null,null,null,"Exempt samples complete summary"]
[]
[null,"Analysis information:",null,null,null,null,null,"Laboratory sample number","Dredge Area","Sample ID(s)","Excluded (y if yes)","Visual appearance","Exempt from chemical analysis","Conversion to biniomial (hidden column)"]
[]
[null,null,"Applicant:",{"$f":"IF('Gwybodaeth ymgeiswyr'!E15=\"\",\"\",'Gwybodaeth ymgeiswyr'!E15)","v":""}]
[null,null,"Application number:",{"$f":"IF('Gwybodaeth ymgeiswyr'!E16=\"\",\"\",'Gwybodaeth ymgeiswyr'!E16)","v":""},null,null,null,{"$f":"IF('Data Ffisegol'!H9=\"\",\"\",'Data Ffisegol'!H9)","v":""},{"$f":"IF('Data Ffisegol'!I9=\"\",\"\",'Data Ffisegol'!I9)","v":""},{"$f":"IF('Data Ffisegol'!J9=\"\",\"\",'Data Ffisegol'!J9)","v":""},{"$f":"IF('Physical Stats'!K9=\"\",\"\",'Physical Stats'!K9)","v":""},{"$f":"IF('Data Ffisegol'!K9=\"\",\"\",'Data Ffisegol'!K9)","v":""},{"$f":"IF('Data Ffisegol'!L9=\"\",\"\",'Data Ffisegol'!L9)","v":""},{"$f":"IF(M9=\"y\",1,0)","v":0}]
[null,null,"Application title:",{"$f":"IF('Gwybodaeth ymgeiswyr'!E17=\"\",\"\",'Gwybodaeth ymgeiswyr'!E17)","v":""},null,null,null,{"$f":"IF('Data Ffisegol'!H10=\"\",\"\",'Data Ffisegol'!H10)","v":""},{"$f":"IF('Data Ffisegol'!I10=\"\",\"\",'Data Ffisegol'!I10)","v":""},{"$f":"IF('Data Ffisegol'!J10=\"\",\"\",'Data Ffisegol'!J10)","v":""},{"$f":"IF('Physical Stats'!K10=\"\",\"\",'Physical Stats'!K10)","v":""},{"$f":"IF('Data Ffisegol'!K10=\"\",\"\",'Data Ffisegol'!K10)","v":""},{"$f":"IF('Data Ffisegol'!L10=\"\",\"\",'Data Ffisegol'!L10)","v":""},0]
[null,null,"Date sampled:",{"$f":"IF('Gwybodaeth ymgeiswyr'!E18=\"\",\"\",'Gwybodaeth ymgeiswyr'!E18)","v":""},null,null,null,{"$f":"IF('Data Ffisegol'!H11=\"\",\"\",'Data Ffisegol'!H11)","v":""},{"$f":"IF('Data Ffisegol'!I11=\"\",\"\",'Data Ffisegol'!I11)","v":""},{"$f":"IF('Data Ffisegol'!J11=\"\",\"\",'Data Ffisegol'!J11)","v":""},{"$f":"IF('Physical Stats'!K11=\"\",\"\",'Physical Stats'!K11)","v":""},{"$f":"IF('Data Ffisegol'!K11=\"\",\"\",'Data Ffisegol'!K11)","v":""},{"$f":"IF('Data Ffisegol'!L11=\"\",\"\",'Data Ffisegol'!L11)","v":""},{"$f":"IF(M11=\"y\",1,0)","v":0}]
[null,null,"Sampling location:",{"$f":"IF('Gwybodaeth ymgeiswyr'!E19=\"\",\"\",'Gwybodaeth ymgeiswyr'!E19)","v":""},null,null,null,{"$f":"IF('Data Ffisegol'!H12=\"\",\"\",'Data Ffisegol'!H12)","v":""},{"$f":"IF('Data Ffisegol'!I12=\"\",\"\",'Data Ffisegol'!I12)","v":""},{"$f":"IF('Data Ffisegol'!J12=\"\",\"\",'Data Ffisegol'!J12)","v":""},{"$f":"IF('Physical Stats'!K12=\"\",\"\",'Physical Stats'!K12)","v":""},{"$f":"IF('Data Ffisegol'!K12=\"\",\"\",'Data Ffisegol'!K12)","v":""},{"$f":"IF('Data Ffisegol'!L12=\"\",\"\",'Data Ffisegol'!L12)","v":""},{"$f":"IF(M12=\"y\",1,0)","v":0}]
[null,null,null,null,null,null,null,{"$f":"IF('Data Ffisegol'!H13=\"\",\"\",'Data Ffisegol'!H13)","v":""},{"$f":"IF('Data Ffisegol'!I13=\"\",\"\",'Data Ffisegol'!I13)","v":""},{"$f":"IF('Data Ffisegol'!J13=\"\",\"\",'Data Ffisegol'!J13)","v":""},{"$f":"IF('Physical Stats'!K13=\"\",\"\",'Physical Stats'!K13)","v":""},{"$f":"IF('Data Ffisegol'!K13=\"\",\"\",'Data Ffisegol'!K13)","v":""},{"$f":"IF('Data Ffisegol'!L13=\"\",\"\",'Data Ffisegol'!L13)","v":""},0]
[null,null,"Laboratory/contractor:",{"$f":"IF('Data Ffisegol'!D15=\"\",\"\",'Data Ffisegol'!D15)","v":""},null,null,null,{"$f":"IF('Data Ffisegol'!H14=\"\",\"\",'Data Ffisegol'!H14)","v":""},{"$f":"IF('Data Ffisegol'!I14=\"\",\"\",'Data Ffisegol'!I14)","v":""},{"$f":"IF('Data Ffisegol'!J14=\"\",\"\",'Data Ffisegol'!J14)","v":""},{"$f":"IF('Physical Stats'!K14=\"\",\"\",'Physical Stats'!K14)","v":""},{"$f":"IF('Data Ffisegol'!K14=\"\",\"\",'Data Ffisegol'!K14)","v":""},{"$f":"IF('Data Ffisegol'!L14=\"\",\"\",'Data Ffisegol'!L14)","v":""},0]
[null,null,"Date of analysis:",{"$f":"IF('Data Ffisegol'!D16=\"\",\"\",'Data Ffisegol'!D16)","v":""},null,null,null,{"$f":"IF('Data Ffisegol'!H15=\"\",\"\",'Data Ffisegol'!H15)","v":""},{"$f":"IF('Data Ffisegol'!I15=\"\",\"\",'Data Ffisegol'!I15)","v":""},{"$f":"IF('Data Ffisegol'!J15=\"\",\"\",'Data Ffisegol'!J15)","v":""},{"$f":"IF('Physical Stats'!K15=\"\",\"\",'Physical Stats'!K15)","v":""},{"$f":"IF('Data Ffisegol'!K15=\"\",\"\",'Data Ffisegol'!K15)","v":""},{"$f":"IF('Data Ffisegol'!L15=\"\",\"\",'Data Ffisegol'!L15)","v":""},0]
[null,null,null,null,null,null,null,{"$f":"IF('Data Ffisegol'!H16=\"\",\"\",'Data Ffisegol'!H16)","v":""},{"$f":"IF('Data Ffisegol'!I16=\"\",\"\",'Data Ffisegol'!I16)","v":""},{"$f":"IF('Data Ffisegol'!J16=\"\",\"\",'Data Ffisegol'!J16)","v":""},{"$f":"IF('Physical Stats'!K16=\"\",\"\",'Physical Stats'!K16)","v":""},{"$f":"IF('Data Ffisegol'!K16=\"\",\"\",'Data Ffisegol'!K16)","v":""},{"$f":"IF('Data Ffisegol'!L16=\"\",\"\",'Data Ffisegol'!L16)","v":""},0]
[null,null,null,null,null,null,null,{"$f":"IF('Data Ffisegol'!H17=\"\",\"\",'Data Ffisegol'!H17)","v":""},{"$f":"IF('Data Ffisegol'!I17=\"\",\"\",'Data Ffisegol'!I17)","v":""},{"$f":"IF('Data Ffisegol'!J17=\"\",\"\",'Data Ffisegol'!J17)","v":""},{"$f":"IF('Physical Stats'!K17=\"\",\"\",'Physical Stats'!K17)","v":""},{"$f":"IF('Data Ffisegol'!K17=\"\",\"\",'Data Ffisegol'!K17)","v":""},{"$f":"IF('Data Ffisegol'!L17=\"\",\"\",'Data Ffisegol'!L17)","v":""},0]
[null,null,null,null,null,null,null,{"$f":"IF('Data Ffisegol'!H18=\"\",\"\",'Data Ffisegol'!H18)","v":""},{"$f":"IF('Data Ffisegol'!I18=\"\",\"\",'Data Ffisegol'!I18)","v":""},{"$f":"IF('Data Ffisegol'!J18=\"\",\"\",'Data Ffisegol'!J18)","v":""},{"$f":"IF('Physical Stats'!K18=\"\",\"\",'Physical Stats'!K18)","v":""},{"$f":"IF('Data Ffisegol'!K18=\"\",\"\",'Data Ffisegol'!K18)","v":""},{"$f":"IF('Data Ffisegol'!L18=\"\",\"\",'Data Ffisegol'!L18)","v":""},0]
[null,null,null,null,null,null,null,{"$f":"IF('Data Ffisegol'!H19=\"\",\"\",'Data Ffisegol'!H19)","v":""},{"$f":"IF('Data Ffisegol'!I19=\"\",\"\",'Data Ffisegol'!I19)","v":""},{"$f":"IF('Data Ffisegol'!J19=\"\",\"\",'Data Ffisegol'!J19)","v":""},{"$f":"IF('Physical Stats'!K19=\"\",\"\",'Physical Stats'!K19)","v":""},{"$f":"IF('Data Ffisegol'!K19=\"\",\"\",'Data Ffisegol'!K19)","v":""},{"$f":"IF('Data Ffisegol'!L19=\"\",\"\",'Data Ffisegol'!L19)","v":""},0]
[null,null,null,null,null,null,null,{"$f":"IF('Data Ffisegol'!H20=\"\",\"\",'Data Ffisegol'!H20)","v":""},{"$f":"IF('Data Ffisegol'!I20=\"\",\"\",'Data Ffisegol'!I20)","v":""},{"$f":"IF('Data Ffisegol'!J20=\"\",\"\",'Data Ffisegol'!J20)","v":""},{"$f":"IF('Physical Stats'!K20=\"\",\"\",'Physical Stats'!K20)","v":""},{"$f":"IF('Data Ffisegol'!K20=\"\",\"\",'Data Ffisegol'!K20)","v":""},{"$f":"IF('Data Ffisegol'!L20=\"\",\"\",'Data Ffisegol'!L20)","v":""},0]
[null,null,null,null,null,null,null,{"$f":"IF('Data Ffisegol'!H21=\"\",\"\",'Data Ffisegol'!H21)","v":""},{"$f":"IF('Data Ffisegol'!I21=\"\",\"\",'Data Ffisegol'!I21)","v":""},{"$f":"IF('Data Ffisegol'!J21=\"\",\"\",'Data Ffisegol'!J21)","v":""},{"$f":"IF('Physical Stats'!K21=\"\",\"\",'Physical Stats'!K21)","v":""},{"$f":"IF('Data Ffisegol'!K21=\"\",\"\",'Data Ffisegol'!K21)","v":""},{"$f":"IF('Data Ffisegol'!L21=\"\",\"\",'Data Ffisegol'!L21)","v":""},0]
[null,null,null,null,null,null,null,{"$f":"IF('Data Ffisegol'!H22=\"\",\"\",'Data Ffisegol'!H22)","v":""},{"$f":"IF('Data Ffisegol'!I22=\"\",\"\",'Data Ffisegol'!I22)","v":""},{"$f":"IF('Data Ffisegol'!J22=\"\",\"\",'Data Ffisegol'!J22)","v":""},{"$f":"IF('Physical Stats'!K22=\"\",\"\",'Physical Stats'!K22)","v":""},{"$f":"IF('Data Ffisegol'!K22=\"\",\"\",'Data Ffisegol'!K22)","v":""},{"$f":"IF('Data Ffisegol'!L22=\"\",\"\",'Data Ffisegol'!L22)","v":""},0]
[null,null,null,null,null,null,null,{"$f":"IF('Data Ffisegol'!H23=\"\",\"\",'Data Ffisegol'!H23)","v":""},{"$f":"IF('Data Ffisegol'!I23=\"\",\"\",'Data Ffisegol'!I23)","v":""},{"$f":"IF('Data Ffisegol'!J23=\"\",\"\",'Data Ffisegol'!J23)","v":""},{"$f":"IF('Physical Stats'!K23=\"\",\"\",'Physical Stats'!K23)","v":""},{"$f":"IF('Data Ffisegol'!K23=\"\",\"\",'Data Ffisegol'!K23)","v":""},{"$f":"IF('Data Ffisegol'!L23=\"\",\"\",'Data Ffisegol'!L23)","v":""},0]
[null,null,null,null,null,null,null,{"$f":"IF('Data Ffisegol'!H24=\"\",\"\",'Data Ffisegol'!H24)","v":""},{"$f":"IF('Data Ffisegol'!I24=\"\",\"\",'Data Ffisegol'!I24)","v":""},{"$f":"IF('Data Ffisegol'!J24=\"\",\"\",'Data Ffisegol'!J24)","v":""},{"$f":"IF('Physical Stats'!K24=\"\",\"\",'Physical Stats'!K24)","v":""},{"$f":"IF('Data Ffisegol'!K24=\"\",\"\",'Data Ffisegol'!K24)","v":""},{"$f":"IF('Data Ffisegol'!L24=\"\",\"\",'Data Ffisegol'!L24)","v":""},0]
[null,null,null,null,null,null,null,{"$f":"IF('Data Ffisegol'!H25=\"\",\"\",'Data Ffisegol'!H25)","v":""},{"$f":"IF('Data Ffisegol'!I25=\"\",\"\",'Data Ffisegol'!I25)","v":""},{"$f":"IF('Data Ffisegol'!J25=\"\",\"\",'Data Ffisegol'!J25)","v":""},{"$f":"IF('Physical Stats'!K25=\"\",\"\",'Physical Stats'!K25)","v":""},{"$f":"IF('Data Ffisegol'!K25=\"\",\"\",'Data Ffisegol'!K25)","v":""},{"$f":"IF('Data Ffisegol'!L25=\"\",\"\",'Data Ffisegol'!L25)","v":""},0]
[null,null,null,null,null,null,null,{"$f":"IF('Data Ffisegol'!H26=\"\",\"\",'Data Ffisegol'!H26)","v":""},{"$f":"IF('Data Ffisegol'!I26=\"\",\"\",'Data Ffisegol'!I26)","v":""},{"$f":"IF('Data Ffisegol'!J26=\"\",\"\",'Data Ffisegol'!J26)","v":""},{"$f":"IF('Physical Stats'!K26=\"\",\"\",'Physical Stats'!K26)","v":""},{"$f":"IF('Data Ffisegol'!K26=\"\",\"\",'Data Ffisegol'!K26)","v":""},{"$f":"IF('Data Ffisegol'!L26=\"\",\"\",'Data Ffisegol'!L26)","v":""},0]
[null,null,null,null,null,null,null,{"$f":"IF('Data Ffisegol'!H27=\"\",\"\",'Data Ffisegol'!H27)","v":""},{"$f":"IF('Data Ffisegol'!I27=\"\",\"\",'Data Ffisegol'!I27)","v":""},{"$f":"IF('Data Ffisegol'!J27=\"\",\"\",'Data Ffisegol'!J27)","v":""},{"$f":"IF('Physical Stats'!K27=\"\",\"\",'Physical Stats'!K27)","v":""},{"$f":"IF('Data Ffisegol'!K27=\"\",\"\",'Data Ffisegol'!K27)","v":""},{"$f":"IF('Data Ffisegol'!L27=\"\",\"\",'Data Ffisegol'!L27)","v":""},0]
[null,null,null,null,null,null,null,{"$f":"IF('Data Ffisegol'!H28=\"\",\"\",'Data Ffisegol'!H28)","v":""},{"$f":"IF('Data Ffisegol'!I28=\"\",\"\",'Data Ffisegol'!I28)","v":""},{"$f":"IF('Data Ffisegol'!J28=\"\",\"\",'Data Ffisegol'!J28)","v":""},{"$f":"IF('Physical Stats'!K28=\"\",\"\",'Physical Stats'!K28)","v":""},{"$f":"IF('Data Ffisegol'!K28=\"\",\"\",'Data Ffisegol'!K28)","v":""},{"$f":"IF('Data Ffisegol'!L28=\"\",\"\",'Data Ffisegol'!L28)","v":""},0]
[null,null,null,null,null,null,null,{"$f":"IF('Data Ffisegol'!H29=\"\",\"\",'Data Ffisegol'!H29)","v":""},{"$f":"IF('Data Ffisegol'!I29=\"\",\"\",'Data Ffisegol'!I29)","v":""},{"$f":"IF('Data Ffisegol'!J29=\"\",\"\",'Data Ffisegol'!J29)","v":""},{"$f":"IF('Physical Stats'!K29=\"\",\"\",'Physical Stats'!K29)","v":""},{"$f":"IF('Data Ffisegol'!K29=\"\",\"\",'Data Ffisegol'!K29)","v":""},{"$f":"IF('Data Ffisegol'!L29=\"\",\"\",'Data Ffisegol'!L29)","v":""},0]
[null,null,null,null,null,null,null,{"$f":"IF('Data Ffisegol'!H30=\"\",\"\",'Data Ffisegol'!H30)","v":""},{"$f":"IF('Data Ffisegol'!I30=\"\",\"\",'Data Ffisegol'!I30)","v":""},{"$f":"IF('Data Ffisegol'!J30=\"\",\"\",'Data Ffisegol'!J30)","v":""},{"$f":"IF('Physical Stats'!K30=\"\",\"\",'Physical Stats'!K30)","v":""},{"$f":"IF('Data Ffisegol'!K30=\"\",\"\",'Data Ffisegol'!K30)","v":""},{"$f":"IF('Data Ffisegol'!L30=\"\",\"\",'Data Ffisegol'!L30)","v":""},0]
[null,null,null,null,null,null,null,{"$f":"IF('Data Ffisegol'!H31=\"\",\"\",'Data Ffisegol'!H31)","v":""},{"$f":"IF('Data Ffisegol'!I31=\"\",\"\",'Data Ffisegol'!I31)","v":""},{"$f":"IF('Data Ffisegol'!J31=\"\",\"\",'Data Ffisegol'!J31)","v":""},{"$f":"IF('Physical Stats'!K31=\"\",\"\",'Physical Stats'!K31)","v":""},{"$f":"IF('Data Ffisegol'!K31=\"\",\"\",'Data Ffisegol'!K31)","v":""},{"$f":"IF('Data Ffisegol'!L31=\"\",\"\",'Data Ffisegol'!L31)","v":""},0]
[null,null,null,null,null,null,null,{"$f":"IF('Data Ffisegol'!H32=\"\",\"\",'Data Ffisegol'!H32)","v":""},{"$f":"IF('Data Ffisegol'!I32=\"\",\"\",'Data Ffisegol'!I32)","v":""},{"$f":"IF('Data Ffisegol'!J32=\"\",\"\",'Data Ffisegol'!J32)","v":""},{"$f":"IF('Physical Stats'!K32=\"\",\"\",'Physical Stats'!K32)","v":""},{"$f":"IF('Data Ffisegol'!K32=\"\",\"\",'Data Ffisegol'!K32)","v":""},{"$f":"IF('Data Ffisegol'!L32=\"\",\"\",'Data Ffisegol'!L32)","v":""},0]
[null,null,null,null,null,null,null,{"$f":"IF('Data Ffisegol'!H33=\"\",\"\",'Data Ffisegol'!H33)","v":""},{"$f":"IF('Data Ffisegol'!I33=\"\",\"\",'Data Ffisegol'!I33)","v":""},{"$f":"IF('Data Ffisegol'!J33=\"\",\"\",'Data Ffisegol'!J33)","v":""},{"$f":"IF('Physical Stats'!K33=\"\",\"\",'Physical Stats'!K33)","v":""},{"$f":"IF('Data Ffisegol'!K33=\"\",\"\",'Data Ffisegol'!K33)","v":""},{"$f":"IF('Data Ffisegol'!L33=\"\",\"\",'Data Ffisegol'!L33)","v":""},0]
[null,null,null,null,null,null,null,{"$f":"IF('Data Ffisegol'!H34=\"\",\"\",'Data Ffisegol'!H34)","v":""},{"$f":"IF('Data Ffisegol'!I34=\"\",\"\",'Data Ffisegol'!I34)","v":""},{"$f":"IF('Data Ffisegol'!J34=\"\",\"\",'Data Ffisegol'!J34)","v":""},{"$f":"IF('Physical Stats'!K34=\"\",\"\",'Physical Stats'!K34)","v":""},{"$f":"IF('Data Ffisegol'!K34=\"\",\"\",'Data Ffisegol'!K34)","v":""},{"$f":"IF('Data Ffisegol'!L34=\"\",\"\",'Data Ffisegol'!L34)","v":""},0]
[null,null,null,null,null,null,null,{"$f":"IF('Data Ffisegol'!H35=\"\",\"\",'Data Ffisegol'!H35)","v":""},{"$f":"IF('Data Ffisegol'!I35=\"\",\"\",'Data Ffisegol'!I35)","v":""},{"$f":"IF('Data Ffisegol'!J35=\"\",\"\",'Data Ffisegol'!J35)","v":""},{"$f":"IF('Physical Stats'!K35=\"\",\"\",'Physical Stats'!K35)","v":""},{"$f":"IF('Data Ffisegol'!K35=\"\",\"\",'Data Ffisegol'!K35)","v":""},{"$f":"IF('Data Ffisegol'!L35=\"\",\"\",'Data Ffisegol'!L35)","v":""},0]
[null,null,null,null,null,null,null,{"$f":"IF('Data Ffisegol'!H36=\"\",\"\",'Data Ffisegol'!H36)","v":""},{"$f":"IF('Data Ffisegol'!I36=\"\",\"\",'Data Ffisegol'!I36)","v":""},{"$f":"IF('Data Ffisegol'!J36=\"\",\"\",'Data Ffisegol'!J36)","v":""},{"$f":"IF('Physical Stats'!K36=\"\",\"\",'Physical Stats'!K36)","v":""},{"$f":"IF('Data Ffisegol'!K36=\"\",\"\",'Data Ffisegol'!K36)","v":""},{"$f":"IF('Data Ffisegol'!L36=\"\",\"\",'Data Ffisegol'!L36)","v":""},0]
[null,null,null,null,null,null,null,{"$f":"IF('Data Ffisegol'!H37=\"\",\"\",'Data Ffisegol'!H37)","v":""},{"$f":"IF('Data Ffisegol'!I37=\"\",\"\",'Data Ffisegol'!I37)","v":""},{"$f":"IF('Data Ffisegol'!J37=\"\",\"\",'Data Ffisegol'!J37)","v":""},{"$f":"IF('Physical Stats'!K37=\"\",\"\",'Physical Stats'!K37)","v":""},{"$f":"IF('Data Ffisegol'!K37=\"\",\"\",'Data Ffisegol'!K37)","v":""},{"$f":"IF('Data Ffisegol'!L37=\"\",\"\",'Data Ffisegol'!L37)","v":""},0]
[null,null,null,null,null,null,null,{"$f":"IF('Data Ffisegol'!H38=\"\",\"\",'Data Ffisegol'!H38)","v":""},{"$f":"IF('Data Ffisegol'!I38=\"\",\"\",'Data Ffisegol'!I38)","v":""},{"$f":"IF('Data Ffisegol'!J38=\"\",\"\",'Data Ffisegol'!J38)","v":""},{"$f":"IF('Physical Stats'!K38=\"\",\"\",'Physical Stats'!K38)","v":""},{"$f":"IF('Data Ffisegol'!K38=\"\",\"\",'Data Ffisegol'!K38)","v":""},{"$f":"IF('Data Ffisegol'!L38=\"\",\"\",'Data Ffisegol'!L38)","v":""},0]
[]
[]
[]
[null,null,null,null,null,null,"Total samples and tonnages exempt"]
[]
[null,null,null,null,null,null,null,"Dredge Area","Total number tested samples","Number exempt samples","Dredge area tonnages","Proportion exempt samples","Tonnage for OSPAR exempt samples reporting"]
[]
[]
[null,null,null,null,null,null,null,"Area i",{"$f":"IF(COUNTIF($I$9:$I$38, \"Area i\")<1,\"\",COUNTIF($I$9:$I$38, \"Area i\"))","v":""},{"$f":"IF(I47=\"\",\"\",SUMIF($I$9:$I$38, \"Area i\", $N$9:$N$38))","v":""},{"$f":"IF('Gwybodaeth ymgeiswyr'!D25=\"\",\"\",'Gwybodaeth ymgeiswyr'!D25)","v":""},{"$f":"IFERROR(J47/I47,\"\")","v":""},{"$f":"IF(L47=\"\",\"\",IF(L47>0.5,K47,0))","v":""}]
[null,null,null,null,null,null,null,"Area ii",{"$f":"IF(COUNTIF($I$9:$I$38, \"Area ii\")<1,\"\",COUNTIF($I$9:$I$38, \"Area ii\"))","v":""},{"$f":"IF(I48=\"\",\"\",SUMIF($I$9:$I$38, \"Area ii\", $N$9:$N$38))","v":""},{"$f":"IF('Gwybodaeth ymgeiswyr'!D26=\"\",\"\",'Gwybodaeth ymgeiswyr'!D26)","v":""},{"$f":"IFERROR(J48/I48,\"\")","v":""},""]
[null,null,null,null,null,null,null,"Area iii",{"$f":"IF(COUNTIF($I$9:$I$38, \"Area iii\")<1,\"\",COUNTIF($I$9:$I$38, \"Area iii\"))","v":""},{"$f":"IF(I49=\"\",\"\",SUMIF($I$9:$I$38, \"Area iii\", $N$9:$N$38))","v":""},{"$f":"IF('Gwybodaeth ymgeiswyr'!D27=\"\",\"\",'Gwybodaeth ymgeiswyr'!D27)","v":""},"",""]
[null,null,null,null,null,null,null,"Area iv",{"$f":"IF(COUNTIF($I$9:$I$38, \"Area iv\")<1,\"\",COUNTIF($I$9:$I$38, \"Area iv\"))","v":""},{"$f":"IF(I50=\"\",\"\",SUMIF($I$9:$I$38, \"Area iv\", $N$9:$N$38))","v":""},{"$f":"IF('Gwybodaeth ymgeiswyr'!D28=\"\",\"\",'Gwybodaeth ymgeiswyr'!D28)","v":""},"",""]
[null,null,null,null,null,null,null,"Area v",{"$f":"IF(COUNTIF($I$9:$I$38, \"Area v\")<1,\"\",COUNTIF($I$9:$I$38, \"Area v\"))","v":""},{"$f":"IF(I51=\"\",\"\",SUMIF($I$9:$I$38, \"Area v\", $N$9:$N$38))","v":""},{"$f":"IF('Gwybodaeth ymgeiswyr'!D29=\"\",\"\",'Gwybodaeth ymgeiswyr'!D29)","v":""},"",""]
[null,null,null,null,null,null,null,"Area vi",{"$f":"IF(COUNTIF($I$9:$I$38, \"Area vi\")<1,\"\",COUNTIF($I$9:$I$38, \"Area vi\"))","v":""},{"$f":"IF(I52=\"\",\"\",SUMIF($I$9:$I$38, \"Area vi\", $N$9:$N$38))","v":""},{"$f":"IF('Gwybodaeth ymgeiswyr'!D30=\"\",\"\",'Gwybodaeth ymgeiswyr'!D30)","v":""},"",{"$f":"IF(L52=\"\",\"\",IF(L52>0.5,K52,0))","v":""}]
[]
[null,null,null,null,null,null,null,null,"Total exempt samples:",{"$f":"SUM(J47:J52)","v":0},null,"Total exempt tonnages:",{"$f":"SUM(M47:M52)","v":0}]

{"sheet":"Data metelau hybrin","index":5,"n_rows":38,"n_cols":18,"rows_kept":38,"cut":false,"hidden":false,"merged":[[37,7,37,9],[5,10,5,17],[5,9,6,9],[5,7,6,7],[5,8,6,8]]}
[]
[null,"Data metel hybrin (trace)"]
[]
[null,"Cyfarwyddiadau:",null,null,null,null,null,"Allbynnau dadansoddi:"]
[null,"1. Cofnodwch y labordy/contractwr sy'n gyfrifol am ddadansoddi metel hybrin"]
[null,"2. Cofnodwch y dyddiad y dadansoddwyd y samplau.",null,null,null,null,null,"Rhif sampl y labordy","Ardal Garthu","Rhif(au) adnabod y samplau","Metelau fel pwysau sych mg/kg"]
[null,"3. Rhowch set ddata lawn ar gyfer pob sampl yn nhabl canlyniadau'r dadansoddiad",null,null,null,null,null,null,null,null,"Arsenig (As)","Cadmiwm (Cd)","Cromiwm (Cr)","Copr (Cu)","Mercwri (Hg)","Nicel (Ni)","Plwm (Pb)","Sinc (Zn)"]
[null,"4. Dylid adrodd canlyniadau dadansoddiadau metel hybrin mewn pwysau sych mg/kg (ppm)"]
[null,"5. Rhowch derfyn canfod methodolegol ar gyfer pob metel hybrin cyn mewnbynnu data crai"]
[null,"6. Lle mae allbynnau dadansoddi yn llai na’r terfynau canfod nodwch y testun “<LOD”"]
[null,"7. Lle rydych yn copïo a gludo cofnodion, defnyddiwch y gwerthoedd yr ydych yn eu gludo yn unig"]
[null,"8. Pan fyddwch chi'n nodi rhifau adnabod sawl sampl, defnyddiwch ffurflen y naidlen (pop-up)"]
[null,null,"Dylai rhifau adnabod gael eu gwahanu gan goma"]
[]
[]
[]
[null,"Gwybodaeth dadansoddi:"]
[]
[null,null,"Labordy/contractwr:"]
[null,null,"Dyddiad y dadansoddiad:"]
[]
[]
[]
[]
[]
[]
[]
[]
[]
[]
[]
[]
[]
[]
[]
[]
[]
[null,null,null,null,null,null,null,"Terfynau canfod (pwysau sych mg/kg):"]

{"sheet":"Metals and TS Calcs","index":6,"n_rows":151,"n_cols":23,"rows_kept":151,"cut":false,"hidden":true,"merged":[[148,11,148,18],[135,10,136,10],[135,11,135,18],[122,11,122,18],[84,7,85,7],[84,8,85,8],[84,9,85,9],[84,10,85,10],[84,11,84,18],[5,7,6,7],[5,8,6,8],[5,9,6,9],[5,10,6,10],[5,11,5,18],[46,7,47,7],[46,8,47,8],[46,9,47,9],[46,10,47,10],[46,11,46,18],[84,22,85,22],[122,22,123,22],[135,22,136,22],[148,22,149,22],[5,22,6,22],[46,22,47,22]]}
[]
[null,"Trace metal summary information"]
[]
[null,"Analysis information:",null,null,null,null,null,"Determinand analysis outputs - adjusted for limits of detection:"]
[]
[null,null,"Applicant:",{"$f":"IF('Gwybodaeth ymgeiswyr'!E15=\"\",\"\",'Gwybodaeth ymgeiswyr'!E15)","v":""},null,null,null,"Laboratory sample number","Dredge Area","Excluded (y if yes)","Sample ID(s)","Metals as mg/kg dry weight ",null,null,null,null,null,null,null,null,null,null,"Total Solids (%)"]
[null,null,"Application number:",{"$f":"IF('Gwybodaeth ymgeiswyr'!E16=\"\",\"\",'Gwybodaeth ymgeiswyr'!E16)","v":""},null,null,null,null,null,null,null,"Arsenic (As)","Cadmium (Cd)","Chromium (Cr)","Copper (Cu)","Mercury (Hg)","Nickel (Ni)","Lead (Pb)","Zinc (Zn)"]
[null,null,"Application title:",{"$f":"IF('Gwybodaeth ymgeiswyr'!E17=\"\",\"\",'Gwybodaeth ymgeiswyr'!E17)","v":""},null,null,null,{"$f":"IF('Data metelau hybrin'!H8=\"\",\"\",'Data metelau hybrin'!H8)","v":""},{"$f":"IF('Data metelau hybrin'!I8=\"\",\"\",'Data metelau hybrin'!I8)","v":""},{"$f":"IFERROR(IF(K8=\"\",\"\",(IF(VLOOKUP(K8,'Gwybodaeth ymgeiswyr'!$K$8:$L$37,2,0)=\"y\",\"y\",\"\"))),\"Manual entry required\")","v":""},{"$f":"IF('Data metelau hybrin'!J8=\"\",\"\",'Data metelau hybrin'!J8)","v":""},{"$f":"IF('Data metelau hybrin'!K8=\"\",\"\",IF(ISNUMBER('Data metelau hybrin'!K8)=TRUE, IF('Data metelau hybrin'!K8<'Data metelau hybrin'!K$38, \"ERROR\", 'Data metelau hybrin'!K8), IF('Data metelau hybrin'!K8=\"<LOD\",'Data metelau hybrin'!K$38, \"ERROR\")))","v":""},{"$f":"IF('Data metelau hybrin'!L8=\"\",\"\",IF(ISNUMBER('Data metelau hybrin'!L8)=TRUE, IF('Data metelau hybrin'!L8<'Data metelau hybrin'!L$38, \"ERROR\", 'Data metelau hybrin'!L8), IF('Data metelau hybrin'!L8=\"<LOD\",'Data metelau hybrin'!L$38, \"ERROR\")))","v":""},{"$f":"IF('Data metelau hybrin'!M8=\"\",\"\",IF(ISNUMBER('Data metelau hybrin'!M8)=TRUE, IF('Data metelau hybrin'!M8<'Data metelau hybrin'!M$38, \"ERROR\", 'Data metelau hybrin'!M8), IF('Data metelau hybrin'!M8=\"<LOD\",'Data metelau hybrin'!M$38, \"ERROR\")))","v":""},{"$f":"IF('Data metelau hybrin'!N8=\"\",\"\",IF(ISNUMBER('Data metelau hybrin'!N8)=TRUE, IF('Data metelau hybrin'!N8<'Data metelau hybrin'!N$38, \"ERROR\", 'Data metelau hybrin'!N8), IF('Data metelau hybrin'!N8=\"<LOD\",'Data metelau hybrin'!N$38, \"ERROR\")))","v":""},{"$f":"IF('Data metelau hybrin'!O8=\"\",\"\",IF(ISNUMBER('Data metelau hybrin'!O8)=TRUE, IF('Data metelau hybrin'!O8<'Data metelau hybrin'!O$38, \"ERROR\", 'Data metelau hybrin'!O8), IF('Data metelau hybrin'!O8=\"<LOD\",'Data metelau hybrin'!O$38, \"ERROR\")))","v":""},{"$f":"IF('Data metelau hybrin'!P8=\"\",\"\",IF(ISNUMBER('Data metelau hybrin'!P8)=TRUE, IF('Data metelau hybrin'!P8<'Data metelau hybrin'!P$38, \"ERROR\", 'Data metelau hybrin'!P8), IF('Data metelau hybrin'!P8=\"<LOD\",'Data metelau hybrin'!P$38, \"ERROR\")))","v":""},{"$f":"IF('Data metelau hybrin'!Q8=\"\",\"\",IF(ISNUMBER('Data metelau hybrin'!Q8)=TRUE, IF('Data metelau hybrin'!Q8<'Data metelau hybrin'!Q$38, \"ERROR\", 'Data metelau hybrin'!Q8), IF('Data metelau hybrin'!Q8=\"<LOD\",'Data metelau hybrin'!Q$38, \"ERROR\")))","v":""},{"$f":"IF('Data metelau hybrin'!R8=\"\",\"\",IF(ISNUMBER('Data metelau hybrin'!R8)=TRUE, IF('Data metelau hybrin'!R8<'Data metelau hybrin'!R$38, \"ERROR\", 'Data metelau hybrin'!R8), IF('Data metelau hybrin'!R8=\"<LOD\",'Data metelau hybrin'!R$38, \"ERROR\")))","v":""},null,null,null,{"$f":"'Physical Stats'!N9","v":""}]
[null,null,"Date sampled:",{"$f":"IF('Gwybodaeth ymgeiswyr'!E18=\"\",\"\",'Gwybodaeth ymgeiswyr'!E18)","v":""},null,null,null,{"$f":"IF('Data metelau hybrin'!H9=\"\",\"\",'Data metelau hybrin'!H9)","v":""},{"$f":"IF('Data metelau hybrin'!I9=\"\",\"\",'Data metelau hybrin'!I9)","v":""},{"$f":"IFERROR(IF(K9=\"\",\"\",(IF(VLOOKUP(K9,'Gwybodaeth ymgeiswyr'!$K$8:$L$37,2,0)=\"y\",\"y\",\"\"))),\"Manual entry required\")","v":""},{"$f":"IF('Data metelau hybrin'!J9=\"\",\"\",'Data metelau hybrin'!J9)","v":""},{"$f":"IF('Data metelau hybrin'!K9=\"\",\"\",IF(ISNUMBER('Data metelau hybrin'!K9)=TRUE, IF('Data metelau hybrin'!K9<'Data metelau hybrin'!K$38, \"ERROR\", 'Data metelau hybrin'!K9), IF('Data metelau hybrin'!K9=\"<LOD\",'Data metelau hybrin'!K$38, \"ERROR\")))","v":""},{"$f":"IF('Data metelau hybrin'!L9=\"\",\"\",IF(ISNUMBER('Data metelau hybrin'!L9)=TRUE, IF('Data metelau hybrin'!L9<'Data metelau hybrin'!L$38, \"ERROR\", 'Data metelau hybrin'!L9), IF('Data metelau hybrin'!L9=\"<LOD\",'Data metelau hybrin'!L$38, \"ERROR\")))","v":""},{"$f":"IF('Data metelau hybrin'!M9=\"\",\"\",IF(ISNUMBER('Data metelau hybrin'!M9)=TRUE, IF('Data metelau hybrin'!M9<'Data metelau hybrin'!M$38, \"ERROR\", 'Data metelau hybrin'!M9), IF('Data metelau hybrin'!M9=\"<LOD\",'Data metelau hybrin'!M$38, \"ERROR\")))","v":""},{"$f":"IF('Data metelau hybrin'!N9=\"\",\"\",IF(ISNUMBER('Data metelau hybrin'!N9)=TRUE, IF('Data metelau hybrin'!N9<'Data metelau hybrin'!N$38, \"ERROR\", 'Data metelau hybrin'!N9), IF('Data metelau hybrin'!N9=\"<LOD\",'Data metelau hybrin'!N$38, \"ERROR\")))","v":""},{"$f":"IF('Data metelau hybrin'!O9=\"\",\"\",IF(ISNUMBER('Data metelau hybrin'!O9)=TRUE, IF('Data metelau hybrin'!O9<'Data metelau hybrin'!O$38, \"ERROR\", 'Data metelau hybrin'!O9), IF('Data metelau hybrin'!O9=\"<LOD\",'Data metelau hybrin'!O$38, \"ERROR\")))","v":""},{"$f":"IF('Data metelau hybrin'!P9=\"\",\"\",IF(ISNUMBER('Data metelau hybrin'!P9)=TRUE, IF('Data metelau hybrin'!P9<'Data metelau hybrin'!P$38, \"ERROR\", 'Data metelau hybrin'!P9), IF('Data metelau hybrin'!P9=\"<LOD\",'Data metelau hybrin'!P$38, \"ERROR\")))","v":""},{"$f":"IF('Data metelau hybrin'!Q9=\"\",\"\",IF(ISNUMBER('Data metelau hybrin'!Q9)=TRUE, IF('Data metelau hybrin'!Q9<'Data metelau hybrin'!Q$38, \"ERROR\", 'Data metelau hybrin'!Q9), IF('Data metelau hybrin'!Q9=\"<LOD\",'Data metelau hybrin'!Q$38, \"ERROR\")))","v":""},{"$f":"IF('Data metelau hybrin'!R9=\"\",\"\",IF(ISNUMBER('Data metelau hybrin'!R9)=TRUE, IF('Data metelau hybrin'!R9<'Data metelau hybrin'!R$38, \"ERROR\", 'Data metelau hybrin'!R9), IF('Data metelau hybrin'!R9=\"<LOD\",'Data metelau hybrin'!R$38, \"ERROR\")))","v":""},null,null,null,{"$f":"'Physical Stats'!N10","v":""}]
[null,null,"Sampling location:",{"$f":"IF('Gwybodaeth ymgeiswyr'!E19=\"\",\"\",'Gwybodaeth ymgeiswyr'!E19)","v":""},null,null,null,{"$f":"IF('Data metelau hybrin'!H10=\"\",\"\",'Data metelau hybrin'!H10)","v":""},{"$f":"IF('Data metelau hybrin'!I10=\"\",\"\",'Data metelau hybrin'!I10)","v":""},{"$f":"IFERROR(IF(K10=\"\",\"\",(IF(VLOOKUP(K10,'Gwybodaeth ymgeiswyr'!$K$8:$L$37,2,0)=\"y\",\"y\",\"\"))),\"Manual entry required\")","v":""},{"$f":"IF('Data metelau hybrin'!J10=\"\",\"\",'Data metelau hybrin'!J10)","v":""},{"$f":"IF('Data metelau hybrin'!K10=\"\",\"\",IF(ISNUMBER('Data metelau hybrin'!K10)=TRUE, IF('Data metelau hybrin'!K10<'Data metelau hybrin'!K$38, \"ERROR\", 'Data metelau hybrin'!K10), IF('Data metelau hybrin'!K10=\"<LOD\",'Data metelau hybrin'!K$38, \"ERROR\")))","v":""},{"$f":"IF('Data metelau hybrin'!L10=\"\",\"\",IF(ISNUMBER('Data metelau hybrin'!L10)=TRUE, IF('Data metelau hybrin'!L10<'Data metelau hybrin'!L$38, \"ERROR\", 'Data metelau hybrin'!L10), IF('Data metelau hybrin'!L10=\"<LOD\",'Data metelau hybrin'!L$38, \"ERROR\")))","v":""},{"$f":"IF('Data metelau hybrin'!M10=\"\",\"\",IF(ISNUMBER('Data metelau hybrin'!M10)=TRUE, IF('Data metelau hybrin'!M10<'Data metelau hybrin'!M$38, \"ERROR\", 'Data metelau hybrin'!M10), IF('Data metelau hybrin'!M10=\"<LOD\",'Data metelau hybrin'!M$38, \"ERROR\")))","v":""},{"$f":"IF('Data metelau hybrin'!N10=\"\",\"\",IF(ISNUMBER('Data metelau hybrin'!N10)=TRUE, IF('Data metelau hybrin'!N10<'Data metelau hybrin'!N$38, \"ERROR\", 'Data metelau hybrin'!N10), IF('Data metelau hybrin'!N10=\"<LOD\",'Data metelau hybrin'!N$38, \"ERROR\")))","v":""},{"$f":"IF('Data metelau hybrin'!O10=\"\",\"\",IF(ISNUMBER('Data metelau hybrin'!O10)=TRUE, IF('Data metelau hybrin'!O10<'Data metelau hybrin'!O$38, \"ERROR\", 'Data metelau hybrin'!O10), IF('Data metelau hybrin'!O10=\"<LOD\",'Data metelau hybrin'!O$38, \"ERROR\")))","v":""},{"$f":"IF('Data metelau hybrin'!P10=\"\",\"\",IF(ISNUMBER('Data metelau hybrin'!P10)=TRUE, IF('Data metelau hybrin'!P10<'Data metelau hybrin'!P$38, \"ERROR\", 'Data metelau hybrin'!P10), IF('Data metelau hybrin'!P10=\"<LOD\",'Data metelau hybrin'!P$38, \"ERROR\")))","v":""},{"$f":"IF('Data metelau hybrin'!Q10=\"\",\"\",IF(ISNUMBER('Data metelau hybrin'!Q10)=TRUE, IF('Data metelau hybrin'!Q10<'Data metelau hybrin'!Q$38, \"ERROR\", 'Data metelau hybrin'!Q10), IF('Data metelau hybrin'!Q10=\"<LOD\",'Data metelau hybrin'!Q$38, \"ERROR\")))","v":""},{"$f":"IF('Data metelau hybrin'!R10=\"\",\"\",IF(ISNUMBER('Data metelau hybrin'!R10)=TRUE, IF('Data metelau hybrin'!R10<'Data metelau hybrin'!R$38, \"ERROR\", 'Data metelau hybrin'!R10), IF('Data metelau hybrin'!R10=\"<LOD\",'Data metelau hybrin'!R$38, \"ERROR\")))","v":""},null,null,null,{"$f":"'Physical Stats'!N11","v":""}]
[null,null,null,null,null,null,null,{"$f":"IF('Data metelau hybrin'!H11=\"\",\"\",'Data metelau hybrin'!H11)","v":""},{"$f":"IF('Data metelau hybrin'!I11=\"\",\"\",'Data metelau hybrin'!I11)","v":""},{"$f":"IFERROR(IF(K11=\"\",\"\",(IF(VLOOKUP(K11,'Gwybodaeth ymgeiswyr'!$K$8:$L$37,2,0)=\"y\",\"y\",\"\"))),\"Manual entry required\")","v":""},{"$f":"IF('Data metelau hybrin'!J11=\"\",\"\",'Data metelau hybrin'!J11)","v":""},{"$f":"IF('Data metelau hybrin'!K11=\"\",\"\",IF(ISNUMBER('Data metelau hybrin'!K11)=TRUE, IF('Data metelau hybrin'!K11<'Data metelau hybrin'!K$38, \"ERROR\", 'Data metelau hybrin'!K11), IF('Data metelau hybrin'!K11=\"<LOD\",'Data metelau hybrin'!K$38, \"ERROR\")))","v":""},{"$f":"IF('Data metelau hybrin'!L11=\"\",\"\",IF(ISNUMBER('Data metelau hybrin'!L11)=TRUE, IF('Data metelau hybrin'!L11<'Data metelau hybrin'!L$38, \"ERROR\", 'Data metelau hybrin'!L11), IF('Data metelau hybrin'!L11=\"<LOD\",'Data metelau hybrin'!L$38, \"ERROR\")))","v":""},{"$f":"IF('Data metelau hybrin'!M11=\"\",\"\",IF(ISNUMBER('Data metelau hybrin'!M11)=TRUE, IF('Data metelau hybrin'!M11<'Data metelau hybrin'!M$38, \"ERROR\", 'Data metelau hybrin'!M11), IF('Data metelau hybrin'!M11=\"<LOD\",'Data metelau hybrin'!M$38, \"ERROR\")))","v":""},{"$f":"IF('Data metelau hybrin'!N11=\"\",\"\",IF(ISNUMBER('Data metelau hybrin'!N11)=TRUE, IF('Data metelau hybrin'!N11<'Data metelau hybrin'!N$38, \"ERROR\", 'Data metelau hybrin'!N11), IF('Data metelau hybrin'!N11=\"<LOD\",'Data metelau hybrin'!N$38, \"ERROR\")))","v":""},{"$f":"IF('Data metelau hybrin'!O11=\"\",\"\",IF(ISNUMBER('Data metelau hybrin'!O11)=TRUE, IF('Data metelau hybrin'!O11<'Data metelau hybrin'!O$38, \"ERROR\", 'Data metelau hybrin'!O11), IF('Data metelau hybrin'!O11=\"<LOD\",'Data metelau hybrin'!O$38, \"ERROR\")))","v":""},{"$f":"IF('Data metelau hybrin'!P11=\"\",\"\",IF(ISNUMBER('Data metelau hybrin'!P11)=TRUE, IF('Data metelau hybrin'!P11<'Data metelau hybrin'!P$38, \"ERROR\", 'Data metelau hybrin'!P11), IF('Data metelau hybrin'!P11=\"<LOD\",'Data metelau hybrin'!P$38, \"ERROR\")))","v":""},{"$f":"IF('Data metelau hybrin'!Q11=\"\",\"\",IF(ISNUMBER('Data metelau hybrin'!Q11)=TRUE, IF('Data metelau hybrin'!Q11<'Data metelau hybrin'!Q$38, \"ERROR\", 'Data metelau hybrin'!Q11), IF('Data metelau hybrin'!Q11=\"<LOD\",'Data metelau hybrin'!Q$38, \"ERROR\")))","v":""},{"$f":"IF('Data metelau hybrin'!R11=\"\",\"\",IF(ISNUMBER('Data metelau hybrin'!R11)=TRUE, IF('Data metelau hybrin'!R11<'Data metelau hybrin'!R$38, \"ERROR\", 'Data metelau hybrin'!R11), IF('Data metelau hybrin'!R11=\"<LOD\",'Data metelau hybrin'!R$38, \"ERROR\")))","v":""},null,null,null,{"$f":"'Physical Stats'!N12","v":""}]
[null,null,"Laboratory/contractor:",{"$f":"IF('Data metelau hybrin'!D19=\"\",\"\",'Data metelau hybrin'!D19)","v":""},null,null,null,{"$f":"IF('Data metelau hybrin'!H12=\"\",\"\",'Data metelau hybrin'!H12)","v":""},{"$f":"IF('Data metelau hybrin'!I12=\"\",\"\",'Data metelau hybrin'!I12)","v":""},{"$f":"IFERROR(IF(K12=\"\",\"\",(IF(VLOOKUP(K12,'Gwybodaeth ymgeiswyr'!$K$8:$L$37,2,0)=\"y\",\"y\",\"\"))),\"Manual entry required\")","v":""},{"$f":"IF('Data metelau hybrin'!J12=\"\",\"\",'Data metelau hybrin'!J12)","v":""},{"$f":"IF('Data metelau hybrin'!K12=\"\",\"\",IF(ISNUMBER('Data metelau hybrin'!K12)=TRUE, IF('Data metelau hybrin'!K12<'Data metelau hybrin'!K$38, \"ERROR\", 'Data metelau hybrin'!K12), IF('Data metelau hybrin'!K12=\"<LOD\",'Data metelau hybrin'!K$38, \"ERROR\")))","v":""},{"$f":"IF('Data metelau hybrin'!L12=\"\",\"\",IF(ISNUMBER('Data metelau hybrin'!L12)=TRUE, IF('Data metelau hybrin'!L12<'Data metelau hybrin'!L$38, \"ERROR\", 'Data metelau hybrin'!L12), IF('Data metelau hybrin'!L12=\"<LOD\",'Data metelau hybrin'!L$38, \"ERROR\")))","v":""},{"$f":"IF('Data metelau hybrin'!M12=\"\",\"\",IF(ISNUMBER('Data metelau hybrin'!M12)=TRUE, IF('Data metelau hybrin'!M12<'Data metelau hybrin'!M$38, \"ERROR\", 'Data metelau hybrin'!M12), IF('Data metelau hybrin'!M12=\"<LOD\",'Data metelau hybrin'!M$38, \"ERROR\")))","v":""},{"$f":"IF('Data metelau hybrin'!N12=\"\",\"\",IF(ISNUMBER('Data metelau hybrin'!N12)=TRUE, IF('Data metelau hybrin'!N12<'Data metelau hybrin'!N$38, \"ERROR\", 'Data metelau hybrin'!N12), IF('Data metelau hybrin'!N12=\"<LOD\",'Data metelau hybrin'!N$38, \"ERROR\")))","v":""},{"$f":"IF('Data metelau hybrin'!O12=\"\",\"\",IF(ISNUMBER('Data metelau hybrin'!O12)=TRUE, IF('Data metelau hybrin'!O12<'Data metelau hybrin'!O$38, \"ERROR\", 'Data metelau hybrin'!O12), IF('Data metelau hybrin'!O12=\"<LOD\",'Data metelau hybrin'!O$38, \"ERROR\")))","v":""},{"$f":"IF('Data metelau hybrin'!P12=\"\",\"\",IF(ISNUMBER('Data metelau hybrin'!P12)=TRUE, IF('Data metelau hybrin'!P12<'Data metelau hybrin'!P$38, \"ERROR\", 'Data metelau hybrin'!P12), IF('Data metelau hybrin'!P12=\"<LOD\",'Data metelau hybrin'!P$38, \"ERROR\")))","v":""},{"$f":"IF('Data metelau hybrin'!Q12=\"\",\"\",IF(ISNUMBER('Data metelau hybrin'!Q12)=TRUE, IF('Data metelau hybrin'!Q12<'Data metelau hybrin'!Q$38, \"ERROR\", 'Data metelau hybrin'!Q12), IF('Data metelau hybrin'!Q12=\"<LOD\",'Data metelau hybrin'!Q$38, \"ERROR\")))","v":""},{"$f":"IF('Data metelau hybrin'!R12=\"\",\"\",IF(ISNUMBER('Data metelau hybrin'!R12)=TRUE, IF('Data metelau hybrin'!R12<'Data metelau hybrin'!R$38, \"ERROR\", 'Data metelau hybrin'!R12), IF('Data metelau hybrin'!R12=\"<LOD\",'Data metelau hybrin'!R$38, \"ERROR\")))","v":""},null,null,null,{"$f":"'Physical Stats'!N13","v":""}]
[null,null,"Date of analysis:",{"$f":"IF('Data metelau hybrin'!D20=\"\",\"\",'Data metelau hybrin'!D20)","v":""},null,null,null,{"$f":"IF('Data metelau hybrin'!H13=\"\",\"\",'Data metelau hybrin'!H13)","v":""},{"$f":"IF('Data metelau hybrin'!I13=\"\",\"\",'Data metelau hybrin'!I13)","v":""},{"$f":"IFERROR(IF(K13=\"\",\"\",(IF(VLOOKUP(K13,'Gwybodaeth ymgeiswyr'!$K$8:$L$37,2,0)=\"y\",\"y\",\"\"))),\"Manual entry required\")","v":""},{"$f":"IF('Data metelau hybrin'!J13=\"\",\"\",'Data metelau hybrin'!J13)","v":""},{"$f":"IF('Data metelau hybrin'!K13=\"\",\"\",IF(ISNUMBER('Data metelau hybrin'!K13)=TRUE, IF('Data metelau hybrin'!K13<'Data metelau hybrin'!K$38, \"ERROR\", 'Data metelau hybrin'!K13), IF('Data metelau hybrin'!K13=\"<LOD\",'Data metelau hybrin'!K$38, \"ERROR\")))","v":""},{"$f":"IF('Data metelau hybrin'!L13=\"\",\"\",IF(ISNUMBER('Data metelau hybrin'!L13)=TRUE, IF('Data metelau hybrin'!L13<'Data metelau hybrin'!L$38, \"ERROR\", 'Data metelau hybrin'!L13), IF('Data metelau hybrin'!L13=\"<LOD\",'Data metelau hybrin'!L$38, \"ERROR\")))","v":""},{"$f":"IF('Data metelau hybrin'!M13=\"\",\"\",IF(ISNUMBER('Data metelau hybrin'!M13)=TRUE, IF('Data metelau hybrin'!M13<'Data metelau hybrin'!M$38, \"ERROR\", 'Data metelau hybrin'!M13), IF('Data metelau hybrin'!M13=\"<LOD\",'Data metelau hybrin'!M$38, \"ERROR\")))","v":""},{"$f":"IF('Data metelau hybrin'!N13=\"\",\"\",IF(ISNUMBER('Data metelau hybrin'!N13)=TRUE, IF('Data metelau hybrin'!N13<'Data metelau hybrin'!N$38, \"ERROR\", 'Data metelau hybrin'!N13), IF('Data metelau hybrin'!N13=\"<LOD\",'Data metelau hybrin'!N$38, \"ERROR\")))","v":""},{"$f":"IF('Data metelau hybrin'!O13=\"\",\"\",IF(ISNUMBER('Data metelau hybrin'!O13)=TRUE, IF('Data metelau hybrin'!O13<'Data metelau hybrin'!O$38, \"ERROR\", 'Data metelau hybrin'!O13), IF('Data metelau hybrin'!O13=\"<LOD\",'Data metelau hybrin'!O$38, \"ERROR\")))","v":""},{"$f":"IF('Data metelau hybrin'!P13=\"\",\"\",IF(ISNUMBER('Data metelau hybrin'!P13)=TRUE, IF('Data metelau hybrin'!P13<'Data metelau hybrin'!P$38, \"ERROR\", 'Data metelau hybrin'!P13), IF('Data metelau hybrin'!P13=\"<LOD\",'Data metelau hybrin'!P$38, \"ERROR\")))","v":""},{"$f":"IF('Data metelau hybrin'!Q13=\"\",\"\",IF(ISNUMBER('Data metelau hybrin'!Q13)=TRUE, IF('Data metelau hybrin'!Q13<'Data metelau hybrin'!Q$38, \"ERROR\", 'Data metelau hybrin'!Q13), IF('Data metelau hybrin'!Q13=\"<LOD\",'Data metelau hybrin'!Q$38, \"ERROR\")))","v":""},{"$f":"IF('Data metelau hybrin'!R13=\"\",\"\",IF(ISNUMBER('Data metelau hybrin'!R13)=TRUE, IF('Data metelau hybrin'!R13<'Data metelau hybrin'!R$38, \"ERROR\", 'Data metelau hybrin'!R13), IF('Data metelau hybrin'!R13=\"<LOD\",'Data metelau hybrin'!R$38, \"ERROR\")))","v":""},null,null,null,{"$f":"'Physical Stats'!N14","v":""}]
[null,null,null,null,null,null,null,{"$f":"IF('Data metelau hybrin'!H14=\"\",\"\",'Data metelau hybrin'!H14)","v":""},{"$f":"IF('Data metelau hybrin'!I14=\"\",\"\",'Data metelau hybrin'!I14)","v":""},{"$f":"IFERROR(IF(K14=\"\",\"\",(IF(VLOOKUP(K14,'Gwybodaeth ymgeiswyr'!$K$8:$L$37,2,0)=\"y\",\"y\",\"\"))),\"Manual entry required\")","v":""},{"$f":"IF('Data metelau hybrin'!J14=\"\",\"\",'Data metelau hybrin'!J14)","v":""},{"$f":"IF('Data metelau hybrin'!K14=\"\",\"\",IF(ISNUMBER('Data metelau hybrin'!K14)=TRUE, IF('Data metelau hybrin'!K14<'Data metelau hybrin'!K$38, \"ERROR\", 'Data metelau hybrin'!K14), IF('Data metelau hybrin'!K14=\"<LOD\",'Data metelau hybrin'!K$38, \"ERROR\")))","v":""},{"$f":"IF('Data metelau hybrin'!L14=\"\",\"\",IF(ISNUMBER('Data metelau hybrin'!L14)=TRUE, IF('Data metelau hybrin'!L14<'Data metelau hybrin'!L$38, \"ERROR\", 'Data metelau hybrin'!L14), IF('Data metelau hybrin'!L14=\"<LOD\",'Data metelau hybrin'!L$38, \"ERROR\")))","v":""},{"$f":"IF('Data metelau hybrin'!M14=\"\",\"\",IF(ISNUMBER('Data metelau hybrin'!M14)=TRUE, IF('Data metelau hybrin'!M14<'Data metelau hybrin'!M$38, \"ERROR\", 'Data metelau hybrin'!M14), IF('Data metelau hybrin'!M14=\"<LOD\",'Data metelau hybrin'!M$38, \"ERROR\")))","v":""},{"$f":"IF('Data metelau hybrin'!N14=\"\",\"\",IF(ISNUMBER('Data metelau hybrin'!N14)=TRUE, IF('Data metelau hybrin'!N14<'Data metelau hybrin'!N$38, \"ERROR\", 'Data metelau hybrin'!N14), IF('Data metelau hybrin'!N14=\"<LOD\",'Data metelau hybrin'!N$38, \"ERROR\")))","v":""},{"$f":"IF('Data metelau hybrin'!O14=\"\",\"\",IF(ISNUMBER('Data metelau hybrin'!O14)=TRUE, IF('Data metelau hybrin'!O14<'Data metelau hybrin'!O$38, \"ERROR\", 'Data metelau hybrin'!O14), IF('Data metelau hybrin'!O14=\"<LOD\",'Data metelau hybrin'!O$38, \"ERROR\")))","v":""},{"$f":"IF('Data metelau hybrin'!P14=\"\",\"\",IF(ISNUMBER('Data metelau hybrin'!P14)=TRUE, IF('Data metelau hybrin'!P14<'Data metelau hybrin'!P$38, \"ERROR\", 'Data metelau hybrin'!P14), IF('Data metelau hybrin'!P14=\"<LOD\",'Data metelau hybrin'!P$38, \"ERROR\")))","v":""},{"$f":"IF('Data metelau hybrin'!Q14=\"\",\"\",IF(ISNUMBER('Data metelau hybrin'!Q14)=TRUE, IF('Data metelau hybrin'!Q14<'Data metelau hybrin'!Q$38, \"ERROR\", 'Data metelau hybrin'!Q14), IF('Data metelau hybrin'!Q14=\"<LOD\",'Data metelau hybrin'!Q$38, \"ERROR\")))","v":""},{"$f":"IF('Data metelau hybrin'!R14=\"\",\"\",IF(ISNUMBER('Data metelau hybrin'!R14)=TRUE, IF('Data metelau hybrin'!R14<'Data metelau hybrin'!R$38, \"ERROR\", 'Data metelau hybrin'!R14), IF('Data metelau hybrin'!R14=\"<LOD\",'Data metelau hybrin'!R$38, \"ERROR\")))","v":""},null,null,null,{"$f":"'Physical Stats'!N15","v":""}]
[null,null,null,null,null,null,null,{"$f":"IF('Data metelau hybrin'!H15=\"\",\"\",'Data metelau hybrin'!H15)","v":""},{"$f":"IF('Data metelau hybrin'!I15=\"\",\"\",'Data metelau hybrin'!I15)","v":""},{"$f":"IFERROR(IF(K15=\"\",\"\",(IF(VLOOKUP(K15,'Gwybodaeth ymgeiswyr'!$K$8:$L$37,2,0)=\"y\",\"y\",\"\"))),\"Manual entry required\")","v":""},{"$f":"IF('Data metelau hybrin'!J15=\"\",\"\",'Data metelau hybrin'!J15)","v":""},{"$f":"IF('Data metelau hybrin'!K15=\"\",\"\",IF(ISNUMBER('Data metelau hybrin'!K15)=TRUE, IF('Data metelau hybrin'!K15<'Data metelau hybrin'!K$38, \"ERROR\", 'Data metelau hybrin'!K15), IF('Data metelau hybrin'!K15=\"<LOD\",'Data metelau hybrin'!K$38, \"ERROR\")))","v":""},{"$f":"IF('Data metelau hybrin'!L15=\"\",\"\",IF(ISNUMBER('Data metelau hybrin'!L15)=TRUE, IF('Data metelau hybrin'!L15<'Data metelau hybrin'!L$38, \"ERROR\", 'Data metelau hybrin'!L15), IF('Data metelau hybrin'!L15=\"<LOD\",'Data metelau hybrin'!L$38, \"ERROR\")))","v":""},{"$f":"IF('Data metelau hybrin'!M15=\"\",\"\",IF(ISNUMBER('Data metelau hybrin'!M15)=TRUE, IF('Data metelau hybrin'!M15<'Data metelau hybrin'!M$38, \"ERROR\", 'Data metelau hybrin'!M15), IF('Data metelau hybrin'!M15=\"<LOD\",'Data metelau hybrin'!M$38, \"ERROR\")))","v":""},{"$f":"IF('Data metelau hybrin'!N15=\"\",\"\",IF(ISNUMBER('Data metelau hybrin'!N15)=TRUE, IF('Data metelau hybrin'!N15<'Data metelau hybrin'!N$38, \"ERROR\", 'Data metelau hybrin'!N15), IF('Data metelau hybrin'!N15=\"<LOD\",'Data metelau hybrin'!N$38, \"ERROR\")))","v":""},{"$f":"IF('Data metelau hybrin'!O15=\"\",\"\",IF(ISNUMBER('Data metelau hybrin'!O15)=TRUE, IF('Data metelau hybrin'!O15<'Data metelau hybrin'!O$38, \"ERROR\", 'Data metelau hybrin'!O15), IF('Data metelau hybrin'!O15=\"<LOD\",'Data metelau hybrin'!O$38, \"ERROR\")))","v":""},{"$f":"IF('Data metelau hybrin'!P15=\"\",\"\",IF(ISNUMBER('Data metelau hybrin'!P15)=TRUE, IF('Data metelau hybrin'!P15<'Data metelau hybrin'!P$38, \"ERROR\", 'Data metelau hybrin'!P15), IF('Data metelau hybrin'!P15=\"<LOD\",'Data metelau hybrin'!P$38, \"ERROR\")))","v":""},{"$f":"IF('Data metelau hybrin'!Q15=\"\",\"\",IF(ISNUMBER('Data metelau hybrin'!Q15)=TRUE, IF('Data metelau hybrin'!Q15<'Data metelau hybrin'!Q$38, \"ERROR\", 'Data metelau hybrin'!Q15), IF('Data metelau hybrin'!Q15=\"<LOD\",'Data metelau hybrin'!Q$38, \"ERROR\")))","v":""},{"$f":"IF('Data metelau hybrin'!R15=\"\",\"\",IF(ISNUMBER('Data metelau hybrin'!R15)=TRUE, IF('Data metelau hybrin'!R15<'Data metelau hybrin'!R$38, \"ERROR\", 'Data metelau hybrin'!R15), IF('Data metelau hybrin'!R15=\"<LOD\",'Data metelau hybrin'!R$38, \"ERROR\")))","v":""},null,null,null,{"$f":"'Physical Stats'!N16","v":""}]
[null,null,null,null,null,null,null,{"$f":"IF('Data metelau hybrin'!H16=\"\",\"\",'Data metelau hybrin'!H16)","v":""},{"$f":"IF('Data metelau hybrin'!I16=\"\",\"\",'Data metelau hybrin'!I16)","v":""},{"$f":"IFERROR(IF(K16=\"\",\"\",(IF(VLOOKUP(K16,'Gwybodaeth ymgeiswyr'!$K$8:$L$37,2,0)=\"y\",\"y\",\"\"))),\"Manual entry required\")","v":""},{"$f":"IF('Data metelau hybrin'!J16=\"\",\"\",'Data metelau hybrin'!J16)","v":""},{"$f":"IF('Data metelau hybrin'!K16=\"\",\"\",IF(ISNUMBER('Data metelau hybrin'!K16)=TRUE, IF('Data metelau hybrin'!K16<'Data metelau hybrin'!K$38, \"ERROR\", 'Data metelau hybrin'!K16), IF('Data metelau hybrin'!K16=\"<LOD\",'Data metelau hybrin'!K$38, \"ERROR\")))","v":""},{"$f":"IF('Data metelau hybrin'!L16=\"\",\"\",IF(ISNUMBER('Data metelau hybrin'!L16)=TRUE, IF('Data metelau hybrin'!L16<'Data metelau hybrin'!L$38, \"ERROR\", 'Data metelau hybrin'!L16), IF('Data metelau hybrin'!L16=\"<LOD\",'Data metelau hybrin'!L$38, \"ERROR\")))","v":""},{"$f":"IF('Data metelau hybrin'!M16=\"\",\"\",IF(ISNUMBER('Data metelau hybrin'!M16)=TRUE, IF('Data metelau hybrin'!M16<'Data metelau hybrin'!M$38, \"ERROR\", 'Data metelau hybrin'!M16), IF('Data metelau hybrin'!M16=\"<LOD\",'Data metelau hybrin'!M$38, \"ERROR\")))","v":""},{"$f":"IF('Data metelau hybrin'!N16=\"\",\"\",IF(ISNUMBER('Data metelau hybrin'!N16)=TRUE, IF('Data metelau hybrin'!N16<'Data metelau hybrin'!N$38, \"ERROR\", 'Data metelau hybrin'!N16), IF('Data metelau hybrin'!N16=\"<LOD\",'Data metelau hybrin'!N$38, \"ERROR\")))","v":""},{"$f":"IF('Data metelau hybrin'!O16=\"\",\"\",IF(ISNUMBER('Data metelau hybrin'!O16)=TRUE, IF('Data metelau hybrin'!O16<'Data metelau hybrin'!O$38, \"ERROR\", 'Data metelau hybrin'!O16), IF('Data metelau hybrin'!O16=\"<LOD\",'Data metelau hybrin'!O$38, \"ERROR\")))","v":""},{"$f":"IF('Data metelau hybrin'!P16=\"\",\"\",IF(ISNUMBER('Data metelau hybrin'!P16)=TRUE, IF('Data metelau hybrin'!P16<'Data metelau hybrin'!P$38, \"ERROR\", 'Data metelau hybrin'!P16), IF('Data metelau hybrin'!P16=\"<LOD\",'Data metelau hybrin'!P$38, \"ERROR\")))","v":""},{"$f":"IF('Data metelau hybrin'!Q16=\"\",\"\",IF(ISNUMBER('Data metelau hybrin'!Q16)=TRUE, IF('Data metelau hybrin'!Q16<'Data metelau hybrin'!Q$38, \"ERROR\", 'Data metelau hybrin'!Q16), IF('Data metelau hybrin'!Q16=\"<LOD\",'Data metelau hybrin'!Q$38, \"ERROR\")))","v":""},{"$f":"IF('Data metelau hybrin'!R16=\"\",\"\",IF(ISNUMBER('Data metelau hybrin'!R16)=TRUE, IF('Data metelau hybrin'!R16<'Data metelau hybrin'!R$38, \"ERROR\", 'Data metelau hybrin'!R16), IF('Data metelau hybrin'!R16=\"<LOD\",'Data metelau hybrin'!R$38, \"ERROR\")))","v":""},null,null,null,{"$f":"'Physical Stats'!N17","v":""}]
[null,null,null,null,null,null,null,{"$f":"IF('Data metelau hybrin'!H17=\"\",\"\",'Data metelau hybrin'!H17)","v":""},{"$f":"IF('Data metelau hybrin'!I17=\"\",\"\",'Data metelau hybrin'!I17)","v":""},{"$f":"IFERROR(IF(K17=\"\",\"\",(IF(VLOOKUP(K17,'Gwybodaeth ymgeiswyr'!$K$8:$L$37,2,0)=\"y\",\"y\",\"\"))),\"Manual entry required\")","v":""},{"$f":"IF('Data metelau hybrin'!J17=\"\",\"\",'Data metelau hybrin'!J17)","v":""},{"$f":"IF('Data metelau hybrin'!K17=\"\",\"\",IF(ISNUMBER('Data metelau hybrin'!K17)=TRUE, IF('Data metelau hybrin'!K17<'Data metelau hybrin'!K$38, \"ERROR\", 'Data metelau hybrin'!K17), IF('Data metelau hybrin'!K17=\"<LOD\",'Data metelau hybrin'!K$38, \"ERROR\")))","v":""},{"$f":"IF('Data metelau hybrin'!L17=\"\",\"\",IF(ISNUMBER('Data metelau hybrin'!L17)=TRUE, IF('Data metelau hybrin'!L17<'Data metelau hybrin'!L$38, \"ERROR\", 'Data metelau hybrin'!L17), IF('Data metelau hybrin'!L17=\"<LOD\",'Data metelau hybrin'!L$38, \"ERROR\")))","v":""},{"$f":"IF('Data metelau hybrin'!M17=\"\",\"\",IF(ISNUMBER('Data metelau hybrin'!M17)=TRUE, IF('Data metelau hybrin'!M17<'Data metelau hybrin'!M$38, \"ERROR\", 'Data metelau hybrin'!M17), IF('Data metelau hybrin'!M17=\"<LOD\",'Data metelau hybrin'!M$38, \"ERROR\")))","v":""},{"$f":"IF('Data metelau hybrin'!N17=\"\",\"\",IF(ISNUMBER('Data metelau hybrin'!N17)=TRUE, IF('Data metelau hybrin'!N17<'Data metelau hybrin'!N$38, \"ERROR\", 'Data metelau hybrin'!N17), IF('Data metelau hybrin'!N17=\"<LOD\",'Data metelau hybrin'!N$38, \"ERROR\")))","v":""},{"$f":"IF('Data metelau hybrin'!O17=\"\",\"\",IF(ISNUMBER('Data metelau hybrin'!O17)=TRUE, IF('Data metelau hybrin'!O17<'Data metelau hybrin'!O$38, \"ERROR\", 'Data metelau hybrin'!O17), IF('Data metelau hybrin'!O17=\"<LOD\",'Data metelau hybrin'!O$38, \"ERROR\")))","v":""},{"$f":"IF('Data metelau hybrin'!P17=\"\",\"\",IF(ISNUMBER('Data metelau hybrin'!P17)=TRUE, IF('Data metelau hybrin'!P17<'Data metelau hybrin'!P$38, \"ERROR\", 'Data metelau hybrin'!P17), IF('Data metelau hybrin'!P17=\"<LOD\",'Data metelau hybrin'!P$38, \"ERROR\")))","v":""},{"$f":"IF('Data metelau hybrin'!Q17=\"\",\"\",IF(ISNUMBER('Data metelau hybrin'!Q17)=TRUE, IF('Data metelau hybrin'!Q17<'Data metelau hybrin'!Q$38, \"ERROR\", 'Data metelau hybrin'!Q17), IF('Data metelau hybrin'!Q17=\"<LOD\",'Data metelau hybrin'!Q$38, \"ERROR\")))","v":""},{"$f":"IF('Data metelau hybrin'!R17=\"\",\"\",IF(ISNUMBER('Data metelau hybrin'!R17)=TRUE, IF('Data metelau hybrin'!R17<'Data metelau hybrin'!R$38, \"ERROR\", 'Data metelau hybrin'!R17), IF('Data metelau hybrin'!R17=\"<LOD\",'Data metelau hybrin'!R$38, \"ERROR\")))","v":""},null,null,null,{"$f":"'Physical Stats'!N18","v":""}]
[null,null,null,null,null,null,null,{"$f":"IF('Data metelau hybrin'!H18=\"\",\"\",'Data metelau hybrin'!H18)","v":""},{"$f":"IF('Data metelau hybrin'!I18=\"\",\"\",'Data metelau hybrin'!I18)","v":""},{"$f":"IFERROR(IF(K18=\"\",\"\",(IF(VLOOKUP(K18,'Gwybodaeth ymgeiswyr'!$K$8:$L$37,2,0)=\"y\",\"y\",\"\"))),\"Manual entry required\")","v":""},{"$f":"IF('Data metelau hybrin'!J18=\"\",\"\",'Data metelau hybrin'!J18)","v":""},{"$f":"IF('Data metelau hybrin'!K18=\"\",\"\",IF(ISNUMBER('Data metelau hybrin'!K18)=TRUE, IF('Data metelau hybrin'!K18<'Data metelau hybrin'!K$38, \"ERROR\", 'Data metelau hybrin'!K18), IF('Data metelau hybrin'!K18=\"<LOD\",'Data metelau hybrin'!K$38, \"ERROR\")))","v":""},{"$f":"IF('Data metelau hybrin'!L18=\"\",\"\",IF(ISNUMBER('Data metelau hybrin'!L18)=TRUE, IF('Data metelau hybrin'!L18<'Data metelau hybrin'!L$38, \"ERROR\", 'Data metelau hybrin'!L18), IF('Data metelau hybrin'!L18=\"<LOD\",'Data metelau hybrin'!L$38, \"ERROR\")))","v":""},{"$f":"IF('Data metelau hybrin'!M18=\"\",\"\",IF(ISNUMBER('Data metelau hybrin'!M18)=TRUE, IF('Data metelau hybrin'!M18<'Data metelau hybrin'!M$38, \"ERROR\", 'Data metelau hybrin'!M18), IF('Data metelau hybrin'!M18=\"<LOD\",'Data metelau hybrin'!M$38, \"ERROR\")))","v":""},{"$f":"IF('Data metelau hybrin'!N18=\"\",\"\",IF(ISNUMBER('Data metelau hybrin'!N18)=TRUE, IF('Data metelau hybrin'!N18<'Data metelau hybrin'!N$38, \"ERROR\", 'Data metelau hybrin'!N18), IF('Data metelau hybrin'!N18=\"<LOD\",'Data metelau hybrin'!N$38, \"ERROR\")))","v":""},{"$f":"IF('Data metelau hybrin'!O18=\"\",\"\",IF(ISNUMBER('Data metelau hybrin'!O18)=TRUE, IF('Data metelau hybrin'!O18<'Data metelau hybrin'!O$38, \"ERROR\", 'Data metelau hybrin'!O18), IF('Data metelau hybrin'!O18=\"<LOD\",'Data metelau hybrin'!O$38, \"ERROR\")))","v":""},{"$f":"IF('Data metelau hybrin'!P18=\"\",\"\",IF(ISNUMBER('Data metelau hybrin'!P18)=TRUE, IF('Data metelau hybrin'!P18<'Data metelau hybrin'!P$38, \"ERROR\", 'Data metelau hybrin'!P18), IF('Data metelau hybrin'!P18=\"<LOD\",'Data metelau hybrin'!P$38, \"ERROR\")))","v":""},{"$f":"IF('Data metelau hybrin'!Q18=\"\",\"\",IF(ISNUMBER('Data metelau hybrin'!Q18)=TRUE, IF('Data metelau hybrin'!Q18<'Data metelau hybrin'!Q$38, \"ERROR\", 'Data metelau hybrin'!Q18), IF('Data metelau hybrin'!Q18=\"<LOD\",'Data metelau hybrin'!Q$38, \"ERROR\")))","v":""},{"$f":"IF('Data metelau hybrin'!R18=\"\",\"\",IF(ISNUMBER('Data metelau hybrin'!R18)=TRUE, IF('Data metelau hybrin'!R18<'Data metelau hybrin'!R$38, \"ERROR\", 'Data metelau hybrin'!R18), IF('Data metelau hybrin'!R18=\"<LOD\",'Data metelau hybrin'!R$38, \"ERROR\")))","v":""},null,null,null,{"$f":"'Physical Stats'!N19","v":""}]
[null,null,null,null,null,null,null,{"$f":"IF('Data metelau hybrin'!H19=\"\",\"\",'Data metelau hybrin'!H19)","v":""},{"$f":"IF('Data metelau hybrin'!I19=\"\",\"\",'Data metelau hybrin'!I19)","v":""},{"$f":"IFERROR(IF(K19=\"\",\"\",(IF(VLOOKUP(K19,'Gwybodaeth ymgeiswyr'!$K$8:$L$37,2,0)=\"y\",\"y\",\"\"))),\"Manual entry required\")","v":""},{"$f":"IF('Data metelau hybrin'!J19=\"\",\"\",'Data metelau hybrin'!J19)","v":""},{"$f":"IF('Data metelau hybrin'!K19=\"\",\"\",IF(ISNUMBER('Data metelau hybrin'!K19)=TRUE, IF('Data metelau hybrin'!K19<'Data metelau hybrin'!K$38, \"ERROR\", 'Data metelau hybrin'!K19), IF('Data metelau hybrin'!K19=\"<LOD\",'Data metelau hybrin'!K$38, \"ERROR\")))","v":""},{"$f":"IF('Data metelau hybrin'!L19=\"\",\"\",IF(ISNUMBER('Data metelau hybrin'!L19)=TRUE, IF('Data metelau hybrin'!L19<'Data metelau hybrin'!L$38, \"ERROR\", 'Data metelau hybrin'!L19), IF('Data metelau hybrin'!L19=\"<LOD\",'Data metelau hybrin'!L$38, \"ERROR\")))","v":""},{"$f":"IF('Data metelau hybrin'!M19=\"\",\"\",IF(ISNUMBER('Data metelau hybrin'!M19)=TRUE, IF('Data metelau hybrin'!M19<'Data metelau hybrin'!M$38, \"ERROR\", 'Data metelau hybrin'!M19), IF('Data metelau hybrin'!M19=\"<LOD\",'Data metelau hybrin'!M$38, \"ERROR\")))","v":""},{"$f":"IF('Data metelau hybrin'!N19=\"\",\"\",IF(ISNUMBER('Data metelau hybrin'!N19)=TRUE, IF('Data metelau hybrin'!N19<'Data metelau hybrin'!N$38, \"ERROR\", 'Data metelau hybrin'!N19), IF('Data metelau hybrin'!N19=\"<LOD\",'Data metelau hybrin'!N$38, \"ERROR\")))","v":""},{"$f":"IF('Data metelau hybrin'!O19=\"\",\"\",IF(ISNUMBER('Data metelau hybrin'!O19)=TRUE, IF('Data metelau hybrin'!O19<'Data metelau hybrin'!O$38, \"ERROR\", 'Data metelau hybrin'!O19), IF('Data metelau hybrin'!O19=\"<LOD\",'Data metelau hybrin'!O$38, \"ERROR\")))","v":""},{"$f":"IF('Data metelau hybrin'!P19=\"\",\"\",IF(ISNUMBER('Data metelau hybrin'!P19)=TRUE, IF('Data metelau hybrin'!P19<'Data metelau hybrin'!P$38, \"ERROR\", 'Data metelau hybrin'!P19), IF('Data metelau hybrin'!P19=\"<LOD\",'Data metelau hybrin'!P$38, \"ERROR\")))","v":""},{"$f":"IF('Data metelau hybrin'!Q19=\"\",\"\",IF(ISNUMBER('Data metelau hybrin'!Q19)=TRUE, IF('Data metelau hybrin'!Q19<'Data metelau hybrin'!Q$38, \"ERROR\", 'Data metelau hybrin'!Q19), IF('Data metelau hybrin'!Q19=\"<LOD\",'Data metelau hybrin'!Q$38, \"ERROR\")))","v":""},{"$f":"IF('Data metelau hybrin'!R19=\"\",\"\",IF(ISNUMBER('Data metelau hybrin'!R19)=TRUE, IF('Data metelau hybrin'!R19<'Data metelau hybrin'!R$38, \"ERROR\", 'Data metelau hybrin'!R19), IF('Data metelau hybrin'!R19=\"<LOD\",'Data metelau hybrin'!R$38, \"ERROR\")))","v":""},null,null,null,{"$f":"'Physical Stats'!N20","v":""}]
[null,null,null,null,null,null,null,{"$f":"IF('Data metelau hybrin'!H20=\"\",\"\",'Data metelau hybrin'!H20)","v":""},{"$f":"IF('Data metelau hybrin'!I20=\"\",\"\",'Data metelau hybrin'!I20)","v":""},{"$f":"IFERROR(IF(K20=\"\",\"\",(IF(VLOOKUP(K20,'Gwybodaeth ymgeiswyr'!$K$8:$L$37,2,0)=\"y\",\"y\",\"\"))),\"Manual entry required\")","v":""},{"$f":"IF('Data metelau hybrin'!J20=\"\",\"\",'Data metelau hybrin'!J20)","v":""},{"$f":"IF('Data metelau hybrin'!K20=\"\",\"\",IF(ISNUMBER('Data metelau hybrin'!K20)=TRUE, IF('Data metelau hybrin'!K20<'Data metelau hybrin'!K$38, \"ERROR\", 'Data metelau hybrin'!K20), IF('Data metelau hybrin'!K20=\"<LOD\",'Data metelau hybrin'!K$38, \"ERROR\")))","v":""},{"$f":"IF('Data metelau hybrin'!L20=\"\",\"\",IF(ISNUMBER('Data metelau hybrin'!L20)=TRUE, IF('Data metelau hybrin'!L20<'Data metelau hybrin'!L$38, \"ERROR\", 'Data metelau hybrin'!L20), IF('Data metelau hybrin'!L20=\"<LOD\",'Data metelau hybrin'!L$38, \"ERROR\")))","v":""},{"$f":"IF('Data metelau hybrin'!M20=\"\",\"\",IF(ISNUMBER('Data metelau hybrin'!M20)=TRUE, IF('Data metelau hybrin'!M20<'Data metelau hybrin'!M$38, \"ERROR\", 'Data metelau hybrin'!M20), IF('Data metelau hybrin'!M20=\"<LOD\",'Data metelau hybrin'!M$38, \"ERROR\")))","v":""},{"$f":"IF('Data metelau hybrin'!N20=\"\",\"\",IF(ISNUMBER('Data metelau hybrin'!N20)=TRUE, IF('Data metelau hybrin'!N20<'Data metelau hybrin'!N$38, \"ERROR\", 'Data metelau hybrin'!N20), IF('Data metelau hybrin'!N20=\"<LOD\",'Data metelau hybrin'!N$38, \"ERROR\")))","v":""},{"$f":"IF('Data metelau hybrin'!O20=\"\",\"\",IF(ISNUMBER('Data metelau hybrin'!O20)=TRUE, IF('Data metelau hybrin'!O20<'Data metelau hybrin'!O$38, \"ERROR\", 'Data metelau hybrin'!O20), IF('Data metelau hybrin'!O20=\"<LOD\",'Data metelau hybrin'!O$38, \"ERROR\")))","v":""},{"$f":"IF('Data metelau hybrin'!P20=\"\",\"\",IF(ISNUMBER('Data metelau hybrin'!P20)=TRUE, IF('Data metelau hybrin'!P20<'Data metelau hybrin'!P$38, \"ERROR\", 'Data metelau hybrin'!P20), IF('Data metelau hybrin'!P20=\"<LOD\",'Data metelau hybrin'!P$38, \"ERROR\")))","v":""},{"$f":"IF('Data metelau hybrin'!Q20=\"\",\"\",IF(ISNUMBER('Data metelau hybrin'!Q20)=TRUE, IF('Data metelau hybrin'!Q20<'Data metelau hybrin'!Q$38, \"ERROR\", 'Data metelau hybrin'!Q20), IF('Data metelau hybrin'!Q20=\"<LOD\",'Data metelau hybrin'!Q$38, \"ERROR\")))","v":""},{"$f":"IF('Data metelau hybrin'!R20=\"\",\"\",IF(ISNUMBER('Data metelau hybrin'!R20)=TRUE, IF('Data metelau hybrin'!R20<'Data metelau hybrin'!R$38, \"ERROR\", 'Data metelau hybrin'!R20), IF('Data metelau hybrin'!R20=\"<LOD\",'Data metelau hybrin'!R$38, \"ERROR\")))","v":""},null,null,null,{"$f":"'Physical Stats'!N21","v":""}]
[null,null,null,null,null,null,null,{"$f":"IF('Data metelau hybrin'!H21=\"\",\"\",'Data metelau hybrin'!H21)","v":""},{"$f":"IF('Data metelau hybrin'!I21=\"\",\"\",'Data metelau hybrin'!I21)","v":""},{"$f":"IFERROR(IF(K21=\"\",\"\",(IF(VLOOKUP(K21,'Gwybodaeth ymgeiswyr'!$K$8:$L$37,2,0)=\"y\",\"y\",\"\"))),\"Manual entry required\")","v":""},{"$f":"IF('Data metelau hybrin'!J21=\"\",\"\",'Data metelau hybrin'!J21)","v":""},{"$f":"IF('Data metelau hybrin'!K21=\"\",\"\",IF(ISNUMBER('Data metelau hybrin'!K21)=TRUE, IF('Data metelau hybrin'!K21<'Data metelau hybrin'!K$38, \"ERROR\", 'Data metelau hybrin'!K21), IF('Data metelau hybrin'!K21=\"<LOD\",'Data metelau hybrin'!K$38, \"ERROR\")))","v":""},{"$f":"IF('Data metelau hybrin'!L21=\"\",\"\",IF(ISNUMBER('Data metelau hybrin'!L21)=TRUE, IF('Data metelau hybrin'!L21<'Data metelau hybrin'!L$38, \"ERROR\", 'Data metelau hybrin'!L21), IF('Data metelau hybrin'!L21=\"<LOD\",'Data metelau hybrin'!L$38, \"ERROR\")))","v":""},{"$f":"IF('Data metelau hybrin'!M21=\"\",\"\",IF(ISNUMBER('Data metelau hybrin'!M21)=TRUE, IF('Data metelau hybrin'!M21<'Data metelau hybrin'!M$38, \"ERROR\", 'Data metelau hybrin'!M21), IF('Data metelau hybrin'!M21=\"<LOD\",'Data metelau hybrin'!M$38, \"ERROR\")))","v":""},{"$f":"IF('Data metelau hybrin'!N21=\"\",\"\",IF(ISNUMBER('Data metelau hybrin'!N21)=TRUE, IF('Data metelau hybrin'!N21<'Data metelau hybrin'!N$38, \"ERROR\", 'Data metelau hybrin'!N21), IF('Data metelau hybrin'!N21=\"<LOD\",'Data metelau hybrin'!N$38, \"ERROR\")))","v":""},{"$f":"IF('Data metelau hybrin'!O21=\"\",\"\",IF(ISNUMBER('Data metelau hybrin'!O21)=TRUE, IF('Data metelau hybrin'!O21<'Data metelau hybrin'!O$38, \"ERROR\", 'Data metelau hybrin'!O21), IF('Data metelau hybrin'!O21=\"<LOD\",'Data metelau hybrin'!O$38, \"ERROR\")))","v":""},{"$f":"IF('Data metelau hybrin'!P21=\"\",\"\",IF(ISNUMBER('Data metelau hybrin'!P21)=TRUE, IF('Data metelau hybrin'!P21<'Data metelau hybrin'!P$38, \"ERROR\", 'Data metelau hybrin'!P21), IF('Data metelau hybrin'!P21=\"<LOD\",'Data metelau hybrin'!P$38, \"ERROR\")))","v":""},{"$f":"IF('Data metelau hybrin'!Q21=\"\",\"\",IF(ISNUMBER('Data metelau hybrin'!Q21)=TRUE, IF('Data metelau hybrin'!Q21<'Data metelau hybrin'!Q$38, \"ERROR\", 'Data metelau hybrin'!Q21), IF('Data metelau hybrin'!Q21=\"<LOD\",'Data metelau hybrin'!Q$38, \"ERROR\")))","v":""},{"$f":"IF('Data metelau hybrin'!R21=\"\",\"\",IF(ISNUMBER('Data metelau hybrin'!R21)=TRUE, IF('Data metelau hybrin'!R21<'Data metelau hybrin'!R$38, \"ERROR\", 'Data metelau hybrin'!R21), IF('Data metelau hybrin'!R21=\"<LOD\",'Data metelau hybrin'!R$38, \"ERROR\")))","v":""},null,null,null,{"$f":"'Physical Stats'!N22","v":""}]
[null,null,null,null,null,null,null,{"$f":"IF('Data metelau hybrin'!H22=\"\",\"\",'Data metelau hybrin'!H22)","v":""},{"$f":"IF('Data metelau hybrin'!I22=\"\",\"\",'Data metelau hybrin'!I22)","v":""},{"$f":"IFERROR(IF(K22=\"\",\"\",(IF(VLOOKUP(K22,'Gwybodaeth ymgeiswyr'!$K$8:$L$37,2,0)=\"y\",\"y\",\"\"))),\"Manual entry required\")","v":""},{"$f":"IF('Data metelau hybrin'!J22=\"\",\"\",'Data metelau hybrin'!J22)","v":""},{"$f":"IF('Data metelau hybrin'!K22=\"\",\"\",IF(ISNUMBER('Data metelau hybrin'!K22)=TRUE, IF('Data metelau hybrin'!K22<'Data metelau hybrin'!K$38, \"ERROR\", 'Data metelau hybrin'!K22), IF('Data metelau hybrin'!K22=\"<LOD\",'Data metelau hybrin'!K$38, \"ERROR\")))","v":""},{"$f":"IF('Data metelau hybrin'!L22=\"\",\"\",IF(ISNUMBER('Data metelau hybrin'!L22)=TRUE, IF('Data metelau hybrin'!L22<'Data metelau hybrin'!L$38, \"ERROR\", 'Data metelau hybrin'!L22), IF('Data metelau hybrin'!L22=\"<LOD\",'Data metelau hybrin'!L$38, \"ERROR\")))","v":""},{"$f":"IF('Data metelau hybrin'!M22=\"\",\"\",IF(ISNUMBER('Data metelau hybrin'!M22)=TRUE, IF('Data metelau hybrin'!M22<'Data metelau hybrin'!M$38, \"ERROR\", 'Data metelau hybrin'!M22), IF('Data metelau hybrin'!M22=\"<LOD\",'Data metelau hybrin'!M$38, \"ERROR\")))","v":""},{"$f":"IF('Data metelau hybrin'!N22=\"\",\"\",IF(ISNUMBER('Data metelau hybrin'!N22)=TRUE, IF('Data metelau hybrin'!N22<'Data metelau hybrin'!N$38, \"ERROR\", 'Data metelau hybrin'!N22), IF('Data metelau hybrin'!N22=\"<LOD\",'Data metelau hybrin'!N$38, \"ERROR\")))","v":""},{"$f":"IF('Data metelau hybrin'!O22=\"\",\"\",IF(ISNUMBER('Data metelau hybrin'!O22)=TRUE, IF('Data metelau hybrin'!O22<'Data metelau hybrin'!O$38, \"ERROR\", 'Data metelau hybrin'!O22), IF('Data metelau hybrin'!O22=\"<LOD\",'Data metelau hybrin'!O$38, \"ERROR\")))","v":""},{"$f":"IF('Data metelau hybrin'!P22=\"\",\"\",IF(ISNUMBER('Data metelau hybrin'!P22)=TRUE, IF('Data metelau hybrin'!P22<'Data metelau hybrin'!P$38, \"ERROR\", 'Data metelau hybrin'!P22), IF('Data metelau hybrin'!P22=\"<LOD\",'Data metelau hybrin'!P$38, \"ERROR\")))","v":""},{"$f":"IF('Data metelau hybrin'!Q22=\"\",\"\",IF(ISNUMBER('Data metelau hybrin'!Q22)=TRUE, IF('Data metelau hybrin'!Q22<'Data metelau hybrin'!Q$38, \"ERROR\", 'Data metelau hybrin'!Q22), IF('Data metelau hybrin'!Q22=\"<LOD\",'Data metelau hybrin'!Q$38, \"ERROR\")))","v":""},{"$f":"IF('Data metelau hybrin'!R22=\"\",\"\",IF(ISNUMBER('Data metelau hybrin'!R22)=TRUE, IF('Data metelau hybrin'!R22<'Data metelau hybrin'!R$38, \"ERROR\", 'Data metelau hybrin'!R22), IF('Data metelau hybrin'!R22=\"<LOD\",'Data metelau hybrin'!R$38, \"ERROR\")))","v":""},null,null,null,{"$f":"'Physical Stats'!N23","v":""}]
[null,null,null,null,null,null,null,{"$f":"IF('Data metelau hybrin'!H23=\"\",\"\",'Data metelau hybrin'!H23)","v":""},{"$f":"IF('Data metelau hybrin'!I23=\"\",\"\",'Data metelau hybrin'!I23)","v":""},{"$f":"IFERROR(IF(K23=\"\",\"\",(IF(VLOOKUP(K23,'Gwybodaeth ymgeiswyr'!$K$8:$L$37,2,0)=\"y\",\"y\",\"\"))),\"Manual entry required\")","v":""},{"$f":"IF('Data metelau hybrin'!J23=\"\",\"\",'Data metelau hybrin'!J23)","v":""},{"$f":"IF('Data metelau hybrin'!K23=\"\",\"\",IF(ISNUMBER('Data metelau hybrin'!K23)=TRUE, IF('Data metelau hybrin'!K23<'Data metelau hybrin'!K$38, \"ERROR\", 'Data metelau hybrin'!K23), IF('Data metelau hybrin'!K23=\"<LOD\",'Data metelau hybrin'!K$38, \"ERROR\")))","v":""},{"$f":"IF('Data metelau hybrin'!L23=\"\",\"\",IF(ISNUMBER('Data metelau hybrin'!L23)=TRUE, IF('Data metelau hybrin'!L23<'Data metelau hybrin'!L$38, \"ERROR\", 'Data metelau hybrin'!L23), IF('Data metelau hybrin'!L23=\"<LOD\",'Data metelau hybrin'!L$38, \"ERROR\")))","v":""},{"$f":"IF('Data metelau hybrin'!M23=\"\",\"\",IF(ISNUMBER('Data metelau hybrin'!M23)=TRUE, IF('Data metelau hybrin'!M23<'Data metelau hybrin'!M$38, \"ERROR\", 'Data metelau hybrin'!M23), IF('Data metelau hybrin'!M23=\"<LOD\",'Data metelau hybrin'!M$38, \"ERROR\")))","v":""},{"$f":"IF('Data metelau hybrin'!N23=\"\",\"\",IF(ISNUMBER('Data metelau hybrin'!N23)=TRUE, IF('Data metelau hybrin'!N23<'Data metelau hybrin'!N$38, \"ERROR\", 'Data metelau hybrin'!N23), IF('Data metelau hybrin'!N23=\"<LOD\",'Data metelau hybrin'!N$38, \"ERROR\")))","v":""},{"$f":"IF('Data metelau hybrin'!O23=\"\",\"\",IF(ISNUMBER('Data metelau hybrin'!O23)=TRUE, IF('Data metelau hybrin'!O23<'Data metelau hybrin'!O$38, \"ERROR\", 'Data metelau hybrin'!O23), IF('Data metelau hybrin'!O23=\"<LOD\",'Data metelau hybrin'!O$38, \"ERROR\")))","v":""},{"$f":"IF('Data metelau hybrin'!P23=\"\",\"\",IF(ISNUMBER('Data metelau hybrin'!P23)=TRUE, IF('Data metelau hybrin'!P23<'Data metelau hybrin'!P$38, \"ERROR\", 'Data metelau hybrin'!P23), IF('Data metelau hybrin'!P23=\"<LOD\",'Data metelau hybrin'!P$38, \"ERROR\")))","v":""},{"$f":"IF('Data metelau hybrin'!Q23=\"\",\"\",IF(ISNUMBER('Data metelau hybrin'!Q23)=TRUE, IF('Data metelau hybrin'!Q23<'Data metelau hybrin'!Q$38, \"ERROR\", 'Data metelau hybrin'!Q23), IF('Data metelau hybrin'!Q23=\"<LOD\",'Data metelau hybrin'!Q$38, \"ERROR\")))","v":""},{"$f":"IF('Data metelau hybrin'!R23=\"\",\"\",IF(ISNUMBER('Data metelau hybrin'!R23)=TRUE, IF('Data metelau hybrin'!R23<'Data metelau hybrin'!R$38, \"ERROR\", 'Data metelau hybrin'!R23), IF('Data metelau hybrin'!R23=\"<LOD\",'Data metelau hybrin'!R$38, \"ERROR\")))","v":""},null,null,null,{"$f":"'Physical Stats'!N24","v":""}]
[null,null,null,null,null,null,null,{"$f":"IF('Data metelau hybrin'!H24=\"\",\"\",'Data metelau hybrin'!H24)","v":""},{"$f":"IF('Data metelau hybrin'!I24=\"\",\"\",'Data metelau hybrin'!I24)","v":""},{"$f":"IFERROR(IF(K24=\"\",\"\",(IF(VLOOKUP(K24,'Gwybodaeth ymgeiswyr'!$K$8:$L$37,2,0)=\"y\",\"y\",\"\"))),\"Manual entry required\")","v":""},{"$f":"IF('Data metelau hybrin'!J24=\"\",\"\",'Data metelau hybrin'!J24)","v":""},{"$f":"IF('Data metelau hybrin'!K24=\"\",\"\",IF(ISNUMBER('Data metelau hybrin'!K24)=TRUE, IF('Data metelau hybrin'!K24<'Data metelau hybrin'!K$38, \"ERROR\", 'Data metelau hybrin'!K24), IF('Data metelau hybrin'!K24=\"<LOD\",'Data metelau hybrin'!K$38, \"ERROR\")))","v":""},{"$f":"IF('Data metelau hybrin'!L24=\"\",\"\",IF(ISNUMBER('Data metelau hybrin'!L24)=TRUE, IF('Data metelau hybrin'!L24<'Data metelau hybrin'!L$38, \"ERROR\", 'Data metelau hybrin'!L24), IF('Data metelau hybrin'!L24=\"<LOD\",'Data metelau hybrin'!L$38, \"ERROR\")))","v":""},{"$f":"IF('Data metelau hybrin'!M24=\"\",\"\",IF(ISNUMBER('Data metelau hybrin'!M24)=TRUE, IF('Data metelau hybrin'!M24<'Data metelau hybrin'!M$38, \"ERROR\", 'Data metelau hybrin'!M24), IF('Data metelau hybrin'!M24=\"<LOD\",'Data metelau hybrin'!M$38, \"ERROR\")))","v":""},{"$f":"IF('Data metelau hybrin'!N24=\"\",\"\",IF(ISNUMBER('Data metelau hybrin'!N24)=TRUE, IF('Data metelau hybrin'!N24<'Data metelau hybrin'!N$38, \"ERROR\", 'Data metelau hybrin'!N24), IF('Data metelau hybrin'!N24=\"<LOD\",'Data metelau hybrin'!N$38, \"ERROR\")))","v":""},{"$f":"IF('Data metelau hybrin'!O24=\"\",\"\",IF(ISNUMBER('Data metelau hybrin'!O24)=TRUE, IF('Data metelau hybrin'!O24<'Data metelau hybrin'!O$38, \"ERROR\", 'Data metelau hybrin'!O24), IF('Data metelau hybrin'!O24=\"<LOD\",'Data metelau hybrin'!O$38, \"ERROR\")))","v":""},{"$f":"IF('Data metelau hybrin'!P24=\"\",\"\",IF(ISNUMBER('Data metelau hybrin'!P24)=TRUE, IF('Data metelau hybrin'!P24<'Data metelau hybrin'!P$38, \"ERROR\", 'Data metelau hybrin'!P24), IF('Data metelau hybrin'!P24=\"<LOD\",'Data metelau hybrin'!P$38, \"ERROR\")))","v":""},{"$f":"IF('Data metelau hybrin'!Q24=\"\",\"\",IF(ISNUMBER('Data metelau hybrin'!Q24)=TRUE, IF('Data metelau hybrin'!Q24<'Data metelau hybrin'!Q$38, \"ERROR\", 'Data metelau hybrin'!Q24), IF('Data metelau hybrin'!Q24=\"<LOD\",'Data metelau hybrin'!Q$38, \"ERROR\")))","v":""},{"$f":"IF('Data metelau hybrin'!R24=\"\",\"\",IF(ISNUMBER('Data metelau hybrin'!R24)=TRUE, IF('Data metelau hybrin'!R24<'Data metelau hybrin'!R$38, \"ERROR\", 'Data metelau hybrin'!R24), IF('Data metelau hybrin'!R24=\"<LOD\",'Data metelau hybrin'!R$38, \"ERROR\")))","v":""},null,null,null,{"$f":"'Physical Stats'!N25","v":""}]
[null,null,null,null,null,null,null,{"$f":"IF('Data metelau hybrin'!H25=\"\",\"\",'Data metelau hybrin'!H25)","v":""},{"$f":"IF('Data metelau hybrin'!I25=\"\",\"\",'Data metelau hybrin'!I25)","v":""},{"$f":"IFERROR(IF(K25=\"\",\"\",(IF(VLOOKUP(K25,'Gwybodaeth ymgeiswyr'!$K$8:$L$37,2,0)=\"y\",\"y\",\"\"))),\"Manual entry required\")","v":""},{"$f":"IF('Data metelau hybrin'!J25=\"\",\"\",'Data metelau hybrin'!J25)","v":""},{"$f":"IF('Data metelau hybrin'!K25=\"\",\"\",IF(ISNUMBER('Data metelau hybrin'!K25)=TRUE, IF('Data metelau hybrin'!K25<'Data metelau hybrin'!K$38, \"ERROR\", 'Data metelau hybrin'!K25), IF('Data metelau hybrin'!K25=\"<LOD\",'Data metelau hybrin'!K$38, \"ERROR\")))","v":""},{"$f":"IF('Data metelau hybrin'!L25=\"\",\"\",IF(ISNUMBER('Data metelau hybrin'!L25)=TRUE, IF('Data metelau hybrin'!L25<'Data metelau hybrin'!L$38, \"ERROR\", 'Data metelau hybrin'!L25), IF('Data metelau hybrin'!L25=\"<LOD\",'Data metelau hybrin'!L$38, \"ERROR\")))","v":""},{"$f":"IF('Data metelau hybrin'!M25=\"\",\"\",IF(ISNUMBER('Data metelau hybrin'!M25)=TRUE, IF('Data metelau hybrin'!M25<'Data metelau hybrin'!M$38, \"ERROR\", 'Data metelau hybrin'!M25), IF('Data metelau hybrin'!M25=\"<LOD\",'Data metelau hybrin'!M$38, \"ERROR\")))","v":""},{"$f":"IF('Data metelau hybrin'!N25=\"\",\"\",IF(ISNUMBER('Data metelau hybrin'!N25)=TRUE, IF('Data metelau hybrin'!N25<'Data metelau hybrin'!N$38, \"ERROR\", 'Data metelau hybrin'!N25), IF('Data metelau hybrin'!N25=\"<LOD\",'Data metelau hybrin'!N$38, \"ERROR\")))","v":""},{"$f":"IF('Data metelau hybrin'!O25=\"\",\"\",IF(ISNUMBER('Data metelau hybrin'!O25)=TRUE, IF('Data metelau hybrin'!O25<'Data metelau hybrin'!O$38, \"ERROR\", 'Data metelau hybrin'!O25), IF('Data metelau hybrin'!O25=\"<LOD\",'Data metelau hybrin'!O$38, \"ERROR\")))","v":""},{"$f":"IF('Data metelau hybrin'!P25=\"\",\"\",IF(ISNUMBER('Data metelau hybrin'!P25)=TRUE, IF('Data metelau hybrin'!P25<'Data metelau hybrin'!P$38, \"ERROR\", 'Data metelau hybrin'!P25), IF('Data metelau hybrin'!P25=\"<LOD\",'Data metelau hybrin'!P$38, \"ERROR\")))","v":""},{"$f":"IF('Data metelau hybrin'!Q25=\"\",\"\",IF(ISNUMBER('Data metelau hybrin'!Q25)=TRUE, IF('Data metelau hybrin'!Q25<'Data metelau hybrin'!Q$38, \"ERROR\", 'Data metelau hybrin'!Q25), IF('Data metelau hybrin'!Q25=\"<LOD\",'Data metelau hybrin'!Q$38, \"ERROR\")))","v":""},{"$f":"IF('Data metelau hybrin'!R25=\"\",\"\",IF(ISNUMBER('Data metelau hybrin'!R25)=TRUE, IF('Data metelau hybrin'!R25<'Data metelau hybrin'!R$38, \"ERROR\", 'Data metelau hybrin'!R25), IF('Data metelau hybrin'!R25=\"<LOD\",'Data metelau hybrin'!R$38, \"ERROR\")))","v":""},null,null,null,{"$f":"'Physical Stats'!N26","v":""}]
[null,null,null,null,null,null,null,{"$f":"IF('Data metelau hybrin'!H26=\"\",\"\",'Data metelau hybrin'!H26)","v":""},{"$f":"IF('Data metelau hybrin'!I26=\"\",\"\",'Data metelau hybrin'!I26)","v":""},{"$f":"IFERROR(IF(K26=\"\",\"\",(IF(VLOOKUP(K26,'Gwybodaeth ymgeiswyr'!$K$8:$L$37,2,0)=\"y\",\"y\",\"\"))),\"Manual entry required\")","v":""},{"$f":"IF('Data metelau hybrin'!J26=\"\",\"\",'Data metelau hybrin'!J26)","v":""},{"$f":"IF('Data metelau hybrin'!K26=\"\",\"\",IF(ISNUMBER('Data metelau hybrin'!K26)=TRUE, IF('Data metelau hybrin'!K26<'Data metelau hybrin'!K$38, \"ERROR\", 'Data metelau hybrin'!K26), IF('Data metelau hybrin'!K26=\"<LOD\",'Data metelau hybrin'!K$38, \"ERROR\")))","v":""},{"$f":"IF('Data metelau hybrin'!L26=\"\",\"\",IF(ISNUMBER('Data metelau hybrin'!L26)=TRUE, IF('Data metelau hybrin'!L26<'Data metelau hybrin'!L$38, \"ERROR\", 'Data metelau hybrin'!L26), IF('Data metelau hybrin'!L26=\"<LOD\",'Data metelau hybrin'!L$38, \"ERROR\")))","v":""},{"$f":"IF('Data metelau hybrin'!M26=\"\",\"\",IF(ISNUMBER('Data metelau hybrin'!M26)=TRUE, IF('Data metelau hybrin'!M26<'Data metelau hybrin'!M$38, \"ERROR\", 'Data metelau hybrin'!M26), IF('Data metelau hybrin'!M26=\"<LOD\",'Data metelau hybrin'!M$38, \"ERROR\")))","v":""},{"$f":"IF('Data metelau hybrin'!N26=\"\",\"\",IF(ISNUMBER('Data metelau hybrin'!N26)=TRUE, IF('Data metelau hybrin'!N26<'Data metelau hybrin'!N$38, \"ERROR\", 'Data metelau hybrin'!N26), IF('Data metelau hybrin'!N26=\"<LOD\",'Data metelau hybrin'!N$38, \"ERROR\")))","v":""},{"$f":"IF('Data metelau hybrin'!O26=\"\",\"\",IF(ISNUMBER('Data metelau hybrin'!O26)=TRUE, IF('Data metelau hybrin'!O26<'Data metelau hybrin'!O$38, \"ERROR\", 'Data metelau hybrin'!O26), IF('Data metelau hybrin'!O26=\"<LOD\",'Data metelau hybrin'!O$38, \"ERROR\")))","v":""},{"$f":"IF('Data metelau hybrin'!P26=\"\",\"\",IF(ISNUMBER('Data metelau hybrin'!P26)=TRUE, IF('Data metelau hybrin'!P26<'Data metelau hybrin'!P$38, \"ERROR\", 'Data metelau hybrin'!P26), IF('Data metelau hybrin'!P26=\"<LOD\",'Data metelau hybrin'!P$38, \"ERROR\")))","v":""},{"$f":"IF('Data metelau hybrin'!Q26=\"\",\"\",IF(ISNUMBER('Data metelau hybrin'!Q26)=TRUE, IF('Data metelau hybrin'!Q26<'Data metelau hybrin'!Q$38, \"ERROR\", 'Data metelau hybrin'!Q26), IF('Data metelau hybrin'!Q26=\"<LOD\",'Data metelau hybrin'!Q$38, \"ERROR\")))","v":""},{"$f":"IF('Data metelau hybrin'!R26=\"\",\"\",IF(ISNUMBER('Data metelau hybrin'!R26)=TRUE, IF('Data metelau hybrin'!R26<'Data metelau hybrin'!R$38, \"ERROR\", 'Data metelau hybrin'!R26), IF('Data metelau hybrin'!R26=\"<LOD\",'Data metelau hybrin'!R$38, \"ERROR\")))","v":""},null,null,null,{"$f":"'Physical Stats'!N27","v":""}]
[null,null,null,null,null,null,null,{"$f":"IF('Data metelau hybrin'!H27=\"\",\"\",'Data metelau hybrin'!H27)","v":""},{"$f":"IF('Data metelau hybrin'!I27=\"\",\"\",'Data metelau hybrin'!I27)","v":""},{"$f":"IFERROR(IF(K27=\"\",\"\",(IF(VLOOKUP(K27,'Gwybodaeth ymgeiswyr'!$K$8:$L$37,2,0)=\"y\",\"y\",\"\"))),\"Manual entry required\")","v":""},{"$f":"IF('Data metelau hybrin'!J27=\"\",\"\",'Data metelau hybrin'!J27)","v":""},{"$f":"IF('Data metelau hybrin'!K27=\"\",\"\",IF(ISNUMBER('Data metelau hybrin'!K27)=TRUE, IF('Data metelau hybrin'!K27<'Data metelau hybrin'!K$38, \"ERROR\", 'Data metelau hybrin'!K27), IF('Data metelau hybrin'!K27=\"<LOD\",'Data metelau hybrin'!K$38, \"ERROR\")))","v":""},{"$f":"IF('Data metelau hybrin'!L27=\"\",\"\",IF(ISNUMBER('Data metelau hybrin'!L27)=TRUE, IF('Data metelau hybrin'!L27<'Data metelau hybrin'!L$38, \"ERROR\", 'Data metelau hybrin'!L27), IF('Data metelau hybrin'!L27=\"<LOD\",'Data metelau hybrin'!L$38, \"ERROR\")))","v":""},{"$f":"IF('Data metelau hybrin'!M27=\"\",\"\",IF(ISNUMBER('Data metelau hybrin'!M27)=TRUE, IF('Data metelau hybrin'!M27<'Data metelau hybrin'!M$38, \"ERROR\", 'Data metelau hybrin'!M27), IF('Data metelau hybrin'!M27=\"<LOD\",'Data metelau hybrin'!M$38, \"ERROR\")))","v":""},{"$f":"IF('Data metelau hybrin'!N27=\"\",\"\",IF(ISNUMBER('Data metelau hybrin'!N27)=TRUE, IF('Data metelau hybrin'!N27<'Data metelau hybrin'!N$38, \"ERROR\", 'Data metelau hybrin'!N27), IF('Data metelau hybrin'!N27=\"<LOD\",'Data metelau hybrin'!N$38, \"ERROR\")))","v":""},{"$f":"IF('Data metelau hybrin'!O27=\"\",\"\",IF(ISNUMBER('Data metelau hybrin'!O27)=TRUE, IF('Data metelau hybrin'!O27<'Data metelau hybrin'!O$38, \"ERROR\", 'Data metelau hybrin'!O27), IF('Data metelau hybrin'!O27=\"<LOD\",'Data metelau hybrin'!O$38, \"ERROR\")))","v":""},{"$f":"IF('Data metelau hybrin'!P27=\"\",\"\",IF(ISNUMBER('Data metelau hybrin'!P27)=TRUE, IF('Data metelau hybrin'!P27<'Data metelau hybrin'!P$38, \"ERROR\", 'Data metelau hybrin'!P27), IF('Data metelau hybrin'!P27=\"<LOD\",'Data metelau hybrin'!P$38, \"ERROR\")))","v":""},{"$f":"IF('Data metelau hybrin'!Q27=\"\",\"\",IF(ISNUMBER('Data metelau hybrin'!Q27)=TRUE, IF('Data metelau hybrin'!Q27<'Data metelau hybrin'!Q$38, \"ERROR\", 'Data metelau hybrin'!Q27), IF('Data metelau hybrin'!Q27=\"<LOD\",'Data metelau hybrin'!Q$38, \"ERROR\")))","v":""},{"$f":"IF('Data metelau hybrin'!R27=\"\",\"\",IF(ISNUMBER('Data metelau hybrin'!R27)=TRUE, IF('Data metelau hybrin'!R27<'Data metelau hybrin'!R$38, \"ERROR\", 'Data metelau hybrin'!R27), IF('Data metelau hybrin'!R27=\"<LOD\",'Data metelau hybrin'!R$38, \"ERROR\")))","v":""},null,null,null,{"$f":"'Physical Stats'!N28","v":""}]
[null,null,null,null,null,null,null,{"$f":"IF('Data metelau hybrin'!H28=\"\",\"\",'Data metelau hybrin'!H28)","v":""},{"$f":"IF('Data metelau hybrin'!I28=\"\",\"\",'Data metelau hybrin'!I28)","v":""},{"$f":"IFERROR(IF(K28=\"\",\"\",(IF(VLOOKUP(K28,'Gwybodaeth ymgeiswyr'!$K$8:$L$37,2,0)=\"y\",\"y\",\"\"))),\"Manual entry required\")","v":""},{"$f":"IF('Data metelau hybrin'!J28=\"\",\"\",'Data metelau hybrin'!J28)","v":""},{"$f":"IF('Data metelau hybrin'!K28=\"\",\"\",IF(ISNUMBER('Data metelau hybrin'!K28)=TRUE, IF('Data metelau hybrin'!K28<'Data metelau hybrin'!K$38, \"ERROR\", 'Data metelau hybrin'!K28), IF('Data metelau hybrin'!K28=\"<LOD\",'Data metelau hybrin'!K$38, \"ERROR\")))","v":""},{"$f":"IF('Data metelau hybrin'!L28=\"\",\"\",IF(ISNUMBER('Data metelau hybrin'!L28)=TRUE, IF('Data metelau hybrin'!L28<'Data metelau hybrin'!L$38, \"ERROR\", 'Data metelau hybrin'!L28), IF('Data metelau hybrin'!L28=\"<LOD\",'Data metelau hybrin'!L$38, \"ERROR\")))","v":""},{"$f":"IF('Data metelau hybrin'!M28=\"\",\"\",IF(ISNUMBER('Data metelau hybrin'!M28)=TRUE, IF('Data metelau hybrin'!M28<'Data metelau hybrin'!M$38, \"ERROR\", 'Data metelau hybrin'!M28), IF('Data metelau hybrin'!M28=\"<LOD\",'Data metelau hybrin'!M$38, \"ERROR\")))","v":""},{"$f":"IF('Data metelau hybrin'!N28=\"\",\"\",IF(ISNUMBER('Data metelau hybrin'!N28)=TRUE, IF('Data metelau hybrin'!N28<'Data metelau hybrin'!N$38, \"ERROR\", 'Data metelau hybrin'!N28), IF('Data metelau hybrin'!N28=\"<LOD\",'Data metelau hybrin'!N$38, \"ERROR\")))","v":""},{"$f":"IF('Data metelau hybrin'!O28=\"\",\"\",IF(ISNUMBER('Data metelau hybrin'!O28)=TRUE, IF('Data metelau hybrin'!O28<'Data metelau hybrin'!O$38, \"ERROR\", 'Data metelau hybrin'!O28), IF('Data metelau hybrin'!O28=\"<LOD\",'Data metelau hybrin'!O$38, \"ERROR\")))","v":""},{"$f":"IF('Data metelau hybrin'!P28=\"\",\"\",IF(ISNUMBER('Data metelau hybrin'!P28)=TRUE, IF('Data metelau hybrin'!P28<'Data metelau hybrin'!P$38, \"ERROR\", 'Data metelau hybrin'!P28), IF('Data metelau hybrin'!P28=\"<LOD\",'Data metelau hybrin'!P$38, \"ERROR\")))","v":""},{"$f":"IF('Data metelau hybrin'!Q28=\"\",\"\",IF(ISNUMBER('Data metelau hybrin'!Q28)=TRUE, IF('Data metelau hybrin'!Q28<'Data metelau hybrin'!Q$38, \"ERROR\", 'Data metelau hybrin'!Q28), IF('Data metelau hybrin'!Q28=\"<LOD\",'Data metelau hybrin'!Q$38, \"ERROR\")))","v":""},{"$f":"IF('Data metelau hybrin'!R28=\"\",\"\",IF(ISNUMBER('Data metelau hybrin'!R28)=TRUE, IF('Data metelau hybrin'!R28<'Data metelau hybrin'!R$38, \"ERROR\", 'Data metelau hybrin'!R28), IF('Data metelau hybrin'!R28=\"<LOD\",'Data metelau hybrin'!R$38, \"ERROR\")))","v":""},null,null,null,{"$f":"'Physical Stats'!N29","v":""}]
[null,null,null,null,null,null,null,{"$f":"IF('Data metelau hybrin'!H29=\"\",\"\",'Data metelau hybrin'!H29)","v":""},{"$f":"IF('Data metelau hybrin'!I29=\"\",\"\",'Data metelau hybrin'!I29)","v":""},{"$f":"IFERROR(IF(K29=\"\",\"\",(IF(VLOOKUP(K29,'Gwybodaeth ymgeiswyr'!$K$8:$L$37,2,0)=\"y\",\"y\",\"\"))),\"Manual entry required\")","v":""},{"$f":"IF('Data metelau hybrin'!J29=\"\",\"\",'Data metelau hybrin'!J29)","v":""},{"$f":"IF('Data metelau hybrin'!K29=\"\",\"\",IF(ISNUMBER('Data metelau hybrin'!K29)=TRUE, IF('Data metelau hybrin'!K29<'Data metelau hybrin'!K$38, \"ERROR\", 'Data metelau hybrin'!K29), IF('Data metelau hybrin'!K29=\"<LOD\",'Data metelau hybrin'!K$38, \"ERROR\")))","v":""},{"$f":"IF('Data metelau hybrin'!L29=\"\",\"\",IF(ISNUMBER('Data metelau hybrin'!L29)=TRUE, IF('Data metelau hybrin'!L29<'Data metelau hybrin'!L$38, \"ERROR\", 'Data metelau hybrin'!L29), IF('Data metelau hybrin'!L29=\"<LOD\",'Data metelau hybrin'!L$38, \"ERROR\")))","v":""},{"$f":"IF('Data metelau hybrin'!M29=\"\",\"\",IF(ISNUMBER('Data metelau hybrin'!M29)=TRUE, IF('Data metelau hybrin'!M29<'Data metelau hybrin'!M$38, \"ERROR\", 'Data metelau hybrin'!M29), IF('Data metelau hybrin'!M29=\"<LOD\",'Data metelau hybrin'!M$38, \"ERROR\")))","v":""},{"$f":"IF('Data metelau hybrin'!N29=\"\",\"\",IF(ISNUMBER('Data metelau hybrin'!N29)=TRUE, IF('Data metelau hybrin'!N29<'Data metelau hybrin'!N$38, \"ERROR\", 'Data metelau hybrin'!N29), IF('Data metelau hybrin'!N29=\"<LOD\",'Data metelau hybrin'!N$38, \"ERROR\")))","v":""},{"$f":"IF('Data metelau hybrin'!O29=\"\",\"\",IF(ISNUMBER('Data metelau hybrin'!O29)=TRUE, IF('Data metelau hybrin'!O29<'Data metelau hybrin'!O$38, \"ERROR\", 'Data metelau hybrin'!O29), IF('Data metelau hybrin'!O29=\"<LOD\",'Data metelau hybrin'!O$38, \"ERROR\")))","v":""},{"$f":"IF('Data metelau hybrin'!P29=\"\",\"\",IF(ISNUMBER('Data metelau hybrin'!P29)=TRUE, IF('Data metelau hybrin'!P29<'Data metelau hybrin'!P$38, \"ERROR\", 'Data metelau hybrin'!P29), IF('Data metelau hybrin'!P29=\"<LOD\",'Data metelau hybrin'!P$38, \"ERROR\")))","v":""},{"$f":"IF('Data metelau hybrin'!Q29=\"\",\"\",IF(ISNUMBER('Data metelau hybrin'!Q29)=TRUE, IF('Data metelau hybrin'!Q29<'Data metelau hybrin'!Q$38, \"ERROR\", 'Data metelau hybrin'!Q29), IF('Data metelau hybrin'!Q29=\"<LOD\",'Data metelau hybrin'!Q$38, \"ERROR\")))","v":""},{"$f":"IF('Data metelau hybrin'!R29=\"\",\"\",IF(ISNUMBER('Data metelau hybrin'!R29)=TRUE, IF('Data metelau hybrin'!R29<'Data metelau hybrin'!R$38, \"ERROR\", 'Data metelau hybrin'!R29), IF('Data metelau hybrin'!R29=\"<LOD\",'Data metelau hybrin'!R$38, \"ERROR\")))","v":""},null,null,null,{"$f":"'Physical Stats'!N30","v":""}]
[null,null,null,null,null,null,null,{"$f":"IF('Data metelau hybrin'!H30=\"\",\"\",'Data metelau hybrin'!H30)","v":""},{"$f":"IF('Data metelau hybrin'!I30=\"\",\"\",'Data metelau hybrin'!I30)","v":""},{"$f":"IFERROR(IF(K30=\"\",\"\",(IF(VLOOKUP(K30,'Gwybodaeth ymgeiswyr'!$K$8:$L$37,2,0)=\"y\",\"y\",\"\"))),\"Manual entry required\")","v":""},{"$f":"IF('Data metelau hybrin'!J30=\"\",\"\",'Data metelau hybrin'!J30)","v":""},{"$f":"IF('Data metelau hybrin'!K30=\"\",\"\",IF(ISNUMBER('Data metelau hybrin'!K30)=TRUE, IF('Data metelau hybrin'!K30<'Data metelau hybrin'!K$38, \"ERROR\", 'Data metelau hybrin'!K30), IF('Data metelau hybrin'!K30=\"<LOD\",'Data metelau hybrin'!K$38, \"ERROR\")))","v":""},{"$f":"IF('Data metelau hybrin'!L30=\"\",\"\",IF(ISNUMBER('Data metelau hybrin'!L30)=TRUE, IF('Data metelau hybrin'!L30<'Data metelau hybrin'!L$38, \"ERROR\", 'Data metelau hybrin'!L30), IF('Data metelau hybrin'!L30=\"<LOD\",'Data metelau hybrin'!L$38, \"ERROR\")))","v":""},{"$f":"IF('Data metelau hybrin'!M30=\"\",\"\",IF(ISNUMBER('Data metelau hybrin'!M30)=TRUE, IF('Data metelau hybrin'!M30<'Data metelau hybrin'!M$38, \"ERROR\", 'Data metelau hybrin'!M30), IF('Data metelau hybrin'!M30=\"<LOD\",'Data metelau hybrin'!M$38, \"ERROR\")))","v":""},{"$f":"IF('Data metelau hybrin'!N30=\"\",\"\",IF(ISNUMBER('Data metelau hybrin'!N30)=TRUE, IF('Data metelau hybrin'!N30<'Data metelau hybrin'!N$38, \"ERROR\", 'Data metelau hybrin'!N30), IF('Data metelau hybrin'!N30=\"<LOD\",'Data metelau hybrin'!N$38, \"ERROR\")))","v":""},{"$f":"IF('Data metelau hybrin'!O30=\"\",\"\",IF(ISNUMBER('Data metelau hybrin'!O30)=TRUE, IF('Data metelau hybrin'!O30<'Data metelau hybrin'!O$38, \"ERROR\", 'Data metelau hybrin'!O30), IF('Data metelau hybrin'!O30=\"<LOD\",'Data metelau hybrin'!O$38, \"ERROR\")))","v":""},{"$f":"IF('Data metelau hybrin'!P30=\"\",\"\",IF(ISNUMBER('Data metelau hybrin'!P30)=TRUE, IF('Data metelau hybrin'!P30<'Data metelau hybrin'!P$38, \"ERROR\", 'Data metelau hybrin'!P30), IF('Data metelau hybrin'!P30=\"<LOD\",'Data metelau hybrin'!P$38, \"ERROR\")))","v":""},{"$f":"IF('Data metelau hybrin'!Q30=\"\",\"\",IF(ISNUMBER('Data metelau hybrin'!Q30)=TRUE, IF('Data metelau hybrin'!Q30<'Data metelau hybrin'!Q$38, \"ERROR\", 'Data metelau hybrin'!Q30), IF('Data metelau hybrin'!Q30=\"<LOD\",'Data metelau hybrin'!Q$38, \"ERROR\")))","v":""},{"$f":"IF('Data metelau hybrin'!R30=\"\",\"\",IF(ISNUMBER('Data metelau hybrin'!R30)=TRUE, IF('Data metelau hybrin'!R30<'Data metelau hybrin'!R$38, \"ERROR\", 'Data metelau hybrin'!R30), IF('Data metelau hybrin'!R30=\"<LOD\",'Data metelau hybrin'!R$38, \"ERROR\")))","v":""},null,null,null,{"$f":"'Physical Stats'!N31","v":""}]
[null,null,null,null,null,null,null,{"$f":"IF('Data metelau hybrin'!H31=\"\",\"\",'Data metelau hybrin'!H31)","v":""},{"$f":"IF('Data metelau hybrin'!I31=\"\",\"\",'Data metelau hybrin'!I31)","v":""},{"$f":"IFERROR(IF(K31=\"\",\"\",(IF(VLOOKUP(K31,'Gwybodaeth ymgeiswyr'!$K$8:$L$37,2,0)=\"y\",\"y\",\"\"))),\"Manual entry required\")","v":""},{"$f":"IF('Data metelau hybrin'!J31=\"\",\"\",'Data metelau hybrin'!J31)","v":""},{"$f":"IF('Data metelau hybrin'!K31=\"\",\"\",IF(ISNUMBER('Data metelau hybrin'!K31)=TRUE, IF('Data metelau hybrin'!K31<'Data metelau hybrin'!K$38, \"ERROR\", 'Data metelau hybrin'!K31), IF('Data metelau hybrin'!K31=\"<LOD\",'Data metelau hybrin'!K$38, \"ERROR\")))","v":""},{"$f":"IF('Data metelau hybrin'!L31=\"\",\"\",IF(ISNUMBER('Data metelau hybrin'!L31)=TRUE, IF('Data metelau hybrin'!L31<'Data metelau hybrin'!L$38, \"ERROR\", 'Data metelau hybrin'!L31), IF('Data metelau hybrin'!L31=\"<LOD\",'Data metelau hybrin'!L$38, \"ERROR\")))","v":""},{"$f":"IF('Data metelau hybrin'!M31=\"\",\"\",IF(ISNUMBER('Data metelau hybrin'!M31)=TRUE, IF('Data metelau hybrin'!M31<'Data metelau hybrin'!M$38, \"ERROR\", 'Data metelau hybrin'!M31), IF('Data metelau hybrin'!M31=\"<LOD\",'Data metelau hybrin'!M$38, \"ERROR\")))","v":""},{"$f":"IF('Data metelau hybrin'!N31=\"\",\"\",IF(ISNUMBER('Data metelau hybrin'!N31)=TRUE, IF('Data metelau hybrin'!N31<'Data metelau hybrin'!N$38, \"ERROR\", 'Data metelau hybrin'!N31), IF('Data metelau hybrin'!N31=\"<LOD\",'Data metelau hybrin'!N$38, \"ERROR\")))","v":""},{"$f":"IF('Data metelau hybrin'!O31=\"\",\"\",IF(ISNUMBER('Data metelau hybrin'!O31)=TRUE, IF('Data metelau hybrin'!O31<'Data metelau hybrin'!O$38, \"ERROR\", 'Data metelau hybrin'!O31), IF('Data metelau hybrin'!O31=\"<LOD\",'Data metelau hybrin'!O$38, \"ERROR\")))","v":""},{"$f":"IF('Data metelau hybrin'!P31=\"\",\"\",IF(ISNUMBER('Data metelau hybrin'!P31)=TRUE, IF('Data metelau hybrin'!P31<'Data metelau hybrin'!P$38, \"ERROR\", 'Data metelau hybrin'!P31), IF('Data metelau hybrin'!P31=\"<LOD\",'Data metelau hybrin'!P$38, \"ERROR\")))","v":""},{"$f":"IF('Data metelau hybrin'!Q31=\"\",\"\",IF(ISNUMBER('Data metelau hybrin'!Q31)=TRUE, IF('Data metelau hybrin'!Q31<'Data metelau hybrin'!Q$38, \"ERROR\", 'Data metelau hybrin'!Q31), IF('Data metelau hybrin'!Q31=\"<LOD\",'Data metelau hybrin'!Q$38, \"ERROR\")))","v":""},{"$f":"IF('Data metelau hybrin'!R31=\"\",\"\",IF(ISNUMBER('Data metelau hybrin'!R31)=TRUE, IF('Data metelau hybrin'!R31<'Data metelau hybrin'!R$38, \"ERROR\", 'Data metelau hybrin'!R31), IF('Data metelau hybrin'!R31=\"<LOD\",'Data metelau hybrin'!R$38, \"ERROR\")))","v":""},null,null,null,{"$f":"'Physical Stats'!N32","v":""}]
[null,null,null,null,null,null,null,{"$f":"IF('Data metelau hybrin'!H32=\"\",\"\",'Data metelau hybrin'!H32)","v":""},{"$f":"IF('Data metelau hybrin'!I32=\"\",\"\",'Data metelau hybrin'!I32)","v":""},{"$f":"IFERROR(IF(K32=\"\",\"\",(IF(VLOOKUP(K32,'Gwybodaeth ymgeiswyr'!$K$8:$L$37,2,0)=\"y\",\"y\",\"\"))),\"Manual entry required\")","v":""},{"$f":"IF('Data metelau hybrin'!J32=\"\",\"\",'Data metelau hybrin'!J32)","v":""},{"$f":"IF('Data metelau hybrin'!K32=\"\",\"\",IF(ISNUMBER('Data metelau hybrin'!K32)=TRUE, IF('Data metelau hybrin'!K32<'Data metelau hybrin'!K$38, \"ERROR\", 'Data metelau hybrin'!K32), IF('Data metelau hybrin'!K32=\"<LOD\",'Data metelau hybrin'!K$38, \"ERROR\")))","v":""},{"$f":"IF('Data metelau hybrin'!L32=\"\",\"\",IF(ISNUMBER('Data metelau hybrin'!L32)=TRUE, IF('Data metelau hybrin'!L32<'Data metelau hybrin'!L$38, \"ERROR\", 'Data metelau hybrin'!L32), IF('Data metelau hybrin'!L32=\"<LOD\",'Data metelau hybrin'!L$38, \"ERROR\")))","v":""},{"$f":"IF('Data metelau hybrin'!M32=\"\",\"\",IF(ISNUMBER('Data metelau hybrin'!M32)=TRUE, IF('Data metelau hybrin'!M32<'Data metelau hybrin'!M$38, \"ERROR\", 'Data metelau hybrin'!M32), IF('Data metelau hybrin'!M32=\"<LOD\",'Data metelau hybrin'!M$38, \"ERROR\")))","v":""},{"$f":"IF('Data metelau hybrin'!N32=\"\",\"\",IF(ISNUMBER('Data metelau hybrin'!N32)=TRUE, IF('Data metelau hybrin'!N32<'Data metelau hybrin'!N$38, \"ERROR\", 'Data metelau hybrin'!N32), IF('Data metelau hybrin'!N32=\"<LOD\",'Data metelau hybrin'!N$38, \"ERROR\")))","v":""},{"$f":"IF('Data metelau hybrin'!O32=\"\",\"\",IF(ISNUMBER('Data metelau hybrin'!O32)=TRUE, IF('Data metelau hybrin'!O32<'Data metelau hybrin'!O$38, \"ERROR\", 'Data metelau hybrin'!O32), IF('Data metelau hybrin'!O32=\"<LOD\",'Data metelau hybrin'!O$38, \"ERROR\")))","v":""},{"$f":"IF('Data metelau hybrin'!P32=\"\",\"\",IF(ISNUMBER('Data metelau hybrin'!P32)=TRUE, IF('Data metelau hybrin'!P32<'Data metelau hybrin'!P$38, \"ERROR\", 'Data metelau hybrin'!P32), IF('Data metelau hybrin'!P32=\"<LOD\",'Data metelau hybrin'!P$38, \"ERROR\")))","v":""},{"$f":"IF('Data metelau hybrin'!Q32=\"\",\"\",IF(ISNUMBER('Data metelau hybrin'!Q32)=TRUE, IF('Data metelau hybrin'!Q32<'Data metelau hybrin'!Q$38, \"ERROR\", 'Data metelau hybrin'!Q32), IF('Data metelau hybrin'!Q32=\"<LOD\",'Data metelau hybrin'!Q$38, \"ERROR\")))","v":""},{"$f":"IF('Data metelau hybrin'!R32=\"\",\"\",IF(ISNUMBER('Data metelau hybrin'!R32)=TRUE, IF('Data metelau hybrin'!R32<'Data metelau hybrin'!R$38, \"ERROR\", 'Data metelau hybrin'!R32), IF('Data metelau hybrin'!R32=\"<LOD\",'Data metelau hybrin'!R$38, \"ERROR\")))","v":""},null,null,null,{"$f":"'Physical Stats'!N33","v":""}]
[null,null,null,null,null,null,null,{"$f":"IF('Data metelau hybrin'!H33=\"\",\"\",'Data metelau hybrin'!H33)","v":""},{"$f":"IF('Data metelau hybrin'!I33=\"\",\"\",'Data metelau hybrin'!I33)","v":""},{"$f":"IFERROR(IF(K33=\"\",\"\",(IF(VLOOKUP(K33,'Gwybodaeth ymgeiswyr'!$K$8:$L$37,2,0)=\"y\",\"y\",\"\"))),\"Manual entry required\")","v":""},{"$f":"IF('Data metelau hybrin'!J33=\"\",\"\",'Data metelau hybrin'!J33)","v":""},{"$f":"IF('Data metelau hybrin'!K33=\"\",\"\",IF(ISNUMBER('Data metelau hybrin'!K33)=TRUE, IF('Data metelau hybrin'!K33<'Data metelau hybrin'!K$38, \"ERROR\", 'Data metelau hybrin'!K33), IF('Data metelau hybrin'!K33=\"<LOD\",'Data metelau hybrin'!K$38, \"ERROR\")))","v":""},{"$f":"IF('Data metelau hybrin'!L33=\"\",\"\",IF(ISNUMBER('Data metelau hybrin'!L33)=TRUE, IF('Data metelau hybrin'!L33<'Data metelau hybrin'!L$38, \"ERROR\", 'Data metelau hybrin'!L33), IF('Data metelau hybrin'!L33=\"<LOD\",'Data metelau hybrin'!L$38, \"ERROR\")))","v":""},{"$f":"IF('Data metelau hybrin'!M33=\"\",\"\",IF(ISNUMBER('Data metelau hybrin'!M33)=TRUE, IF('Data metelau hybrin'!M33<'Data metelau hybrin'!M$38, \"ERROR\", 'Data metelau hybrin'!M33), IF('Data metelau hybrin'!M33=\"<LOD\",'Data metelau hybrin'!M$38, \"ERROR\")))","v":""},{"$f":"IF('Data metelau hybrin'!N33=\"\",\"\",IF(ISNUMBER('Data metelau hybrin'!N33)=TRUE, IF('Data metelau hybrin'!N33<'Data metelau hybrin'!N$38, \"ERROR\", 'Data metelau hybrin'!N33), IF('Data metelau hybrin'!N33=\"<LOD\",'Data metelau hybrin'!N$38, \"ERROR\")))","v":""},{"$f":"IF('Data metelau hybrin'!O33=\"\",\"\",IF(ISNUMBER('Data metelau hybrin'!O33)=TRUE, IF('Data metelau hybrin'!O33<'Data metelau hybrin'!O$38, \"ERROR\", 'Data metelau hybrin'!O33), IF('Data metelau hybrin'!O33=\"<LOD\",'Data metelau hybrin'!O$38, \"ERROR\")))","v":""},{"$f":"IF('Data metelau hybrin'!P33=\"\",\"\",IF(ISNUMBER('Data metelau hybrin'!P33)=TRUE, IF('Data metelau hybrin'!P33<'Data metelau hybrin'!P$38, \"ERROR\", 'Data metelau hybrin'!P33), IF('Data metelau hybrin'!P33=\"<LOD\",'Data metelau hybrin'!P$38, \"ERROR\")))","v":""},{"$f":"IF('Data metelau hybrin'!Q33=\"\",\"\",IF(ISNUMBER('Data metelau hybrin'!Q33)=TRUE, IF('Data metelau hybrin'!Q33<'Data metelau hybrin'!Q$38, \"ERROR\", 'Data metelau hybrin'!Q33), IF('Data metelau hybrin'!Q33=\"<LOD\",'Data metelau hybrin'!Q$38, \"ERROR\")))","v":""},{"$f":"IF('Data metelau hybrin'!R33=\"\",\"\",IF(ISNUMBER('Data metelau hybrin'!R33)=TRUE, IF('Data metelau hybrin'!R33<'Data metelau hybrin'!R$38, \"ERROR\", 'Data metelau hybrin'!R33), IF('Data metelau hybrin'!R33=\"<LOD\",'Data metelau hybrin'!R$38, \"ERROR\")))","v":""},null,null,null,{"$f":"'Physical Stats'!N34","v":""}]
[null,null,null,null,null,null,null,{"$f":"IF('Data metelau hybrin'!H34=\"\",\"\",'Data metelau hybrin'!H34)","v":""},{"$f":"IF('Data metelau hybrin'!I34=\"\",\"\",'Data metelau hybrin'!I34)","v":""},{"$f":"IFERROR(IF(K34=\"\",\"\",(IF(VLOOKUP(K34,'Gwybodaeth ymgeiswyr'!$K$8:$L$37,2,0)=\"y\",\"y\",\"\"))),\"Manual entry required\")","v":""},{"$f":"IF('Data metelau hybrin'!J34=\"\",\"\",'Data metelau hybrin'!J34)","v":""},{"$f":"IF('Data metelau hybrin'!K34=\"\",\"\",IF(ISNUMBER('Data metelau hybrin'!K34)=TRUE, IF('Data metelau hybrin'!K34<'Data metelau hybrin'!K$38, \"ERROR\", 'Data metelau hybrin'!K34), IF('Data metelau hybrin'!K34=\"<LOD\",'Data metelau hybrin'!K$38, \"ERROR\")))","v":""},{"$f":"IF('Data metelau hybrin'!L34=\"\",\"\",IF(ISNUMBER('Data metelau hybrin'!L34)=TRUE, IF('Data metelau hybrin'!L34<'Data metelau hybrin'!L$38, \"ERROR\", 'Data metelau hybrin'!L34), IF('Data metelau hybrin'!L34=\"<LOD\",'Data metelau hybrin'!L$38, \"ERROR\")))","v":""},{"$f":"IF('Data metelau hybrin'!M34=\"\",\"\",IF(ISNUMBER('Data metelau hybrin'!M34)=TRUE, IF('Data metelau hybrin'!M34<'Data metelau hybrin'!M$38, \"ERROR\", 'Data metelau hybrin'!M34), IF('Data metelau hybrin'!M34=\"<LOD\",'Data metelau hybrin'!M$38, \"ERROR\")))","v":""},{"$f":"IF('Data metelau hybrin'!N34=\"\",\"\",IF(ISNUMBER('Data metelau hybrin'!N34)=TRUE, IF('Data metelau hybrin'!N34<'Data metelau hybrin'!N$38, \"ERROR\", 'Data metelau hybrin'!N34), IF('Data metelau hybrin'!N34=\"<LOD\",'Data metelau hybrin'!N$38, \"ERROR\")))","v":""},{"$f":"IF('Data metelau hybrin'!O34=\"\",\"\",IF(ISNUMBER('Data metelau hybrin'!O34)=TRUE, IF('Data metelau hybrin'!O34<'Data metelau hybrin'!O$38, \"ERROR\", 'Data metelau hybrin'!O34), IF('Data metelau hybrin'!O34=\"<LOD\",'Data metelau hybrin'!O$38, \"ERROR\")))","v":""},{"$f":"IF('Data metelau hybrin'!P34=\"\",\"\",IF(ISNUMBER('Data metelau hybrin'!P34)=TRUE, IF('Data metelau hybrin'!P34<'Data metelau hybrin'!P$38, \"ERROR\", 'Data metelau hybrin'!P34), IF('Data metelau hybrin'!P34=\"<LOD\",'Data metelau hybrin'!P$38, \"ERROR\")))","v":""},{"$f":"IF('Data metelau hybrin'!Q34=\"\",\"\",IF(ISNUMBER('Data metelau hybrin'!Q34)=TRUE, IF('Data metelau hybrin'!Q34<'Data metelau hybrin'!Q$38, \"ERROR\", 'Data metelau hybrin'!Q34), IF('Data metelau hybrin'!Q34=\"<LOD\",'Data metelau hybrin'!Q$38, \"ERROR\")))","v":""},{"$f":"IF('Data metelau hybrin'!R34=\"\",\"\",IF(ISNUMBER('Data metelau hybrin'!R34)=TRUE, IF('Data metelau hybrin'!R34<'Data metelau hybrin'!R$38, \"ERROR\", 'Data metelau hybrin'!R34), IF('Data metelau hybrin'!R34=\"<LOD\",'Data metelau hybrin'!R$38, \"ERROR\")))","v":""},null,null,null,{"$f":"'Physical Stats'!N35","v":""}]
[null,null,null,null,null,null,null,{"$f":"IF('Data metelau hybrin'!H35=\"\",\"\",'Data metelau hybrin'!H35)","v":""},{"$f":"IF('Data metelau hybrin'!I35=\"\",\"\",'Data metelau hybrin'!I35)","v":""},{"$f":"IFERROR(IF(K35=\"\",\"\",(IF(VLOOKUP(K35,'Gwybodaeth ymgeiswyr'!$K$8:$L$37,2,0)=\"y\",\"y\",\"\"))),\"Manual entry required\")","v":""},{"$f":"IF('Data metelau hybrin'!J35=\"\",\"\",'Data metelau hybrin'!J35)","v":""},{"$f":"IF('Data metelau hybrin'!K35=\"\",\"\",IF(ISNUMBER('Data metelau hybrin'!K35)=TRUE, IF('Data metelau hybrin'!K35<'Data metelau hybrin'!K$38, \"ERROR\", 'Data metelau hybrin'!K35), IF('Data metelau hybrin'!K35=\"<LOD\",'Data metelau hybrin'!K$38, \"ERROR\")))","v":""},{"$f":"IF('Data metelau hybrin'!L35=\"\",\"\",IF(ISNUMBER('Data metelau hybrin'!L35)=TRUE, IF('Data metelau hybrin'!L35<'Data metelau hybrin'!L$38, \"ERROR\", 'Data metelau hybrin'!L35), IF('Data metelau hybrin'!L35=\"<LOD\",'Data metelau hybrin'!L$38, \"ERROR\")))","v":""},{"$f":"IF('Data metelau hybrin'!M35=\"\",\"\",IF(ISNUMBER('Data metelau hybrin'!M35)=TRUE, IF('Data metelau hybrin'!M35<'Data metelau hybrin'!M$38, \"ERROR\", 'Data metelau hybrin'!M35), IF('Data metelau hybrin'!M35=\"<LOD\",'Data metelau hybrin'!M$38, \"ERROR\")))","v":""},{"$f":"IF('Data metelau hybrin'!N35=\"\",\"\",IF(ISNUMBER('Data metelau hybrin'!N35)=TRUE, IF('Data metelau hybrin'!N35<'Data metelau hybrin'!N$38, \"ERROR\", 'Data metelau hybrin'!N35), IF('Data metelau hybrin'!N35=\"<LOD\",'Data metelau hybrin'!N$38, \"ERROR\")))","v":""},{"$f":"IF('Data metelau hybrin'!O35=\"\",\"\",IF(ISNUMBER('Data metelau hybrin'!O35)=TRUE, IF('Data metelau hybrin'!O35<'Data metelau hybrin'!O$38, \"ERROR\", 'Data metelau hybrin'!O35), IF('Data metelau hybrin'!O35=\"<LOD\",'Data metelau hybrin'!O$38, \"ERROR\")))","v":""},{"$f":"IF('Data metelau hybrin'!P35=\"\",\"\",IF(ISNUMBER('Data metelau hybrin'!P35)=TRUE, IF('Data metelau hybrin'!P35<'Data metelau hybrin'!P$38, \"ERROR\", 'Data metelau hybrin'!P35), IF('Data metelau hybrin'!P35=\"<LOD\",'Data metelau hybrin'!P$38, \"ERROR\")))","v":""},{"$f":"IF('Data metelau hybrin'!Q35=\"\",\"\",IF(ISNUMBER('Data metelau hybrin'!Q35)=TRUE, IF('Data metelau hybrin'!Q35<'Data metelau hybrin'!Q$38, \"ERROR\", 'Data metelau hybrin'!Q35), IF('Data metelau hybrin'!Q35=\"<LOD\",'Data metelau hybrin'!Q$38, \"ERROR\")))","v":""},{"$f":"IF('Data metelau hybrin'!R35=\"\",\"\",IF(ISNUMBER('Data metelau hybrin'!R35)=TRUE, IF('Data metelau hybrin'!R35<'Data metelau hybrin'!R$38, \"ERROR\", 'Data metelau hybrin'!R35), IF('Data metelau hybrin'!R35=\"<LOD\",'Data metelau hybrin'!R$38, \"ERROR\")))","v":""},null,null,null,{"$f":"'Physical Stats'!N36","v":""}]
[null,null,null,null,null,null,null,{"$f":"IF('Data metelau hybrin'!H36=\"\",\"\",'Data metelau hybrin'!H36)","v":""},{"$f":"IF('Data metelau hybrin'!I36=\"\",\"\",'Data metelau hybrin'!I36)","v":""},{"$f":"IFERROR(IF(K36=\"\",\"\",(IF(VLOOKUP(K36,'Gwybodaeth ymgeiswyr'!$K$8:$L$37,2,0)=\"y\",\"y\",\"\"))),\"Manual entry required\")","v":""},{"$f":"IF('Data metelau hybrin'!J36=\"\",\"\",'Data metelau hybrin'!J36)","v":""},{"$f":"IF('Data metelau hybrin'!K36=\"\",\"\",IF(ISNUMBER('Data metelau hybrin'!K36)=TRUE, IF('Data metelau hybrin'!K36<'Data metelau hybrin'!K$38, \"ERROR\", 'Data metelau hybrin'!K36), IF('Data metelau hybrin'!K36=\"<LOD\",'Data metelau hybrin'!K$38, \"ERROR\")))","v":""},{"$f":"IF('Data metelau hybrin'!L36=\"\",\"\",IF(ISNUMBER('Data metelau hybrin'!L36)=TRUE, IF('Data metelau hybrin'!L36<'Data metelau hybrin'!L$38, \"ERROR\", 'Data metelau hybrin'!L36), IF('Data metelau hybrin'!L36=\"<LOD\",'Data metelau hybrin'!L$38, \"ERROR\")))","v":""},{"$f":"IF('Data metelau hybrin'!M36=\"\",\"\",IF(ISNUMBER('Data metelau hybrin'!M36)=TRUE, IF('Data metelau hybrin'!M36<'Data metelau hybrin'!M$38, \"ERROR\", 'Data metelau hybrin'!M36), IF('Data metelau hybrin'!M36=\"<LOD\",'Data metelau hybrin'!M$38, \"ERROR\")))","v":""},{"$f":"IF('Data metelau hybrin'!N36=\"\",\"\",IF(ISNUMBER('Data metelau hybrin'!N36)=TRUE, IF('Data metelau hybrin'!N36<'Data metelau hybrin'!N$38, \"ERROR\", 'Data metelau hybrin'!N36), IF('Data metelau hybrin'!N36=\"<LOD\",'Data metelau hybrin'!N$38, \"ERROR\")))","v":""},{"$f":"IF('Data metelau hybrin'!O36=\"\",\"\",IF(ISNUMBER('Data metelau hybrin'!O36)=TRUE, IF('Data metelau hybrin'!O36<'Data metelau hybrin'!O$38, \"ERROR\", 'Data metelau hybrin'!O36), IF('Data metelau hybrin'!O36=\"<LOD\",'Data metelau hybrin'!O$38, \"ERROR\")))","v":""},{"$f":"IF('Data metelau hybrin'!P36=\"\",\"\",IF(ISNUMBER('Data metelau hybrin'!P36)=TRUE, IF('Data metelau hybrin'!P36<'Data metelau hybrin'!P$38, \"ERROR\", 'Data metelau hybrin'!P36), IF('Data metelau hybrin'!P36=\"<LOD\",'Data metelau hybrin'!P$38, \"ERROR\")))","v":""},{"$f":"IF('Data metelau hybrin'!Q36=\"\",\"\",IF(ISNUMBER('Data metelau hybrin'!Q36)=TRUE, IF('Data metelau hybrin'!Q36<'Data metelau hybrin'!Q$38, \"ERROR\", 'Data metelau hybrin'!Q36), IF('Data metelau hybrin'!Q36=\"<LOD\",'Data metelau hybrin'!Q$38, \"ERROR\")))","v":""},{"$f":"IF('Data metelau hybrin'!R36=\"\",\"\",IF(ISNUMBER('Data metelau hybrin'!R36)=TRUE, IF('Data metelau hybrin'!R36<'Data metelau hybrin'!R$38, \"ERROR\", 'Data metelau hybrin'!R36), IF('Data metelau hybrin'!R36=\"<LOD\",'Data metelau hybrin'!R$38, \"ERROR\")))","v":""},null,null,null,{"$f":"'Physical Stats'!N37","v":""}]
[null,null,null,null,null,null,null,{"$f":"IF('Data metelau hybrin'!H37=\"\",\"\",'Data metelau hybrin'!H37)","v":""},{"$f":"IF('Data metelau hybrin'!I37=\"\",\"\",'Data metelau hybrin'!I37)","v":""},{"$f":"IFERROR(IF(K37=\"\",\"\",(IF(VLOOKUP(K37,'Gwybodaeth ymgeiswyr'!$K$8:$L$37,2,0)=\"y\",\"y\",\"\"))),\"Manual entry required\")","v":""},{"$f":"IF('Data metelau hybrin'!J37=\"\",\"\",'Data metelau hybrin'!J37)","v":""},{"$f":"IF('Data metelau hybrin'!K37=\"\",\"\",IF(ISNUMBER('Data metelau hybrin'!K37)=TRUE, IF('Data metelau hybrin'!K37<'Data metelau hybrin'!K$38, \"ERROR\", 'Data metelau hybrin'!K37), IF('Data metelau hybrin'!K37=\"<LOD\",'Data metelau hybrin'!K$38, \"ERROR\")))","v":""},{"$f":"IF('Data metelau hybrin'!L37=\"\",\"\",IF(ISNUMBER('Data metelau hybrin'!L37)=TRUE, IF('Data metelau hybrin'!L37<'Data metelau hybrin'!L$38, \"ERROR\", 'Data metelau hybrin'!L37), IF('Data metelau hybrin'!L37=\"<LOD\",'Data metelau hybrin'!L$38, \"ERROR\")))","v":""},{"$f":"IF('Data metelau hybrin'!M37=\"\",\"\",IF(ISNUMBER('Data metelau hybrin'!M37)=TRUE, IF('Data metelau hybrin'!M37<'Data metelau hybrin'!M$38, \"ERROR\", 'Data metelau hybrin'!M37), IF('Data metelau hybrin'!M37=\"<LOD\",'Data metelau hybrin'!M$38, \"ERROR\")))","v":""},{"$f":"IF('Data metelau hybrin'!N37=\"\",\"\",IF(ISNUMBER('Data metelau hybrin'!N37)=TRUE, IF('Data metelau hybrin'!N37<'Data metelau hybrin'!N$38, \"ERROR\", 'Data metelau hybrin'!N37), IF('Data metelau hybrin'!N37=\"<LOD\",'Data metelau hybrin'!N$38, \"ERROR\")))","v":""},{"$f":"IF('Data metelau hybrin'!O37=\"\",\"\",IF(ISNUMBER('Data metelau hybrin'!O37)=TRUE, IF('Data metelau hybrin'!O37<'Data metelau hybrin'!O$38, \"ERROR\", 'Data metelau hybrin'!O37), IF('Data metelau hybrin'!O37=\"<LOD\",'Data metelau hybrin'!O$38, \"ERROR\")))","v":""},{"$f":"IF('Data metelau hybrin'!P37=\"\",\"\",IF(ISNUMBER('Data metelau hybrin'!P37)=TRUE, IF('Data metelau hybrin'!P37<'Data metelau hybrin'!P$38, \"ERROR\", 'Data metelau hybrin'!P37), IF('Data metelau hybrin'!P37=\"<LOD\",'Data metelau hybrin'!P$38, \"ERROR\")))","v":""},{"$f":"IF('Data metelau hybrin'!Q37=\"\",\"\",IF(ISNUMBER('Data metelau hybrin'!Q37)=TRUE, IF('Data metelau hybrin'!Q37<'Data metelau hybrin'!Q$38, \"ERROR\", 'Data metelau hybrin'!Q37), IF('Data metelau hybrin'!Q37=\"<LOD\",'Data metelau hybrin'!Q$38, \"ERROR\")))","v":""},{"$f":"IF('Data metelau hybrin'!R37=\"\",\"\",IF(ISNUMBER('Data metelau hybrin'!R37)=TRUE, IF('Data metelau hybrin'!R37<'Data metelau hybrin'!R$38, \"ERROR\", 'Data metelau hybrin'!R37), IF('Data metelau hybrin'!R37=\"<LOD\",'Data metelau hybrin'!R$38, \"ERROR\")))","v":""},null,null,null,{"$f":"'Physical Stats'!N38","v":""}]
[null,null,null,null,null,null,null,null,null,null,"Averages",{"$f":"IF(COUNT(L8:L37)<1,\"\", AVERAGE(L8:L37))","v":""},{"$f":"IF(COUNT(M8:M37)<1,\"\", AVERAGE(M8:M37))","v":""},"","","","","",""]
[]
[null,null,null,null,null,null,null,null,null,null,"Action level 1:",20,0.4,40,40,0.3,20,50,130]
[null,null,null,null,null,null,null,null,null,null,"Action level 2:",100,5,400,400,3,200,500,800]
[]
[]
[]
[null,null,null,null,null,null,null,"Transformation to wet weight (mg/kg)"]
[]
[null,null,null,null,null,null,null,"Laboratory sample number","Dredge Area","Excluded (y if yes)","Sample ID(s)","Metals as mg/kg wet weight",null,null,null,null,null,null,null,null,null,null,"Total Solids (%)"]
[null,null,null,null,null,null,null,null,null,null,null,"Arsenic (As)","Cadmium (Cd)","Chromium (Cr)","Copper (Cu)","Mercury (Hg)","Nickel (Ni)","Lead (Pb)","Zinc (Zn)"]
[null,null,null,null,null,null,null,{"$f":"IF(H8=\"\",\"\",H8)","v":""},"","","",{"$f":"IF(L8=\"\",\"\",('Physical Stats'!$N9/100)*L8)","v":""},{"$f":"IF(M8=\"\",\"\",('Physical Stats'!$N9/100)*M8)","v":""},{"$f":"IF(N8=\"\",\"\",('Physical Stats'!$N9/100)*N8)","v":""},{"$f":"IF(O8=\"\",\"\",('Physical Stats'!$N9/100)*O8)","v":""},{"$f":"IF(P8=\"\",\"\",('Physical Stats'!$N9/100)*P8)","v":""},{"$f":"IF(Q8=\"\",\"\",('Physical Stats'!$N9/100)*Q8)","v":""},{"$f":"IF(R8=\"\",\"\",('Physical Stats'!$N9/100)*R8)","v":""},{"$f":"IF(S8=\"\",\"\",('Physical Stats'!$N9/100)*S8)","v":""},null,null,null,{"$f":"W8","v":""}]
[null,null,null,null,null,null,null,"","","","",{"$f":"IF(L9=\"\",\"\",('Physical Stats'!$N10/100)*L9)","v":""},{"$f":"IF(M9=\"\",\"\",('Physical Stats'!$N10/100)*M9)","v":""},{"$f":"IF(N9=\"\",\"\",('Physical Stats'!$N10/100)*N9)","v":""},{"$f":"IF(O9=\"\",\"\",('Physical Stats'!$N10/100)*O9)","v":""},{"$f":"IF(P9=\"\",\"\",('Physical Stats'!$N10/100)*P9)","v":""},{"$f":"IF(Q9=\"\",\"\",('Physical Stats'!$N10/100)*Q9)","v":""},{"$f":"IF(R9=\"\",\"\",('Physical Stats'!$N10/100)*R9)","v":""},{"$f":"IF(S9=\"\",\"\",('Physical Stats'!$N10/100)*S9)","v":""},null,null,null,{"$f":"W9","v":""}]
[null,null,null,null,null,null,null,"","","","",{"$f":"IF(L10=\"\",\"\",('Physical Stats'!$N11/100)*L10)","v":""},{"$f":"IF(M10=\"\",\"\",('Physical Stats'!$N11/100)*M10)","v":""},{"$f":"IF(N10=\"\",\"\",('Physical Stats'!$N11/100)*N10)","v":""},{"$f":"IF(O10=\"\",\"\",('Physical Stats'!$N11/100)*O10)","v":""},{"$f":"IF(P10=\"\",\"\",('Physical Stats'!$N11/100)*P10)","v":""},{"$f":"IF(Q10=\"\",\"\",('Physical Stats'!$N11/100)*Q10)","v":""},{"$f":"IF(R10=\"\",\"\",('Physical Stats'!$N11/100)*R10)","v":""},{"$f":"IF(S10=\"\",\"\",('Physical Stats'!$N11/100)*S10)","v":""},null,null,null,""]
[null,null,null,null,null,null,null,"","","","",{"$f":"IF(L11=\"\",\"\",('Physical Stats'!$N12/100)*L11)","v":""},{"$f":"IF(M11=\"\",\"\",('Physical Stats'!$N12/100)*M11)","v":""},{"$f":"IF(N11=\"\",\"\",('Physical Stats'!$N12/100)*N11)","v":""},{"$f":"IF(O11=\"\",\"\",('Physical Stats'!$N12/100)*O11)","v":""},{"$f":"IF(P11=\"\",\"\",('Physical Stats'!$N12/100)*P11)","v":""},{"$f":"IF(Q11=\"\",\"\",('Physical Stats'!$N12/100)*Q11)","v":""},{"$f":"IF(R11=\"\",\"\",('Physical Stats'!$N12/100)*R11)","v":""},{"$f":"IF(S11=\"\",\"\",('Physical Stats'!$N12/100)*S11)","v":""},null,null,null,""]
[null,null,null,null,null,null,null,"","","","",{"$f":"IF(L12=\"\",\"\",('Physical Stats'!$N13/100)*L12)","v":""},{"$f":"IF(M12=\"\",\"\",('Physical Stats'!$N13/100)*M12)","v":""},{"$f":"IF(N12=\"\",\"\",('Physical Stats'!$N13/100)*N12)","v":""},{"$f":"IF(O12=\"\",\"\",('Physical Stats'!$N13/100)*O12)","v":""},{"$f":"IF(P12=\"\",\"\",('Physical Stats'!$N13/100)*P12)","v":""},{"$f":"IF(Q12=\"\",\"\",('Physical Stats'!$N13/100)*Q12)","v":""},{"$f":"IF(R12=\"\",\"\",('Physical Stats'!$N13/100)*R12)","v":""},{"$f":"IF(S12=\"\",\"\",('Physical Stats'!$N13/100)*S12)","v":""},null,null,null,""]
[null,null,null,null,null,null,null,"","","","",{"$f":"IF(L13=\"\",\"\",('Physical Stats'!$N14/100)*L13)","v":""},{"$f":"IF(M13=\"\",\"\",('Physical Stats'!$N14/100)*M13)","v":""},{"$f":"IF(N13=\"\",\"\",('Physical Stats'!$N14/100)*N13)","v":""},{"$f":"IF(O13=\"\",\"\",('Physical Stats'!$N14/100)*O13)","v":""},{"$f":"IF(P13=\"\",\"\",('Physical Stats'!$N14/100)*P13)","v":""},{"$f":"IF(Q13=\"\",\"\",('Physical Stats'!$N14/100)*Q13)","v":""},{"$f":"IF(R13=\"\",\"\",('Physical Stats'!$N14/100)*R13)","v":""},{"$f":"IF(S13=\"\",\"\",('Physical Stats'!$N14/100)*S13)","v":""},null,null,null,""]
[null,null,null,null,null,null,null,"","","","",{"$f":"IF(L14=\"\",\"\",('Physical Stats'!$N15/100)*L14)","v":""},{"$f":"IF(M14=\"\",\"\",('Physical Stats'!$N15/100)*M14)","v":""},{"$f":"IF(N14=\"\",\"\",('Physical Stats'!$N15/100)*N14)","v":""},{"$f":"IF(O14=\"\",\"\",('Physical Stats'!$N15/100)*O14)","v":""},{"$f":"IF(P14=\"\",\"\",('Physical Stats'!$N15/100)*P14)","v":""},{"$f":"IF(Q14=\"\",\"\",('Physical Stats'!$N15/100)*Q14)","v":""},{"$f":"IF(R14=\"\",\"\",('Physical Stats'!$N15/100)*R14)","v":""},{"$f":"IF(S14=\"\",\"\",('Physical Stats'!$N15/100)*S14)","v":""},null,null,null,""]
[null,null,null,null,null,null,null,"","","","",{"$f":"IF(L15=\"\",\"\",('Physical Stats'!$N16/100)*L15)","v":""},{"$f":"IF(M15=\"\",\"\",('Physical Stats'!$N16/100)*M15)","v":""},{"$f":"IF(N15=\"\",\"\",('Physical Stats'!$N16/100)*N15)","v":""},{"$f":"IF(O15=\"\",\"\",('Physical Stats'!$N16/100)*O15)","v":""},{"$f":"IF(P15=\"\",\"\",('Physical Stats'!$N16/100)*P15)","v":""},{"$f":"IF(Q15=\"\",\"\",('Physical Stats'!$N16/100)*Q15)","v":""},{"$f":"IF(R15=\"\",\"\",('Physical Stats'!$N16/100)*R15)","v":""},{"$f":"IF(S15=\"\",\"\",('Physical Stats'!$N16/100)*S15)","v":""},null,null,null,""]
[null,null,null,null,null,null,null,"","","","",{"$f":"IF(L16=\"\",\"\",('Physical Stats'!$N17/100)*L16)","v":""},{"$f":"IF(M16=\"\",\"\",('Physical Stats'!$N17/100)*M16)","v":""},{"$f":"IF(N16=\"\",\"\",('Physical Stats'!$N17/100)*N16)","v":""},{"$f":"IF(O16=\"\",\"\",('Physical Stats'!$N17/100)*O16)","v":""},{"$f":"IF(P16=\"\",\"\",('Physical Stats'!$N17/100)*P16)","v":""},{"$f":"IF(Q16=\"\",\"\",('Physical Stats'!$N17/100)*Q16)","v":""},{"$f":"IF(R16=\"\",\"\",('Physical Stats'!$N17/100)*R16)","v":""},{"$f":"IF(S16=\"\",\"\",('Physical Stats'!$N17/100)*S16)","v":""},null,null,null,""]
[null,null,null,null,null,null,null,"","","","",{"$f":"IF(L17=\"\",\"\",('Physical Stats'!$N18/100)*L17)","v":""},{"$f":"IF(M17=\"\",\"\",('Physical Stats'!$N18/100)*M17)","v":""},{"$f":"IF(N17=\"\",\"\",('Physical Stats'!$N18/100)*N17)","v":""},{"$f":"IF(O17=\"\",\"\",('Physical Stats'!$N18/100)*O17)","v":""},{"$f":"IF(P17=\"\",\"\",('Physical Stats'!$N18/100)*P17)","v":""},{"$f":"IF(Q17=\"\",\"\",('Physical Stats'!$N18/100)*Q17)","v":""},{"$f":"IF(R17=\"\",\"\",('Physical Stats'!$N18/100)*R17)","v":""},{"$f":"IF(S17=\"\",\"\",('Physical Stats'!$N18/100)*S17)","v":""},null,null,null,""]
[null,null,null,null,null,null,null,{"$f":"IF(H18=\"\",\"\",H18)","v":""},"","","",{"$f":"IF(L18=\"\",\"\",('Physical Stats'!$N19/100)*L18)","v":""},{"$f":"IF(M18=\"\",\"\",('Physical Stats'!$N19/100)*M18)","v":""},{"$f":"IF(N18=\"\",\"\",('Physical Stats'!$N19/100)*N18)","v":""},{"$f":"IF(O18=\"\",\"\",('Physical Stats'!$N19/100)*O18)","v":""},{"$f":"IF(P18=\"\",\"\",('Physical Stats'!$N19/100)*P18)","v":""},{"$f":"IF(Q18=\"\",\"\",('Physical Stats'!$N19/100)*Q18)","v":""},{"$f":"IF(R18=\"\",\"\",('Physical Stats'!$N19/100)*R18)","v":""},{"$f":"IF(S18=\"\",\"\",('Physical Stats'!$N19/100)*S18)","v":""},null,null,null,""]
[null,null,null,null,null,null,null,"","","","",{"$f":"IF(L19=\"\",\"\",('Physical Stats'!$N20/100)*L19)","v":""},{"$f":"IF(M19=\"\",\"\",('Physical Stats'!$N20/100)*M19)","v":""},{"$f":"IF(N19=\"\",\"\",('Physical Stats'!$N20/100)*N19)","v":""},{"$f":"IF(O19=\"\",\"\",('Physical Stats'!$N20/100)*O19)","v":""},{"$f":"IF(P19=\"\",\"\",('Physical Stats'!$N20/100)*P19)","v":""},{"$f":"IF(Q19=\"\",\"\",('Physical Stats'!$N20/100)*Q19)","v":""},{"$f":"IF(R19=\"\",\"\",('Physical Stats'!$N20/100)*R19)","v":""},{"$f":"IF(S19=\"\",\"\",('Physical Stats'!$N20/100)*S19)","v":""},null,null,null,""]
[null,null,null,null,null,null,null,"","","","",{"$f":"IF(L20=\"\",\"\",('Physical Stats'!$N21/100)*L20)","v":""},{"$f":"IF(M20=\"\",\"\",('Physical Stats'!$N21/100)*M20)","v":""},{"$f":"IF(N20=\"\",\"\",('Physical Stats'!$N21/100)*N20)","v":""},{"$f":"IF(O20=\"\",\"\",('Physical Stats'!$N21/100)*O20)","v":""},{"$f":"IF(P20=\"\",\"\",('Physical Stats'!$N21/100)*P20)","v":""},{"$f":"IF(Q20=\"\",\"\",('Physical Stats'!$N21/100)*Q20)","v":""},{"$f":"IF(R20=\"\",\"\",('Physical Stats'!$N21/100)*R20)","v":""},{"$f":"IF(S20=\"\",\"\",('Physical Stats'!$N21/100)*S20)","v":""},null,null,null,""]
[null,null,null,null,null,null,null,"","","","",{"$f":"IF(L21=\"\",\"\",('Physical Stats'!$N22/100)*L21)","v":""},{"$f":"IF(M21=\"\",\"\",('Physical Stats'!$N22/100)*M21)","v":""},{"$f":"IF(N21=\"\",\"\",('Physical Stats'!$N22/100)*N21)","v":""},{"$f":"IF(O21=\"\",\"\",('Physical Stats'!$N22/100)*O21)","v":""},{"$f":"IF(P21=\"\",\"\",('Physical Stats'!$N22/100)*P21)","v":""},{"$f":"IF(Q21=\"\",\"\",('Physical Stats'!$N22/100)*Q21)","v":""},{"$f":"IF(R21=\"\",\"\",('Physical Stats'!$N22/100)*R21)","v":""},{"$f":"IF(S21=\"\",\"\",('Physical Stats'!$N22/100)*S21)","v":""},null,null,null,""]
[null,null,null,null,null,null,null,"","","","",{"$f":"IF(L22=\"\",\"\",('Physical Stats'!$N23/100)*L22)","v":""},{"$f":"IF(M22=\"\",\"\",('Physical Stats'!$N23/100)*M22)","v":""},{"$f":"IF(N22=\"\",\"\",('Physical Stats'!$N23/100)*N22)","v":""},{"$f":"IF(O22=\"\",\"\",('Physical Stats'!$N23/100)*O22)","v":""},{"$f":"IF(P22=\"\",\"\",('Physical Stats'!$N23/100)*P22)","v":""},{"$f":"IF(Q22=\"\",\"\",('Physical Stats'!$N23/100)*Q22)","v":""},{"$f":"IF(R22=\"\",\"\",('Physical Stats'!$N23/100)*R22)","v":""},{"$f":"IF(S22=\"\",\"\",('Physical Stats'!$N23/100)*S22)","v":""},null,null,null,""]
[null,null,null,null,null,null,null,"","","","",{"$f":"IF(L23=\"\",\"\",('Physical Stats'!$N24/100)*L23)","v":""},{"$f":"IF(M23=\"\",\"\",('Physical Stats'!$N24/100)*M23)","v":""},{"$f":"IF(N23=\"\",\"\",('Physical Stats'!$N24/100)*N23)","v":""},{"$f":"IF(O23=\"\",\"\",('Physical Stats'!$N24/100)*O23)","v":""},{"$f":"IF(P23=\"\",\"\",('Physical Stats'!$N24/100)*P23)","v":""},{"$f":"IF(Q23=\"\",\"\",('Physical Stats'!$N24/100)*Q23)","v":""},{"$f":"IF(R23=\"\",\"\",('Physical Stats'!$N24/100)*R23)","v":""},{"$f":"IF(S23=\"\",\"\",('Physical Stats'!$N24/100)*S23)","v":""},null,null,null,""]
[null,null,null,null,null,null,null,"","","","",{"$f":"IF(L24=\"\",\"\",('Physical Stats'!$N25/100)*L24)","v":""},{"$f":"IF(M24=\"\",\"\",('Physical Stats'!$N25/100)*M24)","v":""},{"$f":"IF(N24=\"\",\"\",('Physical Stats'!$N25/100)*N24)","v":""},{"$f":"IF(O24=\"\",\"\",('Physical Stats'!$N25/100)*O24)","v":""},{"$f":"IF(P24=\"\",\"\",('Physical Stats'!$N25/100)*P24)","v":""},{"$f":"IF(Q24=\"\",\"\",('Physical Stats'!$N25/100)*Q24)","v":""},{"$f":"IF(R24=\"\",\"\",('Physical Stats'!$N25/100)*R24)","v":""},{"$f":"IF(S24=\"\",\"\",('Physical Stats'!$N25/100)*S24)","v":""},null,null,null,""]
[null,null,null,null,null,null,null,"","","","",{"$f":"IF(L25=\"\",\"\",('Physical Stats'!$N26/100)*L25)","v":""},{"$f":"IF(M25=\"\",\"\",('Physical Stats'!$N26/100)*M25)","v":""},{"$f":"IF(N25=\"\",\"\",('Physical Stats'!$N26/100)*N25)","v":""},{"$f":"IF(O25=\"\",\"\",('Physical Stats'!$N26/100)*O25)","v":""},{"$f":"IF(P25=\"\",\"\",('Physical Stats'!$N26/100)*P25)","v":""},{"$f":"IF(Q25=\"\",\"\",('Physical Stats'!$N26/100)*Q25)","v":""},{"$f":"IF(R25=\"\",\"\",('Physical Stats'!$N26/100)*R25)","v":""},{"$f":"IF(S25=\"\",\"\",('Physical Stats'!$N26/100)*S25)","v":""},null,null,null,""]
[null,null,null,null,null,null,null,"","","","",{"$f":"IF(L26=\"\",\"\",('Physical Stats'!$N27/100)*L26)","v":""},{"$f":"IF(M26=\"\",\"\",('Physical Stats'!$N27/100)*M26)","v":""},{"$f":"IF(N26=\"\",\"\",('Physical Stats'!$N27/100)*N26)","v":""},{"$f":"IF(O26=\"\",\"\",('Physical Stats'!$N27/100)*O26)","v":""},{"$f":"IF(P26=\"\",\"\",('Physical Stats'!$N27/100)*P26)","v":""},{"$f":"IF(Q26=\"\",\"\",('Physical Stats'!$N27/100)*Q26)","v":""},{"$f":"IF(R26=\"\",\"\",('Physical Stats'!$N27/100)*R26)","v":""},{"$f":"IF(S26=\"\",\"\",('Physical Stats'!$N27/100)*S26)","v":""},null,null,null,""]
[null,null,null,null,null,null,null,"","","","",{"$f":"IF(L27=\"\",\"\",('Physical Stats'!$N28/100)*L27)","v":""},{"$f":"IF(M27=\"\",\"\",('Physical Stats'!$N28/100)*M27)","v":""},{"$f":"IF(N27=\"\",\"\",('Physical Stats'!$N28/100)*N27)","v":""},{"$f":"IF(O27=\"\",\"\",('Physical Stats'!$N28/100)*O27)","v":""},{"$f":"IF(P27=\"\",\"\",('Physical Stats'!$N28/100)*P27)","v":""},{"$f":"IF(Q27=\"\",\"\",('Physical Stats'!$N28/100)*Q27)","v":""},{"$f":"IF(R27=\"\",\"\",('Physical Stats'!$N28/100)*R27)","v":""},{"$f":"IF(S27=\"\",\"\",('Physical Stats'!$N28/100)*S27)","v":""},null,null,null,""]
[null,null,null,null,null,null,null,{"$f":"IF(H28=\"\",\"\",H28)","v":""},"","","",{"$f":"IF(L28=\"\",\"\",('Physical Stats'!$N29/100)*L28)","v":""},{"$f":"IF(M28=\"\",\"\",('Physical Stats'!$N29/100)*M28)","v":""},{"$f":"IF(N28=\"\",\"\",('Physical Stats'!$N29/100)*N28)","v":""},{"$f":"IF(O28=\"\",\"\",('Physical Stats'!$N29/100)*O28)","v":""},{"$f":"IF(P28=\"\",\"\",('Physical Stats'!$N29/100)*P28)","v":""},{"$f":"IF(Q28=\"\",\"\",('Physical Stats'!$N29/100)*Q28)","v":""},{"$f":"IF(R28=\"\",\"\",('Physical Stats'!$N29/100)*R28)","v":""},{"$f":"IF(S28=\"\",\"\",('Physical Stats'!$N29/100)*S28)","v":""},null,null,null,""]
[null,null,null,null,null,null,null,"","","","",{"$f":"IF(L29=\"\",\"\",('Physical Stats'!$N30/100)*L29)","v":""},{"$f":"IF(M29=\"\",\"\",('Physical Stats'!$N30/100)*M29)","v":""},{"$f":"IF(N29=\"\",\"\",('Physical Stats'!$N30/100)*N29)","v":""},{"$f":"IF(O29=\"\",\"\",('Physical Stats'!$N30/100)*O29)","v":""},{"$f":"IF(P29=\"\",\"\",('Physical Stats'!$N30/100)*P29)","v":""},{"$f":"IF(Q29=\"\",\"\",('Physical Stats'!$N30/100)*Q29)","v":""},{"$f":"IF(R29=\"\",\"\",('Physical Stats'!$N30/100)*R29)","v":""},{"$f":"IF(S29=\"\",\"\",('Physical Stats'!$N30/100)*S29)","v":""},null,null,null,""]
[null,null,null,null,null,null,null,"","","","",{"$f":"IF(L30=\"\",\"\",('Physical Stats'!$N31/100)*L30)","v":""},{"$f":"IF(M30=\"\",\"\",('Physical Stats'!$N31/100)*M30)","v":""},{"$f":"IF(N30=\"\",\"\",('Physical Stats'!$N31/100)*N30)","v":""},{"$f":"IF(O30=\"\",\"\",('Physical Stats'!$N31/100)*O30)","v":""},{"$f":"IF(P30=\"\",\"\",('Physical Stats'!$N31/100)*P30)","v":""},{"$f":"IF(Q30=\"\",\"\",('Physical Stats'!$N31/100)*Q30)","v":""},{"$f":"IF(R30=\"\",\"\",('Physical Stats'!$N31/100)*R30)","v":""},{"$f":"IF(S30=\"\",\"\",('Physical Stats'!$N31/100)*S30)","v":""},null,null,null,""]
[null,null,null,null,null,null,null,"","","","",{"$f":"IF(L31=\"\",\"\",('Physical Stats'!$N32/100)*L31)","v":""},{"$f":"IF(M31=\"\",\"\",('Physical Stats'!$N32/100)*M31)","v":""},{"$f":"IF(N31=\"\",\"\",('Physical Stats'!$N32/100)*N31)","v":""},{"$f":"IF(O31=\"\",\"\",('Physical Stats'!$N32/100)*O31)","v":""},{"$f":"IF(P31=\"\",\"\",('Physical Stats'!$N32/100)*P31)","v":""},{"$f":"IF(Q31=\"\",\"\",('Physical Stats'!$N32/100)*Q31)","v":""},{"$f":"IF(R31=\"\",\"\",('Physical Stats'!$N32/100)*R31)","v":""},{"$f":"IF(S31=\"\",\"\",('Physical Stats'!$N32/100)*S31)","v":""},null,null,null,""]
[null,null,null,null,null,null,null,"","","","",{"$f":"IF(L32=\"\",\"\",('Physical Stats'!$N33/100)*L32)","v":""},{"$f":"IF(M32=\"\",\"\",('Physical Stats'!$N33/100)*M32)","v":""},{"$f":"IF(N32=\"\",\"\",('Physical Stats'!$N33/100)*N32)","v":""},{"$f":"IF(O32=\"\",\"\",('Physical Stats'!$N33/100)*O32)","v":""},{"$f":"IF(P32=\"\",\"\",('Physical Stats'!$N33/100)*P32)","v":""},{"$f":"IF(Q32=\"\",\"\",('Physical Stats'!$N33/100)*Q32)","v":""},{"$f":"IF(R32=\"\",\"\",('Physical Stats'!$N33/100)*R32)","v":""},{"$f":"IF(S32=\"\",\"\",('Physical Stats'!$N33/100)*S32)","v":""},null,null,null,""]
[null,null,null,null,null,null,null,"","","","",{"$f":"IF(L33=\"\",\"\",('Physical Stats'!$N34/100)*L33)","v":""},{"$f":"IF(M33=\"\",\"\",('Physical Stats'!$N34/100)*M33)","v":""},{"$f":"IF(N33=\"\",\"\",('Physical Stats'!$N34/100)*N33)","v":""},{"$f":"IF(O33=\"\",\"\",('Physical Stats'!$N34/100)*O33)","v":""},{"$f":"IF(P33=\"\",\"\",('Physical Stats'!$N34/100)*P33)","v":""},{"$f":"IF(Q33=\"\",\"\",('Physical Stats'!$N34/100)*Q33)","v":""},{"$f":"IF(R33=\"\",\"\",('Physical Stats'!$N34/100)*R33)","v":""},{"$f":"IF(S33=\"\",\"\",('Physical Stats'!$N34/100)*S33)","v":""},null,null,null,""]
[null,null,null,null,null,null,null,"","","","",{"$f":"IF(L34=\"\",\"\",('Physical Stats'!$N35/100)*L34)","v":""},{"$f":"IF(M34=\"\",\"\",('Physical Stats'!$N35/100)*M34)","v":""},{"$f":"IF(N34=\"\",\"\",('Physical Stats'!$N35/100)*N34)","v":""},{"$f":"IF(O34=\"\",\"\",('Physical Stats'!$N35/100)*O34)","v":""},{"$f":"IF(P34=\"\",\"\",('Physical Stats'!$N35/100)*P34)","v":""},{"$f":"IF(Q34=\"\",\"\",('Physical Stats'!$N35/100)*Q34)","v":""},{"$f":"IF(R34=\"\",\"\",('Physical Stats'!$N35/100)*R34)","v":""},{"$f":"IF(S34=\"\",\"\",('Physical Stats'!$N35/100)*S34)","v":""},null,null,null,""]
[null,null,null,null,null,null,null,"","","","",{"$f":"IF(L35=\"\",\"\",('Physical Stats'!$N36/100)*L35)","v":""},{"$f":"IF(M35=\"\",\"\",('Physical Stats'!$N36/100)*M35)","v":""},{"$f":"IF(N35=\"\",\"\",('Physical Stats'!$N36/100)*N35)","v":""},{"$f":"IF(O35=\"\",\"\",('Physical Stats'!$N36/100)*O35)","v":""},{"$f":"IF(P35=\"\",\"\",('Physical Stats'!$N36/100)*P35)","v":""},{"$f":"IF(Q35=\"\",\"\",('Physical Stats'!$N36/100)*Q35)","v":""},{"$f":"IF(R35=\"\",\"\",('Physical Stats'!$N36/100)*R35)","v":""},{"$f":"IF(S35=\"\",\"\",('Physical Stats'!$N36/100)*S35)","v":""},null,null,null,""]
[null,null,null,null,null,null,null,"","","","",{"$f":"IF(L36=\"\",\"\",('Physical Stats'!$N37/100)*L36)","v":""},{"$f":"IF(M36=\"\",\"\",('Physical Stats'!$N37/100)*M36)","v":""},{"$f":"IF(N36=\"\",\"\",('Physical Stats'!$N37/100)*N36)","v":""},{"$f":"IF(O36=\"\",\"\",('Physical Stats'!$N37/100)*O36)","v":""},{"$f":"IF(P36=\"\",\"\",('Physical Stats'!$N37/100)*P36)","v":""},{"$f":"IF(Q36=\"\",\"\",('Physical Stats'!$N37/100)*Q36)","v":""},{"$f":"IF(R36=\"\",\"\",('Physical Stats'!$N37/100)*R36)","v":""},{"$f":"IF(S36=\"\",\"\",('Physical Stats'!$N37/100)*S36)","v":""},null,null,null,""]
[null,null,null,null,null,null,null,"","","","",{"$f":"IF(L37=\"\",\"\",('Physical Stats'!$N38/100)*L37)","v":""},{"$f":"IF(M37=\"\",\"\",('Physical Stats'!$N38/100)*M37)","v":""},{"$f":"IF(N37=\"\",\"\",('Physical Stats'!$N38/100)*N37)","v":""},{"$f":"IF(O37=\"\",\"\",('Physical Stats'!$N38/100)*O37)","v":""},{"$f":"IF(P37=\"\",\"\",('Physical Stats'!$N38/100)*P37)","v":""},{"$f":"IF(Q37=\"\",\"\",('Physical Stats'!$N38/100)*Q37)","v":""},{"$f":"IF(R37=\"\",\"\",('Physical Stats'!$N38/100)*R37)","v":""},{"$f":"IF(S37=\"\",\"\",('Physical Stats'!$N38/100)*S37)","v":""},null,null,null,""]
[null,null,null,null,null,null,null,null,null,null,null,{"$f":"IF(COUNT(L49:L78)<1,\"\", AVERAGE(L49:L78))","v":""},"","","","","","","",null,null,null,{"$f":"IF(COUNT(W49:W78)<1,\"\", AVERAGE(W49:W78))","v":""}]
[]
[]
[]
[null,null,null,null,null,null,null,"Removal of excluded areas"]
[]
[null,null,null,null,null,null,null,"Laboratory sample number","Dredge Area","Excluded (y if yes)","Sample ID(s)","Metals as mg/kg wet weight",null,null,null,null,null,null,null,null,null,null,"Total Solids (%)"]
[null,null,null,null,null,null,null,null,null,null,null,"Arsenic (As)","Cadmium (Cd)","Chromium (Cr)","Copper (Cu)","Mercury (Hg)","Nickel (Ni)","Lead (Pb)","Zinc (Zn)"]
[null,null,null,null,null,null,null,{"$f":"IF(H49=\"\",\"\",H49)","v":""},{"$f":"IF(J87=\"y\",\"\",I49)","v":""},"",{"$f":"IF(J87=\"y\",\"\",K49)","v":""},{"$f":"IF($J49=\"y\",\"\",L49)","v":""},{"$f":"IF($J49=\"y\",\"\",M49)","v":""},"","","","","","",null,null,null,{"$f":"IF($J49=\"y\",\"\",W49)","v":""}]
[null,null,null,null,null,null,null,"",{"$f":"IF(J88=\"y\",\"\",I50)","v":""},"",{"$f":"IF(J88=\"y\",\"\",K50)","v":""},{"$f":"IF($J50=\"y\",\"\",L50)","v":""},"","","","","","","",null,null,null,{"$f":"IF($J50=\"y\",\"\",W50)","v":""}]
[null,null,null,null,null,null,null,"","","","",{"$f":"IF($J51=\"y\",\"\",L51)","v":""},"","","","","","","",null,null,null,{"$f":"IF($J51=\"y\",\"\",W51)","v":""}]
[null,null,null,null,null,null,null,"","","","",{"$f":"IF($J52=\"y\",\"\",L52)","v":""},"","","","","","","",null,null,null,{"$f":"IF($J52=\"y\",\"\",W52)","v":""}]
[null,null,null,null,null,null,null,"","","","",{"$f":"IF($J53=\"y\",\"\",L53)","v":""},"","","","","","","",null,null,null,{"$f":"IF($J53=\"y\",\"\",W53)","v":""}]
[null,null,null,null,null,null,null,"","","","",{"$f":"IF($J54=\"y\",\"\",L54)","v":""},"","","","","","","",null,null,null,{"$f":"IF($J54=\"y\",\"\",W54)","v":""}]
[null,null,null,null,null,null,null,"","","","",{"$f":"IF($J55=\"y\",\"\",L55)","v":""},"","","","","","","",null,null,null,{"$f":"IF($J55=\"y\",\"\",W55)","v":""}]
[null,null,null,null,null,null,null,"","","","",{"$f":"IF($J56=\"y\",\"\",L56)","v":""},"","","","","","","",null,null,null,{"$f":"IF($J56=\"y\",\"\",W56)","v":""}]
[null,null,null,null,null,null,null,"","","","",{"$f":"IF($J57=\"y\",\"\",L57)","v":""},"","","","","","","",null,null,null,{"$f":"IF($J57=\"y\",\"\",W57)","v":""}]
[null,null,null,null,null,null,null,"","","","",{"$f":"IF($J58=\"y\",\"\",L58)","v":""},"","","","","","","",null,null,null,{"$f":"IF($J58=\"y\",\"\",W58)","v":""}]
[null,null,null,null,null,null,null,"","","","",{"$f":"IF($J59=\"y\",\"\",L59)","v":""},"","","","","","","",null,null,null,{"$f":"IF($J59=\"y\",\"\",W59)","v":""}]
[null,null,null,null,null,null,null,"","","","",{"$f":"IF($J60=\"y\",\"\",L60)","v":""},"","","","","","","",null,null,null,{"$f":"IF($J60=\"y\",\"\",W60)","v":""}]
[null,null,null,null,null,null,null,"","","","",{"$f":"IF($J61=\"y\",\"\",L61)","v":""},"","","","","","","",null,null,null,{"$f":"IF($J61=\"y\",\"\",W61)","v":""}]
[null,null,null,null,null,null,null,"","","","",{"$f":"IF($J62=\"y\",\"\",L62)","v":""},"","","","","","","",null,null,null,{"$f":"IF($J62=\"y\",\"\",W62)","v":""}]
[null,null,null,null,null,null,null,"","","","",{"$f":"IF($J63=\"y\",\"\",L63)","v":""},"","","","","","","",null,null,null,{"$f":"IF($J63=\"y\",\"\",W63)","v":""}]
[null,null,null,null,null,null,null,"","","","",{"$f":"IF($J64=\"y\",\"\",L64)","v":""},"","","","","","","",null,null,null,{"$f":"IF($J64=\"y\",\"\",W64)","v":""}]
[null,null,null,null,null,null,null,"","","","",{"$f":"IF($J65=\"y\",\"\",L65)","v":""},"","","","","","","",null,null,null,{"$f":"IF($J65=\"y\",\"\",W65)","v":""}]
[null,null,null,null,null,null,null,"","","","",{"$f":"IF($J66=\"y\",\"\",L66)","v":""},"","","","","","","",null,null,null,{"$f":"IF($J66=\"y\",\"\",W66)","v":""}]
[null,null,null,null,null,null,null,"","","","",{"$f":"IF($J67=\"y\",\"\",L67)","v":""},"","","","","","","",null,null,null,{"$f":"IF($J67=\"y\",\"\",W67)","v":""}]
[null,null,null,null,null,null,null,"","","","",{"$f":"IF($J68=\"y\",\"\",L68)","v":""},"","","","","","","",null,null,null,{"$f":"IF($J68=\"y\",\"\",W68)","v":""}]
[null,null,null,null,null,null,null,"","","","",{"$f":"IF($J69=\"y\",\"\",L69)","v":""},"","","","","","","",null,null,null,{"$f":"IF($J69=\"y\",\"\",W69)","v":""}]
[null,null,null,null,null,null,null,"","","","",{"$f":"IF($J70=\"y\",\"\",L70)","v":""},"","","","","","","",null,null,null,{"$f":"IF($J70=\"y\",\"\",W70)","v":""}]
[null,null,null,null,null,null,null,"","","","",{"$f":"IF($J71=\"y\",\"\",L71)","v":""},"","","","","","","",null,null,null,{"$f":"IF($J71=\"y\",\"\",W71)","v":""}]
[null,null,null,null,null,null,null,"","","","",{"$f":"IF($J72=\"y\",\"\",L72)","v":""},"","","","","","","",null,null,null,{"$f":"IF($J72=\"y\",\"\",W72)","v":""}]
[null,null,null,null,null,null,null,"","","","",{"$f":"IF($J73=\"y\",\"\",L73)","v":""},"","","","","","","",null,null,null,{"$f":"IF($J73=\"y\",\"\",W73)","v":""}]
[null,null,null,null,null,null,null,"","","","",{"$f":"IF($J74=\"y\",\"\",L74)","v":""},"","","","","","","",null,null,null,{"$f":"IF($J74=\"y\",\"\",W74)","v":""}]
[null,null,null,null,null,null,null,"","","","",{"$f":"IF($J75=\"y\",\"\",L75)","v":""},"","","","","","","",null,null,null,{"$f":"IF($J75=\"y\",\"\",W75)","v":""}]
[null,null,null,null,null,null,null,"","","","",{"$f":"IF($J76=\"y\",\"\",L76)","v":""},"","","","","","","",null,null,null,{"$f":"IF($J76=\"y\",\"\",W76)","v":""}]
[null,null,null,null,null,null,null,"","","","",{"$f":"IF($J77=\"y\",\"\",L77)","v":""},"","","","","","","",null,null,null,{"$f":"IF($J77=\"y\",\"\",W77)","v":""}]
[null,null,null,null,null,null,null,"","","","",{"$f":"IF($J78=\"y\",\"\",L78)","v":""},"","","","","","","",null,null,null,{"$f":"IF($J78=\"y\",\"\",W78)","v":""}]
[null,null,null,null,null,null,null,null,null,null,null,{"$f":"IF(COUNT(L87:L116)<1,\"\", AVERAGE(L87:L116))","v":""},"","","","","","","",null,null,null,{"$f":"IF(COUNT(W87:W116)<1,\"\", AVERAGE(W87:W116))","v":""}]
[]
[]
[]
[null,null,null,null,null,null,null,"Average of dredge areas"]
[]
[null,null,null,null,null,null,null,null,null,null,"Dredge Area","Metals as mg/kg wet weight",null,null,null,null,null,null,null,null,null,null,"Total Solids (%)"]
[null,null,null,null,null,null,null,null,null,null,null,"Arsenic (As)","Cadmium (Cd)","Chromium (Cr)","Copper (Cu)","Mercury (Hg)","Nickel (Ni)","Lead (Pb)","Zinc (Zn)"]
[null,null,null,null,null,null,null,null,null,null,"Area i",{"$f":"IF(COUNTIF($I$87:$I$116,\"Area i\")<1,\"\",AVERAGEIF($I$87:$I$116,\"Area i\",L$87:L$116))","v":""},"","","","","","","",null,null,null,{"$f":"IF(COUNTIF($I$87:$I$116,\"Area i\")<1,\"\",AVERAGEIF($I$87:$I$116,\"Area i\",W$87:W$116))","v":""}]
[null,null,null,null,null,null,null,null,null,null,"Area ii",{"$f":"IF(COUNTIF($I$87:$I$116,\"Area ii\")<1,\"\",AVERAGEIF($I$87:$I$116,\"Area ii\",L$87:L$116))","v":""},"","","","","","","",null,null,null,{"$f":"IF(COUNTIF($I$87:$I$116,\"Area ii\")<1,\"\",AVERAGEIF($I$87:$I$116,\"Area ii\",W$87:W$116))","v":""}]
[null,null,null,null,null,null,null,null,null,null,"Area iii",{"$f":"IF(COUNTIF($I$87:$I$116,\"Area iii\")<1,\"\",AVERAGEIF($I$87:$I$116,\"Area iii\",L$87:L$116))","v":""},"","","","","","","",null,null,null,{"$f":"IF(COUNTIF($I$87:$I$116,\"Area iii\")<1,\"\",AVERAGEIF($I$87:$I$116,\"Area iii\",W$87:W$116))","v":""}]
[null,null,null,null,null,null,null,null,null,null,"Area iv",{"$f":"IF(COUNTIF($I$87:$I$116,\"Area iv\")<1,\"\",AVERAGEIF($I$87:$I$116,\"Area iv\",L$87:L$116))","v":""},"","","","","","","",null,null,null,{"$f":"IF(COUNTIF($I$87:$I$116,\"Area iv\")<1,\"\",AVERAGEIF($I$87:$I$116,\"Area iv\",W$87:W$116))","v":""}]
[null,null,null,null,null,null,null,null,null,null,"Area v",{"$f":"IF(COUNTIF($I$87:$I$116,\"Area v\")<1,\"\", AVERAGEIF($I$87:$I$116,\"Area v\",L$87:L$116))","v":""},"","","","","","","",null,null,null,{"$f":"IF(COUNTIF($I$87:$I$116,\"Area v\")<1,\"\", AVERAGEIF($I$87:$I$116,\"Area v\",W$87:W$116))","v":""}]
[null,null,null,null,null,null,null,null,null,null,"Area vi",{"$f":"IF(COUNTIF($I$87:$I$116,\"Area vi\")<1,\"\",AVERAGEIF($I$87:$I$116,\"Area vi\",L$87:L$116))","v":""},"","","","","","","",null,null,null,{"$f":"IF(COUNTIF($I$87:$I$116,\"Area vi\")<1,\"\",AVERAGEIF($I$87:$I$116,\"Area vi\",W$87:W$116))","v":""}]
[]
[]
[null,null,null,null,null,null,null,null,null,null,null,null,null,null,null," "]
[null,null,null,null,null,null,null,"PR weightings (dredge area averages multiplied by proportion of total tonnages)"]
[]
[null,null,null,null,null,null,null,null,null,null,"Dredge Area","Metals as mg/kg wet weight",null,null,null,null,null,null,null,null,null,null,"Total Solids (%)"]
[null,null,null,null,null,null,null,null,null,null,null,"Arsenic (As)","Cadmium (Cd)","Chromium (Cr)","Copper (Cu)","Mercury (Hg)","Nickel (Ni)","Lead (Pb)","Zinc (Zn)"]
[null,null,null,null,null,null,null,null,null,null,"Area i",{"$f":"IF(L125=\"\",\"\",L125*'PR details'!$G4)","v":""},{"$f":"IF(M125=\"\",\"\",M125*'PR details'!$G4)","v":""},{"$f":"IF(N125=\"\",\"\",N125*'PR details'!$G4)","v":""},{"$f":"IF(O125=\"\",\"\",O125*'PR details'!$G4)","v":""},{"$f":"IF(P125=\"\",\"\",P125*'PR details'!$G4)","v":""},{"$f":"IF(Q125=\"\",\"\",Q125*'PR details'!$G4)","v":""},{"$f":"IF(R125=\"\",\"\",R125*'PR details'!$G4)","v":""},{"$f":"IF(S125=\"\",\"\",S125*'PR details'!$G4)","v":""},null,null,null,{"$f":"IF(W125=\"\",\"\",W125*'PR details'!$G4)","v":""}]
[null,null,null,null,null,null,null,null,null,null,"Area ii",{"$f":"IF(L126=\"\",\"\",L126*'PR details'!$G5)","v":""},{"$f":"IF(M126=\"\",\"\",M126*'PR details'!$G5)","v":""},{"$f":"IF(N126=\"\",\"\",N126*'PR details'!$G5)","v":""},{"$f":"IF(O126=\"\",\"\",O126*'PR details'!$G5)","v":""},{"$f":"IF(P126=\"\",\"\",P126*'PR details'!$G5)","v":""},{"$f":"IF(Q126=\"\",\"\",Q126*'PR details'!$G5)","v":""},{"$f":"IF(R126=\"\",\"\",R126*'PR details'!$G5)","v":""},{"$f":"IF(S126=\"\",\"\",S126*'PR details'!$G5)","v":""},null,null,null,{"$f":"IF(W126=\"\",\"\",W126*'PR details'!$G5)","v":""}]
[null,null,null,null,null,null,null,null,null,null,"Area iii",{"$f":"IF(L127=\"\",\"\",L127*'PR details'!$G6)","v":""},{"$f":"IF(M127=\"\",\"\",M127*'PR details'!$G6)","v":""},{"$f":"IF(N127=\"\",\"\",N127*'PR details'!$G6)","v":""},{"$f":"IF(O127=\"\",\"\",O127*'PR details'!$G6)","v":""},{"$f":"IF(P127=\"\",\"\",P127*'PR details'!$G6)","v":""},{"$f":"IF(Q127=\"\",\"\",Q127*'PR details'!$G6)","v":""},{"$f":"IF(R127=\"\",\"\",R127*'PR details'!$G6)","v":""},{"$f":"IF(S127=\"\",\"\",S127*'PR details'!$G6)","v":""},null,null,null,{"$f":"IF(W127=\"\",\"\",W127*'PR details'!$G6)","v":""}]
[null,null,null,null,null,null,null,null,null,null,"Area iv",{"$f":"IF(L128=\"\",\"\",L128*'PR details'!$G7)","v":""},{"$f":"IF(M128=\"\",\"\",M128*'PR details'!$G7)","v":""},{"$f":"IF(N128=\"\",\"\",N128*'PR details'!$G7)","v":""},{"$f":"IF(O128=\"\",\"\",O128*'PR details'!$G7)","v":""},{"$f":"IF(P128=\"\",\"\",P128*'PR details'!$G7)","v":""},{"$f":"IF(Q128=\"\",\"\",Q128*'PR details'!$G7)","v":""},{"$f":"IF(R128=\"\",\"\",R128*'PR details'!$G7)","v":""},{"$f":"IF(S128=\"\",\"\",S128*'PR details'!$G7)","v":""},null,null,null,{"$f":"IF(W128=\"\",\"\",W128*'PR details'!$G7)","v":""}]
[null,null,null,null,null,null,null,null,null,null,"Area v",{"$f":"IF(L129=\"\",\"\",L129*'PR details'!$G8)","v":""},{"$f":"IF(M129=\"\",\"\",M129*'PR details'!$G8)","v":""},{"$f":"IF(N129=\"\",\"\",N129*'PR details'!$G8)","v":""},{"$f":"IF(O129=\"\",\"\",O129*'PR details'!$G8)","v":""},{"$f":"IF(P129=\"\",\"\",P129*'PR details'!$G8)","v":""},{"$f":"IF(Q129=\"\",\"\",Q129*'PR details'!$G8)","v":""},{"$f":"IF(R129=\"\",\"\",R129*'PR details'!$G8)","v":""},{"$f":"IF(S129=\"\",\"\",S129*'PR details'!$G8)","v":""},null,null,null,{"$f":"IF(W129=\"\",\"\",W129*'PR details'!$G8)","v":""}]
[null,null,null,null,null,null,null,null,null,null,"Area vi",{"$f":"IF(L130=\"\",\"\",L130*'PR details'!$G9)","v":""},{"$f":"IF(M130=\"\",\"\",M130*'PR details'!$G9)","v":""},{"$f":"IF(N130=\"\",\"\",N130*'PR details'!$G9)","v":""},{"$f":"IF(O130=\"\",\"\",O130*'PR details'!$G9)","v":""},{"$f":"IF(P130=\"\",\"\",P130*'PR details'!$G9)","v":""},{"$f":"IF(Q130=\"\",\"\",Q130*'PR details'!$G9)","v":""},{"$f":"IF(R130=\"\",\"\",R130*'PR details'!$G9)","v":""},{"$f":"IF(S130=\"\",\"\",S130*'PR details'!$G9)","v":""},null,null,null,{"$f":"IF(W130=\"\",\"\",W130*'PR details'!$G9)","v":""}]
[]
[]
[]
[null,null,null,null,null,null,null,"PR average"]
[]
[null,null,null,null,null,null,null,null,null,null,null,"Metals as mg/kg wet weight",null,null,null,null,null,null,null,null,null,null,"Total Solids (%)"]
[null,null,null,null,null,null,null,null,null,null,null,"Arsenic (As)","Cadmium (Cd)","Chromium (Cr)","Copper (Cu)","Mercury (Hg)","Nickel (Ni)","Lead (Pb)","Zinc (Zn)"]
[null,null,null,null,null,null,null,null,null,null,null,{"$f":"IF(COUNT(L138:L143)<1,\"\",SUM(L138:L143))","v":""},"","","","","","","",null,null,null,{"$f":"IF(COUNT(W138:W143)<1,\"\",SUM(W138:W143))","v":""}]

{"sheet":"Data organotinau","index":7,"n_rows":38,"n_cols":12,"rows_kept":38,"cut":false,"hidden":false,"merged":[[5,9,6,9],[5,7,6,7],[5,8,6,8],[5,10,5,11]]}
[]
[null,"Data organotin"]
[]
[null,"Cyfarwyddiadau:",null,null,null,null,null,"Allbynnau dadansoddi:"]
[null,"1. Cofnodwch y labordy/contractwr sy'n gyfrifol am ddadansoddi’r organotin"]
[null,"2. Cofnodwch y dyddiad y dadansoddwyd y samplau.",null,null,null,null,null,"Rhif sampl y labordy","Ardal Garthu","Rhif(au) adnabod y samplau","Organotinau fel pwysau sych mg/kg"]
[null,"3. Rhowch set ddata lawn ar gyfer pob sampl yn nhabl canlyniadau'r dadansoddiad",null,null,null,null,null,null,null,null,"Dibutyltin (DBT)","Tributyltin (TBT)"]
[null,"4. Dylai canlyniadau dadansoddi organotin gael eu hadrodd mewn pwysau sych mg/kg (ppm) "]
[null,"5. Rhowch derfyn canfod methodolegol ar gyfer pob organotin cyn mewnbynnu data crai"]
[null,"6. Lle mae allbynnau dadansoddi yn llai na’r terfynau canfod nodwch y testun “<LOD”"]
[null,"7. Lle rydych yn copïo a gludo cofnodion, defnyddiwch y gwerthoedd yr ydych yn eu gludo yn unig"]
[null,"8. Pan fyddwch chi'n nodi rhifau adnabod sawl sampl, defnyddiwch ffurflen y naidlen (pop-up)"]
[null,null,"Dylai rhifau adnabod gael eu gwahanu gan goma"]
[]
[null,"Gwybodaeth dadansoddi:"]
[]
[null,null,"Labordy/contractwr:"]
[null,null,"Dyddiad y dadansoddiad:"]
[]
[]
[]
[]
[]
[]
[]
[]
[]
[]
[]
[]
[]
[]
[]
[]
[]
[]
[]
[null,null,null,null,null,null,null,null,null,"Terfynau canfod (pwysau sych mg/kg):"]

{"sheet":"Organotin calcs","index":8,"n_rows":153,"n_cols":19,"rows_kept":153,"cut":false,"hidden":true,"merged":[[150,11,150,12],[122,11,122,12],[84,7,85,7],[84,8,85,8],[84,9,85,9],[84,10,85,10],[84,11,84,12],[136,11,136,12],[136,10,137,10],[150,10,151,10],[150,7,151,7],[150,8,151,8],[150,9,151,9],[136,7,137,7],[136,8,137,8],[136,9,137,9],[5,7,6,7],[5,8,6,8],[5,9,6,9],[5,10,6,10],[5,11,5,12],[46,7,47,7],[46,8,47,8],[46,9,47,9],[46,10,47,10],[46,11,46,12]]}
[]
[null,"Organotin summary information"]
[]
[null,"Analysis information:",null,null,null,null,null,"Determinand analysis outputs adjusted for limits of detection:"]
[]
[null,null,"Applicant:",{"$f":"IF('Gwybodaeth ymgeiswyr'!E15=\"\",\"\",'Gwybodaeth ymgeiswyr'!E15)","v":""},null,null,null,"Laboratory sample number","Dredge Area","Excluded (y if yes)","Sample ID(s)","Organotins as mg/kg dry weight"]
[null,null,"Application number:",{"$f":"IF('Gwybodaeth ymgeiswyr'!E16=\"\",\"\",'Gwybodaeth ymgeiswyr'!E16)","v":""},null,null,null,null,null,null,null,"Dibutyltine (DBT)","Tributyltin (TBT)"]
[null,null,"Application title:",{"$f":"IF('Gwybodaeth ymgeiswyr'!E17=\"\",\"\",'Gwybodaeth ymgeiswyr'!E17)","v":""},null,null,null,{"$f":"IF('Data organotinau'!H8=\"\",\"\",'Data organotinau'!H8)","v":""},{"$f":"IF('Data organotinau'!I8=\"\",\"\",'Data organotinau'!I8)","v":""},{"$f":"IFERROR(IF(K8=\"\",\"\",(IF(VLOOKUP(K8,'Gwybodaeth ymgeiswyr'!$K$8:$L$37,2,0)=\"y\",\"y\",\"\"))),\"Manual entry required\")","v":""},{"$f":"IF('Data organotinau'!J8=\"\",\"\",'Data organotinau'!J8)","v":""},{"$f":"IF('Data organotinau'!K8=\"\",\"\",IF(ISNUMBER('Data organotinau'!K8)=TRUE, IF('Data organotinau'!K8<'Data organotinau'!K$38, \"ERROR\", 'Data organotinau'!K8), IF('Data organotinau'!K8=\"<LOD\",'Data organotinau'!K$38, \"ERROR\")))","v":""},{"$f":"IF('Data organotinau'!L8=\"\",\"\",IF(ISNUMBER('Data organotinau'!L8)=TRUE, IF('Data organotinau'!L8<'Data organotinau'!L$38, \"ERROR\", 'Data organotinau'!L8), IF('Data organotinau'!L8=\"<LOD\",'Data organotinau'!L$38, \"ERROR\")))","v":""}]
[null,null,"Date sampled:",{"$f":"IF('Gwybodaeth ymgeiswyr'!E18=\"\",\"\",'Gwybodaeth ymgeiswyr'!E18)","v":""},null,null,null,{"$f":"IF('Data organotinau'!H9=\"\",\"\",'Data organotinau'!H9)","v":""},{"$f":"IF('Data organotinau'!I9=\"\",\"\",'Data organotinau'!I9)","v":""},{"$f":"IFERROR(IF(K9=\"\",\"\",(IF(VLOOKUP(K9,'Gwybodaeth ymgeiswyr'!$K$8:$L$37,2,0)=\"y\",\"y\",\"\"))),\"Manual entry required\")","v":""},{"$f":"IF('Data organotinau'!J9=\"\",\"\",'Data organotinau'!J9)","v":""},{"$f":"IF('Data organotinau'!K9=\"\",\"\",IF(ISNUMBER('Data organotinau'!K9)=TRUE, IF('Data organotinau'!K9<'Data organotinau'!K$38, \"ERROR\", 'Data organotinau'!K9), IF('Data organotinau'!K9=\"<LOD\",'Data organotinau'!K$38, \"ERROR\")))","v":""},{"$f":"IF('Data organotinau'!L9=\"\",\"\",IF(ISNUMBER('Data organotinau'!L9)=TRUE, IF('Data organotinau'!L9<'Data organotinau'!L$38, \"ERROR\", 'Data organotinau'!L9), IF('Data organotinau'!L9=\"<LOD\",'Data organotinau'!L$38, \"ERROR\")))","v":""}]
[null,null,"Sampling location:",{"$f":"IF('Gwybodaeth ymgeiswyr'!E19=\"\",\"\",'Gwybodaeth ymgeiswyr'!E19)","v":""},null,null,null,{"$f":"IF('Data organotinau'!H10=\"\",\"\",'Data organotinau'!H10)","v":""},{"$f":"IF('Data organotinau'!I10=\"\",\"\",'Data organotinau'!I10)","v":""},{"$f":"IFERROR(IF(K10=\"\",\"\",(IF(VLOOKUP(K10,'Gwybodaeth ymgeiswyr'!$K$8:$L$37,2,0)=\"y\",\"y\",\"\"))),\"Manual entry required\")","v":""},{"$f":"IF('Data organotinau'!J10=\"\",\"\",'Data organotinau'!J10)","v":""},{"$f":"IF('Data organotinau'!K10=\"\",\"\",IF(ISNUMBER('Data organotinau'!K10)=TRUE, IF('Data organotinau'!K10<'Data organotinau'!K$38, \"ERROR\", 'Data organotinau'!K10), IF('Data organotinau'!K10=\"<LOD\",'Data organotinau'!K$38, \"ERROR\")))","v":""},{"$f":"IF('Data organotinau'!L10=\"\",\"\",IF(ISNUMBER('Data organotinau'!L10)=TRUE, IF('Data organotinau'!L10<'Data organotinau'!L$38, \"ERROR\", 'Data organotinau'!L10), IF('Data organotinau'!L10=\"<LOD\",'Data organotinau'!L$38, \"ERROR\")))","v":""}]
[null,null,null,null,null,null,null,{"$f":"IF('Data organotinau'!H11=\"\",\"\",'Data organotinau'!H11)","v":""},{"$f":"IF('Data organotinau'!I11=\"\",\"\",'Data organotinau'!I11)","v":""},{"$f":"IFERROR(IF(K11=\"\",\"\",(IF(VLOOKUP(K11,'Gwybodaeth ymgeiswyr'!$K$8:$L$37,2,0)=\"y\",\"y\",\"\"))),\"Manual entry required\")","v":""},{"$f":"IF('Data organotinau'!J11=\"\",\"\",'Data organotinau'!J11)","v":""},{"$f":"IF('Data organotinau'!K11=\"\",\"\",IF(ISNUMBER('Data organotinau'!K11)=TRUE, IF('Data organotinau'!K11<'Data organotinau'!K$38, \"ERROR\", 'Data organotinau'!K11), IF('Data organotinau'!K11=\"<LOD\",'Data organotinau'!K$38, \"ERROR\")))","v":""},{"$f":"IF('Data organotinau'!L11=\"\",\"\",IF(ISNUMBER('Data organotinau'!L11)=TRUE, IF('Data organotinau'!L11<'Data organotinau'!L$38, \"ERROR\", 'Data organotinau'!L11), IF('Data organotinau'!L11=\"<LOD\",'Data organotinau'!L$38, \"ERROR\")))","v":""}]
[null,null,"Laboratory/contractor:",{"$f":"IF('Data organotinau'!D17=\"\",\"\",'Data organotinau'!D17)","v":""},null,null,null,{"$f":"IF('Data organotinau'!H12=\"\",\"\",'Data organotinau'!H12)","v":""},{"$f":"IF('Data organotinau'!I12=\"\",\"\",'Data organotinau'!I12)","v":""},{"$f":"IFERROR(IF(K12=\"\",\"\",(IF(VLOOKUP(K12,'Gwybodaeth ymgeiswyr'!$K$8:$L$37,2,0)=\"y\",\"y\",\"\"))),\"Manual entry required\")","v":""},{"$f":"IF('Data organotinau'!J12=\"\",\"\",'Data organotinau'!J12)","v":""},{"$f":"IF('Data organotinau'!K12=\"\",\"\",IF(ISNUMBER('Data organotinau'!K12)=TRUE, IF('Data organotinau'!K12<'Data organotinau'!K$38, \"ERROR\", 'Data organotinau'!K12), IF('Data organotinau'!K12=\"<LOD\",'Data organotinau'!K$38, \"ERROR\")))","v":""},{"$f":"IF('Data organotinau'!L12=\"\",\"\",IF(ISNUMBER('Data organotinau'!L12)=TRUE, IF('Data organotinau'!L12<'Data organotinau'!L$38, \"ERROR\", 'Data organotinau'!L12), IF('Data organotinau'!L12=\"<LOD\",'Data organotinau'!L$38, \"ERROR\")))","v":""}]
[null,null,"Date of analysis:",{"$f":"IF('Data organotinau'!D18=\"\",\"\",'Data organotinau'!D18)","v":""},null,null,null,{"$f":"IF('Data organotinau'!H13=\"\",\"\",'Data organotinau'!H13)","v":""},{"$f":"IF('Data organotinau'!I13=\"\",\"\",'Data organotinau'!I13)","v":""},{"$f":"IFERROR(IF(K13=\"\",\"\",(IF(VLOOKUP(K13,'Gwybodaeth ymgeiswyr'!$K$8:$L$37,2,0)=\"y\",\"y\",\"\"))),\"Manual entry required\")","v":""},{"$f":"IF('Data organotinau'!J13=\"\",\"\",'Data organotinau'!J13)","v":""},{"$f":"IF('Data organotinau'!K13=\"\",\"\",IF(ISNUMBER('Data organotinau'!K13)=TRUE, IF('Data organotinau'!K13<'Data organotinau'!K$38, \"ERROR\", 'Data organotinau'!K13), IF('Data organotinau'!K13=\"<LOD\",'Data organotinau'!K$38, \"ERROR\")))","v":""},{"$f":"IF('Data organotinau'!L13=\"\",\"\",IF(ISNUMBER('Data organotinau'!L13)=TRUE, IF('Data organotinau'!L13<'Data organotinau'!L$38, \"ERROR\", 'Data organotinau'!L13), IF('Data organotinau'!L13=\"<LOD\",'Data organotinau'!L$38, \"ERROR\")))","v":""}]
[null,null,null,null,null,null,null,{"$f":"IF('Data organotinau'!H14=\"\",\"\",'Data organotinau'!H14)","v":""},{"$f":"IF('Data organotinau'!I14=\"\",\"\",'Data organotinau'!I14)","v":""},{"$f":"IFERROR(IF(K14=\"\",\"\",(IF(VLOOKUP(K14,'Gwybodaeth ymgeiswyr'!$K$8:$L$37,2,0)=\"y\",\"y\",\"\"))),\"Manual entry required\")","v":""},{"$f":"IF('Data organotinau'!J14=\"\",\"\",'Data organotinau'!J14)","v":""},{"$f":"IF('Data organotinau'!K14=\"\",\"\",IF(ISNUMBER('Data organotinau'!K14)=TRUE, IF('Data organotinau'!K14<'Data organotinau'!K$38, \"ERROR\", 'Data organotinau'!K14), IF('Data organotinau'!K14=\"<LOD\",'Data organotinau'!K$38, \"ERROR\")))","v":""},{"$f":"IF('Data organotinau'!L14=\"\",\"\",IF(ISNUMBER('Data organotinau'!L14)=TRUE, IF('Data organotinau'!L14<'Data organotinau'!L$38, \"ERROR\", 'Data organotinau'!L14), IF('Data organotinau'!L14=\"<LOD\",'Data organotinau'!L$38, \"ERROR\")))","v":""}]
[null,null,null,null,null,null,null,{"$f":"IF('Data organotinau'!H15=\"\",\"\",'Data organotinau'!H15)","v":""},{"$f":"IF('Data organotinau'!I15=\"\",\"\",'Data organotinau'!I15)","v":""},{"$f":"IFERROR(IF(K15=\"\",\"\",(IF(VLOOKUP(K15,'Gwybodaeth ymgeiswyr'!$K$8:$L$37,2,0)=\"y\",\"y\",\"\"))),\"Manual entry required\")","v":""},{"$f":"IF('Data organotinau'!J15=\"\",\"\",'Data organotinau'!J15)","v":""},{"$f":"IF('Data organotinau'!K15=\"\",\"\",IF(ISNUMBER('Data organotinau'!K15)=TRUE, IF('Data organotinau'!K15<'Data organotinau'!K$38, \"ERROR\", 'Data organotinau'!K15), IF('Data organotinau'!K15=\"<LOD\",'Data organotinau'!K$38, \"ERROR\")))","v":""},{"$f":"IF('Data organotinau'!L15=\"\",\"\",IF(ISNUMBER('Data organotinau'!L15)=TRUE, IF('Data organotinau'!L15<'Data organotinau'!L$38, \"ERROR\", 'Data organotinau'!L15), IF('Data organotinau'!L15=\"<LOD\",'Data organotinau'!L$38, \"ERROR\")))","v":""}]
[null,null,null,null,null,null,null,{"$f":"IF('Data organotinau'!H16=\"\",\"\",'Data organotinau'!H16)","v":""},{"$f":"IF('Data organotinau'!I16=\"\",\"\",'Data organotinau'!I16)","v":""},{"$f":"IFERROR(IF(K16=\"\",\"\",(IF(VLOOKUP(K16,'Gwybodaeth ymgeiswyr'!$K$8:$L$37,2,0)=\"y\",\"y\",\"\"))),\"Manual entry required\")","v":""},{"$f":"IF('Data organotinau'!J16=\"\",\"\",'Data organotinau'!J16)","v":""},{"$f":"IF('Data organotinau'!K16=\"\",\"\",IF(ISNUMBER('Data organotinau'!K16)=TRUE, IF('Data organotinau'!K16<'Data organotinau'!K$38, \"ERROR\", 'Data organotinau'!K16), IF('Data organotinau'!K16=\"<LOD\",'Data organotinau'!K$38, \"ERROR\")))","v":""},{"$f":"IF('Data organotinau'!L16=\"\",\"\",IF(ISNUMBER('Data organotinau'!L16)=TRUE, IF('Data organotinau'!L16<'Data organotinau'!L$38, \"ERROR\", 'Data organotinau'!L16), IF('Data organotinau'!L16=\"<LOD\",'Data organotinau'!L$38, \"ERROR\")))","v":""}]
[null,null,null,null,null,null,null,{"$f":"IF('Data organotinau'!H17=\"\",\"\",'Data organotinau'!H17)","v":""},{"$f":"IF('Data organotinau'!I17=\"\",\"\",'Data organotinau'!I17)","v":""},{"$f":"IFERROR(IF(K17=\"\",\"\",(IF(VLOOKUP(K17,'Gwybodaeth ymgeiswyr'!$K$8:$L$37,2,0)=\"y\",\"y\",\"\"))),\"Manual entry required\")","v":""},{"$f":"IF('Data organotinau'!J17=\"\",\"\",'Data organotinau'!J17)","v":""},{"$f":"IF('Data organotinau'!K17=\"\",\"\",IF(ISNUMBER('Data organotinau'!K17)=TRUE, IF('Data organotinau'!K17<'Data organotinau'!K$38, \"ERROR\", 'Data organotinau'!K17), IF('Data organotinau'!K17=\"<LOD\",'Data organotinau'!K$38, \"ERROR\")))","v":""},{"$f":"IF('Data organotinau'!L17=\"\",\"\",IF(ISNUMBER('Data organotinau'!L17)=TRUE, IF('Data organotinau'!L17<'Data organotinau'!L$38, \"ERROR\", 'Data organotinau'!L17), IF('Data organotinau'!L17=\"<LOD\",'Data organotinau'!L$38, \"ERROR\")))","v":""}]
[null,null,null,null,null,null,null,{"$f":"IF('Data organotinau'!H18=\"\",\"\",'Data organotinau'!H18)","v":""},{"$f":"IF('Data organotinau'!I18=\"\",\"\",'Data organotinau'!I18)","v":""},{"$f":"IFERROR(IF(K18=\"\",\"\",(IF(VLOOKUP(K18,'Gwybodaeth ymgeiswyr'!$K$8:$L$37,2,0)=\"y\",\"y\",\"\"))),\"Manual entry required\")","v":""},{"$f":"IF('Data organotinau'!J18=\"\",\"\",'Data organotinau'!J18)","v":""},{"$f":"IF('Data organotinau'!K18=\"\",\"\",IF(ISNUMBER('Data organotinau'!K18)=TRUE, IF('Data organotinau'!K18<'Data organotinau'!K$38, \"ERROR\", 'Data organotinau'!K18), IF('Data organotinau'!K18=\"<LOD\",'Data organotinau'!K$38, \"ERROR\")))","v":""},{"$f":"IF('Data organotinau'!L18=\"\",\"\",IF(ISNUMBER('Data organotinau'!L18)=TRUE, IF('Data organotinau'!L18<'Data organotinau'!L$38, \"ERROR\", 'Data organotinau'!L18), IF('Data organotinau'!L18=\"<LOD\",'Data organotinau'!L$38, \"ERROR\")))","v":""}]
[null,null,null,null,null,null,null,{"$f":"IF('Data organotinau'!H19=\"\",\"\",'Data organotinau'!H19)","v":""},{"$f":"IF('Data organotinau'!I19=\"\",\"\",'Data organotinau'!I19)","v":""},{"$f":"IFERROR(IF(K19=\"\",\"\",(IF(VLOOKUP(K19,'Gwybodaeth ymgeiswyr'!$K$8:$L$37,2,0)=\"y\",\"y\",\"\"))),\"Manual entry required\")","v":""},{"$f":"IF('Data organotinau'!J19=\"\",\"\",'Data organotinau'!J19)","v":""},{"$f":"IF('Data organotinau'!K19=\"\",\"\",IF(ISNUMBER('Data organotinau'!K19)=TRUE, IF('Data organotinau'!K19<'Data organotinau'!K$38, \"ERROR\", 'Data organotinau'!K19), IF('Data organotinau'!K19=\"<LOD\",'Data organotinau'!K$38, \"ERROR\")))","v":""},{"$f":"IF('Data organotinau'!L19=\"\",\"\",IF(ISNUMBER('Data organotinau'!L19)=TRUE, IF('Data organotinau'!L19<'Data organotinau'!L$38, \"ERROR\", 'Data organotinau'!L19), IF('Data organotinau'!L19=\"<LOD\",'Data organotinau'!L$38, \"ERROR\")))","v":""}]
[null,null,null,null,null,null,null,{"$f":"IF('Data organotinau'!H20=\"\",\"\",'Data organotinau'!H20)","v":""},{"$f":"IF('Data organotinau'!I20=\"\",\"\",'Data organotinau'!I20)","v":""},{"$f":"IFERROR(IF(K20=\"\",\"\",(IF(VLOOKUP(K20,'Gwybodaeth ymgeiswyr'!$K$8:$L$37,2,0)=\"y\",\"y\",\"\"))),\"Manual entry required\")","v":""},{"$f":"IF('Data organotinau'!J20=\"\",\"\",'Data organotinau'!J20)","v":""},{"$f":"IF('Data organotinau'!K20=\"\",\"\",IF(ISNUMBER('Data organotinau'!K20)=TRUE, IF('Data organotinau'!K20<'Data organotinau'!K$38, \"ERROR\", 'Data organotinau'!K20), IF('Data organotinau'!K20=\"<LOD\",'Data organotinau'!K$38, \"ERROR\")))","v":""},{"$f":"IF('Data organotinau'!L20=\"\",\"\",IF(ISNUMBER('Data organotinau'!L20)=TRUE, IF('Data organotinau'!L20<'Data organotinau'!L$38, \"ERROR\", 'Data organotinau'!L20), IF('Data organotinau'!L20=\"<LOD\",'Data organotinau'!L$38, \"ERROR\")))","v":""}]
[null,null,null,null,null,null,null,{"$f":"IF('Data organotinau'!H21=\"\",\"\",'Data organotinau'!H21)","v":""},{"$f":"IF('Data organotinau'!I21=\"\",\"\",'Data organotinau'!I21)","v":""},{"$f":"IFERROR(IF(K21=\"\",\"\",(IF(VLOOKUP(K21,'Gwybodaeth ymgeiswyr'!$K$8:$L$37,2,0)=\"y\",\"y\",\"\"))),\"Manual entry required\")","v":""},{"$f":"IF('Data organotinau'!J21=\"\",\"\",'Data organotinau'!J21)","v":""},{"$f":"IF('Data organotinau'!K21=\"\",\"\",IF(ISNUMBER('Data organotinau'!K21)=TRUE, IF('Data organotinau'!K21<'Data organotinau'!K$38, \"ERROR\", 'Data organotinau'!K21), IF('Data organotinau'!K21=\"<LOD\",'Data organotinau'!K$38, \"ERROR\")))","v":""},{"$f":"IF('Data organotinau'!L21=\"\",\"\",IF(ISNUMBER('Data organotinau'!L21)=TRUE, IF('Data organotinau'!L21<'Data organotinau'!L$38, \"ERROR\", 'Data organotinau'!L21), IF('Data organotinau'!L21=\"<LOD\",'Data organotinau'!L$38, \"ERROR\")))","v":""}]
[null,null,null,null,null,null,null,{"$f":"IF('Data organotinau'!H22=\"\",\"\",'Data organotinau'!H22)","v":""},{"$f":"IF('Data organotinau'!I22=\"\",\"\",'Data organotinau'!I22)","v":""},{"$f":"IFERROR(IF(K22=\"\",\"\",(IF(VLOOKUP(K22,'Gwybodaeth ymgeiswyr'!$K$8:$L$37,2,0)=\"y\",\"y\",\"\"))),\"Manual entry required\")","v":""},{"$f":"IF('Data organotinau'!J22=\"\",\"\",'Data organotinau'!J22)","v":""},{"$f":"IF('Data organotinau'!K22=\"\",\"\",IF(ISNUMBER('Data organotinau'!K22)=TRUE, IF('Data organotinau'!K22<'Data organotinau'!K$38, \"ERROR\", 'Data organotinau'!K22), IF('Data organotinau'!K22=\"<LOD\",'Data organotinau'!K$38, \"ERROR\")))","v":""},{"$f":"IF('Data organotinau'!L22=\"\",\"\",IF(ISNUMBER('Data organotinau'!L22)=TRUE, IF('Data organotinau'!L22<'Data organotinau'!L$38, \"ERROR\", 'Data organotinau'!L22), IF('Data organotinau'!L22=\"<LOD\",'Data organotinau'!L$38, \"ERROR\")))","v":""}]
[null,null,null,null,null,null,null,{"$f":"IF('Data organotinau'!H23=\"\",\"\",'Data organotinau'!H23)","v":""},{"$f":"IF('Data organotinau'!I23=\"\",\"\",'Data organotinau'!I23)","v":""},{"$f":"IFERROR(IF(K23=\"\",\"\",(IF(VLOOKUP(K23,'Gwybodaeth ymgeiswyr'!$K$8:$L$37,2,0)=\"y\",\"y\",\"\"))),\"Manual entry required\")","v":""},{"$f":"IF('Data organotinau'!J23=\"\",\"\",'Data organotinau'!J23)","v":""},{"$f":"IF('Data organotinau'!K23=\"\",\"\",IF(ISNUMBER('Data organotinau'!K23)=TRUE, IF('Data organotinau'!K23<'Data organotinau'!K$38, \"ERROR\", 'Data organotinau'!K23), IF('Data organotinau'!K23=\"<LOD\",'Data organotinau'!K$38, \"ERROR\")))","v":""},{"$f":"IF('Data organotinau'!L23=\"\",\"\",IF(ISNUMBER('Data organotinau'!L23)=TRUE, IF('Data organotinau'!L23<'Data organotinau'!L$38, \"ERROR\", 'Data organotinau'!L23), IF('Data organotinau'!L23=\"<LOD\",'Data organotinau'!L$38, \"ERROR\")))","v":""}]
[null,null,null,null,null,null,null,{"$f":"IF('Data organotinau'!H24=\"\",\"\",'Data organotinau'!H24)","v":""},{"$f":"IF('Data organotinau'!I24=\"\",\"\",'Data organotinau'!I24)","v":""},{"$f":"IFERROR(IF(K24=\"\",\"\",(IF(VLOOKUP(K24,'Gwybodaeth ymgeiswyr'!$K$8:$L$37,2,0)=\"y\",\"y\",\"\"))),\"Manual entry required\")","v":""},{"$f":"IF('Data organotinau'!J24=\"\",\"\",'Data organotinau'!J24)","v":""},{"$f":"IF('Data organotinau'!K24=\"\",\"\",IF(ISNUMBER('Data organotinau'!K24)=TRUE, IF('Data organotinau'!K24<'Data organotinau'!K$38, \"ERROR\", 'Data organotinau'!K24), IF('Data organotinau'!K24=\"<LOD\",'Data organotinau'!K$38, \"ERROR\")))","v":""},{"$f":"IF('Data organotinau'!L24=\"\",\"\",IF(ISNUMBER('Data organotinau'!L24)=TRUE, IF('Data organotinau'!L24<'Data organotinau'!L$38, \"ERROR\", 'Data organotinau'!L24), IF('Data organotinau'!L24=\"<LOD\",'Data organotinau'!L$38, \"ERROR\")))","v":""}]
[null,null,null,null,null,null,null,{"$f":"IF('Data organotinau'!H25=\"\",\"\",'Data organotinau'!H25)","v":""},{"$f":"IF('Data organotinau'!I25=\"\",\"\",'Data organotinau'!I25)","v":""},{"$f":"IFERROR(IF(K25=\"\",\"\",(IF(VLOOKUP(K25,'Gwybodaeth ymgeiswyr'!$K$8:$L$37,2,0)=\"y\",\"y\",\"\"))),\"Manual entry required\")","v":""},{"$f":"IF('Data organotinau'!J25=\"\",\"\",'Data organotinau'!J25)","v":""},{"$f":"IF('Data organotinau'!K25=\"\",\"\",IF(ISNUMBER('Data organotinau'!K25)=TRUE, IF('Data organotinau'!K25<'Data organotinau'!K$38, \"ERROR\", 'Data organotinau'!K25), IF('Data organotinau'!K25=\"<LOD\",'Data organotinau'!K$38, \"ERROR\")))","v":""},{"$f":"IF('Data organotinau'!L25=\"\",\"\",IF(ISNUMBER('Data organotinau'!L25)=TRUE, IF('Data organotinau'!L25<'Data organotinau'!L$38, \"ERROR\", 'Data organotinau'!L25), IF('Data organotinau'!L25=\"<LOD\",'Data organotinau'!L$38, \"ERROR\")))","v":""}]
[null,null,null,null,null,null,null,{"$f":"IF('Data organotinau'!H26=\"\",\"\",'Data organotinau'!H26)","v":""},{"$f":"IF('Data organotinau'!I26=\"\",\"\",'Data organotinau'!I26)","v":""},{"$f":"IFERROR(IF(K26=\"\",\"\",(IF(VLOOKUP(K26,'Gwybodaeth ymgeiswyr'!$K$8:$L$37,2,0)=\"y\",\"y\",\"\"))),\"Manual entry required\")","v":""},{"$f":"IF('Data organotinau'!J26=\"\",\"\",'Data organotinau'!J26)","v":""},{"$f":"IF('Data organotinau'!K26=\"\",\"\",IF(ISNUMBER('Data organotinau'!K26)=TRUE, IF('Data organotinau'!K26<'Data organotinau'!K$38, \"ERROR\", 'Data organotinau'!K26), IF('Data organotinau'!K26=\"<LOD\",'Data organotinau'!K$38, \"ERROR\")))","v":""},{"$f":"IF('Data organotinau'!L26=\"\",\"\",IF(ISNUMBER('Data organotinau'!L26)=TRUE, IF('Data organotinau'!L26<'Data organotinau'!L$38, \"ERROR\", 'Data organotinau'!L26), IF('Data organotinau'!L26=\"<LOD\",'Data organotinau'!L$38, \"ERROR\")))","v":""}]
[null,null,null,null,null,null,null,{"$f":"IF('Data organotinau'!H27=\"\",\"\",'Data organotinau'!H27)","v":""},{"$f":"IF('Data organotinau'!I27=\"\",\"\",'Data organotinau'!I27)","v":""},{"$f":"IFERROR(IF(K27=\"\",\"\",(IF(VLOOKUP(K27,'Gwybodaeth ymgeiswyr'!$K$8:$L$37,2,0)=\"y\",\"y\",\"\"))),\"Manual entry required\")","v":""},{"$f":"IF('Data organotinau'!J27=\"\",\"\",'Data organotinau'!J27)","v":""},{"$f":"IF('Data organotinau'!K27=\"\",\"\",IF(ISNUMBER('Data organotinau'!K27)=TRUE, IF('Data organotinau'!K27<'Data organotinau'!K$38, \"ERROR\", 'Data organotinau'!K27), IF('Data organotinau'!K27=\"<LOD\",'Data organotinau'!K$38, \"ERROR\")))","v":""},{"$f":"IF('Data organotinau'!L27=\"\",\"\",IF(ISNUMBER('Data organotinau'!L27)=TRUE, IF('Data organotinau'!L27<'Data organotinau'!L$38, \"ERROR\", 'Data organotinau'!L27), IF('Data organotinau'!L27=\"<LOD\",'Data organotinau'!L$38, \"ERROR\")))","v":""}]
[null,null,null,null,null,null,null,{"$f":"IF('Data organotinau'!H28=\"\",\"\",'Data organotinau'!H28)","v":""},{"$f":"IF('Data organotinau'!I28=\"\",\"\",'Data organotinau'!I28)","v":""},{"$f":"IFERROR(IF(K28=\"\",\"\",(IF(VLOOKUP(K28,'Gwybodaeth ymgeiswyr'!$K$8:$L$37,2,0)=\"y\",\"y\",\"\"))),\"Manual entry required\")","v":""},{"$f":"IF('Data organotinau'!J28=\"\",\"\",'Data organotinau'!J28)","v":""},{"$f":"IF('Data organotinau'!K28=\"\",\"\",IF(ISNUMBER('Data organotinau'!K28)=TRUE, IF('Data organotinau'!K28<'Data organotinau'!K$38, \"ERROR\", 'Data organotinau'!K28), IF('Data organotinau'!K28=\"<LOD\",'Data organotinau'!K$38, \"ERROR\")))","v":""},{"$f":"IF('Data organotinau'!L28=\"\",\"\",IF(ISNUMBER('Data organotinau'!L28)=TRUE, IF('Data organotinau'!L28<'Data organotinau'!L$38, \"ERROR\", 'Data organotinau'!L28), IF('Data organotinau'!L28=\"<LOD\",'Data organotinau'!L$38, \"ERROR\")))","v":""}]
[null,null,null,null,null,null,null,{"$f":"IF('Data organotinau'!H29=\"\",\"\",'Data organotinau'!H29)","v":""},{"$f":"IF('Data organotinau'!I29=\"\",\"\",'Data organotinau'!I29)","v":""},{"$f":"IFERROR(IF(K29=\"\",\"\",(IF(VLOOKUP(K29,'Gwybodaeth ymgeiswyr'!$K$8:$L$37,2,0)=\"y\",\"y\",\"\"))),\"Manual entry required\")","v":""},{"$f":"IF('Data organotinau'!J29=\"\",\"\",'Data organotinau'!J29)","v":""},{"$f":"IF('Data organotinau'!K29=\"\",\"\",IF(ISNUMBER('Data organotinau'!K29)=TRUE, IF('Data organotinau'!K29<'Data organotinau'!K$38, \"ERROR\", 'Data organotinau'!K29), IF('Data organotinau'!K29=\"<LOD\",'Data organotinau'!K$38, \"ERROR\")))","v":""},{"$f":"IF('Data organotinau'!L29=\"\",\"\",IF(ISNUMBER('Data organotinau'!L29)=TRUE, IF('Data organotinau'!L29<'Data organotinau'!L$38, \"ERROR\", 'Data organotinau'!L29), IF('Data organotinau'!L29=\"<LOD\",'Data organotinau'!L$38, \"ERROR\")))","v":""}]
[null,null,null,null,null,null,null,{"$f":"IF('Data organotinau'!H30=\"\",\"\",'Data organotinau'!H30)","v":""},{"$f":"IF('Data organotinau'!I30=\"\",\"\",'Data organotinau'!I30)","v":""},{"$f":"IFERROR(IF(K30=\"\",\"\",(IF(VLOOKUP(K30,'Gwybodaeth ymgeiswyr'!$K$8:$L$37,2,0)=\"y\",\"y\",\"\"))),\"Manual entry required\")","v":""},{"$f":"IF('Data organotinau'!J30=\"\",\"\",'Data organotinau'!J30)","v":""},{"$f":"IF('Data organotinau'!K30=\"\",\"\",IF(ISNUMBER('Data organotinau'!K30)=TRUE, IF('Data organotinau'!K30<'Data organotinau'!K$38, \"ERROR\", 'Data organotinau'!K30), IF('Data organotinau'!K30=\"<LOD\",'Data organotinau'!K$38, \"ERROR\")))","v":""},{"$f":"IF('Data organotinau'!L30=\"\",\"\",IF(ISNUMBER('Data organotinau'!L30)=TRUE, IF('Data organotinau'!L30<'Data organotinau'!L$38, \"ERROR\", 'Data organotinau'!L30), IF('Data organotinau'!L30=\"<LOD\",'Data organotinau'!L$38, \"ERROR\")))","v":""}]
[null,null,null,null,null,null,null,{"$f":"IF('Data organotinau'!H31=\"\",\"\",'Data organotinau'!H31)","v":""},{"$f":"IF('Data organotinau'!I31=\"\",\"\",'Data organotinau'!I31)","v":""},{"$f":"IFERROR(IF(K31=\"\",\"\",(IF(VLOOKUP(K31,'Gwybodaeth ymgeiswyr'!$K$8:$L$37,2,0)=\"y\",\"y\",\"\"))),\"Manual entry required\")","v":""},{"$f":"IF('Data organotinau'!J31=\"\",\"\",'Data organotinau'!J31)","v":""},{"$f":"IF('Data organotinau'!K31=\"\",\"\",IF(ISNUMBER('Data organotinau'!K31)=TRUE, IF('Data organotinau'!K31<'Data organotinau'!K$38, \"ERROR\", 'Data organotinau'!K31), IF('Data organotinau'!K31=\"<LOD\",'Data organotinau'!K$38, \"ERROR\")))","v":""},{"$f":"IF('Data organotinau'!L31=\"\",\"\",IF(ISNUMBER('Data organotinau'!L31)=TRUE, IF('Data organotinau'!L31<'Data organotinau'!L$38, \"ERROR\", 'Data organotinau'!L31), IF('Data organotinau'!L31=\"<LOD\",'Data organotinau'!L$38, \"ERROR\")))","v":""}]
[null,null,null,null,null,null,null,{"$f":"IF('Data organotinau'!H32=\"\",\"\",'Data organotinau'!H32)","v":""},{"$f":"IF('Data organotinau'!I32=\"\",\"\",'Data organotinau'!I32)","v":""},{"$f":"IFERROR(IF(K32=\"\",\"\",(IF(VLOOKUP(K32,'Gwybodaeth ymgeiswyr'!$K$8:$L$37,2,0)=\"y\",\"y\",\"\"))),\"Manual entry required\")","v":""},{"$f":"IF('Data organotinau'!J32=\"\",\"\",'Data organotinau'!J32)","v":""},{"$f":"IF('Data organotinau'!K32=\"\",\"\",IF(ISNUMBER('Data organotinau'!K32)=TRUE, IF('Data organotinau'!K32<'Data organotinau'!K$38, \"ERROR\", 'Data organotinau'!K32), IF('Data organotinau'!K32=\"<LOD\",'Data organotinau'!K$38, \"ERROR\")))","v":""},{"$f":"IF('Data organotinau'!L32=\"\",\"\",IF(ISNUMBER('Data organotinau'!L32)=TRUE, IF('Data organotinau'!L32<'Data organotinau'!L$38, \"ERROR\", 'Data organotinau'!L32), IF('Data organotinau'!L32=\"<LOD\",'Data organotinau'!L$38, \"ERROR\")))","v":""}]
[null,null,null,null,null,null,null,{"$f":"IF('Data organotinau'!H33=\"\",\"\",'Data organotinau'!H33)","v":""},{"$f":"IF('Data organotinau'!I33=\"\",\"\",'Data organotinau'!I33)","v":""},{"$f":"IFERROR(IF(K33=\"\",\"\",(IF(VLOOKUP(K33,'Gwybodaeth ymgeiswyr'!$K$8:$L$37,2,0)=\"y\",\"y\",\"\"))),\"Manual entry required\")","v":""},{"$f":"IF('Data organotinau'!J33=\"\",\"\",'Data organotinau'!J33)","v":""},{"$f":"IF('Data organotinau'!K33=\"\",\"\",IF(ISNUMBER('Data organotinau'!K33)=TRUE, IF('Data organotinau'!K33<'Data organotinau'!K$38, \"ERROR\", 'Data organotinau'!K33), IF('Data organotinau'!K33=\"<LOD\",'Data organotinau'!K$38, \"ERROR\")))","v":""},{"$f":"IF('Data organotinau'!L33=\"\",\"\",IF(ISNUMBER('Data organotinau'!L33)=TRUE, IF('Data organotinau'!L33<'Data organotinau'!L$38, \"ERROR\", 'Data organotinau'!L33), IF('Data organotinau'!L33=\"<LOD\",'Data organotinau'!L$38, \"ERROR\")))","v":""}]
[null,null,null,null,null,null,null,{"$f":"IF('Data organotinau'!H34=\"\",\"\",'Data organotinau'!H34)","v":""},{"$f":"IF('Data organotinau'!I34=\"\",\"\",'Data organotinau'!I34)","v":""},{"$f":"IFERROR(IF(K34=\"\",\"\",(IF(VLOOKUP(K34,'Gwybodaeth ymgeiswyr'!$K$8:$L$37,2,0)=\"y\",\"y\",\"\"))),\"Manual entry required\")","v":""},{"$f":"IF('Data organotinau'!J34=\"\",\"\",'Data organotinau'!J34)","v":""},{"$f":"IF('Data organotinau'!K34=\"\",\"\",IF(ISNUMBER('Data organotinau'!K34)=TRUE, IF('Data organotinau'!K34<'Data organotinau'!K$38, \"ERROR\", 'Data organotinau'!K34), IF('Data organotinau'!K34=\"<LOD\",'Data organotinau'!K$38, \"ERROR\")))","v":""},{"$f":"IF('Data organotinau'!L34=\"\",\"\",IF(ISNUMBER('Data organotinau'!L34)=TRUE, IF('Data organotinau'!L34<'Data organotinau'!L$38, \"ERROR\", 'Data organotinau'!L34), IF('Data organotinau'!L34=\"<LOD\",'Data organotinau'!L$38, \"ERROR\")))","v":""}]
[null,null,null,null,null,null,null,{"$f":"IF('Data organotinau'!H35=\"\",\"\",'Data organotinau'!H35)","v":""},{"$f":"IF('Data organotinau'!I35=\"\",\"\",'Data organotinau'!I35)","v":""},{"$f":"IFERROR(IF(K35=\"\",\"\",(IF(VLOOKUP(K35,'Gwybodaeth ymgeiswyr'!$K$8:$L$37,2,0)=\"y\",\"y\",\"\"))),\"Manual entry required\")","v":""},{"$f":"IF('Data organotinau'!J35=\"\",\"\",'Data organotinau'!J35)","v":""},{"$f":"IF('Data organotinau'!K35=\"\",\"\",IF(ISNUMBER('Data organotinau'!K35)=TRUE, IF('Data organotinau'!K35<'Data organotinau'!K$38, \"ERROR\", 'Data organotinau'!K35), IF('Data organotinau'!K35=\"<LOD\",'Data organotinau'!K$38, \"ERROR\")))","v":""},{"$f":"IF('Data organotinau'!L35=\"\",\"\",IF(ISNUMBER('Data organotinau'!L35)=TRUE, IF('Data organotinau'!L35<'Data organotinau'!L$38, \"ERROR\", 'Data organotinau'!L35), IF('Data organotinau'!L35=\"<LOD\",'Data organotinau'!L$38, \"ERROR\")))","v":""}]
[null,null,null,null,null,null,null,{"$f":"IF('Data organotinau'!H36=\"\",\"\",'Data organotinau'!H36)","v":""},{"$f":"IF('Data organotinau'!I36=\"\",\"\",'Data organotinau'!I36)","v":""},{"$f":"IFERROR(IF(K36=\"\",\"\",(IF(VLOOKUP(K36,'Gwybodaeth ymgeiswyr'!$K$8:$L$37,2,0)=\"y\",\"y\",\"\"))),\"Manual entry required\")","v":""},{"$f":"IF('Data organotinau'!J36=\"\",\"\",'Data organotinau'!J36)","v":""},{"$f":"IF('Data organotinau'!K36=\"\",\"\",IF(ISNUMBER('Data organotinau'!K36)=TRUE, IF('Data organotinau'!K36<'Data organotinau'!K$38, \"ERROR\", 'Data organotinau'!K36), IF('Data organotinau'!K36=\"<LOD\",'Data organotinau'!K$38, \"ERROR\")))","v":""},{"$f":"IF('Data organotinau'!L36=\"\",\"\",IF(ISNUMBER('Data organotinau'!L36)=TRUE, IF('Data organotinau'!L36<'Data organotinau'!L$38, \"ERROR\", 'Data organotinau'!L36), IF('Data organotinau'!L36=\"<LOD\",'Data organotinau'!L$38, \"ERROR\")))","v":""}]
[null,null,null,null,null,null,null,{"$f":"IF('Data organotinau'!H37=\"\",\"\",'Data organotinau'!H37)","v":""},{"$f":"IF('Data organotinau'!I37=\"\",\"\",'Data organotinau'!I37)","v":""},{"$f":"IFERROR(IF(K37=\"\",\"\",(IF(VLOOKUP(K37,'Gwybodaeth ymgeiswyr'!$K$8:$L$37,2,0)=\"y\",\"y\",\"\"))),\"Manual entry required\")","v":""},{"$f":"IF('Data organotinau'!J37=\"\",\"\",'Data organotinau'!J37)","v":""},{"$f":"IF('Data organotinau'!K37=\"\",\"\",IF(ISNUMBER('Data organotinau'!K37)=TRUE, IF('Data organotinau'!K37<'Data organotinau'!K$38, \"ERROR\", 'Data organotinau'!K37), IF('Data organotinau'!K37=\"<LOD\",'Data organotinau'!K$38, \"ERROR\")))","v":""},{"$f":"IF('Data organotinau'!L37=\"\",\"\",IF(ISNUMBER('Data organotinau'!L37)=TRUE, IF('Data organotinau'!L37<'Data organotinau'!L$38, \"ERROR\", 'Data organotinau'!L37), IF('Data organotinau'!L37=\"<LOD\",'Data organotinau'!L$38, \"ERROR\")))","v":""}]
[null,null,null,null,null,null,null,null,null,null,"Averages",{"$f":"IF(COUNT(L8:L37)<1,\"\", AVERAGE(L8:L37))","v":""},{"$f":"IF(COUNT(M8:M37)<1,\"\", AVERAGE(M8:M37))","v":""}]
[]
[null,null,null,null,null,null,null,null,null,null,"Action level 1:",0.1,0.1]
[null,null,null,null,null,null,null,null,null,null,"Action level 2:",1,1]
[]
[]
[]
[null,null,null,null,null,null,null,"Transformation to wet weight (mg/kg)"]
[]
[null,null,null,null,null,null,null,"Laboratory sample number","Dredge Area","Excluded (y if yes)","Sample ID(s)","Organotins as mg/kg wet weight"]
[null,null,null,null,null,null,null,null,null,null,null,"Dibutyltine (DBT)","Tributyltin (TBT)"]
[null,null,null,null,null,null,null,{"$f":"IF(H8=\"\",\"\",H8)","v":""},"","","",{"$f":"IF(L8=\"\",\"\",('Data Ffisegol'!$M9/100)*L8)","v":""},{"$f":"IF(M8=\"\",\"\",('Data Ffisegol'!$M9/100)*M8)","v":""}]
[null,null,null,null,null,null,null,"","","","",{"$f":"IF(L9=\"\",\"\",('Data Ffisegol'!$M10/100)*L9)","v":""},{"$f":"IF(M9=\"\",\"\",('Data Ffisegol'!$M10/100)*M9)","v":""}]
[null,null,null,null,null,null,null,"","","","",{"$f":"IF(L10=\"\",\"\",('Data Ffisegol'!$M11/100)*L10)","v":""},{"$f":"IF(M10=\"\",\"\",('Data Ffisegol'!$M11/100)*M10)","v":""}]
[null,null,null,null,null,null,null,"","","","",{"$f":"IF(L11=\"\",\"\",('Data Ffisegol'!$M12/100)*L11)","v":""},{"$f":"IF(M11=\"\",\"\",('Data Ffisegol'!$M12/100)*M11)","v":""}]
[null,null,null,null,null,null,null,"","","","",{"$f":"IF(L12=\"\",\"\",('Data Ffisegol'!$M13/100)*L12)","v":""},{"$f":"IF(M12=\"\",\"\",('Data Ffisegol'!$M13/100)*M12)","v":""}]
[null,null,null,null,null,null,null,"","","","",{"$f":"IF(L13=\"\",\"\",('Data Ffisegol'!$M14/100)*L13)","v":""},{"$f":"IF(M13=\"\",\"\",('Data Ffisegol'!$M14/100)*M13)","v":""}]
[null,null,null,null,null,null,null,"","","","",{"$f":"IF(L14=\"\",\"\",('Data Ffisegol'!$M15/100)*L14)","v":""},{"$f":"IF(M14=\"\",\"\",('Data Ffisegol'!$M15/100)*M14)","v":""}]
[null,null,null,null,null,null,null,"","","","",{"$f":"IF(L15=\"\",\"\",('Data Ffisegol'!$M16/100)*L15)","v":""},{"$f":"IF(M15=\"\",\"\",('Data Ffisegol'!$M16/100)*M15)","v":""}]
[null,null,null,null,null,null,null,"","","","",{"$f":"IF(L16=\"\",\"\",('Data Ffisegol'!$M17/100)*L16)","v":""},{"$f":"IF(M16=\"\",\"\",('Data Ffisegol'!$M17/100)*M16)","v":""}]
[null,null,null,null,null,null,null,"","","","",{"$f":"IF(L17=\"\",\"\",('Data Ffisegol'!$M18/100)*L17)","v":""},{"$f":"IF(M17=\"\",\"\",('Data Ffisegol'!$M18/100)*M17)","v":""}]
[null,null,null,null,null,null,null,{"$f":"IF(H18=\"\",\"\",H18)","v":""},"","","",{"$f":"IF(L18=\"\",\"\",('Data Ffisegol'!$M19/100)*L18)","v":""},{"$f":"IF(M18=\"\",\"\",('Data Ffisegol'!$M19/100)*M18)","v":""}]
[null,null,null,null,null,null,null,"","","","",{"$f":"IF(L19=\"\",\"\",('Data Ffisegol'!$M20/100)*L19)","v":""},{"$f":"IF(M19=\"\",\"\",('Data Ffisegol'!$M20/100)*M19)","v":""}]
[null,null,null,null,null,null,null,"","","","",{"$f":"IF(L20=\"\",\"\",('Data Ffisegol'!$M21/100)*L20)","v":""},{"$f":"IF(M20=\"\",\"\",('Data Ffisegol'!$M21/100)*M20)","v":""}]
[null,null,null,null,null,null,null,"","","","",{"$f":"IF(L21=\"\",\"\",('Data Ffisegol'!$M22/100)*L21)","v":""},{"$f":"IF(M21=\"\",\"\",('Data Ffisegol'!$M22/100)*M21)","v":""}]
[null,null,null,null,null,null,null,"","","","",{"$f":"IF(L22=\"\",\"\",('Data Ffisegol'!$M23/100)*L22)","v":""},{"$f":"IF(M22=\"\",\"\",('Data Ffisegol'!$M23/100)*M22)","v":""}]
[null,null,null,null,null,null,null,"","","","",{"$f":"IF(L23=\"\",\"\",('Data Ffisegol'!$M24/100)*L23)","v":""},{"$f":"IF(M23=\"\",\"\",('Data Ffisegol'!$M24/100)*M23)","v":""}]
[null,null,null,null,null,null,null,"","","","",{"$f":"IF(L24=\"\",\"\",('Data Ffisegol'!$M25/100)*L24)","v":""},{"$f":"IF(M24=\"\",\"\",('Data Ffisegol'!$M25/100)*M24)","v":""}]
[null,null,null,null,null,null,null,"","","","",{"$f":"IF(L25=\"\",\"\",('Data Ffisegol'!$M26/100)*L25)","v":""},{"$f":"IF(M25=\"\",\"\",('Data Ffisegol'!$M26/100)*M25)","v":""}]
[null,null,null,null,null,null,null,"","","","",{"$f":"IF(L26=\"\",\"\",('Data Ffisegol'!$M27/100)*L26)","v":""},{"$f":"IF(M26=\"\",\"\",('Data Ffisegol'!$M27/100)*M26)","v":""}]
[null,null,null,null,null,null,null,"","","","",{"$f":"IF(L27=\"\",\"\",('Data Ffisegol'!$M28/100)*L27)","v":""},{"$f":"IF(M27=\"\",\"\",('Data Ffisegol'!$M28/100)*M27)","v":""}]
[null,null,null,null,null,null,null,{"$f":"IF(H28=\"\",\"\",H28)","v":""},"","","",{"$f":"IF(L28=\"\",\"\",('Data Ffisegol'!$M29/100)*L28)","v":""},{"$f":"IF(M28=\"\",\"\",('Data Ffisegol'!$M29/100)*M28)","v":""}]
[null,null,null,null,null,null,null,"","","","",{"$f":"IF(L29=\"\",\"\",('Data Ffisegol'!$M30/100)*L29)","v":""},{"$f":"IF(M29=\"\",\"\",('Data Ffisegol'!$M30/100)*M29)","v":""}]
[null,null,null,null,null,null,null,"","","","",{"$f":"IF(L30=\"\",\"\",('Data Ffisegol'!$M31/100)*L30)","v":""},{"$f":"IF(M30=\"\",\"\",('Data Ffisegol'!$M31/100)*M30)","v":""}]
[null,null,null,null,null,null,null,"","","","",{"$f":"IF(L31=\"\",\"\",('Data Ffisegol'!$M32/100)*L31)","v":""},{"$f":"IF(M31=\"\",\"\",('Data Ffisegol'!$M32/100)*M31)","v":""}]
[null,null,null,null,null,null,null,"","","","",{"$f":"IF(L32=\"\",\"\",('Data Ffisegol'!$M33/100)*L32)","v":""},{"$f":"IF(M32=\"\",\"\",('Data Ffisegol'!$M33/100)*M32)","v":""}]
[null,null,null,null,null,null,null,"","","","",{"$f":"IF(L33=\"\",\"\",('Data Ffisegol'!$M34/100)*L33)","v":""},{"$f":"IF(M33=\"\",\"\",('Data Ffisegol'!$M34/100)*M33)","v":""}]
[null,null,null,null,null,null,null,"","","","",{"$f":"IF(L34=\"\",\"\",('Data Ffisegol'!$M35/100)*L34)","v":""},{"$f":"IF(M34=\"\",\"\",('Data Ffisegol'!$M35/100)*M34)","v":""}]
[null,null,null,null,null,null,null,"","","","",{"$f":"IF(L35=\"\",\"\",('Data Ffisegol'!$M36/100)*L35)","v":""},{"$f":"IF(M35=\"\",\"\",('Data Ffisegol'!$M36/100)*M35)","v":""}]
[null,null,null,null,null,null,null,"","","","",{"$f":"IF(L36=\"\",\"\",('Data Ffisegol'!$M37/100)*L36)","v":""},{"$f":"IF(M36=\"\",\"\",('Data Ffisegol'!$M37/100)*M36)","v":""}]
[null,null,null,null,null,null,null,"","","","",{"$f":"IF(L37=\"\",\"\",('Data Ffisegol'!$M38/100)*L37)","v":""},{"$f":"IF(M37=\"\",\"\",('Data Ffisegol'!$M38/100)*M37)","v":""}]
[null,null,null,null,null,null,null,null,null,null,null,{"$f":"IF(COUNT(L48:L77)<1,\"\", AVERAGE(L48:L77))","v":""},{"$f":"IF(COUNT(M48:M77)<1,\"\", AVERAGE(M48:M77))","v":""}]
[]
[]
[]
[null,null,null,null,null,null,null,"Removal of excluded areas"]
[]
[null,null,null,null,null,null,null,"Laboratory sample number","Dredge Area","Excluded (y if yes)","Sample ID(s)","Organotins as mg/kg wet weight"]
[null,null,null,null,null,null,null,null,null,null,null,"Dibutyltine (DBT)","Tributyltin (TBT)",null,null,null,null,null," "]
[null,null,null,null,null,null,null,{"$f":"IF(H49=\"\",\"\",H49)","v":""},{"$f":"IF(J87=\"y\",\"\",I49)","v":""},"",{"$f":"IF(J87=\"y\",\"\",K49)","v":""},{"$f":"IF($J49=\"y\",\"\",L49)","v":""},{"$f":"IF($J49=\"y\",\"\",M49)","v":""}]
[null,null,null,null,null,null,null,"",{"$f":"IF(J88=\"y\",\"\",I50)","v":""},"",{"$f":"IF(J88=\"y\",\"\",K50)","v":""},"",""]
[null,null,null,null,null,null,null,"","","","","",""]
[null,null,null,null,null,null,null,"","","","","",""]
[null,null,null,null,null,null,null,"","","","","",""]
[null,null,null,null,null,null,null,"","","","","",""]
[null,null,null,null,null,null,null,"","","","","",""]
[null,null,null,null,null,null,null,"","","","","",""]
[null,null,null,null,null,null,null,"","","","","",""]
[null,null,null,null,null,null,null,"","","","","",""]
[null,null,null,null,null,null,null,"","","","","",""]
[null,null,null,null,null,null,null,"","","","","",""]
[null,null,null,null,null,null,null,"","","","","",""]
[null,null,null,null,null,null,null,"","","","","",""]
[null,null,null,null,null,null,null,"","","","","",""]
[null,null,null,null,null,null,null,"","","","","",""]
[null,null,null,null,null,null,null,"","","","","",""]
[null,null,null,null,null,null,null,"","","","","",""]
[null,null,null,null,null,null,null,"","","","","",""]
[null,null,null,null,null,null,null,"","","","","",""]
[null,null,null,null,null,null,null,"","","","","",""]
[null,null,null,null,null,null,null,"","","","","",""]
[null,null,null,null,null,null,null,"","","","","",""]
[null,null,null,null,null,null,null,"","","","","",""]
[null,null,null,null,null,null,null,"","","","","",""]
[null,null,null,null,null,null,null,"","","","","",""]
[null,null,null,null,null,null,null,"","","","","",""]
[null,null,null,null,null,null,null,"","","","","",""]
[null,null,null,null,null,null,null,"","","","","",""]
[null,null,null,null,null,null,null,"","","","","",""]
[null,null,null,null,null,null,null,null,null,null,null,{"$f":"IF(COUNT(L86:L115)<1,\"\", AVERAGE(L86:L115))","v":""},{"$f":"IF(COUNT(M86:M115)<1,\"\", AVERAGE(M86:M115))","v":""}]
[]
[]
[]
[null,null,null,null,null,null,null,"Average of dredge areas"]
[]
[null,null,null,null,null,null,null,null,null,null,"Dredge Area","Organotins as mg/kg wet weight"]
[null,null,null,null,null,null,null,null,null,null,null,"Dibutyltine (DBT)","Tributyltin (TBT)"]
[null,null,null," ",null,null,null,null,null,null,"Area i",{"$f":"IF(COUNTIF($I$87:$I$116,\"Area i\")<1,\"\",AVERAGEIF($I$87:$I$116,\"Area i\",L$87:L$116))","v":""},{"$f":"IF(COUNTIF($I$87:$I$116,\"Area i\")<1,\"\",AVERAGEIF($I$87:$I$116,\"Area i\",M$87:M$116))","v":""}]
[null,null,null,null,null,null,null,null,null,null,"Area ii",{"$f":"IF(COUNTIF($I$87:$I$116,\"Area ii\")<1,\"\",AVERAGEIF($I$87:$I$116,\"Area ii\",L$87:L$116))","v":""},{"$f":"IF(COUNTIF($I$87:$I$116,\"Area ii\")<1,\"\",AVERAGEIF($I$87:$I$116,\"Area ii\",M$87:M$116))","v":""}]
[null,null,null,null,null,null,null,null,null,null,"Area iii",{"$f":"IF(COUNTIF($I$87:$I$116,\"Area iii\")<1,\"\",AVERAGEIF($I$87:$I$116,\"Area iii\",L$87:L$116))","v":""},{"$f":"IF(COUNTIF($I$87:$I$116,\"Area iii\")<1,\"\",AVERAGEIF($I$87:$I$116,\"Area iii\",M$87:M$116))","v":""}]
[null,null,null,null,null,null,null,null,null,null,"Area iv",{"$f":"IF(COUNTIF($I$87:$I$116,\"Area iv\")<1,\"\",AVERAGEIF($I$87:$I$116,\"Area iv\",L$87:L$116))","v":""},{"$f":"IF(COUNTIF($I$87:$I$116,\"Area iv\")<1,\"\",AVERAGEIF($I$87:$I$116,\"Area iv\",M$87:M$116))","v":""}]
[null,null,null,null,null,null,null,null,null,null,"Area v",{"$f":"IF(COUNTIF($I$87:$I$116,\"Area v\")<1,\"\", AVERAGEIF($I$87:$I$116,\"Area v\",L$87:L$116))","v":""},{"$f":"IF(COUNTIF($I$87:$I$116,\"Area v\")<1,\"\", AVERAGEIF($I$87:$I$116,\"Area v\",M$87:M$116))","v":""}]
[null,null,null,null,null,null,null,null,null,null,"Area vi",{"$f":"IF(COUNTIF($I$87:$I$116,\"Area vi\")<1,\"\",AVERAGEIF($I$87:$I$116,\"Area vi\",L$87:L$116))","v":""},{"$f":"IF(COUNTIF($I$87:$I$116,\"Area vi\")<1,\"\",AVERAGEIF($I$87:$I$116,\"Area vi\",M$87:M$116))","v":""}]
[null,null,null,null,null,null,null,null,null,"Averages:",null,{"$f":"IF(COUNT(L125:L130)<1,\"\", AVERAGE(L125:L130))","v":""},{"$f":"IF(COUNT(M125:M130)<1,\"\", AVERAGE(M125:M130))","v":""}]
[]
[]
[]
[null,null,null,null,null,null,null,"PR weightings (dredge area averages multiplied by dredge area tonnage)"]
[]
[null,null,null,null,null,null,null,null,null,null,"Dredge Area","Organotins as mg/kg wet weight"]
[null,null,null,null,null,null,null,null,null,null,null,"Dibutyltine (DBT)","Tributyltin (TBT)"]
[null,null,null,null,null,null,null,null,null,null,"Area i",{"$f":"IF(L125=\"\",\"\",L125*'PR details'!$G4)","v":""},{"$f":"IF(M125=\"\",\"\",M125*'PR details'!$G4)","v":""}]
[null,null,null,null,null,null,null,null,null,null,"Area ii",{"$f":"IF(L126=\"\",\"\",L126*'PR details'!$G5)","v":""},{"$f":"IF(M126=\"\",\"\",M126*'PR details'!$G5)","v":""}]
[null,null,null,null,null,null,null,null,null,null,"Area iii",{"$f":"IF(L127=\"\",\"\",L127*'PR details'!$G6)","v":""},{"$f":"IF(M127=\"\",\"\",M127*'PR details'!$G6)","v":""}]
[null,null,null,null,null,null,null,null,null,null,"Area iv",{"$f":"IF(L128=\"\",\"\",L128*'PR details'!$G7)","v":""},{"$f":"IF(M128=\"\",\"\",M128*'PR details'!$G7)","v":""}]
[null,null,null,null,null,null,null,null,null,null,"Area v",{"$f":"IF(L129=\"\",\"\",L129*'PR details'!$G8)","v":""},{"$f":"IF(M129=\"\",\"\",M129*'PR details'!$G8)","v":""}]
[null,null,null,null,null,null,null,null,null,null,"Area vi",{"$f":"IF(L130=\"\",\"\",L130*'PR details'!$G9)","v":""},{"$f":"IF(M130=\"\",\"\",M130*'PR details'!$G9)","v":""}]
[null,null,null,null,null,null,null,null,null,null,"Averages:",{"$f":"IF(COUNT(L138:L144)<1,\"\", AVERAGE(L138:L144))","v":""},{"$f":"IF(COUNT(M138:M144)<1,\"\", AVERAGE(M138:M144))","v":""}]
[]
[]
[]
[null,null,null,null,null,null,null,"PR average"]
[]
[null,null,null,null,null,null,null,null,null,null,null,"Organotins as mg/kg wet weight"]
[null,null,null,null,null,null,null,null,null,null,null,"Dibutyltine (DBT)","Tributyltin (TBT)"]
[null,null,null,null,null,null,null,null,null,null,null,{"$f":"IF(COUNT(L139:L144)<1,\"\",SUM(L139:L144))","v":""},{"$f":"IF(COUNT(M139:M144)<1,\"\",SUM(M139:M144))","v":""}]

{"sheet":"Data PAH","index":9,"n_rows":38,"n_cols":33,"rows_kept":38,"cut":false,"hidden":false,"merged":[[37,7,37,9],[5,10,5,31],[5,32,6,32],[5,7,6,7],[5,8,6,8],[5,9,6,9]]}
[]
[null,"Data hydrocarbon polyaromatig"]
[]
[null,"Cyfarwyddiadau:",null,null,null,null,null,"Allbynnau dadansoddi:"]
[null,"1. Cofnodwch y labordy/contractwr sy'n gyfrifol am ddadansoddiad PAH"]
[null,"2. Cofnodwch y dyddiad y dadansoddwyd y samplau.",null,null,null,null,null,"Rhif sampl y labordy","Ardal Garthu","Rhif(au) adnabod y samplau","Hydrocarbon polyaromatig fel pwysau sych (pwysau sych µg/kg)",null,null,null,null,null,null,null,null,null,null,null,null,null,null,null,null,null,null,null,null,null,"Cyfanswm y cynnwys hydrocarbon (mg/kg)"]
[null,"3. Rhowch set ddata lawn ar gyfer pob sampl yn nhabl canlyniadau'r dadansoddiad",null,null,null,null,null,null,null,null,"Acenapthene","Acenapthylene","Anthracene","Benz[a]anthracene","Benzo[a]pyrene","Benzo[b]fluoranthene","Benzo[g,h,i]perylene","Benzo[e]pyrene","Benzo[k]fluoranthene","C1-Napthalenes","C1-Phenanthrenes","C2-Napthalenes","C3-Napthalenes","Chrysene","Dibenz[a,h]anthracene","Fluoranthene","Fluorene","Indeno[123-c,d]pyrene","Napthalene","Perylene","Phenanthrene","Pyrene"]
[null,"4. Dylid adrodd ar ganlyniadau dadansoddi ar gyfer hydrocarbonau polyaromatig unigol mewn pwysau sych µg/kg (ppb). "]
[null,null,"Dylid adrodd THC fel mg/kg (ppm)"]
[null,"5. Rhowch derfyn canfod methodolegol ar gyfer pob hydrocarbon polyaromatig cyn mewnbynnu data crai"]
[null,"6. Lle mae allbynnau dadansoddi yn llai na’r terfynau canfod nodwch y testun “<LOD”"]
[null,"7. Lle rydych yn copïo a gludo cofnodion, defnyddiwch y gwerthoedd yr ydych yn eu gludo yn unig"]
[null,"8. Pan fyddwch chi'n nodi rhifau adnabod sawl sampl, defnyddiwch ffurflen y naidlen (pop-up)"]
[null,null,"Dylai rhifau adnabod gael eu gwahanu gan goma"]
[]
[null,"Gwybodaeth dadansoddi:"]
[]
[null,null,"Labordy/contractwr:"]
[null,null,"Dyddiad y dadansoddiad:"]
[]
[]
[]
[]
[]
[]
[]
[]
[]
[]
[]
[]
[]
[]
[]
[]
[]
[]
[null,null,null,null,null,null,null,"Terfynau canfod (pwysau sych µg/kg):"]

{"sheet":"PAH calcs","index":10,"n_rows":189,"n_cols":34,"rows_kept":189,"cut":false,"hidden":true,"merged":[[5,11,5,32],[5,33,6,33],[45,11,45,32],[45,33,46,33],[159,33,160,33],[173,11,173,32],[173,33,174,33],[173,9,174,9],[159,11,159,32],[159,7,166,9],[173,7,174,7],[173,10,174,10],[5,7,6,7],[5,8,6,8],[5,9,6,9],[5,10,6,10],[45,7,46,7],[45,9,46,9],[45,8,46,8],[45,10,46,10],[186,11,186,32],[186,33,187,33],[186,7,187,7],[186,9,187,9],[186,10,187,10],[83,8,84,8],[83,7,84,7],[121,33,122,33],[83,33,84,33],[83,11,83,32],[83,10,84,10],[83,9,84,9],[121,7,122,7],[121,8,122,8],[121,9,122,9],[121,10,122,10],[121,11,121,32]]}
[]
[null,"Polyaromatic hydrocarbon summary information"]
[]
[null,"Analysis information:",null,null,null,null,null,"Determinand analysis outputs - adjusted for limits of detection and transformed to mg/kg"]
[]
[null,null,"Applicant:",{"$f":"IF('Gwybodaeth ymgeiswyr'!E15=\"\",\"\",'Gwybodaeth ymgeiswyr'!E15)","v":""},null,null,null,"Laboratory sample number","Dredge Area","Excluded (y if yes)","Sample ID(s)","PAHs as mg/kg dry weight",null,null,null,null,null,null,null,null,null,null,null,null,null,null,null,null,null,null,null,null,null,"Total hydrocarbon content (mg/kg)"]
[null,null,"Application number:",{"$f":"IF('Gwybodaeth ymgeiswyr'!E16=\"\",\"\",'Gwybodaeth ymgeiswyr'!E16)","v":""},null,null,null,null,null,null,null,"Acenapthene","Acenapthylene","Anthracene","Benz[a]anthracene","Benzo[a]pyrene","Benzo[b]fluoranthene","Benzo[g,h,i]perylene","Benzo[e]pyrene","Benzo[k]fluoranthene","C1-Napthalenes","C1-Phenanthrenes","C2-Napthalenes","C3-Napthalenes","Chrysene","Dibenz[a,h]anthracene","Fluoranthene","Fluorene","Indeno[123-c,d]pyrene","Napthalene","Perylene","Phenanthrene","Pyrene"]
[null,null,"Application title:",{"$f":"IF('Gwybodaeth ymgeiswyr'!E17=\"\",\"\",'Gwybodaeth ymgeiswyr'!E17)","v":""},null,null,null,{"$f":"IF('Data PAH'!H8=\"\",\"\",'Data PAH'!H8)","v":""},{"$f":"IF('Data PAH'!I8=\"\",\"\",'Data PAH'!I8)","v":""},{"$f":"IFERROR(IF(K8=\"\",\"\",(IF(VLOOKUP(K8,'Gwybodaeth ymgeiswyr'!$K$8:$L$37,2,0)=\"y\",\"y\",\"\"))),\"Manual entry required\")","v":""},{"$f":"IF('Data PAH'!J8=\"\",\"\",'Data PAH'!J8)","v":""},{"$f":"IF('Data PAH'!K8=\"\",\"\",IF(ISNUMBER('Data PAH'!K8)=TRUE, IF('Data PAH'!K8<'Data PAH'!K$38, \"ERROR\", 'Data PAH'!K8/1000), IF('Data PAH'!K8=\"<LOD\",'Data PAH'!K$38/1000, \"ERROR\")))","v":""},{"$f":"IF('Data PAH'!L8=\"\",\"\",IF(ISNUMBER('Data PAH'!L8)=TRUE, IF('Data PAH'!L8<'Data PAH'!L$38, \"ERROR\", 'Data PAH'!L8/1000), IF('Data PAH'!L8=\"<LOD\",'Data PAH'!L$38/1000, \"ERROR\")))","v":""},{"$f":"IF('Data PAH'!M8=\"\",\"\",IF(ISNUMBER('Data PAH'!M8)=TRUE, IF('Data PAH'!M8<'Data PAH'!M$38, \"ERROR\", 'Data PAH'!M8/1000), IF('Data PAH'!M8=\"<LOD\",'Data PAH'!M$38/1000, \"ERROR\")))","v":""},{"$f":"IF('Data PAH'!N8=\"\",\"\",IF(ISNUMBER('Data PAH'!N8)=TRUE, IF('Data PAH'!N8<'Data PAH'!N$38, \"ERROR\", 'Data PAH'!N8/1000), IF('Data PAH'!N8=\"<LOD\",'Data PAH'!N$38/1000, \"ERROR\")))","v":""},{"$f":"IF('Data PAH'!O8=\"\",\"\",IF(ISNUMBER('Data PAH'!O8)=TRUE, IF('Data PAH'!O8<'Data PAH'!O$38, \"ERROR\", 'Data PAH'!O8/1000), IF('Data PAH'!O8=\"<LOD\",'Data PAH'!O$38/1000, \"ERROR\")))","v":""},{"$f":"IF('Data PAH'!P8=\"\",\"\",IF(ISNUMBER('Data PAH'!P8)=TRUE, IF('Data PAH'!P8<'Data PAH'!P$38, \"ERROR\", 'Data PAH'!P8/1000), IF('Data PAH'!P8=\"<LOD\",'Data PAH'!P$38/1000, \"ERROR\")))","v":""},{"$f":"IF('Data PAH'!Q8=\"\",\"\",IF(ISNUMBER('Data PAH'!Q8)=TRUE, IF('Data PAH'!Q8<'Data PAH'!Q$38, \"ERROR\", 'Data PAH'!Q8/1000), IF('Data PAH'!Q8=\"<LOD\",'Data PAH'!Q$38/1000, \"ERROR\")))","v":""},{"$f":"IF('Data PAH'!R8=\"\",\"\",IF(ISNUMBER('Data PAH'!R8)=TRUE, IF('Data PAH'!R8<'Data PAH'!R$38, \"ERROR\", 'Data PAH'!R8/1000), IF('Data PAH'!R8=\"<LOD\",'Data PAH'!R$38/1000, \"ERROR\")))","v":""},{"$f":"IF('Data PAH'!S8=\"\",\"\",IF(ISNUMBER('Data PAH'!S8)=TRUE, IF('Data PAH'!S8<'Data PAH'!S$38, \"ERROR\", 'Data PAH'!S8/1000), IF('Data PAH'!S8=\"<LOD\",'Data PAH'!S$38/1000, \"ERROR\")))","v":""},{"$f":"IF('Data PAH'!T8=\"\",\"\",IF(ISNUMBER('Data PAH'!T8)=TRUE, IF('Data PAH'!T8<'Data PAH'!T$38, \"ERROR\", 'Data PAH'!T8/1000), IF('Data PAH'!T8=\"<LOD\",'Data PAH'!T$38/1000, \"ERROR\")))","v":""},{"$f":"IF('Data PAH'!U8=\"\",\"\",IF(ISNUMBER('Data PAH'!U8)=TRUE, IF('Data PAH'!U8<'Data PAH'!U$38, \"ERROR\", 'Data PAH'!U8/1000), IF('Data PAH'!U8=\"<LOD\",'Data PAH'!U$38/1000, \"ERROR\")))","v":""},{"$f":"IF('Data PAH'!V8=\"\",\"\",IF(ISNUMBER('Data PAH'!V8)=TRUE, IF('Data PAH'!V8<'Data PAH'!V$38, \"ERROR\", 'Data PAH'!V8/1000), IF('Data PAH'!V8=\"<LOD\",'Data PAH'!V$38/1000, \"ERROR\")))","v":""},{"$f":"IF('Data PAH'!W8=\"\",\"\",IF(ISNUMBER('Data PAH'!W8)=TRUE, IF('Data PAH'!W8<'Data PAH'!W$38, \"ERROR\", 'Data PAH'!W8/1000), IF('Data PAH'!W8=\"<LOD\",'Data PAH'!W$38/1000, \"ERROR\")))","v":""},{"$f":"IF('Data PAH'!X8=\"\",\"\",IF(ISNUMBER('Data PAH'!X8)=TRUE, IF('Data PAH'!X8<'Data PAH'!X$38, \"ERROR\", 'Data PAH'!X8/1000), IF('Data PAH'!X8=\"<LOD\",'Data PAH'!X$38/1000, \"ERROR\")))","v":""},{"$f":"IF('Data PAH'!Y8=\"\",\"\",IF(ISNUMBER('Data PAH'!Y8)=TRUE, IF('Data PAH'!Y8<'Data PAH'!Y$38, \"ERROR\", 'Data PAH'!Y8/1000), IF('Data PAH'!Y8=\"<LOD\",'Data PAH'!Y$38/1000, \"ERROR\")))","v":""},{"$f":"IF('Data PAH'!Z8=\"\",\"\",IF(ISNUMBER('Data PAH'!Z8)=TRUE, IF('Data PAH'!Z8<'Data PAH'!Z$38, \"ERROR\", 'Data PAH'!Z8/1000), IF('Data PAH'!Z8=\"<LOD\",'Data PAH'!Z$38/1000, \"ERROR\")))","v":""},{"$f":"IF('Data PAH'!AA8=\"\",\"\",IF(ISNUMBER('Data PAH'!AA8)=TRUE, IF('Data PAH'!AA8<'Data PAH'!AA$38, \"ERROR\", 'Data PAH'!AA8/1000), IF('Data PAH'!AA8=\"<LOD\",'Data PAH'!AA$38/1000, \"ERROR\")))","v":""},{"$f":"IF('Data PAH'!AB8=\"\",\"\",IF(ISNUMBER('Data PAH'!AB8)=TRUE, IF('Data PAH'!AB8<'Data PAH'!AB$38, \"ERROR\", 'Data PAH'!AB8/1000), IF('Data PAH'!AB8=\"<LOD\",'Data PAH'!AB$38/1000, \"ERROR\")))","v":""},{"$f":"IF('Data PAH'!AC8=\"\",\"\",IF(ISNUMBER('Data PAH'!AC8)=TRUE, IF('Data PAH'!AC8<'Data PAH'!AC$38, \"ERROR\", 'Data PAH'!AC8/1000), IF('Data PAH'!AC8=\"<LOD\",'Data PAH'!AC$38/1000, \"ERROR\")))","v":""},{"$f":"IF('Data PAH'!AD8=\"\",\"\",IF(ISNUMBER('Data PAH'!AD8)=TRUE, IF('Data PAH'!AD8<'Data PAH'!AD$38, \"ERROR\", 'Data PAH'!AD8/1000), IF('Data PAH'!AD8=\"<LOD\",'Data PAH'!AD$38/1000, \"ERROR\")))","v":""},{"$f":"IF('Data PAH'!AE8=\"\",\"\",IF(ISNUMBER('Data PAH'!AE8)=TRUE, IF('Data PAH'!AE8<'Data PAH'!AE$38, \"ERROR\", 'Data PAH'!AE8/1000), IF('Data PAH'!AE8=\"<LOD\",'Data PAH'!AE$38/1000, \"ERROR\")))","v":""},{"$f":"IF('Data PAH'!AF8=\"\",\"\",IF(ISNUMBER('Data PAH'!AF8)=TRUE, IF('Data PAH'!AF8<'Data PAH'!AF$38, \"ERROR\", 'Data PAH'!AF8/1000), IF('Data PAH'!AF8=\"<LOD\",'Data PAH'!AF$38/1000, \"ERROR\")))","v":""},{"$f":"IF('Data PAH'!AG8=\"\",\"\",IF(ISNUMBER('Data PAH'!AG8)=TRUE, IF('Data PAH'!AG8<'Data PAH'!AG$38, \"ERROR\", 'Data PAH'!AG8), IF('Data PAH'!AG8=\"<LOD\",'Data PAH'!AG$38, \"ERROR\")))","v":""}]
[null,null,"Date sampled:",{"$f":"IF('Gwybodaeth ymgeiswyr'!E18=\"\",\"\",'Gwybodaeth ymgeiswyr'!E18)","v":""},null,null,null,{"$f":"IF('Data PAH'!H9=\"\",\"\",'Data PAH'!H9)","v":""},{"$f":"IF('Data PAH'!I9=\"\",\"\",'Data PAH'!I9)","v":""},{"$f":"IFERROR(IF(K9=\"\",\"\",(IF(VLOOKUP(K9,'Gwybodaeth ymgeiswyr'!$K$8:$L$37,2,0)=\"y\",\"y\",\"\"))),\"Manual entry required\")","v":""},{"$f":"IF('Data PAH'!J9=\"\",\"\",'Data PAH'!J9)","v":""},{"$f":"IF('Data PAH'!K9=\"\",\"\",IF(ISNUMBER('Data PAH'!K9)=TRUE, IF('Data PAH'!K9<'Data PAH'!K$38, \"ERROR\", 'Data PAH'!K9/1000), IF('Data PAH'!K9=\"<LOD\",'Data PAH'!K$38/1000, \"ERROR\")))","v":""},{"$f":"IF('Data PAH'!L9=\"\",\"\",IF(ISNUMBER('Data PAH'!L9)=TRUE, IF('Data PAH'!L9<'Data PAH'!L$38, \"ERROR\", 'Data PAH'!L9/1000), IF('Data PAH'!L9=\"<LOD\",'Data PAH'!L$38/1000, \"ERROR\")))","v":""},{"$f":"IF('Data PAH'!M9=\"\",\"\",IF(ISNUMBER('Data PAH'!M9)=TRUE, IF('Data PAH'!M9<'Data PAH'!M$38, \"ERROR\", 'Data PAH'!M9/1000), IF('Data PAH'!M9=\"<LOD\",'Data PAH'!M$38/1000, \"ERROR\")))","v":""},{"$f":"IF('Data PAH'!N9=\"\",\"\",IF(ISNUMBER('Data PAH'!N9)=TRUE, IF('Data PAH'!N9<'Data PAH'!N$38, \"ERROR\", 'Data PAH'!N9/1000), IF('Data PAH'!N9=\"<LOD\",'Data PAH'!N$38/1000, \"ERROR\")))","v":""},{"$f":"IF('Data PAH'!O9=\"\",\"\",IF(ISNUMBER('Data PAH'!O9)=TRUE, IF('Data PAH'!O9<'Data PAH'!O$38, \"ERROR\", 'Data PAH'!O9/1000), IF('Data PAH'!O9=\"<LOD\",'Data PAH'!O$38/1000, \"ERROR\")))","v":""},{"$f":"IF('Data PAH'!P9=\"\",\"\",IF(ISNUMBER('Data PAH'!P9)=TRUE, IF('Data PAH'!P9<'Data PAH'!P$38, \"ERROR\", 'Data PAH'!P9/1000), IF('Data PAH'!P9=\"<LOD\",'Data PAH'!P$38/1000, \"ERROR\")))","v":""},{"$f":"IF('Data PAH'!Q9=\"\",\"\",IF(ISNUMBER('Data PAH'!Q9)=TRUE, IF('Data PAH'!Q9<'Data PAH'!Q$38, \"ERROR\", 'Data PAH'!Q9/1000), IF('Data PAH'!Q9=\"<LOD\",'Data PAH'!Q$38/1000, \"ERROR\")))","v":""},{"$f":"IF('Data PAH'!R9=\"\",\"\",IF(ISNUMBER('Data PAH'!R9)=TRUE, IF('Data PAH'!R9<'Data PAH'!R$38, \"ERROR\", 'Data PAH'!R9/1000), IF('Data PAH'!R9=\"<LOD\",'Data PAH'!R$38/1000, \"ERROR\")))","v":""},{"$f":"IF('Data PAH'!S9=\"\",\"\",IF(ISNUMBER('Data PAH'!S9)=TRUE, IF('Data PAH'!S9<'Data PAH'!S$38, \"ERROR\", 'Data PAH'!S9/1000), IF('Data PAH'!S9=\"<LOD\",'Data PAH'!S$38/1000, \"ERROR\")))","v":""},{"$f":"IF('Data PAH'!T9=\"\",\"\",IF(ISNUMBER('Data PAH'!T9)=TRUE, IF('Data PAH'!T9<'Data PAH'!T$38, \"ERROR\", 'Data PAH'!T9/1000), IF('Data PAH'!T9=\"<LOD\",'Data PAH'!T$38/1000, \"ERROR\")))","v":""},{"$f":"IF('Data PAH'!U9=\"\",\"\",IF(ISNUMBER('Data PAH'!U9)=TRUE, IF('Data PAH'!U9<'Data PAH'!U$38, \"ERROR\", 'Data PAH'!U9/1000), IF('Data PAH'!U9=\"<LOD\",'Data PAH'!U$38/1000, \"ERROR\")))","v":""},{"$f":"IF('Data PAH'!V9=\"\",\"\",IF(ISNUMBER('Data PAH'!V9)=TRUE, IF('Data PAH'!V9<'Data PAH'!V$38, \"ERROR\", 'Data PAH'!V9/1000), IF('Data PAH'!V9=\"<LOD\",'Data PAH'!V$38/1000, \"ERROR\")))","v":""},{"$f":"IF('Data PAH'!W9=\"\",\"\",IF(ISNUMBER('Data PAH'!W9)=TRUE, IF('Data PAH'!W9<'Data PAH'!W$38, \"ERROR\", 'Data PAH'!W9/1000), IF('Data PAH'!W9=\"<LOD\",'Data PAH'!W$38/1000, \"ERROR\")))","v":""},{"$f":"IF('Data PAH'!X9=\"\",\"\",IF(ISNUMBER('Data PAH'!X9)=TRUE, IF('Data PAH'!X9<'Data PAH'!X$38, \"ERROR\", 'Data PAH'!X9/1000), IF('Data PAH'!X9=\"<LOD\",'Data PAH'!X$38/1000, \"ERROR\")))","v":""},{"$f":"IF('Data PAH'!Y9=\"\",\"\",IF(ISNUMBER('Data PAH'!Y9)=TRUE, IF('Data PAH'!Y9<'Data PAH'!Y$38, \"ERROR\", 'Data PAH'!Y9/1000), IF('Data PAH'!Y9=\"<LOD\",'Data PAH'!Y$38/1000, \"ERROR\")))","v":""},{"$f":"IF('Data PAH'!Z9=\"\",\"\",IF(ISNUMBER('Data PAH'!Z9)=TRUE, IF('Data PAH'!Z9<'Data PAH'!Z$38, \"ERROR\", 'Data PAH'!Z9/1000), IF('Data PAH'!Z9=\"<LOD\",'Data PAH'!Z$38/1000, \"ERROR\")))","v":""},{"$f":"IF('Data PAH'!AA9=\"\",\"\",IF(ISNUMBER('Data PAH'!AA9)=TRUE, IF('Data PAH'!AA9<'Data PAH'!AA$38, \"ERROR\", 'Data PAH'!AA9/1000), IF('Data PAH'!AA9=\"<LOD\",'Data PAH'!AA$38/1000, \"ERROR\")))","v":""},{"$f":"IF('Data PAH'!AB9=\"\",\"\",IF(ISNUMBER('Data PAH'!AB9)=TRUE, IF('Data PAH'!AB9<'Data PAH'!AB$38, \"ERROR\", 'Data PAH'!AB9/1000), IF('Data PAH'!AB9=\"<LOD\",'Data PAH'!AB$38/1000, \"ERROR\")))","v":""},{"$f":"IF('Data PAH'!AC9=\"\",\"\",IF(ISNUMBER('Data PAH'!AC9)=TRUE, IF('Data PAH'!AC9<'Data PAH'!AC$38, \"ERROR\", 'Data PAH'!AC9/1000), IF('Data PAH'!AC9=\"<LOD\",'Data PAH'!AC$38/1000, \"ERROR\")))","v":""},{"$f":"IF('Data PAH'!AD9=\"\",\"\",IF(ISNUMBER('Data PAH'!AD9)=TRUE, IF('Data PAH'!AD9<'Data PAH'!AD$38, \"ERROR\", 'Data PAH'!AD9/1000), IF('Data PAH'!AD9=\"<LOD\",'Data PAH'!AD$38/1000, \"ERROR\")))","v":""},{"$f":"IF('Data PAH'!AE9=\"\",\"\",IF(ISNUMBER('Data PAH'!AE9)=TRUE, IF('Data PAH'!AE9<'Data PAH'!AE$38, \"ERROR\", 'Data PAH'!AE9/1000), IF('Data PAH'!AE9=\"<LOD\",'Data PAH'!AE$38/1000, \"ERROR\")))","v":""},{"$f":"IF('Data PAH'!AF9=\"\",\"\",IF(ISNUMBER('Data PAH'!AF9)=TRUE, IF('Data PAH'!AF9<'Data PAH'!AF$38, \"ERROR\", 'Data PAH'!AF9/1000), IF('Data PAH'!AF9=\"<LOD\",'Data PAH'!AF$38/1000, \"ERROR\")))","v":""},{"$f":"IF('Data PAH'!AG9=\"\",\"\",IF(ISNUMBER('Data PAH'!AG9)=TRUE, IF('Data PAH'!AG9<'Data PAH'!AG$38, \"ERROR\", 'Data PAH'!AG9), IF('Data PAH'!AG9=\"<LOD\",'Data PAH'!AG$38, \"ERROR\")))","v":""}]
[null,null,"Sampling location:",{"$f":"IF('Gwybodaeth ymgeiswyr'!E19=\"\",\"\",'Gwybodaeth ymgeiswyr'!E19)","v":""},null,null,null,{"$f":"IF('Data PAH'!H10=\"\",\"\",'Data PAH'!H10)","v":""},{"$f":"IF('Data PAH'!I10=\"\",\"\",'Data PAH'!I10)","v":""},{"$f":"IFERROR(IF(K10=\"\",\"\",(IF(VLOOKUP(K10,'Gwybodaeth ymgeiswyr'!$K$8:$L$37,2,0)=\"y\",\"y\",\"\"))),\"Manual entry required\")","v":""},{"$f":"IF('Data PAH'!J10=\"\",\"\",'Data PAH'!J10)","v":""},{"$f":"IF('Data PAH'!K10=\"\",\"\",IF(ISNUMBER('Data PAH'!K10)=TRUE, IF('Data PAH'!K10<'Data PAH'!K$38, \"ERROR\", 'Data PAH'!K10/1000), IF('Data PAH'!K10=\"<LOD\",'Data PAH'!K$38/1000, \"ERROR\")))","v":""},{"$f":"IF('Data PAH'!L10=\"\",\"\",IF(ISNUMBER('Data PAH'!L10)=TRUE, IF('Data PAH'!L10<'Data PAH'!L$38, \"ERROR\", 'Data PAH'!L10/1000), IF('Data PAH'!L10=\"<LOD\",'Data PAH'!L$38/1000, \"ERROR\")))","v":""},{"$f":"IF('Data PAH'!M10=\"\",\"\",IF(ISNUMBER('Data PAH'!M10)=TRUE, IF('Data PAH'!M10<'Data PAH'!M$38, \"ERROR\", 'Data PAH'!M10/1000), IF('Data PAH'!M10=\"<LOD\",'Data PAH'!M$38/1000, \"ERROR\")))","v":""},{"$f":"IF('Data PAH'!N10=\"\",\"\",IF(ISNUMBER('Data PAH'!N10)=TRUE, IF('Data PAH'!N10<'Data PAH'!N$38, \"ERROR\", 'Data PAH'!N10/1000), IF('Data PAH'!N10=\"<LOD\",'Data PAH'!N$38/1000, \"ERROR\")))","v":""},{"$f":"IF('Data PAH'!O10=\"\",\"\",IF(ISNUMBER('Data PAH'!O10)=TRUE, IF('Data PAH'!O10<'Data PAH'!O$38, \"ERROR\", 'Data PAH'!O10/1000), IF('Data PAH'!O10=\"<LOD\",'Data PAH'!O$38/1000, \"ERROR\")))","v":""},{"$f":"IF('Data PAH'!P10=\"\",\"\",IF(ISNUMBER('Data PAH'!P10)=TRUE, IF('Data PAH'!P10<'Data PAH'!P$38, \"ERROR\", 'Data PAH'!P10/1000), IF('Data PAH'!P10=\"<LOD\",'Data PAH'!P$38/1000, \"ERROR\")))","v":""},{"$f":"IF('Data PAH'!Q10=\"\",\"\",IF(ISNUMBER('Data PAH'!Q10)=TRUE, IF('Data PAH'!Q10<'Data PAH'!Q$38, \"ERROR\", 'Data PAH'!Q10/1000), IF('Data PAH'!Q10=\"<LOD\",'Data PAH'!Q$38/1000, \"ERROR\")))","v":""},{"$f":"IF('Data PAH'!R10=\"\",\"\",IF(ISNUMBER('Data PAH'!R10)=TRUE, IF('Data PAH'!R10<'Data PAH'!R$38, \"ERROR\", 'Data PAH'!R10/1000), IF('Data PAH'!R10=\"<LOD\",'Data PAH'!R$38/1000, \"ERROR\")))","v":""},{"$f":"IF('Data PAH'!S10=\"\",\"\",IF(ISNUMBER('Data PAH'!S10)=TRUE, IF('Data PAH'!S10<'Data PAH'!S$38, \"ERROR\", 'Data PAH'!S10/1000), IF('Data PAH'!S10=\"<LOD\",'Data PAH'!S$38/1000, \"ERROR\")))","v":""},{"$f":"IF('Data PAH'!T10=\"\",\"\",IF(ISNUMBER('Data PAH'!T10)=TRUE, IF('Data PAH'!T10<'Data PAH'!T$38, \"ERROR\", 'Data PAH'!T10/1000), IF('Data PAH'!T10=\"<LOD\",'Data PAH'!T$38/1000, \"ERROR\")))","v":""},{"$f":"IF('Data PAH'!U10=\"\",\"\",IF(ISNUMBER('Data PAH'!U10)=TRUE, IF('Data PAH'!U10<'Data PAH'!U$38, \"ERROR\", 'Data PAH'!U10/1000), IF('Data PAH'!U10=\"<LOD\",'Data PAH'!U$38/1000, \"ERROR\")))","v":""},{"$f":"IF('Data PAH'!V10=\"\",\"\",IF(ISNUMBER('Data PAH'!V10)=TRUE, IF('Data PAH'!V10<'Data PAH'!V$38, \"ERROR\", 'Data PAH'!V10/1000), IF('Data PAH'!V10=\"<LOD\",'Data PAH'!V$38/1000, \"ERROR\")))","v":""},{"$f":"IF('Data PAH'!W10=\"\",\"\",IF(ISNUMBER('Data PAH'!W10)=TRUE, IF('Data PAH'!W10<'Data PAH'!W$38, \"ERROR\", 'Data PAH'!W10/1000), IF('Data PAH'!W10=\"<LOD\",'Data PAH'!W$38/1000, \"ERROR\")))","v":""},{"$f":"IF('Data PAH'!X10=\"\",\"\",IF(ISNUMBER('Data PAH'!X10)=TRUE, IF('Data PAH'!X10<'Data PAH'!X$38, \"ERROR\", 'Data PAH'!X10/1000), IF('Data PAH'!X10=\"<LOD\",'Data PAH'!X$38/1000, \"ERROR\")))","v":""},{"$f":"IF('Data PAH'!Y10=\"\",\"\",IF(ISNUMBER('Data PAH'!Y10)=TRUE, IF('Data PAH'!Y10<'Data PAH'!Y$38, \"ERROR\", 'Data PAH'!Y10/1000), IF('Data PAH'!Y10=\"<LOD\",'Data PAH'!Y$38/1000, \"ERROR\")))","v":""},{"$f":"IF('Data PAH'!Z10=\"\",\"\",IF(ISNUMBER('Data PAH'!Z10)=TRUE, IF('Data PAH'!Z10<'Data PAH'!Z$38, \"ERROR\", 'Data PAH'!Z10/1000), IF('Data PAH'!Z10=\"<LOD\",'Data PAH'!Z$38/1000, \"ERROR\")))","v":""},{"$f":"IF('Data PAH'!AA10=\"\",\"\",IF(ISNUMBER('Data PAH'!AA10)=TRUE, IF('Data PAH'!AA10<'Data PAH'!AA$38, \"ERROR\", 'Data PAH'!AA10/1000), IF('Data PAH'!AA10=\"<LOD\",'Data PAH'!AA$38/1000, \"ERROR\")))","v":""},{"$f":"IF('Data PAH'!AB10=\"\",\"\",IF(ISNUMBER('Data PAH'!AB10)=TRUE, IF('Data PAH'!AB10<'Data PAH'!AB$38, \"ERROR\", 'Data PAH'!AB10/1000), IF('Data PAH'!AB10=\"<LOD\",'Data PAH'!AB$38/1000, \"ERROR\")))","v":""},{"$f":"IF('Data PAH'!AC10=\"\",\"\",IF(ISNUMBER('Data PAH'!AC10)=TRUE, IF('Data PAH'!AC10<'Data PAH'!AC$38, \"ERROR\", 'Data PAH'!AC10/1000), IF('Data PAH'!AC10=\"<LOD\",'Data PAH'!AC$38/1000, \"ERROR\")))","v":""},{"$f":"IF('Data PAH'!AD10=\"\",\"\",IF(ISNUMBER('Data PAH'!AD10)=TRUE, IF('Data PAH'!AD10<'Data PAH'!AD$38, \"ERROR\", 'Data PAH'!AD10/1000), IF('Data PAH'!AD10=\"<LOD\",'Data PAH'!AD$38/1000, \"ERROR\")))","v":""},{"$f":"IF('Data PAH'!AE10=\"\",\"\",IF(ISNUMBER('Data PAH'!AE10)=TRUE, IF('Data PAH'!AE10<'Data PAH'!AE$38, \"ERROR\", 'Data PAH'!AE10/1000), IF('Data PAH'!AE10=\"<LOD\",'Data PAH'!AE$38/1000, \"ERROR\")))","v":""},{"$f":"IF('Data PAH'!AF10=\"\",\"\",IF(ISNUMBER('Data PAH'!AF10)=TRUE, IF('Data PAH'!AF10<'Data PAH'!AF$38, \"ERROR\", 'Data PAH'!AF10/1000), IF('Data PAH'!AF10=\"<LOD\",'Data PAH'!AF$38/1000, \"ERROR\")))","v":""},{"$f":"IF('Data PAH'!AG10=\"\",\"\",IF(ISNUMBER('Data PAH'!AG10)=TRUE, IF('Data PAH'!AG10<'Data PAH'!AG$38, \"ERROR\", 'Data PAH'!AG10), IF('Data PAH'!AG10=\"<LOD\",'Data PAH'!AG$38, \"ERROR\")))","v":""}]
[null,null,null,null,null,null,null,{"$f":"IF('Data PAH'!H11=\"\",\"\",'Data PAH'!H11)","v":""},{"$f":"IF('Data PAH'!I11=\"\",\"\",'Data PAH'!I11)","v":""},{"$f":"IFERROR(IF(K11=\"\",\"\",(IF(VLOOKUP(K11,'Gwybodaeth ymgeiswyr'!$K$8:$L$37,2,0)=\"y\",\"y\",\"\"))),\"Manual entry required\")","v":""},{"$f":"IF('Data PAH'!J11=\"\",\"\",'Data PAH'!J11)","v":""},{"$f":"IF('Data PAH'!K11=\"\",\"\",IF(ISNUMBER('Data PAH'!K11)=TRUE, IF('Data PAH'!K11<'Data PAH'!K$38, \"ERROR\", 'Data PAH'!K11/1000), IF('Data PAH'!K11=\"<LOD\",'Data PAH'!K$38/1000, \"ERROR\")))","v":""},{"$f":"IF('Data PAH'!L11=\"\",\"\",IF(ISNUMBER('Data PAH'!L11)=TRUE, IF('Data PAH'!L11<'Data PAH'!L$38, \"ERROR\", 'Data PAH'!L11/1000), IF('Data PAH'!L11=\"<LOD\",'Data PAH'!L$38/1000, \"ERROR\")))","v":""},{"$f":"IF('Data PAH'!M11=\"\",\"\",IF(ISNUMBER('Data PAH'!M11)=TRUE, IF('Data PAH'!M11<'Data PAH'!M$38, \"ERROR\", 'Data PAH'!M11/1000), IF('Data PAH'!M11=\"<LOD\",'Data PAH'!M$38/1000, \"ERROR\")))","v":""},{"$f":"IF('Data PAH'!N11=\"\",\"\",IF(ISNUMBER('Data PAH'!N11)=TRUE, IF('Data PAH'!N11<'Data PAH'!N$38, \"ERROR\", 'Data PAH'!N11/1000), IF('Data PAH'!N11=\"<LOD\",'Data PAH'!N$38/1000, \"ERROR\")))","v":""},{"$f":"IF('Data PAH'!O11=\"\",\"\",IF(ISNUMBER('Data PAH'!O11)=TRUE, IF('Data PAH'!O11<'Data PAH'!O$38, \"ERROR\", 'Data PAH'!O11/1000), IF('Data PAH'!O11=\"<LOD\",'Data PAH'!O$38/1000, \"ERROR\")))","v":""},{"$f":"IF('Data PAH'!P11=\"\",\"\",IF(ISNUMBER('Data PAH'!P11)=TRUE, IF('Data PAH'!P11<'Data PAH'!P$38, \"ERROR\", 'Data PAH'!P11/1000), IF('Data PAH'!P11=\"<LOD\",'Data PAH'!P$38/1000, \"ERROR\")))","v":""},{"$f":"IF('Data PAH'!Q11=\"\",\"\",IF(ISNUMBER('Data PAH'!Q11)=TRUE, IF('Data PAH'!Q11<'Data PAH'!Q$38, \"ERROR\", 'Data PAH'!Q11/1000), IF('Data PAH'!Q11=\"<LOD\",'Data PAH'!Q$38/1000, \"ERROR\")))","v":""},{"$f":"IF('Data PAH'!R11=\"\",\"\",IF(ISNUMBER('Data PAH'!R11)=TRUE, IF('Data PAH'!R11<'Data PAH'!R$38, \"ERROR\", 'Data PAH'!R11/1000), IF('Data PAH'!R11=\"<LOD\",'Data PAH'!R$38/1000, \"ERROR\")))","v":""},{"$f":"IF('Data PAH'!S11=\"\",\"\",IF(ISNUMBER('Data PAH'!S11)=TRUE, IF('Data PAH'!S11<'Data PAH'!S$38, \"ERROR\", 'Data PAH'!S11/1000), IF('Data PAH'!S11=\"<LOD\",'Data PAH'!S$38/1000, \"ERROR\")))","v":""},{"$f":"IF('Data PAH'!T11=\"\",\"\",IF(ISNUMBER('Data PAH'!T11)=TRUE, IF('Data PAH'!T11<'Data PAH'!T$38, \"ERROR\", 'Data PAH'!T11/1000), IF('Data PAH'!T11=\"<LOD\",'Data PAH'!T$38/1000, \"ERROR\")))","v":""},{"$f":"IF('Data PAH'!U11=\"\",\"\",IF(ISNUMBER('Data PAH'!U11)=TRUE, IF('Data PAH'!U11<'Data PAH'!U$38, \"ERROR\", 'Data PAH'!U11/1000), IF('Data PAH'!U11=\"<LOD\",'Data PAH'!U$38/1000, \"ERROR\")))","v":""},{"$f":"IF('Data PAH'!V11=\"\",\"\",IF(ISNUMBER('Data PAH'!V11)=TRUE, IF('Data PAH'!V11<'Data PAH'!V$38, \"ERROR\", 'Data PAH'!V11/1000), IF('Data PAH'!V11=\"<LOD\",'Data PAH'!V$38/1000, \"ERROR\")))","v":""},{"$f":"IF('Data PAH'!W11=\"\",\"\",IF(ISNUMBER('Data PAH'!W11)=TRUE, IF('Data PAH'!W11<'Data PAH'!W$38, \"ERROR\", 'Data PAH'!W11/1000), IF('Data PAH'!W11=\"<LOD\",'Data PAH'!W$38/1000, \"ERROR\")))","v":""},{"$f":"IF('Data PAH'!X11=\"\",\"\",IF(ISNUMBER('Data PAH'!X11)=TRUE, IF('Data PAH'!X11<'Data PAH'!X$38, \"ERROR\", 'Data PAH'!X11/1000), IF('Data PAH'!X11=\"<LOD\",'Data PAH'!X$38/1000, \"ERROR\")))","v":""},{"$f":"IF('Data PAH'!Y11=\"\",\"\",IF(ISNUMBER('Data PAH'!Y11)=TRUE, IF('Data PAH'!Y11<'Data PAH'!Y$38, \"ERROR\", 'Data PAH'!Y11/1000), IF('Data PAH'!Y11=\"<LOD\",'Data PAH'!Y$38/1000, \"ERROR\")))","v":""},{"$f":"IF('Data PAH'!Z11=\"\",\"\",IF(ISNUMBER('Data PAH'!Z11)=TRUE, IF('Data PAH'!Z11<'Data PAH'!Z$38, \"ERROR\", 'Data PAH'!Z11/1000), IF('Data PAH'!Z11=\"<LOD\",'Data PAH'!Z$38/1000, \"ERROR\")))","v":""},{"$f":"IF('Data PAH'!AA11=\"\",\"\",IF(ISNUMBER('Data PAH'!AA11)=TRUE, IF('Data PAH'!AA11<'Data PAH'!AA$38, \"ERROR\", 'Data PAH'!AA11/1000), IF('Data PAH'!AA11=\"<LOD\",'Data PAH'!AA$38/1000, \"ERROR\")))","v":""},{"$f":"IF('Data PAH'!AB11=\"\",\"\",IF(ISNUMBER('Data PAH'!AB11)=TRUE, IF('Data PAH'!AB11<'Data PAH'!AB$38, \"ERROR\", 'Data PAH'!AB11/1000), IF('Data PAH'!AB11=\"<LOD\",'Data PAH'!AB$38/1000, \"ERROR\")))","v":""},{"$f":"IF('Data PAH'!AC11=\"\",\"\",IF(ISNUMBER('Data PAH'!AC11)=TRUE, IF('Data PAH'!AC11<'Data PAH'!AC$38, \"ERROR\", 'Data PAH'!AC11/1000), IF('Data PAH'!AC11=\"<LOD\",'Data PAH'!AC$38/1000, \"ERROR\")))","v":""},{"$f":"IF('Data PAH'!AD11=\"\",\"\",IF(ISNUMBER('Data PAH'!AD11)=TRUE, IF('Data PAH'!AD11<'Data PAH'!AD$38, \"ERROR\", 'Data PAH'!AD11/1000), IF('Data PAH'!AD11=\"<LOD\",'Data PAH'!AD$38/1000, \"ERROR\")))","v":""},{"$f":"IF('Data PAH'!AE11=\"\",\"\",IF(ISNUMBER('Data PAH'!AE11)=TRUE, IF('Data PAH'!AE11<'Data PAH'!AE$38, \"ERROR\", 'Data PAH'!AE11/1000), IF('Data PAH'!AE11=\"<LOD\",'Data PAH'!AE$38/1000, \"ERROR\")))","v":""},{"$f":"IF('Data PAH'!AF11=\"\",\"\",IF(ISNUMBER('Data PAH'!AF11)=TRUE, IF('Data PAH'!AF11<'Data PAH'!AF$38, \"ERROR\", 'Data PAH'!AF11/1000), IF('Data PAH'!AF11=\"<LOD\",'Data PAH'!AF$38/1000, \"ERROR\")))","v":""},{"$f":"IF('Data PAH'!AG11=\"\",\"\",IF(ISNUMBER('Data PAH'!AG11)=TRUE, IF('Data PAH'!AG11<'Data PAH'!AG$38, \"ERROR\", 'Data PAH'!AG11), IF('Data PAH'!AG11=\"<LOD\",'Data PAH'!AG$38, \"ERROR\")))","v":""}]
[null,null,"Laboratory/contractor:",{"$f":"IF('Data PAH'!D18=\"\",\"\",'Data PAH'!D18)","v":""},null,null,null,{"$f":"IF('Data PAH'!H12=\"\",\"\",'Data PAH'!H12)","v":""},{"$f":"IF('Data PAH'!I12=\"\",\"\",'Data PAH'!I12)","v":""},{"$f":"IFERROR(IF(K12=\"\",\"\",(IF(VLOOKUP(K12,'Gwybodaeth ymgeiswyr'!$K$8:$L$37,2,0)=\"y\",\"y\",\"\"))),\"Manual entry required\")","v":""},{"$f":"IF('Data PAH'!J12=\"\",\"\",'Data PAH'!J12)","v":""},{"$f":"IF('Data PAH'!K12=\"\",\"\",IF(ISNUMBER('Data PAH'!K12)=TRUE, IF('Data PAH'!K12<'Data PAH'!K$38, \"ERROR\", 'Data PAH'!K12/1000), IF('Data PAH'!K12=\"<LOD\",'Data PAH'!K$38/1000, \"ERROR\")))","v":""},{"$f":"IF('Data PAH'!L12=\"\",\"\",IF(ISNUMBER('Data PAH'!L12)=TRUE, IF('Data PAH'!L12<'Data PAH'!L$38, \"ERROR\", 'Data PAH'!L12/1000), IF('Data PAH'!L12=\"<LOD\",'Data PAH'!L$38/1000, \"ERROR\")))","v":""},{"$f":"IF('Data PAH'!M12=\"\",\"\",IF(ISNUMBER('Data PAH'!M12)=TRUE, IF('Data PAH'!M12<'Data PAH'!M$38, \"ERROR\", 'Data PAH'!M12/1000), IF('Data PAH'!M12=\"<LOD\",'Data PAH'!M$38/1000, \"ERROR\")))","v":""},{"$f":"IF('Data PAH'!N12=\"\",\"\",IF(ISNUMBER('Data PAH'!N12)=TRUE, IF('Data PAH'!N12<'Data PAH'!N$38, \"ERROR\", 'Data PAH'!N12/1000), IF('Data PAH'!N12=\"<LOD\",'Data PAH'!N$38/1000, \"ERROR\")))","v":""},{"$f":"IF('Data PAH'!O12=\"\",\"\",IF(ISNUMBER('Data PAH'!O12)=TRUE, IF('Data PAH'!O12<'Data PAH'!O$38, \"ERROR\", 'Data PAH'!O12/1000), IF('Data PAH'!O12=\"<LOD\",'Data PAH'!O$38/1000, \"ERROR\")))","v":""},{"$f":"IF('Data PAH'!P12=\"\",\"\",IF(ISNUMBER('Data PAH'!P12)=TRUE, IF('Data PAH'!P12<'Data PAH'!P$38, \"ERROR\", 'Data PAH'!P12/1000), IF('Data PAH'!P12=\"<LOD\",'Data PAH'!P$38/1000, \"ERROR\")))","v":""},{"$f":"IF('Data PAH'!Q12=\"\",\"\",IF(ISNUMBER('Data PAH'!Q12)=TRUE, IF('Data PAH'!Q12<'Data PAH'!Q$38, \"ERROR\", 'Data PAH'!Q12/1000), IF('Data PAH'!Q12=\"<LOD\",'Data PAH'!Q$38/1000, \"ERROR\")))","v":""},{"$f":"IF('Data PAH'!R12=\"\",\"\",IF(ISNUMBER('Data PAH'!R12)=TRUE, IF('Data PAH'!R12<'Data PAH'!R$38, \"ERROR\", 'Data PAH'!R12/1000), IF('Data PAH'!R12=\"<LOD\",'Data PAH'!R$38/1000, \"ERROR\")))","v":""},{"$f":"IF('Data PAH'!S12=\"\",\"\",IF(ISNUMBER('Data PAH'!S12)=TRUE, IF('Data PAH'!S12<'Data PAH'!S$38, \"ERROR\", 'Data PAH'!S12/1000), IF('Data PAH'!S12=\"<LOD\",'Data PAH'!S$38/1000, \"ERROR\")))","v":""},{"$f":"IF('Data PAH'!T12=\"\",\"\",IF(ISNUMBER('Data PAH'!T12)=TRUE, IF('Data PAH'!T12<'Data PAH'!T$38, \"ERROR\", 'Data PAH'!T12/1000), IF('Data PAH'!T12=\"<LOD\",'Data PAH'!T$38/1000, \"ERROR\")))","v":""},{"$f":"IF('Data PAH'!U12=\"\",\"\",IF(ISNUMBER('Data PAH'!U12)=TRUE, IF('Data PAH'!U12<'Data PAH'!U$38, \"ERROR\", 'Data PAH'!U12/1000), IF('Data PAH'!U12=\"<LOD\",'Data PAH'!U$38/1000, \"ERROR\")))","v":""},{"$f":"IF('Data PAH'!V12=\"\",\"\",IF(ISNUMBER('Data PAH'!V12)=TRUE, IF('Data PAH'!V12<'Data PAH'!V$38, \"ERROR\", 'Data PAH'!V12/1000), IF('Data PAH'!V12=\"<LOD\",'Data PAH'!V$38/1000, \"ERROR\")))","v":""},{"$f":"IF('Data PAH'!W12=\"\",\"\",IF(ISNUMBER('Data PAH'!W12)=TRUE, IF('Data PAH'!W12<'Data PAH'!W$38, \"ERROR\", 'Data PAH'!W12/1000), IF('Data PAH'!W12=\"<LOD\",'Data PAH'!W$38/1000, \"ERROR\")))","v":""},{"$f":"IF('Data PAH'!X12=\"\",\"\",IF(ISNUMBER('Data PAH'!X12)=TRUE, IF('Data PAH'!X12<'Data PAH'!X$38, \"ERROR\", 'Data PAH'!X12/1000), IF('Data PAH'!X12=\"<LOD\",'Data PAH'!X$38/1000, \"ERROR\")))","v":""},{"$f":"IF('Data PAH'!Y12=\"\",\"\",IF(ISNUMBER('Data PAH'!Y12)=TRUE, IF('Data PAH'!Y12<'Data PAH'!Y$38, \"ERROR\", 'Data PAH'!Y12/1000), IF('Data PAH'!Y12=\"<LOD\",'Data PAH'!Y$38/1000, \"ERROR\")))","v":""},{"$f":"IF('Data PAH'!Z12=\"\",\"\",IF(ISNUMBER('Data PAH'!Z12)=TRUE, IF('Data PAH'!Z12<'Data PAH'!Z$38, \"ERROR\", 'Data PAH'!Z12/1000), IF('Data PAH'!Z12=\"<LOD\",'Data PAH'!Z$38/1000, \"ERROR\")))","v":""},{"$f":"IF('Data PAH'!AA12=\"\",\"\",IF(ISNUMBER('Data PAH'!AA12)=TRUE, IF('Data PAH'!AA12<'Data PAH'!AA$38, \"ERROR\", 'Data PAH'!AA12/1000), IF('Data PAH'!AA12=\"<LOD\",'Data PAH'!AA$38/1000, \"ERROR\")))","v":""},{"$f":"IF('Data PAH'!AB12=\"\",\"\",IF(ISNUMBER('Data PAH'!AB12)=TRUE, IF('Data PAH'!AB12<'Data PAH'!AB$38, \"ERROR\", 'Data PAH'!AB12/1000), IF('Data PAH'!AB12=\"<LOD\",'Data PAH'!AB$38/1000, \"ERROR\")))","v":""},{"$f":"IF('Data PAH'!AC12=\"\",\"\",IF(ISNUMBER('Data PAH'!AC12)=TRUE, IF('Data PAH'!AC12<'Data PAH'!AC$38, \"ERROR\", 'Data PAH'!AC12/1000), IF('Data PAH'!AC12=\"<LOD\",'Data PAH'!AC$38/1000, \"ERROR\")))","v":""},{"$f":"IF('Data PAH'!AD12=\"\",\"\",IF(ISNUMBER('Data PAH'!AD12)=TRUE, IF('Data PAH'!AD12<'Data PAH'!AD$38, \"ERROR\", 'Data PAH'!AD12/1000), IF('Data PAH'!AD12=\"<LOD\",'Data PAH'!AD$38/1000, \"ERROR\")))","v":""},{"$f":"IF('Data PAH'!AE12=\"\",\"\",IF(ISNUMBER('Data PAH'!AE12)=TRUE, IF('Data PAH'!AE12<'Data PAH'!AE$38, \"ERROR\", 'Data PAH'!AE12/1000), IF('Data PAH'!AE12=\"<LOD\",'Data PAH'!AE$38/1000, \"ERROR\")))","v":""},{"$f":"IF('Data PAH'!AF12=\"\",\"\",IF(ISNUMBER('Data PAH'!AF12)=TRUE, IF('Data PAH'!AF12<'Data PAH'!AF$38, \"ERROR\", 'Data PAH'!AF12/1000), IF('Data PAH'!AF12=\"<LOD\",'Data PAH'!AF$38/1000, \"ERROR\")))","v":""},{"$f":"IF('Data PAH'!AG12=\"\",\"\",IF(ISNUMBER('Data PAH'!AG12)=TRUE, IF('Data PAH'!AG12<'Data PAH'!AG$38, \"ERROR\", 'Data PAH'!AG12), IF('Data PAH'!AG12=\"<LOD\",'Data PAH'!AG$38, \"ERROR\")))","v":""}]
[null,null,"Date of analysis:",{"$f":"IF('Data PAH'!D19=\"\",\"\",'Data PAH'!D19)","v":""},null,null,null,{"$f":"IF('Data PAH'!H13=\"\",\"\",'Data PAH'!H13)","v":""},{"$f":"IF('Data PAH'!I13=\"\",\"\",'Data PAH'!I13)","v":""},{"$f":"IFERROR(IF(K13=\"\",\"\",(IF(VLOOKUP(K13,'Gwybodaeth ymgeiswyr'!$K$8:$L$37,2,0)=\"y\",\"y\",\"\"))),\"Manual entry required\")","v":""},{"$f":"IF('Data PAH'!J13=\"\",\"\",'Data PAH'!J13)","v":""},{"$f":"IF('Data PAH'!K13=\"\",\"\",IF(ISNUMBER('Data PAH'!K13)=TRUE, IF('Data PAH'!K13<'Data PAH'!K$38, \"ERROR\", 'Data PAH'!K13/1000), IF('Data PAH'!K13=\"<LOD\",'Data PAH'!K$38/1000, \"ERROR\")))","v":""},{"$f":"IF('Data PAH'!L13=\"\",\"\",IF(ISNUMBER('Data PAH'!L13)=TRUE, IF('Data PAH'!L13<'Data PAH'!L$38, \"ERROR\", 'Data PAH'!L13/1000), IF('Data PAH'!L13=\"<LOD\",'Data PAH'!L$38/1000, \"ERROR\")))","v":""},{"$f":"IF('Data PAH'!M13=\"\",\"\",IF(ISNUMBER('Data PAH'!M13)=TRUE, IF('Data PAH'!M13<'Data PAH'!M$38, \"ERROR\", 'Data PAH'!M13/1000), IF('Data PAH'!M13=\"<LOD\",'Data PAH'!M$38/1000, \"ERROR\")))","v":""},{"$f":"IF('Data PAH'!N13=\"\",\"\",IF(ISNUMBER('Data PAH'!N13)=TRUE, IF('Data PAH'!N13<'Data PAH'!N$38, \"ERROR\", 'Data PAH'!N13/1000), IF('Data PAH'!N13=\"<LOD\",'Data PAH'!N$38/1000, \"ERROR\")))","v":""},{"$f":"IF('Data PAH'!O13=\"\",\"\",IF(ISNUMBER('Data PAH'!O13)=TRUE, IF('Data PAH'!O13<'Data PAH'!O$38, \"ERROR\", 'Data PAH'!O13/1000), IF('Data PAH'!O13=\"<LOD\",'Data PAH'!O$38/1000, \"ERROR\")))","v":""},{"$f":"IF('Data PAH'!P13=\"\",\"\",IF(ISNUMBER('Data PAH'!P13)=TRUE, IF('Data PAH'!P13<'Data PAH'!P$38, \"ERROR\", 'Data PAH'!P13/1000), IF('Data PAH'!P13=\"<LOD\",'Data PAH'!P$38/1000, \"ERROR\")))","v":""},{"$f":"IF('Data PAH'!Q13=\"\",\"\",IF(ISNUMBER('Data PAH'!Q13)=TRUE, IF('Data PAH'!Q13<'Data PAH'!Q$38, \"ERROR\", 'Data PAH'!Q13/1000), IF('Data PAH'!Q13=\"<LOD\",'Data PAH'!Q$38/1000, \"ERROR\")))","v":""},{"$f":"IF('Data PAH'!R13=\"\",\"\",IF(ISNUMBER('Data PAH'!R13)=TRUE, IF('Data PAH'!R13<'Data PAH'!R$38, \"ERROR\", 'Data PAH'!R13/1000), IF('Data PAH'!R13=\"<LOD\",'Data PAH'!R$38/1000, \"ERROR\")))","v":""},{"$f":"IF('Data PAH'!S13=\"\",\"\",IF(ISNUMBER('Data PAH'!S13)=TRUE, IF('Data PAH'!S13<'Data PAH'!S$38, \"ERROR\", 'Data PAH'!S13/1000), IF('Data PAH'!S13=\"<LOD\",'Data PAH'!S$38/1000, \"ERROR\")))","v":""},{"$f":"IF('Data PAH'!T13=\"\",\"\",IF(ISNUMBER('Data PAH'!T13)=TRUE, IF('Data PAH'!T13<'Data PAH'!T$38, \"ERROR\", 'Data PAH'!T13/1000), IF('Data PAH'!T13=\"<LOD\",'Data PAH'!T$38/1000, \"ERROR\")))","v":""},{"$f":"IF('Data PAH'!U13=\"\",\"\",IF(ISNUMBER('Data PAH'!U13)=TRUE, IF('Data PAH'!U13<'Data PAH'!U$38, \"ERROR\", 'Data PAH'!U13/1000), IF('Data PAH'!U13=\"<LOD\",'Data PAH'!U$38/1000, \"ERROR\")))","v":""},{"$f":"IF('Data PAH'!V13=\"\",\"\",IF(ISNUMBER('Data PAH'!V13)=TRUE, IF('Data PAH'!V13<'Data PAH'!V$38, \"ERROR\", 'Data PAH'!V13/1000), IF('Data PAH'!V13=\"<LOD\",'Data PAH'!V$38/1000, \"ERROR\")))","v":""},{"$f":"IF('Data PAH'!W13=\"\",\"\",IF(ISNUMBER('Data PAH'!W13)=TRUE, IF('Data PAH'!W13<'Data PAH'!W$38, \"ERROR\", 'Data PAH'!W13/1000), IF('Data PAH'!W13=\"<LOD\",'Data PAH'!W$38/1000, \"ERROR\")))","v":""},{"$f":"IF('Data PAH'!X13=\"\",\"\",IF(ISNUMBER('Data PAH'!X13)=TRUE, IF('Data PAH'!X13<'Data PAH'!X$38, \"ERROR\", 'Data PAH'!X13/1000), IF('Data PAH'!X13=\"<LOD\",'Data PAH'!X$38/1000, \"ERROR\")))","v":""},{"$f":"IF('Data PAH'!Y13=\"\",\"\",IF(ISNUMBER('Data PAH'!Y13)=TRUE, IF('Data PAH'!Y13<'Data PAH'!Y$38, \"ERROR\", 'Data PAH'!Y13/1000), IF('Data PAH'!Y13=\"<LOD\",'Data PAH'!Y$38/1000, \"ERROR\")))","v":""},{"$f":"IF('Data PAH'!Z13=\"\",\"\",IF(ISNUMBER('Data PAH'!Z13)=TRUE, IF('Data PAH'!Z13<'Data PAH'!Z$38, \"ERROR\", 'Data PAH'!Z13/1000), IF('Data PAH'!Z13=\"<LOD\",'Data PAH'!Z$38/1000, \"ERROR\")))","v":""},{"$f":"IF('Data PAH'!AA13=\"\",\"\",IF(ISNUMBER('Data PAH'!AA13)=TRUE, IF('Data PAH'!AA13<'Data PAH'!AA$38, \"ERROR\", 'Data PAH'!AA13/1000), IF('Data PAH'!AA13=\"<LOD\",'Data PAH'!AA$38/1000, \"ERROR\")))","v":""},{"$f":"IF('Data PAH'!AB13=\"\",\"\",IF(ISNUMBER('Data PAH'!AB13)=TRUE, IF('Data PAH'!AB13<'Data PAH'!AB$38, \"ERROR\", 'Data PAH'!AB13/1000), IF('Data PAH'!AB13=\"<LOD\",'Data PAH'!AB$38/1000, \"ERROR\")))","v":""},{"$f":"IF('Data PAH'!AC13=\"\",\"\",IF(ISNUMBER('Data PAH'!AC13)=TRUE, IF('Data PAH'!AC13<'Data PAH'!AC$38, \"ERROR\", 'Data PAH'!AC13/1000), IF('Data PAH'!AC13=\"<LOD\",'Data PAH'!AC$38/1000, \"ERROR\")))","v":""},{"$f":"IF('Data PAH'!AD13=\"\",\"\",IF(ISNUMBER('Data PAH'!AD13)=TRUE, IF('Data PAH'!AD13<'Data PAH'!AD$38, \"ERROR\", 'Data PAH'!AD13/1000), IF('Data PAH'!AD13=\"<LOD\",'Data PAH'!AD$38/1000, \"ERROR\")))","v":""},{"$f":"IF('Data PAH'!AE13=\"\",\"\",IF(ISNUMBER('Data PAH'!AE13)=TRUE, IF('Data PAH'!AE13<'Data PAH'!AE$38, \"ERROR\", 'Data PAH'!AE13/1000), IF('Data PAH'!AE13=\"<LOD\",'Data PAH'!AE$38/1000, \"ERROR\")))","v":""},{"$f":"IF('Data PAH'!AF13=\"\",\"\",IF(ISNUMBER('Data PAH'!AF13)=TRUE, IF('Data PAH'!AF13<'Data PAH'!AF$38, \"ERROR\", 'Data PAH'!AF13/1000), IF('Data PAH'!AF13=\"<LOD\",'Data PAH'!AF$38/1000, \"ERROR\")))","v":""},{"$f":"IF('Data PAH'!AG13=\"\",\"\",IF(ISNUMBER('Data PAH'!AG13)=TRUE, IF('Data PAH'!AG13<'Data PAH'!AG$38, \"ERROR\", 'Data PAH'!AG13), IF('Data PAH'!AG13=\"<LOD\",'Data PAH'!AG$38, \"ERROR\")))","v":""}]
[null,null,null,null,null,null,null,{"$f":"IF('Data PAH'!H14=\"\",\"\",'Data PAH'!H14)","v":""},{"$f":"IF('Data PAH'!I14=\"\",\"\",'Data PAH'!I14)","v":""},{"$f":"IFERROR(IF(K14=\"\",\"\",(IF(VLOOKUP(K14,'Gwybodaeth ymgeiswyr'!$K$8:$L$37,2,0)=\"y\",\"y\",\"\"))),\"Manual entry required\")","v":""},{"$f":"IF('Data PAH'!J14=\"\",\"\",'Data PAH'!J14)","v":""},{"$f":"IF('Data PAH'!K14=\"\",\"\",IF(ISNUMBER('Data PAH'!K14)=TRUE, IF('Data PAH'!K14<'Data PAH'!K$38, \"ERROR\", 'Data PAH'!K14/1000), IF('Data PAH'!K14=\"<LOD\",'Data PAH'!K$38/1000, \"ERROR\")))","v":""},{"$f":"IF('Data PAH'!L14=\"\",\"\",IF(ISNUMBER('Data PAH'!L14)=TRUE, IF('Data PAH'!L14<'Data PAH'!L$38, \"ERROR\", 'Data PAH'!L14/1000), IF('Data PAH'!L14=\"<LOD\",'Data PAH'!L$38/1000, \"ERROR\")))","v":""},{"$f":"IF('Data PAH'!M14=\"\",\"\",IF(ISNUMBER('Data PAH'!M14)=TRUE, IF('Data PAH'!M14<'Data PAH'!M$38, \"ERROR\", 'Data PAH'!M14/1000), IF('Data PAH'!M14=\"<LOD\",'Data PAH'!M$38/1000, \"ERROR\")))","v":""},{"$f":"IF('Data PAH'!N14=\"\",\"\",IF(ISNUMBER('Data PAH'!N14)=TRUE, IF('Data PAH'!N14<'Data PAH'!N$38, \"ERROR\", 'Data PAH'!N14/1000), IF('Data PAH'!N14=\"<LOD\",'Data PAH'!N$38/1000, \"ERROR\")))","v":""},{"$f":"IF('Data PAH'!O14=\"\",\"\",IF(ISNUMBER('Data PAH'!O14)=TRUE, IF('Data PAH'!O14<'Data PAH'!O$38, \"ERROR\", 'Data PAH'!O14/1000), IF('Data PAH'!O14=\"<LOD\",'Data PAH'!O$38/1000, \"ERROR\")))","v":""},{"$f":"IF('Data PAH'!P14=\"\",\"\",IF(ISNUMBER('Data PAH'!P14)=TRUE, IF('Data PAH'!P14<'Data PAH'!P$38, \"ERROR\", 'Data PAH'!P14/1000), IF('Data PAH'!P14=\"<LOD\",'Data PAH'!P$38/1000, \"ERROR\")))","v":""},{"$f":"IF('Data PAH'!Q14=\"\",\"\",IF(ISNUMBER('Data PAH'!Q14)=TRUE, IF('Data PAH'!Q14<'Data PAH'!Q$38, \"ERROR\", 'Data PAH'!Q14/1000), IF('Data PAH'!Q14=\"<LOD\",'Data PAH'!Q$38/1000, \"ERROR\")))","v":""},{"$f":"IF('Data PAH'!R14=\"\",\"\",IF(ISNUMBER('Data PAH'!R14)=TRUE, IF('Data PAH'!R14<'Data PAH'!R$38, \"ERROR\", 'Data PAH'!R14/1000), IF('Data PAH'!R14=\"<LOD\",'Data PAH'!R$38/1000, \"ERROR\")))","v":""},{"$f":"IF('Data PAH'!S14=\"\",\"\",IF(ISNUMBER('Data PAH'!S14)=TRUE, IF('Data PAH'!S14<'Data PAH'!S$38, \"ERROR\", 'Data PAH'!S14/1000), IF('Data PAH'!S14=\"<LOD\",'Data PAH'!S$38/1000, \"ERROR\")))","v":""},{"$f":"IF('Data PAH'!T14=\"\",\"\",IF(ISNUMBER('Data PAH'!T14)=TRUE, IF('Data PAH'!T14<'Data PAH'!T$38, \"ERROR\", 'Data PAH'!T14/1000), IF('Data PAH'!T14=\"<LOD\",'Data PAH'!T$38/1000, \"ERROR\")))","v":""},{"$f":"IF('Data PAH'!U14=\"\",\"\",IF(ISNUMBER('Data PAH'!U14)=TRUE, IF('Data PAH'!U14<'Data PAH'!U$38, \"ERROR\", 'Data PAH'!U14/1000), IF('Data PAH'!U14=\"<LOD\",'Data PAH'!U$38/1000, \"ERROR\")))","v":""},{"$f":"IF('Data PAH'!V14=\"\",\"\",IF(ISNUMBER('Data PAH'!V14)=TRUE, IF('Data PAH'!V14<'Data PAH'!V$38, \"ERROR\", 'Data PAH'!V14/1000), IF('Data PAH'!V14=\"<LOD\",'Data PAH'!V$38/1000, \"ERROR\")))","v":""},{"$f":"IF('Data PAH'!W14=\"\",\"\",IF(ISNUMBER('Data PAH'!W14)=TRUE, IF('Data PAH'!W14<'Data PAH'!W$38, \"ERROR\", 'Data PAH'!W14/1000), IF('Data PAH'!W14=\"<LOD\",'Data PAH'!W$38/1000, \"ERROR\")))","v":""},{"$f":"IF('Data PAH'!X14=\"\",\"\",IF(ISNUMBER('Data PAH'!X14)=TRUE, IF('Data PAH'!X14<'Data PAH'!X$38, \"ERROR\", 'Data PAH'!X14/1000), IF('Data PAH'!X14=\"<LOD\",'Data PAH'!X$38/1000, \"ERROR\")))","v":""},{"$f":"IF('Data PAH'!Y14=\"\",\"\",IF(ISNUMBER('Data PAH'!Y14)=TRUE, IF('Data PAH'!Y14<'Data PAH'!Y$38, \"ERROR\", 'Data PAH'!Y14/1000), IF('Data PAH'!Y14=\"<LOD\",'Data PAH'!Y$38/1000, \"ERROR\")))","v":""},{"$f":"IF('Data PAH'!Z14=\"\",\"\",IF(ISNUMBER('Data PAH'!Z14)=TRUE, IF('Data PAH'!Z14<'Data PAH'!Z$38, \"ERROR\", 'Data PAH'!Z14/1000), IF('Data PAH'!Z14=\"<LOD\",'Data PAH'!Z$38/1000, \"ERROR\")))","v":""},{"$f":"IF('Data PAH'!AA14=\"\",\"\",IF(ISNUMBER('Data PAH'!AA14)=TRUE, IF('Data PAH'!AA14<'Data PAH'!AA$38, \"ERROR\", 'Data PAH'!AA14/1000), IF('Data PAH'!AA14=\"<LOD\",'Data PAH'!AA$38/1000, \"ERROR\")))","v":""},{"$f":"IF('Data PAH'!AB14=\"\",\"\",IF(ISNUMBER('Data PAH'!AB14)=TRUE, IF('Data PAH'!AB14<'Data PAH'!AB$38, \"ERROR\", 'Data PAH'!AB14/1000), IF('Data PAH'!AB14=\"<LOD\",'Data PAH'!AB$38/1000, \"ERROR\")))","v":""},{"$f":"IF('Data PAH'!AC14=\"\",\"\",IF(ISNUMBER('Data PAH'!AC14)=TRUE, IF('Data PAH'!AC14<'Data PAH'!AC$38, \"ERROR\", 'Data PAH'!AC14/1000), IF('Data PAH'!AC14=\"<LOD\",'Data PAH'!AC$38/1000, \"ERROR\")))","v":""},{"$f":"IF('Data PAH'!AD14=\"\",\"\",IF(ISNUMBER('Data PAH'!AD14)=TRUE, IF('Data PAH'!AD14<'Data PAH'!AD$38, \"ERROR\", 'Data PAH'!AD14/1000), IF('Data PAH'!AD14=\"<LOD\",'Data PAH'!AD$38/1000, \"ERROR\")))","v":""},{"$f":"IF('Data PAH'!AE14=\"\",\"\",IF(ISNUMBER('Data PAH'!AE14)=TRUE, IF('Data PAH'!AE14<'Data PAH'!AE$38, \"ERROR\", 'Data PAH'!AE14/1000), IF('Data PAH'!AE14=\"<LOD\",'Data PAH'!AE$38/1000, \"ERROR\")))","v":""},{"$f":"IF('Data PAH'!AF14=\"\",\"\",IF(ISNUMBER('Data PAH'!AF14)=TRUE, IF('Data PAH'!AF14<'Data PAH'!AF$38, \"ERROR\", 'Data PAH'!AF14/1000), IF('Data PAH'!AF14=\"<LOD\",'Data PAH'!AF$38/1000, \"ERROR\")))","v":""},{"$f":"IF('Data PAH'!AG14=\"\",\"\",IF(ISNUMBER('Data PAH'!AG14)=TRUE, IF('Data PAH'!AG14<'Data PAH'!AG$38, \"ERROR\", 'Data PAH'!AG14), IF('Data PAH'!AG14=\"<LOD\",'Data PAH'!AG$38, \"ERROR\")))","v":""}]
[null,null,null,null,null,null,null,{"$f":"IF('Data PAH'!H15=\"\",\"\",'Data PAH'!H15)","v":""},{"$f":"IF('Data PAH'!I15=\"\",\"\",'Data PAH'!I15)","v":""},{"$f":"IFERROR(IF(K15=\"\",\"\",(IF(VLOOKUP(K15,'Gwybodaeth ymgeiswyr'!$K$8:$L$37,2,0)=\"y\",\"y\",\"\"))),\"Manual entry required\")","v":""},{"$f":"IF('Data PAH'!J15=\"\",\"\",'Data PAH'!J15)","v":""},{"$f":"IF('Data PAH'!K15=\"\",\"\",IF(ISNUMBER('Data PAH'!K15)=TRUE, IF('Data PAH'!K15<'Data PAH'!K$38, \"ERROR\", 'Data PAH'!K15/1000), IF('Data PAH'!K15=\"<LOD\",'Data PAH'!K$38/1000, \"ERROR\")))","v":""},{"$f":"IF('Data PAH'!L15=\"\",\"\",IF(ISNUMBER('Data PAH'!L15)=TRUE, IF('Data PAH'!L15<'Data PAH'!L$38, \"ERROR\", 'Data PAH'!L15/1000), IF('Data PAH'!L15=\"<LOD\",'Data PAH'!L$38/1000, \"ERROR\")))","v":""},{"$f":"IF('Data PAH'!M15=\"\",\"\",IF(ISNUMBER('Data PAH'!M15)=TRUE, IF('Data PAH'!M15<'Data PAH'!M$38, \"ERROR\", 'Data PAH'!M15/1000), IF('Data PAH'!M15=\"<LOD\",'Data PAH'!M$38/1000, \"ERROR\")))","v":""},{"$f":"IF('Data PAH'!N15=\"\",\"\",IF(ISNUMBER('Data PAH'!N15)=TRUE, IF('Data PAH'!N15<'Data PAH'!N$38, \"ERROR\", 'Data PAH'!N15/1000), IF('Data PAH'!N15=\"<LOD\",'Data PAH'!N$38/1000, \"ERROR\")))","v":""},{"$f":"IF('Data PAH'!O15=\"\",\"\",IF(ISNUMBER('Data PAH'!O15)=TRUE, IF('Data PAH'!O15<'Data PAH'!O$38, \"ERROR\", 'Data PAH'!O15/1000), IF('Data PAH'!O15=\"<LOD\",'Data PAH'!O$38/1000, \"ERROR\")))","v":""},{"$f":"IF('Data PAH'!P15=\"\",\"\",IF(ISNUMBER('Data PAH'!P15)=TRUE, IF('Data PAH'!P15<'Data PAH'!P$38, \"ERROR\", 'Data PAH'!P15/1000), IF('Data PAH'!P15=\"<LOD\",'Data PAH'!P$38/1000, \"ERROR\")))","v":""},{"$f":"IF('Data PAH'!Q15=\"\",\"\",IF(ISNUMBER('Data PAH'!Q15)=TRUE, IF('Data PAH'!Q15<'Data PAH'!Q$38, \"ERROR\", 'Data PAH'!Q15/1000), IF('Data PAH'!Q15=\"<LOD\",'Data PAH'!Q$38/1000, \"ERROR\")))","v":""},{"$f":"IF('Data PAH'!R15=\"\",\"\",IF(ISNUMBER('Data PAH'!R15)=TRUE, IF('Data PAH'!R15<'Data PAH'!R$38, \"ERROR\", 'Data PAH'!R15/1000), IF('Data PAH'!R15=\"<LOD\",'Data PAH'!R$38/1000, \"ERROR\")))","v":""},{"$f":"IF('Data PAH'!S15=\"\",\"\",IF(ISNUMBER('Data PAH'!S15)=TRUE, IF('Data PAH'!S15<'Data PAH'!S$38, \"ERROR\", 'Data PAH'!S15/1000), IF('Data PAH'!S15=\"<LOD\",'Data PAH'!S$38/1000, \"ERROR\")))","v":""},{"$f":"IF('Data PAH'!T15=\"\",\"\",IF(ISNUMBER('Data PAH'!T15)=TRUE, IF('Data PAH'!T15<'Data PAH'!T$38, \"ERROR\", 'Data PAH'!T15/1000), IF('Data PAH'!T15=\"<LOD\",'Data PAH'!T$38/1000, \"ERROR\")))","v":""},{"$f":"IF('Data PAH'!U15=\"\",\"\",IF(ISNUMBER('Data PAH'!U15)=TRUE, IF('Data PAH'!U15<'Data PAH'!U$38, \"ERROR\", 'Data PAH'!U15/1000), IF('Data PAH'!U15=\"<LOD\",'Data PAH'!U$38/1000, \"ERROR\")))","v":""},{"$f":"IF('Data PAH'!V15=\"\",\"\",IF(ISNUMBER('Data PAH'!V15)=TRUE, IF('Data PAH'!V15<'Data PAH'!V$38, \"ERROR\", 'Data PAH'!V15/1000), IF('Data PAH'!V15=\"<LOD\",'Data PAH'!V$38/1000, \"ERROR\")))","v":""},{"$f":"IF('Data PAH'!W15=\"\",\"\",IF(ISNUMBER('Data PAH'!W15)=TRUE, IF('Data PAH'!W15<'Data PAH'!W$38, \"ERROR\", 'Data PAH'!W15/1000), IF('Data PAH'!W15=\"<LOD\",'Data PAH'!W$38/1000, \"ERROR\")))","v":""},{"$f":"IF('Data PAH'!X15=\"\",\"\",IF(ISNUMBER('Data PAH'!X15)=TRUE, IF('Data PAH'!X15<'Data PAH'!X$38, \"ERROR\", 'Data PAH'!X15/1000), IF('Data PAH'!X15=\"<LOD\",'Data PAH'!X$38/1000, \"ERROR\")))","v":""},{"$f":"IF('Data PAH'!Y15=\"\",\"\",IF(ISNUMBER('Data PAH'!Y15)=TRUE, IF('Data PAH'!Y15<'Data PAH'!Y$38, \"ERROR\", 'Data PAH'!Y15/1000), IF('Data PAH'!Y15=\"<LOD\",'Data PAH'!Y$38/1000, \"ERROR\")))","v":""},{"$f":"IF('Data PAH'!Z15=\"\",\"\",IF(ISNUMBER('Data PAH'!Z15)=TRUE, IF('Data PAH'!Z15<'Data PAH'!Z$38, \"ERROR\", 'Data PAH'!Z15/1000), IF('Data PAH'!Z15=\"<LOD\",'Data PAH'!Z$38/1000, \"ERROR\")))","v":""},{"$f":"IF('Data PAH'!AA15=\"\",\"\",IF(ISNUMBER('Data PAH'!AA15)=TRUE, IF('Data PAH'!AA15<'Data PAH'!AA$38, \"ERROR\", 'Data PAH'!AA15/1000), IF('Data PAH'!AA15=\"<LOD\",'Data PAH'!AA$38/1000, \"ERROR\")))","v":""},{"$f":"IF('Data PAH'!AB15=\"\",\"\",IF(ISNUMBER('Data PAH'!AB15)=TRUE, IF('Data PAH'!AB15<'Data PAH'!AB$38, \"ERROR\", 'Data PAH'!AB15/1000), IF('Data PAH'!AB15=\"<LOD\",'Data PAH'!AB$38/1000, \"ERROR\")))","v":""},{"$f":"IF('Data PAH'!AC15=\"\",\"\",IF(ISNUMBER('Data PAH'!AC15)=TRUE, IF('Data PAH'!AC15<'Data PAH'!AC$38, \"ERROR\", 'Data PAH'!AC15/1000), IF('Data PAH'!AC15=\"<LOD\",'Data PAH'!AC$38/1000, \"ERROR\")))","v":""},{"$f":"IF('Data PAH'!AD15=\"\",\"\",IF(ISNUMBER('Data PAH'!AD15)=TRUE, IF('Data PAH'!AD15<'Data PAH'!AD$38, \"ERROR\", 'Data PAH'!AD15/1000), IF('Data PAH'!AD15=\"<LOD\",'Data PAH'!AD$38/1000, \"ERROR\")))","v":""},{"$f":"IF('Data PAH'!AE15=\"\",\"\",IF(ISNUMBER('Data PAH'!AE15)=TRUE, IF('Data PAH'!AE15<'Data PAH'!AE$38, \"ERROR\", 'Data PAH'!AE15/1000), IF('Data PAH'!AE15=\"<LOD\",'Data PAH'!AE$38/1000, \"ERROR\")))","v":""},{"$f":"IF('Data PAH'!AF15=\"\",\"\",IF(ISNUMBER('Data PAH'!AF15)=TRUE, IF('Data PAH'!AF15<'Data PAH'!AF$38, \"ERROR\", 'Data PAH'!AF15/1000), IF('Data PAH'!AF15=\"<LOD\",'Data PAH'!AF$38/1000, \"ERROR\")))","v":""},{"$f":"IF('Data PAH'!AG15=\"\",\"\",IF(ISNUMBER('Data PAH'!AG15)=TRUE, IF('Data PAH'!AG15<'Data PAH'!AG$38, \"ERROR\", 'Data PAH'!AG15), IF('Data PAH'!AG15=\"<LOD\",'Data PAH'!AG$38, \"ERROR\")))","v":""}]
[null,null,null,null,null,null,null,{"$f":"IF('Data PAH'!H16=\"\",\"\",'Data PAH'!H16)","v":""},{"$f":"IF('Data PAH'!I16=\"\",\"\",'Data PAH'!I16)","v":""},{"$f":"IFERROR(IF(K16=\"\",\"\",(IF(VLOOKUP(K16,'Gwybodaeth ymgeiswyr'!$K$8:$L$37,2,0)=\"y\",\"y\",\"\"))),\"Manual entry required\")","v":""},{"$f":"IF('Data PAH'!J16=\"\",\"\",'Data PAH'!J16)","v":""},{"$f":"IF('Data PAH'!K16=\"\",\"\",IF(ISNUMBER('Data PAH'!K16)=TRUE, IF('Data PAH'!K16<'Data PAH'!K$38, \"ERROR\", 'Data PAH'!K16/1000), IF('Data PAH'!K16=\"<LOD\",'Data PAH'!K$38/1000, \"ERROR\")))","v":""},{"$f":"IF('Data PAH'!L16=\"\",\"\",IF(ISNUMBER('Data PAH'!L16)=TRUE, IF('Data PAH'!L16<'Data PAH'!L$38, \"ERROR\", 'Data PAH'!L16/1000), IF('Data PAH'!L16=\"<LOD\",'Data PAH'!L$38/1000, \"ERROR\")))","v":""},{"$f":"IF('Data PAH'!M16=\"\",\"\",IF(ISNUMBER('Data PAH'!M16)=TRUE, IF('Data PAH'!M16<'Data PAH'!M$38, \"ERROR\", 'Data PAH'!M16/1000), IF('Data PAH'!M16=\"<LOD\",'Data PAH'!M$38/1000, \"ERROR\")))","v":""},{"$f":"IF('Data PAH'!N16=\"\",\"\",IF(ISNUMBER('Data PAH'!N16)=TRUE, IF('Data PAH'!N16<'Data PAH'!N$38, \"ERROR\", 'Data PAH'!N16/1000), IF('Data PAH'!N16=\"<LOD\",'Data PAH'!N$38/1000, \"ERROR\")))","v":""},{"$f":"IF('Data PAH'!O16=\"\",\"\",IF(ISNUMBER('Data PAH'!O16)=TRUE, IF('Data PAH'!O16<'Data PAH'!O$38, \"ERROR\", 'Data PAH'!O16/1000), IF('Data PAH'!O16=\"<LOD\",'Data PAH'!O$38/1000, \"ERROR\")))","v":""},{"$f":"IF('Data PAH'!P16=\"\",\"\",IF(ISNUMBER('Data PAH'!P16)=TRUE, IF('Data PAH'!P16<'Data PAH'!P$38, \"ERROR\", 'Data PAH'!P16/1000), IF('Data PAH'!P16=\"<LOD\",'Data PAH'!P$38/1000, \"ERROR\")))","v":""},{"$f":"IF('Data PAH'!Q16=\"\",\"\",IF(ISNUMBER('Data PAH'!Q16)=TRUE, IF('Data PAH'!Q16<'Data PAH'!Q$38, \"ERROR\", 'Data PAH'!Q16/1000), IF('Data PAH'!Q16=\"<LOD\",'Data PAH'!Q$38/1000, \"ERROR\")))","v":""},{"$f":"IF('Data PAH'!R16=\"\",\"\",IF(ISNUMBER('Data PAH'!R16)=TRUE, IF('Data PAH'!R16<'Data PAH'!R$38, \"ERROR\", 'Data PAH'!R16/1000), IF('Data PAH'!R16=\"<LOD\",'Data PAH'!R$38/1000, \"ERROR\")))","v":""},{"$f":"IF('Data PAH'!S16=\"\",\"\",IF(ISNUMBER('Data PAH'!S16)=TRUE, IF('Data PAH'!S16<'Data PAH'!S$38, \"ERROR\", 'Data PAH'!S16/1000), IF('Data PAH'!S16=\"<LOD\",'Data PAH'!S$38/1000, \"ERROR\")))","v":""},{"$f":"IF('Data PAH'!T16=\"\",\"\",IF(ISNUMBER('Data PAH'!T16)=TRUE, IF('Data PAH'!T16<'Data PAH'!T$38, \"ERROR\", 'Data PAH'!T16/1000), IF('Data PAH'!T16=\"<LOD\",'Data PAH'!T$38/1000, \"ERROR\")))","v":""},{"$f":"IF('Data PAH'!U16=\"\",\"\",IF(ISNUMBER('Data PAH'!U16)=TRUE, IF('Data PAH'!U16<'Data PAH'!U$38, \"ERROR\", 'Data PAH'!U16/1000), IF('Data PAH'!U16=\"<LOD\",'Data PAH'!U$38/1000, \"ERROR\")))","v":""},{"$f":"IF('Data PAH'!V16=\"\",\"\",IF(ISNUMBER('Data PAH'!V16)=TRUE, IF('Data PAH'!V16<'Data PAH'!V$38, \"ERROR\", 'Data PAH'!V16/1000), IF('Data PAH'!V16=\"<LOD\",'Data PAH'!V$38/1000, \"ERROR\")))","v":""},{"$f":"IF('Data PAH'!W16=\"\",\"\",IF(ISNUMBER('Data PAH'!W16)=TRUE, IF('Data PAH'!W16<'Data PAH'!W$38, \"ERROR\", 'Data PAH'!W16/1000), IF('Data PAH'!W16=\"<LOD\",'Data PAH'!W$38/1000, \"ERROR\")))","v":""},{"$f":"IF('Data PAH'!X16=\"\",\"\",IF(ISNUMBER('Data PAH'!X16)=TRUE, IF('Data PAH'!X16<'Data PAH'!X$38, \"ERROR\", 'Data PAH'!X16/1000), IF('Data PAH'!X16=\"<LOD\",'Data PAH'!X$38/1000, \"ERROR\")))","v":""},{"$f":"IF('Data PAH'!Y16=\"\",\"\",IF(ISNUMBER('Data PAH'!Y16)=TRUE, IF('Data PAH'!Y16<'Data PAH'!Y$38, \"ERROR\", 'Data PAH'!Y16/1000), IF('Data PAH'!Y16=\"<LOD\",'Data PAH'!Y$38/1000, \"ERROR\")))","v":""},{"$f":"IF('Data PAH'!Z16=\"\",\"\",IF(ISNUMBER('Data PAH'!Z16)=TRUE, IF('Data PAH'!Z16<'Data PAH'!Z$38, \"ERROR\", 'Data PAH'!Z16/1000), IF('Data PAH'!Z16=\"<LOD\",'Data PAH'!Z$38/1000, \"ERROR\")))","v":""},{"$f":"IF('Data PAH'!AA16=\"\",\"\",IF(ISNUMBER('Data PAH'!AA16)=TRUE, IF('Data PAH'!AA16<'Data PAH'!AA$38, \"ERROR\", 'Data PAH'!AA16/1000), IF('Data PAH'!AA16=\"<LOD\",'Data PAH'!AA$38/1000, \"ERROR\")))","v":""},{"$f":"IF('Data PAH'!AB16=\"\",\"\",IF(ISNUMBER('Data PAH'!AB16)=TRUE, IF('Data PAH'!AB16<'Data PAH'!AB$38, \"ERROR\", 'Data PAH'!AB16/1000), IF('Data PAH'!AB16=\"<LOD\",'Data PAH'!AB$38/1000, \"ERROR\")))","v":""},{"$f":"IF('Data PAH'!AC16=\"\",\"\",IF(ISNUMBER('Data PAH'!AC16)=TRUE, IF('Data PAH'!AC16<'Data PAH'!AC$38, \"ERROR\", 'Data PAH'!AC16/1000), IF('Data PAH'!AC16=\"<LOD\",'Data PAH'!AC$38/1000, \"ERROR\")))","v":""},{"$f":"IF('Data PAH'!AD16=\"\",\"\",IF(ISNUMBER('Data PAH'!AD16)=TRUE, IF('Data PAH'!AD16<'Data PAH'!AD$38, \"ERROR\", 'Data PAH'!AD16/1000), IF('Data PAH'!AD16=\"<LOD\",'Data PAH'!AD$38/1000, \"ERROR\")))","v":""},{"$f":"IF('Data PAH'!AE16=\"\",\"\",IF(ISNUMBER('Data PAH'!AE16)=TRUE, IF('Data PAH'!AE16<'Data PAH'!AE$38, \"ERROR\", 'Data PAH'!AE16/1000), IF('Data PAH'!AE16=\"<LOD\",'Data PAH'!AE$38/1000, \"ERROR\")))","v":""},{"$f":"IF('Data PAH'!AF16=\"\",\"\",IF(ISNUMBER('Data PAH'!AF16)=TRUE, IF('Data PAH'!AF16<'Data PAH'!AF$38, \"ERROR\", 'Data PAH'!AF16/1000), IF('Data PAH'!AF16=\"<LOD\",'Data PAH'!AF$38/1000, \"ERROR\")))","v":""},{"$f":"IF('Data PAH'!AG16=\"\",\"\",IF(ISNUMBER('Data PAH'!AG16)=TRUE, IF('Data PAH'!AG16<'Data PAH'!AG$38, \"ERROR\", 'Data PAH'!AG16), IF('Data PAH'!AG16=\"<LOD\",'Data PAH'!AG$38, \"ERROR\")))","v":""}]
[null,null,null,null,null,null,null,{"$f":"IF('Data PAH'!H17=\"\",\"\",'Data PAH'!H17)","v":""},{"$f":"IF('Data PAH'!I17=\"\",\"\",'Data PAH'!I17)","v":""},{"$f":"IFERROR(IF(K17=\"\",\"\",(IF(VLOOKUP(K17,'Gwybodaeth ymgeiswyr'!$K$8:$L$37,2,0)=\"y\",\"y\",\"\"))),\"Manual entry required\")","v":""},{"$f":"IF('Data PAH'!J17=\"\",\"\",'Data PAH'!J17)","v":""},{"$f":"IF('Data PAH'!K17=\"\",\"\",IF(ISNUMBER('Data PAH'!K17)=TRUE, IF('Data PAH'!K17<'Data PAH'!K$38, \"ERROR\", 'Data PAH'!K17/1000), IF('Data PAH'!K17=\"<LOD\",'Data PAH'!K$38/1000, \"ERROR\")))","v":""},{"$f":"IF('Data PAH'!L17=\"\",\"\",IF(ISNUMBER('Data PAH'!L17)=TRUE, IF('Data PAH'!L17<'Data PAH'!L$38, \"ERROR\", 'Data PAH'!L17/1000), IF('Data PAH'!L17=\"<LOD\",'Data PAH'!L$38/1000, \"ERROR\")))","v":""},{"$f":"IF('Data PAH'!M17=\"\",\"\",IF(ISNUMBER('Data PAH'!M17)=TRUE, IF('Data PAH'!M17<'Data PAH'!M$38, \"ERROR\", 'Data PAH'!M17/1000), IF('Data PAH'!M17=\"<LOD\",'Data PAH'!M$38/1000, \"ERROR\")))","v":""},{"$f":"IF('Data PAH'!N17=\"\",\"\",IF(ISNUMBER('Data PAH'!N17)=TRUE, IF('Data PAH'!N17<'Data PAH'!N$38, \"ERROR\", 'Data PAH'!N17/1000), IF('Data PAH'!N17=\"<LOD\",'Data PAH'!N$38/1000, \"ERROR\")))","v":""},{"$f":"IF('Data PAH'!O17=\"\",\"\",IF(ISNUMBER('Data PAH'!O17)=TRUE, IF('Data PAH'!O17<'Data PAH'!O$38, \"ERROR\", 'Data PAH'!O17/1000), IF('Data PAH'!O17=\"<LOD\",'Data PAH'!O$38/1000, \"ERROR\")))","v":""},{"$f":"IF('Data PAH'!P17=\"\",\"\",IF(ISNUMBER('Data PAH'!P17)=TRUE, IF('Data PAH'!P17<'Data PAH'!P$38, \"ERROR\", 'Data PAH'!P17/1000), IF('Data PAH'!P17=\"<LOD\",'Data PAH'!P$38/1000, \"ERROR\")))","v":""},{"$f":"IF('Data PAH'!Q17=\"\",\"\",IF(ISNUMBER('Data PAH'!Q17)=TRUE, IF('Data PAH'!Q17<'Data PAH'!Q$38, \"ERROR\", 'Data PAH'!Q17/1000), IF('Data PAH'!Q17=\"<LOD\",'Data PAH'!Q$38/1000, \"ERROR\")))","v":""},{"$f":"IF('Data PAH'!R17=\"\",\"\",IF(ISNUMBER('Data PAH'!R17)=TRUE, IF('Data PAH'!R17<'Data PAH'!R$38, \"ERROR\", 'Data PAH'!R17/1000), IF('Data PAH'!R17=\"<LOD\",'Data PAH'!R$38/1000, \"ERROR\")))","v":""},{"$f":"IF('Data PAH'!S17=\"\",\"\",IF(ISNUMBER('Data PAH'!S17)=TRUE, IF('Data PAH'!S17<'Data PAH'!S$38, \"ERROR\", 'Data PAH'!S17/1000), IF('Data PAH'!S17=\"<LOD\",'Data PAH'!S$38/1000, \"ERROR\")))","v":""},{"$f":"IF('Data PAH'!T17=\"\",\"\",IF(ISNUMBER('Data PAH'!T17)=TRUE, IF('Data PAH'!T17<'Data PAH'!T$38, \"ERROR\", 'Data PAH'!T17/1000), IF('Data PAH'!T17=\"<LOD\",'Data PAH'!T$38/1000, \"ERROR\")))","v":""},{"$f":"IF('Data PAH'!U17=\"\",\"\",IF(ISNUMBER('Data PAH'!U17)=TRUE, IF('Data PAH'!U17<'Data PAH'!U$38, \"ERROR\", 'Data PAH'!U17/1000), IF('Data PAH'!U17=\"<LOD\",'Data PAH'!U$38/1000, \"ERROR\")))","v":""},{"$f":"IF('Data PAH'!V17=\"\",\"\",IF(ISNUMBER('Data PAH'!V17)=TRUE, IF('Data PAH'!V17<'Data PAH'!V$38, \"ERROR\", 'Data PAH'!V17/1000), IF('Data PAH'!V17=\"<LOD\",'Data PAH'!V$38/1000, \"ERROR\")))","v":""},{"$f":"IF('Data PAH'!W17=\"\",\"\",IF(ISNUMBER('Data PAH'!W17)=TRUE, IF('Data PAH'!W17<'Data PAH'!W$38, \"ERROR\", 'Data PAH'!W17/1000), IF('Data PAH'!W17=\"<LOD\",'Data PAH'!W$38/1000, \"ERROR\")))","v":""},{"$f":"IF('Data PAH'!X17=\"\",\"\",IF(ISNUMBER('Data PAH'!X17)=TRUE, IF('Data PAH'!X17<'Data PAH'!X$38, \"ERROR\", 'Data PAH'!X17/1000), IF('Data PAH'!X17=\"<LOD\",'Data PAH'!X$38/1000, \"ERROR\")))","v":""},{"$f":"IF('Data PAH'!Y17=\"\",\"\",IF(ISNUMBER('Data PAH'!Y17)=TRUE, IF('Data PAH'!Y17<'Data PAH'!Y$38, \"ERROR\", 'Data PAH'!Y17/1000), IF('Data PAH'!Y17=\"<LOD\",'Data PAH'!Y$38/1000, \"ERROR\")))","v":""},{"$f":"IF('Data PAH'!Z17=\"\",\"\",IF(ISNUMBER('Data PAH'!Z17)=TRUE, IF('Data PAH'!Z17<'Data PAH'!Z$38, \"ERROR\", 'Data PAH'!Z17/1000), IF('Data PAH'!Z17=\"<LOD\",'Data PAH'!Z$38/1000, \"ERROR\")))","v":""},{"$f":"IF('Data PAH'!AA17=\"\",\"\",IF(ISNUMBER('Data PAH'!AA17)=TRUE, IF('Data PAH'!AA17<'Data PAH'!AA$38, \"ERROR\", 'Data PAH'!AA17/1000), IF('Data PAH'!AA17=\"<LOD\",'Data PAH'!AA$38/1000, \"ERROR\")))","v":""},{"$f":"IF('Data PAH'!AB17=\"\",\"\",IF(ISNUMBER('Data PAH'!AB17)=TRUE, IF('Data PAH'!AB17<'Data PAH'!AB$38, \"ERROR\", 'Data PAH'!AB17/1000), IF('Data PAH'!AB17=\"<LOD\",'Data PAH'!AB$38/1000, \"ERROR\")))","v":""},{"$f":"IF('Data PAH'!AC17=\"\",\"\",IF(ISNUMBER('Data PAH'!AC17)=TRUE, IF('Data PAH'!AC17<'Data PAH'!AC$38, \"ERROR\", 'Data PAH'!AC17/1000), IF('Data PAH'!AC17=\"<LOD\",'Data PAH'!AC$38/1000, \"ERROR\")))","v":""},{"$f":"IF('Data PAH'!AD17=\"\",\"\",IF(ISNUMBER('Data PAH'!AD17)=TRUE, IF('Data PAH'!AD17<'Data PAH'!AD$38, \"ERROR\", 'Data PAH'!AD17/1000), IF('Data PAH'!AD17=\"<LOD\",'Data PAH'!AD$38/1000, \"ERROR\")))","v":""},{"$f":"IF('Data PAH'!AE17=\"\",\"\",IF(ISNUMBER('Data PAH'!AE17)=TRUE, IF('Data PAH'!AE17<'Data PAH'!AE$38, \"ERROR\", 'Data PAH'!AE17/1000), IF('Data PAH'!AE17=\"<LOD\",'Data PAH'!AE$38/1000, \"ERROR\")))","v":""},{"$f":"IF('Data PAH'!AF17=\"\",\"\",IF(ISNUMBER('Data PAH'!AF17)=TRUE, IF('Data PAH'!AF17<'Data PAH'!AF$38, \"ERROR\", 'Data PAH'!AF17/1000), IF('Data PAH'!AF17=\"<LOD\",'Data PAH'!AF$38/1000, \"ERROR\")))","v":""},{"$f":"IF('Data PAH'!AG17=\"\",\"\",IF(ISNUMBER('Data PAH'!AG17)=TRUE, IF('Data PAH'!AG17<'Data PAH'!AG$38, \"ERROR\", 'Data PAH'!AG17), IF('Data PAH'!AG17=\"<LOD\",'Data PAH'!AG$38, \"ERROR\")))","v":""}]
[null,null,null,null,null,null,null,{"$f":"IF('Data PAH'!H18=\"\",\"\",'Data PAH'!H18)","v":""},{"$f":"IF('Data PAH'!I18=\"\",\"\",'Data PAH'!I18)","v":""},{"$f":"IFERROR(IF(K18=\"\",\"\",(IF(VLOOKUP(K18,'Gwybodaeth ymgeiswyr'!$K$8:$L$37,2,0)=\"y\",\"y\",\"\"))),\"Manual entry required\")","v":""},{"$f":"IF('Data PAH'!J18=\"\",\"\",'Data PAH'!J18)","v":""},{"$f":"IF('Data PAH'!K18=\"\",\"\",IF(ISNUMBER('Data PAH'!K18)=TRUE, IF('Data PAH'!K18<'Data PAH'!K$38, \"ERROR\", 'Data PAH'!K18/1000), IF('Data PAH'!K18=\"<LOD\",'Data PAH'!K$38/1000, \"ERROR\")))","v":""},{"$f":"IF('Data PAH'!L18=\"\",\"\",IF(ISNUMBER('Data PAH'!L18)=TRUE, IF('Data PAH'!L18<'Data PAH'!L$38, \"ERROR\", 'Data PAH'!L18/1000), IF('Data PAH'!L18=\"<LOD\",'Data PAH'!L$38/1000, \"ERROR\")))","v":""},{"$f":"IF('Data PAH'!M18=\"\",\"\",IF(ISNUMBER('Data PAH'!M18)=TRUE, IF('Data PAH'!M18<'Data PAH'!M$38, \"ERROR\", 'Data PAH'!M18/1000), IF('Data PAH'!M18=\"<LOD\",'Data PAH'!M$38/1000, \"ERROR\")))","v":""},{"$f":"IF('Data PAH'!N18=\"\",\"\",IF(ISNUMBER('Data PAH'!N18)=TRUE, IF('Data PAH'!N18<'Data PAH'!N$38, \"ERROR\", 'Data PAH'!N18/1000), IF('Data PAH'!N18=\"<LOD\",'Data PAH'!N$38/1000, \"ERROR\")))","v":""},{"$f":"IF('Data PAH'!O18=\"\",\"\",IF(ISNUMBER('Data PAH'!O18)=TRUE, IF('Data PAH'!O18<'Data PAH'!O$38, \"ERROR\", 'Data PAH'!O18/1000), IF('Data PAH'!O18=\"<LOD\",'Data PAH'!O$38/1000, \"ERROR\")))","v":""},{"$f":"IF('Data PAH'!P18=\"\",\"\",IF(ISNUMBER('Data PAH'!P18)=TRUE, IF('Data PAH'!P18<'Data PAH'!P$38, \"ERROR\", 'Data PAH'!P18/1000), IF('Data PAH'!P18=\"<LOD\",'Data PAH'!P$38/1000, \"ERROR\")))","v":""},{"$f":"IF('Data PAH'!Q18=\"\",\"\",IF(ISNUMBER('Data PAH'!Q18)=TRUE, IF('Data PAH'!Q18<'Data PAH'!Q$38, \"ERROR\", 'Data PAH'!Q18/1000), IF('Data PAH'!Q18=\"<LOD\",'Data PAH'!Q$38/1000, \"ERROR\")))","v":""},{"$f":"IF('Data PAH'!R18=\"\",\"\",IF(ISNUMBER('Data PAH'!R18)=TRUE, IF('Data PAH'!R18<'Data PAH'!R$38, \"ERROR\", 'Data PAH'!R18/1000), IF('Data PAH'!R18=\"<LOD\",'Data PAH'!R$38/1000, \"ERROR\")))","v":""},{"$f":"IF('Data PAH'!S18=\"\",\"\",IF(ISNUMBER('Data PAH'!S18)=TRUE, IF('Data PAH'!S18<'Data PAH'!S$38, \"ERROR\", 'Data PAH'!S18/1000), IF('Data PAH'!S18=\"<LOD\",'Data PAH'!S$38/1000, \"ERROR\")))","v":""},{"$f":"IF('Data PAH'!T18=\"\",\"\",IF(ISNUMBER('Data PAH'!T18)=TRUE, IF('Data PAH'!T18<'Data PAH'!T$38, \"ERROR\", 'Data PAH'!T18/1000), IF('Data PAH'!T18=\"<LOD\",'Data PAH'!T$38/1000, \"ERROR\")))","v":""},{"$f":"IF('Data PAH'!U18=\"\",\"\",IF(ISNUMBER('Data PAH'!U18)=TRUE, IF('Data PAH'!U18<'Data PAH'!U$38, \"ERROR\", 'Data PAH'!U18/1000), IF('Data PAH'!U18=\"<LOD\",'Data PAH'!U$38/1000, \"ERROR\")))","v":""},{"$f":"IF('Data PAH'!V18=\"\",\"\",IF(ISNUMBER('Data PAH'!V18)=TRUE, IF('Data PAH'!V18<'Data PAH'!V$38, \"ERROR\", 'Data PAH'!V18/1000), IF('Data PAH'!V18=\"<LOD\",'Data PAH'!V$38/1000, \"ERROR\")))","v":""},{"$f":"IF('Data PAH'!W18=\"\",\"\",IF(ISNUMBER('Data PAH'!W18)=TRUE, IF('Data PAH'!W18<'Data PAH'!W$38, \"ERROR\", 'Data PAH'!W18/1000), IF('Data PAH'!W18=\"<LOD\",'Data PAH'!W$38/1000, \"ERROR\")))","v":""},{"$f":"IF('Data PAH'!X18=\"\",\"\",IF(ISNUMBER('Data PAH'!X18)=TRUE, IF('Data PAH'!X18<'Data PAH'!X$38, \"ERROR\", 'Data PAH'!X18/1000), IF('Data PAH'!X18=\"<LOD\",'Data PAH'!X$38/1000, \"ERROR\")))","v":""},{"$f":"IF('Data PAH'!Y18=\"\",\"\",IF(ISNUMBER('Data PAH'!Y18)=TRUE, IF('Data PAH'!Y18<'Data PAH'!Y$38, \"ERROR\", 'Data PAH'!Y18/1000), IF('Data PAH'!Y18=\"<LOD\",'Data PAH'!Y$38/1000, \"ERROR\")))","v":""},{"$f":"IF('Data PAH'!Z18=\"\",\"\",IF(ISNUMBER('Data PAH'!Z18)=TRUE, IF('Data PAH'!Z18<'Data PAH'!Z$38, \"ERROR\", 'Data PAH'!Z18/1000), IF('Data PAH'!Z18=\"<LOD\",'Data PAH'!Z$38/1000, \"ERROR\")))","v":""},{"$f":"IF('Data PAH'!AA18=\"\",\"\",IF(ISNUMBER('Data PAH'!AA18)=TRUE, IF('Data PAH'!AA18<'Data PAH'!AA$38, \"ERROR\", 'Data PAH'!AA18/1000), IF('Data PAH'!AA18=\"<LOD\",'Data PAH'!AA$38/1000, \"ERROR\")))","v":""},{"$f":"IF('Data PAH'!AB18=\"\",\"\",IF(ISNUMBER('Data PAH'!AB18)=TRUE, IF('Data PAH'!AB18<'Data PAH'!AB$38, \"ERROR\", 'Data PAH'!AB18/1000), IF('Data PAH'!AB18=\"<LOD\",'Data PAH'!AB$38/1000, \"ERROR\")))","v":""},{"$f":"IF('Data PAH'!AC18=\"\",\"\",IF(ISNUMBER('Data PAH'!AC18)=TRUE, IF('Data PAH'!AC18<'Data PAH'!AC$38, \"ERROR\", 'Data PAH'!AC18/1000), IF('Data PAH'!AC18=\"<LOD\",'Data PAH'!AC$38/1000, \"ERROR\")))","v":""},{"$f":"IF('Data PAH'!AD18=\"\",\"\",IF(ISNUMBER('Data PAH'!AD18)=TRUE, IF('Data PAH'!AD18<'Data PAH'!AD$38, \"ERROR\", 'Data PAH'!AD18/1000), IF('Data PAH'!AD18=\"<LOD\",'Data PAH'!AD$38/1000, \"ERROR\")))","v":""},{"$f":"IF('Data PAH'!AE18=\"\",\"\",IF(ISNUMBER('Data PAH'!AE18)=TRUE, IF('Data PAH'!AE18<'Data PAH'!AE$38, \"ERROR\", 'Data PAH'!AE18/1000), IF('Data PAH'!AE18=\"<LOD\",'Data PAH'!AE$38/1000, \"ERROR\")))","v":""},{"$f":"IF('Data PAH'!AF18=\"\",\"\",IF(ISNUMBER('Data PAH'!AF18)=TRUE, IF('Data PAH'!AF18<'Data PAH'!AF$38, \"ERROR\", 'Data PAH'!AF18/1000), IF('Data PAH'!AF18=\"<LOD\",'Data PAH'!AF$38/1000, \"ERROR\")))","v":""},{"$f":"IF('Data PAH'!AG18=\"\",\"\",IF(ISNUMBER('Data PAH'!AG18)=TRUE, IF('Data PAH'!AG18<'Data PAH'!AG$38, \"ERROR\", 'Data PAH'!AG18), IF('Data PAH'!AG18=\"<LOD\",'Data PAH'!AG$38, \"ERROR\")))","v":""}]
[null,null,null,null,null,null,null,{"$f":"IF('Data PAH'!H19=\"\",\"\",'Data PAH'!H19)","v":""},{"$f":"IF('Data PAH'!I19=\"\",\"\",'Data PAH'!I19)","v":""},{"$f":"IFERROR(IF(K19=\"\",\"\",(IF(VLOOKUP(K19,'Gwybodaeth ymgeiswyr'!$K$8:$L$37,2,0)=\"y\",\"y\",\"\"))),\"Manual entry required\")","v":""},{"$f":"IF('Data PAH'!J19=\"\",\"\",'Data PAH'!J19)","v":""},{"$f":"IF('Data PAH'!K19=\"\",\"\",IF(ISNUMBER('Data PAH'!K19)=TRUE, IF('Data PAH'!K19<'Data PAH'!K$38, \"ERROR\", 'Data PAH'!K19/1000), IF('Data PAH'!K19=\"<LOD\",'Data PAH'!K$38/1000, \"ERROR\")))","v":""},{"$f":"IF('Data PAH'!L19=\"\",\"\",IF(ISNUMBER('Data PAH'!L19)=TRUE, IF('Data PAH'!L19<'Data PAH'!L$38, \"ERROR\", 'Data PAH'!L19/1000), IF('Data PAH'!L19=\"<LOD\",'Data PAH'!L$38/1000, \"ERROR\")))","v":""},{"$f":"IF('Data PAH'!M19=\"\",\"\",IF(ISNUMBER('Data PAH'!M19)=TRUE, IF('Data PAH'!M19<'Data PAH'!M$38, \"ERROR\", 'Data PAH'!M19/1000), IF('Data PAH'!M19=\"<LOD\",'Data PAH'!M$38/1000, \"ERROR\")))","v":""},{"$f":"IF('Data PAH'!N19=\"\",\"\",IF(ISNUMBER('Data PAH'!N19)=TRUE, IF('Data PAH'!N19<'Data PAH'!N$38, \"ERROR\", 'Data PAH'!N19/1000), IF('Data PAH'!N19=\"<LOD\",'Data PAH'!N$38/1000, \"ERROR\")))","v":""},{"$f":"IF('Data PAH'!O19=\"\",\"\",IF(ISNUMBER('Data PAH'!O19)=TRUE, IF('Data PAH'!O19<'Data PAH'!O$38, \"ERROR\", 'Data PAH'!O19/1000), IF('Data PAH'!O19=\"<LOD\",'Data PAH'!O$38/1000, \"ERROR\")))","v":""},{"$f":"IF('Data PAH'!P19=\"\",\"\",IF(ISNUMBER('Data PAH'!P19)=TRUE, IF('Data PAH'!P19<'Data PAH'!P$38, \"ERROR\", 'Data PAH'!P19/1000), IF('Data PAH'!P19=\"<LOD\",'Data PAH'!P$38/1000, \"ERROR\")))","v":""},{"$f":"IF('Data PAH'!Q19=\"\",\"\",IF(ISNUMBER('Data PAH'!Q19)=TRUE, IF('Data PAH'!Q19<'Data PAH'!Q$38, \"ERROR\", 'Data PAH'!Q19/1000), IF('Data PAH'!Q19=\"<LOD\",'Data PAH'!Q$38/1000, \"ERROR\")))","v":""},{"$f":"IF('Data PAH'!R19=\"\",\"\",IF(ISNUMBER('Data PAH'!R19)=TRUE, IF('Data PAH'!R19<'Data PAH'!R$38, \"ERROR\", 'Data PAH'!R19/1000), IF('Data PAH'!R19=\"<LOD\",'Data PAH'!R$38/1000, \"ERROR\")))","v":""},{"$f":"IF('Data PAH'!S19=\"\",\"\",IF(ISNUMBER('Data PAH'!S19)=TRUE, IF('Data PAH'!S19<'Data PAH'!S$38, \"ERROR\", 'Data PAH'!S19/1000), IF('Data PAH'!S19=\"<LOD\",'Data PAH'!S$38/1000, \"ERROR\")))","v":""},{"$f":"IF('Data PAH'!T19=\"\",\"\",IF(ISNUMBER('Data PAH'!T19)=TRUE, IF('Data PAH'!T19<'Data PAH'!T$38, \"ERROR\", 'Data PAH'!T19/1000), IF('Data PAH'!T19=\"<LOD\",'Data PAH'!T$38/1000, \"ERROR\")))","v":""},{"$f":"IF('Data PAH'!U19=\"\",\"\",IF(ISNUMBER('Data PAH'!U19)=TRUE, IF('Data PAH'!U19<'Data PAH'!U$38, \"ERROR\", 'Data PAH'!U19/1000), IF('Data PAH'!U19=\"<LOD\",'Data PAH'!U$38/1000, \"ERROR\")))","v":""},{"$f":"IF('Data PAH'!V19=\"\",\"\",IF(ISNUMBER('Data PAH'!V19)=TRUE, IF('Data PAH'!V19<'Data PAH'!V$38, \"ERROR\", 'Data PAH'!V19/1000), IF('Data PAH'!V19=\"<LOD\",'Data PAH'!V$38/1000, \"ERROR\")))","v":""},{"$f":"IF('Data PAH'!W19=\"\",\"\",IF(ISNUMBER('Data PAH'!W19)=TRUE, IF('Data PAH'!W19<'Data PAH'!W$38, \"ERROR\", 'Data PAH'!W19/1000), IF('Data PAH'!W19=\"<LOD\",'Data PAH'!W$38/1000, \"ERROR\")))","v":""},{"$f":"IF('Data PAH'!X19=\"\",\"\",IF(ISNUMBER('Data PAH'!X19)=TRUE, IF('Data PAH'!X19<'Data PAH'!X$38, \"ERROR\", 'Data PAH'!X19/1000), IF('Data PAH'!X19=\"<LOD\",'Data PAH'!X$38/1000, \"ERROR\")))","v":""},{"$f":"IF('Data PAH'!Y19=\"\",\"\",IF(ISNUMBER('Data PAH'!Y19)=TRUE, IF('Data PAH'!Y19<'Data PAH'!Y$38, \"ERROR\", 'Data PAH'!Y19/1000), IF('Data PAH'!Y19=\"<LOD\",'Data PAH'!Y$38/1000, \"ERROR\")))","v":""},{"$f":"IF('Data PAH'!Z19=\"\",\"\",IF(ISNUMBER('Data PAH'!Z19)=TRUE, IF('Data PAH'!Z19<'Data PAH'!Z$38, \"ERROR\", 'Data PAH'!Z19/1000), IF('Data PAH'!Z19=\"<LOD\",'Data PAH'!Z$38/1000, \"ERROR\")))","v":""},{"$f":"IF('Data PAH'!AA19=\"\",\"\",IF(ISNUMBER('Data PAH'!AA19)=TRUE, IF('Data PAH'!AA19<'Data PAH'!AA$38, \"ERROR\", 'Data PAH'!AA19/1000), IF('Data PAH'!AA19=\"<LOD\",'Data PAH'!AA$38/1000, \"ERROR\")))","v":""},{"$f":"IF('Data PAH'!AB19=\"\",\"\",IF(ISNUMBER('Data PAH'!AB19)=TRUE, IF('Data PAH'!AB19<'Data PAH'!AB$38, \"ERROR\", 'Data PAH'!AB19/1000), IF('Data PAH'!AB19=\"<LOD\",'Data PAH'!AB$38/1000, \"ERROR\")))","v":""},{"$f":"IF('Data PAH'!AC19=\"\",\"\",IF(ISNUMBER('Data PAH'!AC19)=TRUE, IF('Data PAH'!AC19<'Data PAH'!AC$38, \"ERROR\", 'Data PAH'!AC19/1000), IF('Data PAH'!AC19=\"<LOD\",'Data PAH'!AC$38/1000, \"ERROR\")))","v":""},{"$f":"IF('Data PAH'!AD19=\"\",\"\",IF(ISNUMBER('Data PAH'!AD19)=TRUE, IF('Data PAH'!AD19<'Data PAH'!AD$38, \"ERROR\", 'Data PAH'!AD19/1000), IF('Data PAH'!AD19=\"<LOD\",'Data PAH'!AD$38/1000, \"ERROR\")))","v":""},{"$f":"IF('Data PAH'!AE19=\"\",\"\",IF(ISNUMBER('Data PAH'!AE19)=TRUE, IF('Data PAH'!AE19<'Data PAH'!AE$38, \"ERROR\", 'Data PAH'!AE19/1000), IF('Data PAH'!AE19=\"<LOD\",'Data PAH'!AE$38/1000, \"ERROR\")))","v":""},{"$f":"IF('Data PAH'!AF19=\"\",\"\",IF(ISNUMBER('Data PAH'!AF19)=TRUE, IF('Data PAH'!AF19<'Data PAH'!AF$38, \"ERROR\", 'Data PAH'!AF19/1000), IF('Data PAH'!AF19=\"<LOD\",'Data PAH'!AF$38/1000, \"ERROR\")))","v":""},{"$f":"IF('Data PAH'!AG19=\"\",\"\",IF(ISNUMBER('Data PAH'!AG19)=TRUE, IF('Data PAH'!AG19<'Data PAH'!AG$38, \"ERROR\", 'Data PAH'!AG19), IF('Data PAH'!AG19=\"<LOD\",'Data PAH'!AG$38, \"ERROR\")))","v":""}]
[null,null,null,null,null,null,null,{"$f":"IF('Data PAH'!H20=\"\",\"\",'Data PAH'!H20)","v":""},{"$f":"IF('Data PAH'!I20=\"\",\"\",'Data PAH'!I20)","v":""},{"$f":"IFERROR(IF(K20=\"\",\"\",(IF(VLOOKUP(K20,'Gwybodaeth ymgeiswyr'!$K$8:$L$37,2,0)=\"y\",\"y\",\"\"))),\"Manual entry required\")","v":""},{"$f":"IF('Data PAH'!J20=\"\",\"\",'Data PAH'!J20)","v":""},{"$f":"IF('Data PAH'!K20=\"\",\"\",IF(ISNUMBER('Data PAH'!K20)=TRUE, IF('Data PAH'!K20<'Data PAH'!K$38, \"ERROR\", 'Data PAH'!K20/1000), IF('Data PAH'!K20=\"<LOD\",'Data PAH'!K$38/1000, \"ERROR\")))","v":""},{"$f":"IF('Data PAH'!L20=\"\",\"\",IF(ISNUMBER('Data PAH'!L20)=TRUE, IF('Data PAH'!L20<'Data PAH'!L$38, \"ERROR\", 'Data PAH'!L20/1000), IF('Data PAH'!L20=\"<LOD\",'Data PAH'!L$38/1000, \"ERROR\")))","v":""},{"$f":"IF('Data PAH'!M20=\"\",\"\",IF(ISNUMBER('Data PAH'!M20)=TRUE, IF('Data PAH'!M20<'Data PAH'!M$38, \"ERROR\", 'Data PAH'!M20/1000), IF('Data PAH'!M20=\"<LOD\",'Data PAH'!M$38/1000, \"ERROR\")))","v":""},{"$f":"IF('Data PAH'!N20=\"\",\"\",IF(ISNUMBER('Data PAH'!N20)=TRUE, IF('Data PAH'!N20<'Data PAH'!N$38, \"ERROR\", 'Data PAH'!N20/1000), IF('Data PAH'!N20=\"<LOD\",'Data PAH'!N$38/1000, \"ERROR\")))","v":""},{"$f":"IF('Data PAH'!O20=\"\",\"\",IF(ISNUMBER('Data PAH'!O20)=TRUE, IF('Data PAH'!O20<'Data PAH'!O$38, \"ERROR\", 'Data PAH'!O20/1000), IF('Data PAH'!O20=\"<LOD\",'Data PAH'!O$38/1000, \"ERROR\")))","v":""},{"$f":"IF('Data PAH'!P20=\"\",\"\",IF(ISNUMBER('Data PAH'!P20)=TRUE, IF('Data PAH'!P20<'Data PAH'!P$38, \"ERROR\", 'Data PAH'!P20/1000), IF('Data PAH'!P20=\"<LOD\",'Data PAH'!P$38/1000, \"ERROR\")))","v":""},{"$f":"IF('Data PAH'!Q20=\"\",\"\",IF(ISNUMBER('Data PAH'!Q20)=TRUE, IF('Data PAH'!Q20<'Data PAH'!Q$38, \"ERROR\", 'Data PAH'!Q20/1000), IF('Data PAH'!Q20=\"<LOD\",'Data PAH'!Q$38/1000, \"ERROR\")))","v":""},{"$f":"IF('Data PAH'!R20=\"\",\"\",IF(ISNUMBER('Data PAH'!R20)=TRUE, IF('Data PAH'!R20<'Data PAH'!R$38, \"ERROR\", 'Data PAH'!R20/1000), IF('Data PAH'!R20=\"<LOD\",'Data PAH'!R$38/1000, \"ERROR\")))","v":""},{"$f":"IF('Data PAH'!S20=\"\",\"\",IF(ISNUMBER('Data PAH'!S20)=TRUE, IF('Data PAH'!S20<'Data PAH'!S$38, \"ERROR\", 'Data PAH'!S20/1000), IF('Data PAH'!S20=\"<LOD\",'Data PAH'!S$38/1000, \"ERROR\")))","v":""},{"$f":"IF('Data PAH'!T20=\"\",\"\",IF(ISNUMBER('Data PAH'!T20)=TRUE, IF('Data PAH'!T20<'Data PAH'!T$38, \"ERROR\", 'Data PAH'!T20/1000), IF('Data PAH'!T20=\"<LOD\",'Data PAH'!T$38/1000, \"ERROR\")))","v":""},{"$f":"IF('Data PAH'!U20=\"\",\"\",IF(ISNUMBER('Data PAH'!U20)=TRUE, IF('Data PAH'!U20<'Data PAH'!U$38, \"ERROR\", 'Data PAH'!U20/1000), IF('Data PAH'!U20=\"<LOD\",'Data PAH'!U$38/1000, \"ERROR\")))","v":""},{"$f":"IF('Data PAH'!V20=\"\",\"\",IF(ISNUMBER('Data PAH'!V20)=TRUE, IF('Data PAH'!V20<'Data PAH'!V$38, \"ERROR\", 'Data PAH'!V20/1000), IF('Data PAH'!V20=\"<LOD\",'Data PAH'!V$38/1000, \"ERROR\")))","v":""},{"$f":"IF('Data PAH'!W20=\"\",\"\",IF(ISNUMBER('Data PAH'!W20)=TRUE, IF('Data PAH'!W20<'Data PAH'!W$38, \"ERROR\", 'Data PAH'!W20/1000), IF('Data PAH'!W20=\"<LOD\",'Data PAH'!W$38/1000, \"ERROR\")))","v":""},{"$f":"IF('Data PAH'!X20=\"\",\"\",IF(ISNUMBER('Data PAH'!X20)=TRUE, IF('Data PAH'!X20<'Data PAH'!X$38, \"ERROR\", 'Data PAH'!X20/1000), IF('Data PAH'!X20=\"<LOD\",'Data PAH'!X$38/1000, \"ERROR\")))","v":""},{"$f":"IF('Data PAH'!Y20=\"\",\"\",IF(ISNUMBER('Data PAH'!Y20)=TRUE, IF('Data PAH'!Y20<'Data PAH'!Y$38, \"ERROR\", 'Data PAH'!Y20/1000), IF('Data PAH'!Y20=\"<LOD\",'Data PAH'!Y$38/1000, \"ERROR\")))","v":""},{"$f":"IF('Data PAH'!Z20=\"\",\"\",IF(ISNUMBER('Data PAH'!Z20)=TRUE, IF('Data PAH'!Z20<'Data PAH'!Z$38, \"ERROR\", 'Data PAH'!Z20/1000), IF('Data PAH'!Z20=\"<LOD\",'Data PAH'!Z$38/1000, \"ERROR\")))","v":""},{"$f":"IF('Data PAH'!AA20=\"\",\"\",IF(ISNUMBER('Data PAH'!AA20)=TRUE, IF('Data PAH'!AA20<'Data PAH'!AA$38, \"ERROR\", 'Data PAH'!AA20/1000), IF('Data PAH'!AA20=\"<LOD\",'Data PAH'!AA$38/1000, \"ERROR\")))","v":""},{"$f":"IF('Data PAH'!AB20=\"\",\"\",IF(ISNUMBER('Data PAH'!AB20)=TRUE, IF('Data PAH'!AB20<'Data PAH'!AB$38, \"ERROR\", 'Data PAH'!AB20/1000), IF('Data PAH'!AB20=\"<LOD\",'Data PAH'!AB$38/1000, \"ERROR\")))","v":""},{"$f":"IF('Data PAH'!AC20=\"\",\"\",IF(ISNUMBER('Data PAH'!AC20)=TRUE, IF('Data PAH'!AC20<'Data PAH'!AC$38, \"ERROR\", 'Data PAH'!AC20/1000), IF('Data PAH'!AC20=\"<LOD\",'Data PAH'!AC$38/1000, \"ERROR\")))","v":""},{"$f":"IF('Data PAH'!AD20=\"\",\"\",IF(ISNUMBER('Data PAH'!AD20)=TRUE, IF('Data PAH'!AD20<'Data PAH'!AD$38, \"ERROR\", 'Data PAH'!AD20/1000), IF('Data PAH'!AD20=\"<LOD\",'Data PAH'!AD$38/1000, \"ERROR\")))","v":""},{"$f":"IF('Data PAH'!AE20=\"\",\"\",IF(ISNUMBER('Data PAH'!AE20)=TRUE, IF('Data PAH'!AE20<'Data PAH'!AE$38, \"ERROR\", 'Data PAH'!AE20/1000), IF('Data PAH'!AE20=\"<LOD\",'Data PAH'!AE$38/1000, \"ERROR\")))","v":""},{"$f":"IF('Data PAH'!AF20=\"\",\"\",IF(ISNUMBER('Data PAH'!AF20)=TRUE, IF('Data PAH'!AF20<'Data PAH'!AF$38, \"ERROR\", 'Data PAH'!AF20/1000), IF('Data PAH'!AF20=\"<LOD\",'Data PAH'!AF$38/1000, \"ERROR\")))","v":""},{"$f":"IF('Data PAH'!AG20=\"\",\"\",IF(ISNUMBER('Data PAH'!AG20)=TRUE, IF('Data PAH'!AG20<'Data PAH'!AG$38, \"ERROR\", 'Data PAH'!AG20), IF('Data PAH'!AG20=\"<LOD\",'Data PAH'!AG$38, \"ERROR\")))","v":""}]
[null,null,null,null,null,null,null,{"$f":"IF('Data PAH'!H21=\"\",\"\",'Data PAH'!H21)","v":""},{"$f":"IF('Data PAH'!I21=\"\",\"\",'Data PAH'!I21)","v":""},{"$f":"IFERROR(IF(K21=\"\",\"\",(IF(VLOOKUP(K21,'Gwybodaeth ymgeiswyr'!$K$8:$L$37,2,0)=\"y\",\"y\",\"\"))),\"Manual entry required\")","v":""},{"$f":"IF('Data PAH'!J21=\"\",\"\",'Data PAH'!J21)","v":""},{"$f":"IF('Data PAH'!K21=\"\",\"\",IF(ISNUMBER('Data PAH'!K21)=TRUE, IF('Data PAH'!K21<'Data PAH'!K$38, \"ERROR\", 'Data PAH'!K21/1000), IF('Data PAH'!K21=\"<LOD\",'Data PAH'!K$38/1000, \"ERROR\")))","v":""},{"$f":"IF('Data PAH'!L21=\"\",\"\",IF(ISNUMBER('Data PAH'!L21)=TRUE, IF('Data PAH'!L21<'Data PAH'!L$38, \"ERROR\", 'Data PAH'!L21/1000), IF('Data PAH'!L21=\"<LOD\",'Data PAH'!L$38/1000, \"ERROR\")))","v":""},{"$f":"IF('Data PAH'!M21=\"\",\"\",IF(ISNUMBER('Data PAH'!M21)=TRUE, IF('Data PAH'!M21<'Data PAH'!M$38, \"ERROR\", 'Data PAH'!M21/1000), IF('Data PAH'!M21=\"<LOD\",'Data PAH'!M$38/1000, \"ERROR\")))","v":""},{"$f":"IF('Data PAH'!N21=\"\",\"\",IF(ISNUMBER('Data PAH'!N21)=TRUE, IF('Data PAH'!N21<'Data PAH'!N$38, \"ERROR\", 'Data PAH'!N21/1000), IF('Data PAH'!N21=\"<LOD\",'Data PAH'!N$38/1000, \"ERROR\")))","v":""},{"$f":"IF('Data PAH'!O21=\"\",\"\",IF(ISNUMBER('Data PAH'!O21)=TRUE, IF('Data PAH'!O21<'Data PAH'!O$38, \"ERROR\", 'Data PAH'!O21/1000), IF('Data PAH'!O21=\"<LOD\",'Data PAH'!O$38/1000, \"ERROR\")))","v":""},{"$f":"IF('Data PAH'!P21=\"\",\"\",IF(ISNUMBER('Data PAH'!P21)=TRUE, IF('Data PAH'!P21<'Data PAH'!P$38, \"ERROR\", 'Data PAH'!P21/1000), IF('Data PAH'!P21=\"<LOD\",'Data PAH'!P$38/1000, \"ERROR\")))","v":""},{"$f":"IF('Data PAH'!Q21=\"\",\"\",IF(ISNUMBER('Data PAH'!Q21)=TRUE, IF('Data PAH'!Q21<'Data PAH'!Q$38, \"ERROR\", 'Data PAH'!Q21/1000), IF('Data PAH'!Q21=\"<LOD\",'Data PAH'!Q$38/1000, \"ERROR\")))","v":""},{"$f":"IF('Data PAH'!R21=\"\",\"\",IF(ISNUMBER('Data PAH'!R21)=TRUE, IF('Data PAH'!R21<'Data PAH'!R$38, \"ERROR\", 'Data PAH'!R21/1000), IF('Data PAH'!R21=\"<LOD\",'Data PAH'!R$38/1000, \"ERROR\")))","v":""},{"$f":"IF('Data PAH'!S21=\"\",\"\",IF(ISNUMBER('Data PAH'!S21)=TRUE, IF('Data PAH'!S21<'Data PAH'!S$38, \"ERROR\", 'Data PAH'!S21/1000), IF('Data PAH'!S21=\"<LOD\",'Data PAH'!S$38/1000, \"ERROR\")))","v":""},{"$f":"IF('Data PAH'!T21=\"\",\"\",IF(ISNUMBER('Data PAH'!T21)=TRUE, IF('Data PAH'!T21<'Data PAH'!T$38, \"ERROR\", 'Data PAH'!T21/1000), IF('Data PAH'!T21=\"<LOD\",'Data PAH'!T$38/1000, \"ERROR\")))","v":""},{"$f":"IF('Data PAH'!U21=\"\",\"\",IF(ISNUMBER('Data PAH'!U21)=TRUE, IF('Data PAH'!U21<'Data PAH'!U$38, \"ERROR\", 'Data PAH'!U21/1000), IF('Data PAH'!U21=\"<LOD\",'Data PAH'!U$38/1000, \"ERROR\")))","v":""},{"$f":"IF('Data PAH'!V21=\"\",\"\",IF(ISNUMBER('Data PAH'!V21)=TRUE, IF('Data PAH'!V21<'Data PAH'!V$38, \"ERROR\", 'Data PAH'!V21/1000), IF('Data PAH'!V21=\"<LOD\",'Data PAH'!V$38/1000, \"ERROR\")))","v":""},{"$f":"IF('Data PAH'!W21=\"\",\"\",IF(ISNUMBER('Data PAH'!W21)=TRUE, IF('Data PAH'!W21<'Data PAH'!W$38, \"ERROR\", 'Data PAH'!W21/1000), IF('Data PAH'!W21=\"<LOD\",'Data PAH'!W$38/1000, \"ERROR\")))","v":""},{"$f":"IF('Data PAH'!X21=\"\",\"\",IF(ISNUMBER('Data PAH'!X21)=TRUE, IF('Data PAH'!X21<'Data PAH'!X$38, \"ERROR\", 'Data PAH'!X21/1000), IF('Data PAH'!X21=\"<LOD\",'Data PAH'!X$38/1000, \"ERROR\")))","v":""},{"$f":"IF('Data PAH'!Y21=\"\",\"\",IF(ISNUMBER('Data PAH'!Y21)=TRUE, IF('Data PAH'!Y21<'Data PAH'!Y$38, \"ERROR\", 'Data PAH'!Y21/1000), IF('Data PAH'!Y21=\"<LOD\",'Data PAH'!Y$38/1000, \"ERROR\")))","v":""},{"$f":"IF('Data PAH'!Z21=\"\",\"\",IF(ISNUMBER('Data PAH'!Z21)=TRUE, IF('Data PAH'!Z21<'Data PAH'!Z$38, \"ERROR\", 'Data PAH'!Z21/1000), IF('Data PAH'!Z21=\"<LOD\",'Data PAH'!Z$38/1000, \"ERROR\")))","v":""},{"$f":"IF('Data PAH'!AA21=\"\",\"\",IF(ISNUMBER('Data PAH'!AA21)=TRUE, IF('Data PAH'!AA21<'Data PAH'!AA$38, \"ERROR\", 'Data PAH'!AA21/1000), IF('Data PAH'!AA21=\"<LOD\",'Data PAH'!AA$38/1000, \"ERROR\")))","v":""},{"$f":"IF('Data PAH'!AB21=\"\",\"\",IF(ISNUMBER('Data PAH'!AB21)=TRUE, IF('Data PAH'!AB21<'Data PAH'!AB$38, \"ERROR\", 'Data PAH'!AB21/1000), IF('Data PAH'!AB21=\"<LOD\",'Data PAH'!AB$38/1000, \"ERROR\")))","v":""},{"$f":"IF('Data PAH'!AC21=\"\",\"\",IF(ISNUMBER('Data PAH'!AC21)=TRUE, IF('Data PAH'!AC21<'Data PAH'!AC$38, \"ERROR\", 'Data PAH'!AC21/1000), IF('Data PAH'!AC21=\"<LOD\",'Data PAH'!AC$38/1000, \"ERROR\")))","v":""},{"$f":"IF('Data PAH'!AD21=\"\",\"\",IF(ISNUMBER('Data PAH'!AD21)=TRUE, IF('Data PAH'!AD21<'Data PAH'!AD$38, \"ERROR\", 'Data PAH'!AD21/1000), IF('Data PAH'!AD21=\"<LOD\",'Data PAH'!AD$38/1000, \"ERROR\")))","v":""},{"$f":"IF('Data PAH'!AE21=\"\",\"\",IF(ISNUMBER('Data PAH'!AE21)=TRUE, IF('Data PAH'!AE21<'Data PAH'!AE$38, \"ERROR\", 'Data PAH'!AE21/1000), IF('Data PAH'!AE21=\"<LOD\",'Data PAH'!AE$38/1000, \"ERROR\")))","v":""},{"$f":"IF('Data PAH'!AF21=\"\",\"\",IF(ISNUMBER('Data PAH'!AF21)=TRUE, IF('Data PAH'!AF21<'Data PAH'!AF$38, \"ERROR\", 'Data PAH'!AF21/1000), IF('Data PAH'!AF21=\"<LOD\",'Data PAH'!AF$38/1000, \"ERROR\")))","v":""},{"$f":"IF('Data PAH'!AG21=\"\",\"\",IF(ISNUMBER('Data PAH'!AG21)=TRUE, IF('Data PAH'!AG21<'Data PAH'!AG$38, \"ERROR\", 'Data PAH'!AG21), IF('Data PAH'!AG21=\"<LOD\",'Data PAH'!AG$38, \"ERROR\")))","v":""}]
[null,null,null,null,null,null,null,{"$f":"IF('Data PAH'!H22=\"\",\"\",'Data PAH'!H22)","v":""},{"$f":"IF('Data PAH'!I22=\"\",\"\",'Data PAH'!I22)","v":""},{"$f":"IFERROR(IF(K22=\"\",\"\",(IF(VLOOKUP(K22,'Gwybodaeth ymgeiswyr'!$K$8:$L$37,2,0)=\"y\",\"y\",\"\"))),\"Manual entry required\")","v":""},{"$f":"IF('Data PAH'!J22=\"\",\"\",'Data PAH'!J22)","v":""},{"$f":"IF('Data PAH'!K22=\"\",\"\",IF(ISNUMBER('Data PAH'!K22)=TRUE, IF('Data PAH'!K22<'Data PAH'!K$38, \"ERROR\", 'Data PAH'!K22/1000), IF('Data PAH'!K22=\"<LOD\",'Data PAH'!K$38/1000, \"ERROR\")))","v":""},{"$f":"IF('Data PAH'!L22=\"\",\"\",IF(ISNUMBER('Data PAH'!L22)=TRUE, IF('Data PAH'!L22<'Data PAH'!L$38, \"ERROR\", 'Data PAH'!L22/1000), IF('Data PAH'!L22=\"<LOD\",'Data PAH'!L$38/1000, \"ERROR\")))","v":""},{"$f":"IF('Data PAH'!M22=\"\",\"\",IF(ISNUMBER('Data PAH'!M22)=TRUE, IF('Data PAH'!M22<'Data PAH'!M$38, \"ERROR\", 'Data PAH'!M22/1000), IF('Data PAH'!M22=\"<LOD\",'Data PAH'!M$38/1000, \"ERROR\")))","v":""},{"$f":"IF('Data PAH'!N22=\"\",\"\",IF(ISNUMBER('Data PAH'!N22)=TRUE, IF('Data PAH'!N22<'Data PAH'!N$38, \"ERROR\", 'Data PAH'!N22/1000), IF('Data PAH'!N22=\"<LOD\",'Data PAH'!N$38/1000, \"ERROR\")))","v":""},{"$f":"IF('Data PAH'!O22=\"\",\"\",IF(ISNUMBER('Data PAH'!O22)=TRUE, IF('Data PAH'!O22<'Data PAH'!O$38, \"ERROR\", 'Data PAH'!O22/1000), IF('Data PAH'!O22=\"<LOD\",'Data PAH'!O$38/1000, \"ERROR\")))","v":""},{"$f":"IF('Data PAH'!P22=\"\",\"\",IF(ISNUMBER('Data PAH'!P22)=TRUE, IF('Data PAH'!P22<'Data PAH'!P$38, \"ERROR\", 'Data PAH'!P22/1000), IF('Data PAH'!P22=\"<LOD\",'Data PAH'!P$38/1000, \"ERROR\")))","v":""},{"$f":"IF('Data PAH'!Q22=\"\",\"\",IF(ISNUMBER('Data PAH'!Q22)=TRUE, IF('Data PAH'!Q22<'Data PAH'!Q$38, \"ERROR\", 'Data PAH'!Q22/1000), IF('Data PAH'!Q22=\"<LOD\",'Data PAH'!Q$38/1000, \"ERROR\")))","v":""},{"$f":"IF('Data PAH'!R22=\"\",\"\",IF(ISNUMBER('Data PAH'!R22)=TRUE, IF('Data PAH'!R22<'Data PAH'!R$38, \"ERROR\", 'Data PAH'!R22/1000), IF('Data PAH'!R22=\"<LOD\",'Data PAH'!R$38/1000, \"ERROR\")))","v":""},{"$f":"IF('Data PAH'!S22=\"\",\"\",IF(ISNUMBER('Data PAH'!S22)=TRUE, IF('Data PAH'!S22<'Data PAH'!S$38, \"ERROR\", 'Data PAH'!S22/1000), IF('Data PAH'!S22=\"<LOD\",'Data PAH'!S$38/1000, \"ERROR\")))","v":""},{"$f":"IF('Data PAH'!T22=\"\",\"\",IF(ISNUMBER('Data PAH'!T22)=TRUE, IF('Data PAH'!T22<'Data PAH'!T$38, \"ERROR\", 'Data PAH'!T22/1000), IF('Data PAH'!T22=\"<LOD\",'Data PAH'!T$38/1000, \"ERROR\")))","v":""},{"$f":"IF('Data PAH'!U22=\"\",\"\",IF(ISNUMBER('Data PAH'!U22)=TRUE, IF('Data PAH'!U22<'Data PAH'!U$38, \"ERROR\", 'Data PAH'!U22/1000), IF('Data PAH'!U22=\"<LOD\",'Data PAH'!U$38/1000, \"ERROR\")))","v":""},{"$f":"IF('Data PAH'!V22=\"\",\"\",IF(ISNUMBER('Data PAH'!V22)=TRUE, IF('Data PAH'!V22<'Data PAH'!V$38, \"ERROR\", 'Data PAH'!V22/1000), IF('Data PAH'!V22=\"<LOD\",'Data PAH'!V$38/1000, \"ERROR\")))","v":""},{"$f":"IF('Data PAH'!W22=\"\",\"\",IF(ISNUMBER('Data PAH'!W22)=TRUE, IF('Data PAH'!W22<'Data PAH'!W$38, \"ERROR\", 'Data PAH'!W22/1000), IF('Data PAH'!W22=\"<LOD\",'Data PAH'!W$38/1000, \"ERROR\")))","v":""},{"$f":"IF('Data PAH'!X22=\"\",\"\",IF(ISNUMBER('Data PAH'!X22)=TRUE, IF('Data PAH'!X22<'Data PAH'!X$38, \"ERROR\", 'Data PAH'!X22/1000), IF('Data PAH'!X22=\"<LOD\",'Data PAH'!X$38/1000, \"ERROR\")))","v":""},{"$f":"IF('Data PAH'!Y22=\"\",\"\",IF(ISNUMBER('Data PAH'!Y22)=TRUE, IF('Data PAH'!Y22<'Data PAH'!Y$38, \"ERROR\", 'Data PAH'!Y22/1000), IF('Data PAH'!Y22=\"<LOD\",'Data PAH'!Y$38/1000, \"ERROR\")))","v":""},{"$f":"IF('Data PAH'!Z22=\"\",\"\",IF(ISNUMBER('Data PAH'!Z22)=TRUE, IF('Data PAH'!Z22<'Data PAH'!Z$38, \"ERROR\", 'Data PAH'!Z22/1000), IF('Data PAH'!Z22=\"<LOD\",'Data PAH'!Z$38/1000, \"ERROR\")))","v":""},{"$f":"IF('Data PAH'!AA22=\"\",\"\",IF(ISNUMBER('Data PAH'!AA22)=TRUE, IF('Data PAH'!AA22<'Data PAH'!AA$38, \"ERROR\", 'Data PAH'!AA22/1000), IF('Data PAH'!AA22=\"<LOD\",'Data PAH'!AA$38/1000, \"ERROR\")))","v":""},{"$f":"IF('Data PAH'!AB22=\"\",\"\",IF(ISNUMBER('Data PAH'!AB22)=TRUE, IF('Data PAH'!AB22<'Data PAH'!AB$38, \"ERROR\", 'Data PAH'!AB22/1000), IF('Data PAH'!AB22=\"<LOD\",'Data PAH'!AB$38/1000, \"ERROR\")))","v":""},{"$f":"IF('Data PAH'!AC22=\"\",\"\",IF(ISNUMBER('Data PAH'!AC22)=TRUE, IF('Data PAH'!AC22<'Data PAH'!AC$38, \"ERROR\", 'Data PAH'!AC22/1000), IF('Data PAH'!AC22=\"<LOD\",'Data PAH'!AC$38/1000, \"ERROR\")))","v":""},{"$f":"IF('Data PAH'!AD22=\"\",\"\",IF(ISNUMBER('Data PAH'!AD22)=TRUE, IF('Data PAH'!AD22<'Data PAH'!AD$38, \"ERROR\", 'Data PAH'!AD22/1000), IF('Data PAH'!AD22=\"<LOD\",'Data PAH'!AD$38/1000, \"ERROR\")))","v":""},{"$f":"IF('Data PAH'!AE22=\"\",\"\",IF(ISNUMBER('Data PAH'!AE22)=TRUE, IF('Data PAH'!AE22<'Data PAH'!AE$38, \"ERROR\", 'Data PAH'!AE22/1000), IF('Data PAH'!AE22=\"<LOD\",'Data PAH'!AE$38/1000, \"ERROR\")))","v":""},{"$f":"IF('Data PAH'!AF22=\"\",\"\",IF(ISNUMBER('Data PAH'!AF22)=TRUE, IF('Data PAH'!AF22<'Data PAH'!AF$38, \"ERROR\", 'Data PAH'!AF22/1000), IF('Data PAH'!AF22=\"<LOD\",'Data PAH'!AF$38/1000, \"ERROR\")))","v":""},{"$f":"IF('Data PAH'!AG22=\"\",\"\",IF(ISNUMBER('Data PAH'!AG22)=TRUE, IF('Data PAH'!AG22<'Data PAH'!AG$38, \"ERROR\", 'Data PAH'!AG22), IF('Data PAH'!AG22=\"<LOD\",'Data PAH'!AG$38, \"ERROR\")))","v":""}]
[null,null,null,null,null,null,null,{"$f":"IF('Data PAH'!H23=\"\",\"\",'Data PAH'!H23)","v":""},{"$f":"IF('Data PAH'!I23=\"\",\"\",'Data PAH'!I23)","v":""},{"$f":"IFERROR(IF(K23=\"\",\"\",(IF(VLOOKUP(K23,'Gwybodaeth ymgeiswyr'!$K$8:$L$37,2,0)=\"y\",\"y\",\"\"))),\"Manual entry required\")","v":""},{"$f":"IF('Data PAH'!J23=\"\",\"\",'Data PAH'!J23)","v":""},{"$f":"IF('Data PAH'!K23=\"\",\"\",IF(ISNUMBER('Data PAH'!K23)=TRUE, IF('Data PAH'!K23<'Data PAH'!K$38, \"ERROR\", 'Data PAH'!K23/1000), IF('Data PAH'!K23=\"<LOD\",'Data PAH'!K$38/1000, \"ERROR\")))","v":""},{"$f":"IF('Data PAH'!L23=\"\",\"\",IF(ISNUMBER('Data PAH'!L23)=TRUE, IF('Data PAH'!L23<'Data PAH'!L$38, \"ERROR\", 'Data PAH'!L23/1000), IF('Data PAH'!L23=\"<LOD\",'Data PAH'!L$38/1000, \"ERROR\")))","v":""},{"$f":"IF('Data PAH'!M23=\"\",\"\",IF(ISNUMBER('Data PAH'!M23)=TRUE, IF('Data PAH'!M23<'Data PAH'!M$38, \"ERROR\", 'Data PAH'!M23/1000), IF('Data PAH'!M23=\"<LOD\",'Data PAH'!M$38/1000, \"ERROR\")))","v":""},{"$f":"IF('Data PAH'!N23=\"\",\"\",IF(ISNUMBER('Data PAH'!N23)=TRUE, IF('Data PAH'!N23<'Data PAH'!N$38, \"ERROR\", 'Data PAH'!N23/1000), IF('Data PAH'!N23=\"<LOD\",'Data PAH'!N$38/1000, \"ERROR\")))","v":""},{"$f":"IF('Data PAH'!O23=\"\",\"\",IF(ISNUMBER('Data PAH'!O23)=TRUE, IF('Data PAH'!O23<'Data PAH'!O$38, \"ERROR\", 'Data PAH'!O23/1000), IF('Data PAH'!O23=\"<LOD\",'Data PAH'!O$38/1000, \"ERROR\")))","v":""},{"$f":"IF('Data PAH'!P23=\"\",\"\",IF(ISNUMBER('Data PAH'!P23)=TRUE, IF('Data PAH'!P23<'Data PAH'!P$38, \"ERROR\", 'Data PAH'!P23/1000), IF('Data PAH'!P23=\"<LOD\",'Data PAH'!P$38/1000, \"ERROR\")))","v":""},{"$f":"IF('Data PAH'!Q23=\"\",\"\",IF(ISNUMBER('Data PAH'!Q23)=TRUE, IF('Data PAH'!Q23<'Data PAH'!Q$38, \"ERROR\", 'Data PAH'!Q23/1000), IF('Data PAH'!Q23=\"<LOD\",'Data PAH'!Q$38/1000, \"ERROR\")))","v":""},{"$f":"IF('Data PAH'!R23=\"\",\"\",IF(ISNUMBER('Data PAH'!R23)=TRUE, IF('Data PAH'!R23<'Data PAH'!R$38, \"ERROR\", 'Data PAH'!R23/1000), IF('Data PAH'!R23=\"<LOD\",'Data PAH'!R$38/1000, \"ERROR\")))","v":""},{"$f":"IF('Data PAH'!S23=\"\",\"\",IF(ISNUMBER('Data PAH'!S23)=TRUE, IF('Data PAH'!S23<'Data PAH'!S$38, \"ERROR\", 'Data PAH'!S23/1000), IF('Data PAH'!S23=\"<LOD\",'Data PAH'!S$38/1000, \"ERROR\")))","v":""},{"$f":"IF('Data PAH'!T23=\"\",\"\",IF(ISNUMBER('Data PAH'!T23)=TRUE, IF('Data PAH'!T23<'Data PAH'!T$38, \"ERROR\", 'Data PAH'!T23/1000), IF('Data PAH'!T23=\"<LOD\",'Data PAH'!T$38/1000, \"ERROR\")))","v":""},{"$f":"IF('Data PAH'!U23=\"\",\"\",IF(ISNUMBER('Data PAH'!U23)=TRUE, IF('Data PAH'!U23<'Data PAH'!U$38, \"ERROR\", 'Data PAH'!U23/1000), IF('Data PAH'!U23=\"<LOD\",'Data PAH'!U$38/1000, \"ERROR\")))","v":""},{"$f":"IF('Data PAH'!V23=\"\",\"\",IF(ISNUMBER('Data PAH'!V23)=TRUE, IF('Data PAH'!V23<'Data PAH'!V$38, \"ERROR\", 'Data PAH'!V23/1000), IF('Data PAH'!V23=\"<LOD\",'Data PAH'!V$38/1000, \"ERROR\")))","v":""},{"$f":"IF('Data PAH'!W23=\"\",\"\",IF(ISNUMBER('Data PAH'!W23)=TRUE, IF('Data PAH'!W23<'Data PAH'!W$38, \"ERROR\", 'Data PAH'!W23/1000), IF('Data PAH'!W23=\"<LOD\",'Data PAH'!W$38/1000, \"ERROR\")))","v":""},{"$f":"IF('Data PAH'!X23=\"\",\"\",IF(ISNUMBER('Data PAH'!X23)=TRUE, IF('Data PAH'!X23<'Data PAH'!X$38, \"ERROR\", 'Data PAH'!X23/1000), IF('Data PAH'!X23=\"<LOD\",'Data PAH'!X$38/1000, \"ERROR\")))","v":""},{"$f":"IF('Data PAH'!Y23=\"\",\"\",IF(ISNUMBER('Data PAH'!Y23)=TRUE, IF('Data PAH'!Y23<'Data PAH'!Y$38, \"ERROR\", 'Data PAH'!Y23/1000), IF('Data PAH'!Y23=\"<LOD\",'Data PAH'!Y$38/1000, \"ERROR\")))","v":""},{"$f":"IF('Data PAH'!Z23=\"\",\"\",IF(ISNUMBER('Data PAH'!Z23)=TRUE, IF('Data PAH'!Z23<'Data PAH'!Z$38, \"ERROR\", 'Data PAH'!Z23/1000), IF('Data PAH'!Z23=\"<LOD\",'Data PAH'!Z$38/1000, \"ERROR\")))","v":""},{"$f":"IF('Data PAH'!AA23=\"\",\"\",IF(ISNUMBER('Data PAH'!AA23)=TRUE, IF('Data PAH'!AA23<'Data PAH'!AA$38, \"ERROR\", 'Data PAH'!AA23/1000), IF('Data PAH'!AA23=\"<LOD\",'Data PAH'!AA$38/1000, \"ERROR\")))","v":""},{"$f":"IF('Data PAH'!AB23=\"\",\"\",IF(ISNUMBER('Data PAH'!AB23)=TRUE, IF('Data PAH'!AB23<'Data PAH'!AB$38, \"ERROR\", 'Data PAH'!AB23/1000), IF('Data PAH'!AB23=\"<LOD\",'Data PAH'!AB$38/1000, \"ERROR\")))","v":""},{"$f":"IF('Data PAH'!AC23=\"\",\"\",IF(ISNUMBER('Data PAH'!AC23)=TRUE, IF('Data PAH'!AC23<'Data PAH'!AC$38, \"ERROR\", 'Data PAH'!AC23/1000), IF('Data PAH'!AC23=\"<LOD\",'Data PAH'!AC$38/1000, \"ERROR\")))","v":""},{"$f":"IF('Data PAH'!AD23=\"\",\"\",IF(ISNUMBER('Data PAH'!AD23)=TRUE, IF('Data PAH'!AD23<'Data PAH'!AD$38, \"ERROR\", 'Data PAH'!AD23/1000), IF('Data PAH'!AD23=\"<LOD\",'Data PAH'!AD$38/1000, \"ERROR\")))","v":""},{"$f":"IF('Data PAH'!AE23=\"\",\"\",IF(ISNUMBER('Data PAH'!AE23)=TRUE, IF('Data PAH'!AE23<'Data PAH'!AE$38, \"ERROR\", 'Data PAH'!AE23/1000), IF('Data PAH'!AE23=\"<LOD\",'Data PAH'!AE$38/1000, \"ERROR\")))","v":""},{"$f":"IF('Data PAH'!AF23=\"\",\"\",IF(ISNUMBER('Data PAH'!AF23)=TRUE, IF('Data PAH'!AF23<'Data PAH'!AF$38, \"ERROR\", 'Data PAH'!AF23/1000), IF('Data PAH'!AF23=\"<LOD\",'Data PAH'!AF$38/1000, \"ERROR\")))","v":""},{"$f":"IF('Data PAH'!AG23=\"\",\"\",IF(ISNUMBER('Data PAH'!AG23)=TRUE, IF('Data PAH'!AG23<'Data PAH'!AG$38, \"ERROR\", 'Data PAH'!AG23), IF('Data PAH'!AG23=\"<LOD\",'Data PAH'!AG$38, \"ERROR\")))","v":""}]
[null,null,null,null,null,null,null,{"$f":"IF('Data PAH'!H24=\"\",\"\",'Data PAH'!H24)","v":""},{"$f":"IF('Data PAH'!I24=\"\",\"\",'Data PAH'!I24)","v":""},{"$f":"IFERROR(IF(K24=\"\",\"\",(IF(VLOOKUP(K24,'Gwybodaeth ymgeiswyr'!$K$8:$L$37,2,0)=\"y\",\"y\",\"\"))),\"Manual entry required\")","v":""},{"$f":"IF('Data PAH'!J24=\"\",\"\",'Data PAH'!J24)","v":""},{"$f":"IF('Data PAH'!K24=\"\",\"\",IF(ISNUMBER('Data PAH'!K24)=TRUE, IF('Data PAH'!K24<'Data PAH'!K$38, \"ERROR\", 'Data PAH'!K24/1000), IF('Data PAH'!K24=\"<LOD\",'Data PAH'!K$38/1000, \"ERROR\")))","v":""},{"$f":"IF('Data PAH'!L24=\"\",\"\",IF(ISNUMBER('Data PAH'!L24)=TRUE, IF('Data PAH'!L24<'Data PAH'!L$38, \"ERROR\", 'Data PAH'!L24/1000), IF('Data PAH'!L24=\"<LOD\",'Data PAH'!L$38/1000, \"ERROR\")))","v":""},{"$f":"IF('Data PAH'!M24=\"\",\"\",IF(ISNUMBER('Data PAH'!M24)=TRUE, IF('Data PAH'!M24<'Data PAH'!M$38, \"ERROR\", 'Data PAH'!M24/1000), IF('Data PAH'!M24=\"<LOD\",'Data PAH'!M$38/1000, \"ERROR\")))","v":""},{"$f":"IF('Data PAH'!N24=\"\",\"\",IF(ISNUMBER('Data PAH'!N24)=TRUE, IF('Data PAH'!N24<'Data PAH'!N$38, \"ERROR\", 'Data PAH'!N24/1000), IF('Data PAH'!N24=\"<LOD\",'Data PAH'!N$38/1000, \"ERROR\")))","v":""},{"$f":"IF('Data PAH'!O24=\"\",\"\",IF(ISNUMBER('Data PAH'!O24)=TRUE, IF('Data PAH'!O24<'Data PAH'!O$38, \"ERROR\", 'Data PAH'!O24/1000), IF('Data PAH'!O24=\"<LOD\",'Data PAH'!O$38/1000, \"ERROR\")))","v":""},{"$f":"IF('Data PAH'!P24=\"\",\"\",IF(ISNUMBER('Data PAH'!P24)=TRUE, IF('Data PAH'!P24<'Data PAH'!P$38, \"ERROR\", 'Data PAH'!P24/1000), IF('Data PAH'!P24=\"<LOD\",'Data PAH'!P$38/1000, \"ERROR\")))","v":""},{"$f":"IF('Data PAH'!Q24=\"\",\"\",IF(ISNUMBER('Data PAH'!Q24)=TRUE, IF('Data PAH'!Q24<'Data PAH'!Q$38, \"ERROR\", 'Data PAH'!Q24/1000), IF('Data PAH'!Q24=\"<LOD\",'Data PAH'!Q$38/1000, \"ERROR\")))","v":""},{"$f":"IF('Data PAH'!R24=\"\",\"\",IF(ISNUMBER('Data PAH'!R24)=TRUE, IF('Data PAH'!R24<'Data PAH'!R$38, \"ERROR\", 'Data PAH'!R24/1000), IF('Data PAH'!R24=\"<LOD\",'Data PAH'!R$38/1000, \"ERROR\")))","v":""},{"$f":"IF('Data PAH'!S24=\"\",\"\",IF(ISNUMBER('Data PAH'!S24)=TRUE, IF('Data PAH'!S24<'Data PAH'!S$38, \"ERROR\", 'Data PAH'!S24/1000), IF('Data PAH'!S24=\"<LOD\",'Data PAH'!S$38/1000, \"ERROR\")))","v":""},{"$f":"IF('Data PAH'!T24=\"\",\"\",IF(ISNUMBER('Data PAH'!T24)=TRUE, IF('Data PAH'!T24<'Data PAH'!T$38, \"ERROR\", 'Data PAH'!T24/1000), IF('Data PAH'!T24=\"<LOD\",'Data PAH'!T$38/1000, \"ERROR\")))","v":""},{"$f":"IF('Data PAH'!U24=\"\",\"\",IF(ISNUMBER('Data PAH'!U24)=TRUE, IF('Data PAH'!U24<'Data PAH'!U$38, \"ERROR\", 'Data PAH'!U24/1000), IF('Data PAH'!U24=\"<LOD\",'Data PAH'!U$38/1000, \"ERROR\")))","v":""},{"$f":"IF('Data PAH'!V24=\"\",\"\",IF(ISNUMBER('Data PAH'!V24)=TRUE, IF('Data PAH'!V24<'Data PAH'!V$38, \"ERROR\", 'Data PAH'!V24/1000), IF('Data PAH'!V24=\"<LOD\",'Data PAH'!V$38/1000, \"ERROR\")))","v":""},{"$f":"IF('Data PAH'!W24=\"\",\"\",IF(ISNUMBER('Data PAH'!W24)=TRUE, IF('Data PAH'!W24<'Data PAH'!W$38, \"ERROR\", 'Data PAH'!W24/1000), IF('Data PAH'!W24=\"<LOD\",'Data PAH'!W$38/1000, \"ERROR\")))","v":""},{"$f":"IF('Data PAH'!X24=\"\",\"\",IF(ISNUMBER('Data PAH'!X24)=TRUE, IF('Data PAH'!X24<'Data PAH'!X$38, \"ERROR\", 'Data PAH'!X24/1000), IF('Data PAH'!X24=\"<LOD\",'Data PAH'!X$38/1000, \"ERROR\")))","v":""},{"$f":"IF('Data PAH'!Y24=\"\",\"\",IF(ISNUMBER('Data PAH'!Y24)=TRUE, IF('Data PAH'!Y24<'Data PAH'!Y$38, \"ERROR\", 'Data PAH'!Y24/1000), IF('Data PAH'!Y24=\"<LOD\",'Data PAH'!Y$38/1000, \"ERROR\")))","v":""},{"$f":"IF('Data PAH'!Z24=\"\",\"\",IF(ISNUMBER('Data PAH'!Z24)=TRUE, IF('Data PAH'!Z24<'Data PAH'!Z$38, \"ERROR\", 'Data PAH'!Z24/1000), IF('Data PAH'!Z24=\"<LOD\",'Data PAH'!Z$38/1000, \"ERROR\")))","v":""},{"$f":"IF('Data PAH'!AA24=\"\",\"\",IF(ISNUMBER('Data PAH'!AA24)=TRUE, IF('Data PAH'!AA24<'Data PAH'!AA$38, \"ERROR\", 'Data PAH'!AA24/1000), IF('Data PAH'!AA24=\"<LOD\",'Data PAH'!AA$38/1000, \"ERROR\")))","v":""},{"$f":"IF('Data PAH'!AB24=\"\",\"\",IF(ISNUMBER('Data PAH'!AB24)=TRUE, IF('Data PAH'!AB24<'Data PAH'!AB$38, \"ERROR\", 'Data PAH'!AB24/1000), IF('Data PAH'!AB24=\"<LOD\",'Data PAH'!AB$38/1000, \"ERROR\")))","v":""},{"$f":"IF('Data PAH'!AC24=\"\",\"\",IF(ISNUMBER('Data PAH'!AC24)=TRUE, IF('Data PAH'!AC24<'Data PAH'!AC$38, \"ERROR\", 'Data PAH'!AC24/1000), IF('Data PAH'!AC24=\"<LOD\",'Data PAH'!AC$38/1000, \"ERROR\")))","v":""},{"$f":"IF('Data PAH'!AD24=\"\",\"\",IF(ISNUMBER('Data PAH'!AD24)=TRUE, IF('Data PAH'!AD24<'Data PAH'!AD$38, \"ERROR\", 'Data PAH'!AD24/1000), IF('Data PAH'!AD24=\"<LOD\",'Data PAH'!AD$38/1000, \"ERROR\")))","v":""},{"$f":"IF('Data PAH'!AE24=\"\",\"\",IF(ISNUMBER('Data PAH'!AE24)=TRUE, IF('Data PAH'!AE24<'Data PAH'!AE$38, \"ERROR\", 'Data PAH'!AE24/1000), IF('Data PAH'!AE24=\"<LOD\",'Data PAH'!AE$38/1000, \"ERROR\")))","v":""},{"$f":"IF('Data PAH'!AF24=\"\",\"\",IF(ISNUMBER('Data PAH'!AF24)=TRUE, IF('Data PAH'!AF24<'Data PAH'!AF$38, \"ERROR\", 'Data PAH'!AF24/1000), IF('Data PAH'!AF24=\"<LOD\",'Data PAH'!AF$38/1000, \"ERROR\")))","v":""},{"$f":"IF('Data PAH'!AG24=\"\",\"\",IF(ISNUMBER('Data PAH'!AG24)=TRUE, IF('Data PAH'!AG24<'Data PAH'!AG$38, \"ERROR\", 'Data PAH'!AG24), IF('Data PAH'!AG24=\"<LOD\",'Data PAH'!AG$38, \"ERROR\")))","v":""}]
[null,null,null,null,null,null,null,{"$f":"IF('Data PAH'!H25=\"\",\"\",'Data PAH'!H25)","v":""},{"$f":"IF('Data PAH'!I25=\"\",\"\",'Data PAH'!I25)","v":""},{"$f":"IFERROR(IF(K25=\"\",\"\",(IF(VLOOKUP(K25,'Gwybodaeth ymgeiswyr'!$K$8:$L$37,2,0)=\"y\",\"y\",\"\"))),\"Manual entry required\")","v":""},{"$f":"IF('Data PAH'!J25=\"\",\"\",'Data PAH'!J25)","v":""},{"$f":"IF('Data PAH'!K25=\"\",\"\",IF(ISNUMBER('Data PAH'!K25)=TRUE, IF('Data PAH'!K25<'Data PAH'!K$38, \"ERROR\", 'Data PAH'!K25/1000), IF('Data PAH'!K25=\"<LOD\",'Data PAH'!K$38/1000, \"ERROR\")))","v":""},{"$f":"IF('Data PAH'!L25=\"\",\"\",IF(ISNUMBER('Data PAH'!L25)=TRUE, IF('Data PAH'!L25<'Data PAH'!L$38, \"ERROR\", 'Data PAH'!L25/1000), IF('Data PAH'!L25=\"<LOD\",'Data PAH'!L$38/1000, \"ERROR\")))","v":""},{"$f":"IF('Data PAH'!M25=\"\",\"\",IF(ISNUMBER('Data PAH'!M25)=TRUE, IF('Data PAH'!M25<'Data PAH'!M$38, \"ERROR\", 'Data PAH'!M25/1000), IF('Data PAH'!M25=\"<LOD\",'Data PAH'!M$38/1000, \"ERROR\")))","v":""},{"$f":"IF('Data PAH'!N25=\"\",\"\",IF(ISNUMBER('Data PAH'!N25)=TRUE, IF('Data PAH'!N25<'Data PAH'!N$38, \"ERROR\", 'Data PAH'!N25/1000), IF('Data PAH'!N25=\"<LOD\",'Data PAH'!N$38/1000, \"ERROR\")))","v":""},{"$f":"IF('Data PAH'!O25=\"\",\"\",IF(ISNUMBER('Data PAH'!O25)=TRUE, IF('Data PAH'!O25<'Data PAH'!O$38, \"ERROR\", 'Data PAH'!O25/1000), IF('Data PAH'!O25=\"<LOD\",'Data PAH'!O$38/1000, \"ERROR\")))","v":""},{"$f":"IF('Data PAH'!P25=\"\",\"\",IF(ISNUMBER('Data PAH'!P25)=TRUE, IF('Data PAH'!P25<'Data PAH'!P$38, \"ERROR\", 'Data PAH'!P25/1000), IF('Data PAH'!P25=\"<LOD\",'Data PAH'!P$38/1000, \"ERROR\")))","v":""},{"$f":"IF('Data PAH'!Q25=\"\",\"\",IF(ISNUMBER('Data PAH'!Q25)=TRUE, IF('Data PAH'!Q25<'Data PAH'!Q$38, \"ERROR\", 'Data PAH'!Q25/1000), IF('Data PAH'!Q25=\"<LOD\",'Data PAH'!Q$38/1000, \"ERROR\")))","v":""},{"$f":"IF('Data PAH'!R25=\"\",\"\",IF(ISNUMBER('Data PAH'!R25)=TRUE, IF('Data PAH'!R25<'Data PAH'!R$38, \"ERROR\", 'Data PAH'!R25/1000), IF('Data PAH'!R25=\"<LOD\",'Data PAH'!R$38/1000, \"ERROR\")))","v":""},{"$f":"IF('Data PAH'!S25=\"\",\"\",IF(ISNUMBER('Data PAH'!S25)=TRUE, IF('Data PAH'!S25<'Data PAH'!S$38, \"ERROR\", 'Data PAH'!S25/1000), IF('Data PAH'!S25=\"<LOD\",'Data PAH'!S$38/1000, \"ERROR\")))","v":""},{"$f":"IF('Data PAH'!T25=\"\",\"\",IF(ISNUMBER('Data PAH'!T25)=TRUE, IF('Data PAH'!T25<'Data PAH'!T$38, \"ERROR\", 'Data PAH'!T25/1000), IF('Data PAH'!T25=\"<LOD\",'Data PAH'!T$38/1000, \"ERROR\")))","v":""},{"$f":"IF('Data PAH'!U25=\"\",\"\",IF(ISNUMBER('Data PAH'!U25)=TRUE, IF('Data PAH'!U25<'Data PAH'!U$38, \"ERROR\", 'Data PAH'!U25/1000), IF('Data PAH'!U25=\"<LOD\",'Data PAH'!U$38/1000, \"ERROR\")))","v":""},{"$f":"IF('Data PAH'!V25=\"\",\"\",IF(ISNUMBER('Data PAH'!V25)=TRUE, IF('Data PAH'!V25<'Data PAH'!V$38, \"ERROR\", 'Data PAH'!V25/1000), IF('Data PAH'!V25=\"<LOD\",'Data PAH'!V$38/1000, \"ERROR\")))","v":""},{"$f":"IF('Data PAH'!W25=\"\",\"\",IF(ISNUMBER('Data PAH'!W25)=TRUE, IF('Data PAH'!W25<'Data PAH'!W$38, \"ERROR\", 'Data PAH'!W25/1000), IF('Data PAH'!W25=\"<LOD\",'Data PAH'!W$38/1000, \"ERROR\")))","v":""},{"$f":"IF('Data PAH'!X25=\"\",\"\",IF(ISNUMBER('Data PAH'!X25)=TRUE, IF('Data PAH'!X25<'Data PAH'!X$38, \"ERROR\", 'Data PAH'!X25/1000), IF('Data PAH'!X25=\"<LOD\",'Data PAH'!X$38/1000, \"ERROR\")))","v":""},{"$f":"IF('Data PAH'!Y25=\"\",\"\",IF(ISNUMBER('Data PAH'!Y25)=TRUE, IF('Data PAH'!Y25<'Data PAH'!Y$38, \"ERROR\", 'Data PAH'!Y25/1000), IF('Data PAH'!Y25=\"<LOD\",'Data PAH'!Y$38/1000, \"ERROR\")))","v":""},{"$f":"IF('Data PAH'!Z25=\"\",\"\",IF(ISNUMBER('Data PAH'!Z25)=TRUE, IF('Data PAH'!Z25<'Data PAH'!Z$38, \"ERROR\", 'Data PAH'!Z25/1000), IF('Data PAH'!Z25=\"<LOD\",'Data PAH'!Z$38/1000, \"ERROR\")))","v":""},{"$f":"IF('Data PAH'!AA25=\"\",\"\",IF(ISNUMBER('Data PAH'!AA25)=TRUE, IF('Data PAH'!AA25<'Data PAH'!AA$38, \"ERROR\", 'Data PAH'!AA25/1000), IF('Data PAH'!AA25=\"<LOD\",'Data PAH'!AA$38/1000, \"ERROR\")))","v":""},{"$f":"IF('Data PAH'!AB25=\"\",\"\",IF(ISNUMBER('Data PAH'!AB25)=TRUE, IF('Data PAH'!AB25<'Data PAH'!AB$38, \"ERROR\", 'Data PAH'!AB25/1000), IF('Data PAH'!AB25=\"<LOD\",'Data PAH'!AB$38/1000, \"ERROR\")))","v":""},{"$f":"IF('Data PAH'!AC25=\"\",\"\",IF(ISNUMBER('Data PAH'!AC25)=TRUE, IF('Data PAH'!AC25<'Data PAH'!AC$38, \"ERROR\", 'Data PAH'!AC25/1000), IF('Data PAH'!AC25=\"<LOD\",'Data PAH'!AC$38/1000, \"ERROR\")))","v":""},{"$f":"IF('Data PAH'!AD25=\"\",\"\",IF(ISNUMBER('Data PAH'!AD25)=TRUE, IF('Data PAH'!AD25<'Data PAH'!AD$38, \"ERROR\", 'Data PAH'!AD25/1000), IF('Data PAH'!AD25=\"<LOD\",'Data PAH'!AD$38/1000, \"ERROR\")))","v":""},{"$f":"IF('Data PAH'!AE25=\"\",\"\",IF(ISNUMBER('Data PAH'!AE25)=TRUE, IF('Data PAH'!AE25<'Data PAH'!AE$38, \"ERROR\", 'Data PAH'!AE25/1000), IF('Data PAH'!AE25=\"<LOD\",'Data PAH'!AE$38/1000, \"ERROR\")))","v":""},{"$f":"IF('Data PAH'!AF25=\"\",\"\",IF(ISNUMBER('Data PAH'!AF25)=TRUE, IF('Data PAH'!AF25<'Data PAH'!AF$38, \"ERROR\", 'Data PAH'!AF25/1000), IF('Data PAH'!AF25=\"<LOD\",'Data PAH'!AF$38/1000, \"ERROR\")))","v":""},{"$f":"IF('Data PAH'!AG25=\"\",\"\",IF(ISNUMBER('Data PAH'!AG25)=TRUE, IF('Data PAH'!AG25<'Data PAH'!AG$38, \"ERROR\", 'Data PAH'!AG25), IF('Data PAH'!AG25=\"<LOD\",'Data PAH'!AG$38, \"ERROR\")))","v":""}]
[null,null,null,null,null,null,null,{"$f":"IF('Data PAH'!H26=\"\",\"\",'Data PAH'!H26)","v":""},{"$f":"IF('Data PAH'!I26=\"\",\"\",'Data PAH'!I26)","v":""},{"$f":"IFERROR(IF(K26=\"\",\"\",(IF(VLOOKUP(K26,'Gwybodaeth ymgeiswyr'!$K$8:$L$37,2,0)=\"y\",\"y\",\"\"))),\"Manual entry required\")","v":""},{"$f":"IF('Data PAH'!J26=\"\",\"\",'Data PAH'!J26)","v":""},{"$f":"IF('Data PAH'!K26=\"\",\"\",IF(ISNUMBER('Data PAH'!K26)=TRUE, IF('Data PAH'!K26<'Data PAH'!K$38, \"ERROR\", 'Data PAH'!K26/1000), IF('Data PAH'!K26=\"<LOD\",'Data PAH'!K$38/1000, \"ERROR\")))","v":""},{"$f":"IF('Data PAH'!L26=\"\",\"\",IF(ISNUMBER('Data PAH'!L26)=TRUE, IF('Data PAH'!L26<'Data PAH'!L$38, \"ERROR\", 'Data PAH'!L26/1000), IF('Data PAH'!L26=\"<LOD\",'Data PAH'!L$38/1000, \"ERROR\")))","v":""},{"$f":"IF('Data PAH'!M26=\"\",\"\",IF(ISNUMBER('Data PAH'!M26)=TRUE, IF('Data PAH'!M26<'Data PAH'!M$38, \"ERROR\", 'Data PAH'!M26/1000), IF('Data PAH'!M26=\"<LOD\",'Data PAH'!M$38/1000, \"ERROR\")))","v":""},{"$f":"IF('Data PAH'!N26=\"\",\"\",IF(ISNUMBER('Data PAH'!N26)=TRUE, IF('Data PAH'!N26<'Data PAH'!N$38, \"ERROR\", 'Data PAH'!N26/1000), IF('Data PAH'!N26=\"<LOD\",'Data PAH'!N$38/1000, \"ERROR\")))","v":""},{"$f":"IF('Data PAH'!O26=\"\",\"\",IF(ISNUMBER('Data PAH'!O26)=TRUE, IF('Data PAH'!O26<'Data PAH'!O$38, \"ERROR\", 'Data PAH'!O26/1000), IF('Data PAH'!O26=\"<LOD\",'Data PAH'!O$38/1000, \"ERROR\")))","v":""},{"$f":"IF('Data PAH'!P26=\"\",\"\",IF(ISNUMBER('Data PAH'!P26)=TRUE, IF('Data PAH'!P26<'Data PAH'!P$38, \"ERROR\", 'Data PAH'!P26/1000), IF('Data PAH'!P26=\"<LOD\",'Data PAH'!P$38/1000, \"ERROR\")))","v":""},{"$f":"IF('Data PAH'!Q26=\"\",\"\",IF(ISNUMBER('Data PAH'!Q26)=TRUE, IF('Data PAH'!Q26<'Data PAH'!Q$38, \"ERROR\", 'Data PAH'!Q26/1000), IF('Data PAH'!Q26=\"<LOD\",'Data PAH'!Q$38/1000, \"ERROR\")))","v":""},{"$f":"IF('Data PAH'!R26=\"\",\"\",IF(ISNUMBER('Data PAH'!R26)=TRUE, IF('Data PAH'!R26<'Data PAH'!R$38, \"ERROR\", 'Data PAH'!R26/1000), IF('Data PAH'!R26=\"<LOD\",'Data PAH'!R$38/1000, \"ERROR\")))","v":""},{"$f":"IF('Data PAH'!S26=\"\",\"\",IF(ISNUMBER('Data PAH'!S26)=TRUE, IF('Data PAH'!S26<'Data PAH'!S$38, \"ERROR\", 'Data PAH'!S26/1000), IF('Data PAH'!S26=\"<LOD\",'Data PAH'!S$38/1000, \"ERROR\")))","v":""},{"$f":"IF('Data PAH'!T26=\"\",\"\",IF(ISNUMBER('Data PAH'!T26)=TRUE, IF('Data PAH'!T26<'Data PAH'!T$38, \"ERROR\", 'Data PAH'!T26/1000), IF('Data PAH'!T26=\"<LOD\",'Data PAH'!T$38/1000, \"ERROR\")))","v":""},{"$f":"IF('Data PAH'!U26=\"\",\"\",IF(ISNUMBER('Data PAH'!U26)=TRUE, IF('Data PAH'!U26<'Data PAH'!U$38, \"ERROR\", 'Data PAH'!U26/1000), IF('Data PAH'!U26=\"<LOD\",'Data PAH'!U$38/1000, \"ERROR\")))","v":""},{"$f":"IF('Data PAH'!V26=\"\",\"\",IF(ISNUMBER('Data PAH'!V26)=TRUE, IF('Data PAH'!V26<'Data PAH'!V$38, \"ERROR\", 'Data PAH'!V26/1000), IF('Data PAH'!V26=\"<LOD\",'Data PAH'!V$38/1000, \"ERROR\")))","v":""},{"$f":"IF('Data PAH'!W26=\"\",\"\",IF(ISNUMBER('Data PAH'!W26)=TRUE, IF('Data PAH'!W26<'Data PAH'!W$38, \"ERROR\", 'Data PAH'!W26/1000), IF('Data PAH'!W26=\"<LOD\",'Data PAH'!W$38/1000, \"ERROR\")))","v":""},{"$f":"IF('Data PAH'!X26=\"\",\"\",IF(ISNUMBER('Data PAH'!X26)=TRUE, IF('Data PAH'!X26<'Data PAH'!X$38, \"ERROR\", 'Data PAH'!X26/1000), IF('Data PAH'!X26=\"<LOD\",'Data PAH'!X$38/1000, \"ERROR\")))","v":""},{"$f":"IF('Data PAH'!Y26=\"\",\"\",IF(ISNUMBER('Data PAH'!Y26)=TRUE, IF('Data PAH'!Y26<'Data PAH'!Y$38, \"ERROR\", 'Data PAH'!Y26/1000), IF('Data PAH'!Y26=\"<LOD\",'Data PAH'!Y$38/1000, \"ERROR\")))","v":""},{"$f":"IF('Data PAH'!Z26=\"\",\"\",IF(ISNUMBER('Data PAH'!Z26)=TRUE, IF('Data PAH'!Z26<'Data PAH'!Z$38, \"ERROR\", 'Data PAH'!Z26/1000), IF('Data PAH'!Z26=\"<LOD\",'Data PAH'!Z$38/1000, \"ERROR\")))","v":""},{"$f":"IF('Data PAH'!AA26=\"\",\"\",IF(ISNUMBER('Data PAH'!AA26)=TRUE, IF('Data PAH'!AA26<'Data PAH'!AA$38, \"ERROR\", 'Data PAH'!AA26/1000), IF('Data PAH'!AA26=\"<LOD\",'Data PAH'!AA$38/1000, \"ERROR\")))","v":""},{"$f":"IF('Data PAH'!AB26=\"\",\"\",IF(ISNUMBER('Data PAH'!AB26)=TRUE, IF('Data PAH'!AB26<'Data PAH'!AB$38, \"ERROR\", 'Data PAH'!AB26/1000), IF('Data PAH'!AB26=\"<LOD\",'Data PAH'!AB$38/1000, \"ERROR\")))","v":""},{"$f":"IF('Data PAH'!AC26=\"\",\"\",IF(ISNUMBER('Data PAH'!AC26)=TRUE, IF('Data PAH'!AC26<'Data PAH'!AC$38, \"ERROR\", 'Data PAH'!AC26/1000), IF('Data PAH'!AC26=\"<LOD\",'Data PAH'!AC$38/1000, \"ERROR\")))","v":""},{"$f":"IF('Data PAH'!AD26=\"\",\"\",IF(ISNUMBER('Data PAH'!AD26)=TRUE, IF('Data PAH'!AD26<'Data PAH'!AD$38, \"ERROR\", 'Data PAH'!AD26/1000), IF('Data PAH'!AD26=\"<LOD\",'Data PAH'!AD$38/1000, \"ERROR\")))","v":""},{"$f":"IF('Data PAH'!AE26=\"\",\"\",IF(ISNUMBER('Data PAH'!AE26)=TRUE, IF('Data PAH'!AE26<'Data PAH'!AE$38, \"ERROR\", 'Data PAH'!AE26/1000), IF('Data PAH'!AE26=\"<LOD\",'Data PAH'!AE$38/1000, \"ERROR\")))","v":""},{"$f":"IF('Data PAH'!AF26=\"\",\"\",IF(ISNUMBER('Data PAH'!AF26)=TRUE, IF('Data PAH'!AF26<'Data PAH'!AF$38, \"ERROR\", 'Data PAH'!AF26/1000), IF('Data PAH'!AF26=\"<LOD\",'Data PAH'!AF$38/1000, \"ERROR\")))","v":""},{"$f":"IF('Data PAH'!AG26=\"\",\"\",IF(ISNUMBER('Data PAH'!AG26)=TRUE, IF('Data PAH'!AG26<'Data PAH'!AG$38, \"ERROR\", 'Data PAH'!AG26), IF('Data PAH'!AG26=\"<LOD\",'Data PAH'!AG$38, \"ERROR\")))","v":""}]
[null,null,null,null,null,null,null,{"$f":"IF('Data PAH'!H27=\"\",\"\",'Data PAH'!H27)","v":""},{"$f":"IF('Data PAH'!I27=\"\",\"\",'Data PAH'!I27)","v":""},{"$f":"IFERROR(IF(K27=\"\",\"\",(IF(VLOOKUP(K27,'Gwybodaeth ymgeiswyr'!$K$8:$L$37,2,0)=\"y\",\"y\",\"\"))),\"Manual entry required\")","v":""},{"$f":"IF('Data PAH'!J27=\"\",\"\",'Data PAH'!J27)","v":""},{"$f":"IF('Data PAH'!K27=\"\",\"\",IF(ISNUMBER('Data PAH'!K27)=TRUE, IF('Data PAH'!K27<'Data PAH'!K$38, \"ERROR\", 'Data PAH'!K27/1000), IF('Data PAH'!K27=\"<LOD\",'Data PAH'!K$38/1000, \"ERROR\")))","v":""},{"$f":"IF('Data PAH'!L27=\"\",\"\",IF(ISNUMBER('Data PAH'!L27)=TRUE, IF('Data PAH'!L27<'Data PAH'!L$38, \"ERROR\", 'Data PAH'!L27/1000), IF('Data PAH'!L27=\"<LOD\",'Data PAH'!L$38/1000, \"ERROR\")))","v":""},{"$f":"IF('Data PAH'!M27=\"\",\"\",IF(ISNUMBER('Data PAH'!M27)=TRUE, IF('Data PAH'!M27<'Data PAH'!M$38, \"ERROR\", 'Data PAH'!M27/1000), IF('Data PAH'!M27=\"<LOD\",'Data PAH'!M$38/1000, \"ERROR\")))","v":""},{"$f":"IF('Data PAH'!N27=\"\",\"\",IF(ISNUMBER('Data PAH'!N27)=TRUE, IF('Data PAH'!N27<'Data PAH'!N$38, \"ERROR\", 'Data PAH'!N27/1000), IF('Data PAH'!N27=\"<LOD\",'Data PAH'!N$38/1000, \"ERROR\")))","v":""},{"$f":"IF('Data PAH'!O27=\"\",\"\",IF(ISNUMBER('Data PAH'!O27)=TRUE, IF('Data PAH'!O27<'Data PAH'!O$38, \"ERROR\", 'Data PAH'!O27/1000), IF('Data PAH'!O27=\"<LOD\",'Data PAH'!O$38/1000, \"ERROR\")))","v":""},{"$f":"IF('Data PAH'!P27=\"\",\"\",IF(ISNUMBER('Data PAH'!P27)=TRUE, IF('Data PAH'!P27<'Data PAH'!P$38, \"ERROR\", 'Data PAH'!P27/1000), IF('Data PAH'!P27=\"<LOD\",'Data PAH'!P$38/1000, \"ERROR\")))","v":""},{"$f":"IF('Data PAH'!Q27=\"\",\"\",IF(ISNUMBER('Data PAH'!Q27)=TRUE, IF('Data PAH'!Q27<'Data PAH'!Q$38, \"ERROR\", 'Data PAH'!Q27/1000), IF('Data PAH'!Q27=\"<LOD\",'Data PAH'!Q$38/1000, \"ERROR\")))","v":""},{"$f":"IF('Data PAH'!R27=\"\",\"\",IF(ISNUMBER('Data PAH'!R27)=TRUE, IF('Data PAH'!R27<'Data PAH'!R$38, \"ERROR\", 'Data PAH'!R27/1000), IF('Data PAH'!R27=\"<LOD\",'Data PAH'!R$38/1000, \"ERROR\")))","v":""},{"$f":"IF('Data PAH'!S27=\"\",\"\",IF(ISNUMBER('Data PAH'!S27)=TRUE, IF('Data PAH'!S27<'Data PAH'!S$38, \"ERROR\", 'Data PAH'!S27/1000), IF('Data PAH'!S27=\"<LOD\",'Data PAH'!S$38/1000, \"ERROR\")))","v":""},{"$f":"IF('Data PAH'!T27=\"\",\"\",IF(ISNUMBER('Data PAH'!T27)=TRUE, IF('Data PAH'!T27<'Data PAH'!T$38, \"ERROR\", 'Data PAH'!T27/1000), IF('Data PAH'!T27=\"<LOD\",'Data PAH'!T$38/1000, \"ERROR\")))","v":""},{"$f":"IF('Data PAH'!U27=\"\",\"\",IF(ISNUMBER('Data PAH'!U27)=TRUE, IF('Data PAH'!U27<'Data PAH'!U$38, \"ERROR\", 'Data PAH'!U27/1000), IF('Data PAH'!U27=\"<LOD\",'Data PAH'!U$38/1000, \"ERROR\")))","v":""},{"$f":"IF('Data PAH'!V27=\"\",\"\",IF(ISNUMBER('Data PAH'!V27)=TRUE, IF('Data PAH'!V27<'Data PAH'!V$38, \"ERROR\", 'Data PAH'!V27/1000), IF('Data PAH'!V27=\"<LOD\",'Data PAH'!V$38/1000, \"ERROR\")))","v":""},{"$f":"IF('Data PAH'!W27=\"\",\"\",IF(ISNUMBER('Data PAH'!W27)=TRUE, IF('Data PAH'!W27<'Data PAH'!W$38, \"ERROR\", 'Data PAH'!W27/1000), IF('Data PAH'!W27=\"<LOD\",'Data PAH'!W$38/1000, \"ERROR\")))","v":""},{"$f":"IF('Data PAH'!X27=\"\",\"\",IF(ISNUMBER('Data PAH'!X27)=TRUE, IF('Data PAH'!X27<'Data PAH'!X$38, \"ERROR\", 'Data PAH'!X27/1000), IF('Data PAH'!X27=\"<LOD\",'Data PAH'!X$38/1000, \"ERROR\")))","v":""},{"$f":"IF('Data PAH'!Y27=\"\",\"\",IF(ISNUMBER('Data PAH'!Y27)=TRUE, IF('Data PAH'!Y27<'Data PAH'!Y$38, \"ERROR\", 'Data PAH'!Y27/1000), IF('Data PAH'!Y27=\"<LOD\",'Data PAH'!Y$38/1000, \"ERROR\")))","v":""},{"$f":"IF('Data PAH'!Z27=\"\",\"\",IF(ISNUMBER('Data PAH'!Z27)=TRUE, IF('Data PAH'!Z27<'Data PAH'!Z$38, \"ERROR\", 'Data PAH'!Z27/1000), IF('Data PAH'!Z27=\"<LOD\",'Data PAH'!Z$38/1000, \"ERROR\")))","v":""},{"$f":"IF('Data PAH'!AA27=\"\",\"\",IF(ISNUMBER('Data PAH'!AA27)=TRUE, IF('Data PAH'!AA27<'Data PAH'!AA$38, \"ERROR\", 'Data PAH'!AA27/1000), IF('Data PAH'!AA27=\"<LOD\",'Data PAH'!AA$38/1000, \"ERROR\")))","v":""},{"$f":"IF('Data PAH'!AB27=\"\",\"\",IF(ISNUMBER('Data PAH'!AB27)=TRUE, IF('Data PAH'!AB27<'Data PAH'!AB$38, \"ERROR\", 'Data PAH'!AB27/1000), IF('Data PAH'!AB27=\"<LOD\",'Data PAH'!AB$38/1000, \"ERROR\")))","v":""},{"$f":"IF('Data PAH'!AC27=\"\",\"\",IF(ISNUMBER('Data PAH'!AC27)=TRUE, IF('Data PAH'!AC27<'Data PAH'!AC$38, \"ERROR\", 'Data PAH'!AC27/1000), IF('Data PAH'!AC27=\"<LOD\",'Data PAH'!AC$38/1000, \"ERROR\")))","v":""},{"$f":"IF('Data PAH'!AD27=\"\",\"\",IF(ISNUMBER('Data PAH'!AD27)=TRUE, IF('Data PAH'!AD27<'Data PAH'!AD$38, \"ERROR\", 'Data PAH'!AD27/1000), IF('Data PAH'!AD27=\"<LOD\",'Data PAH'!AD$38/1000, \"ERROR\")))","v":""},{"$f":"IF('Data PAH'!AE27=\"\",\"\",IF(ISNUMBER('Data PAH'!AE27)=TRUE, IF('Data PAH'!AE27<'Data PAH'!AE$38, \"ERROR\", 'Data PAH'!AE27/1000), IF('Data PAH'!AE27=\"<LOD\",'Data PAH'!AE$38/1000, \"ERROR\")))","v":""},{"$f":"IF('Data PAH'!AF27=\"\",\"\",IF(ISNUMBER('Data PAH'!AF27)=TRUE, IF('Data PAH'!AF27<'Data PAH'!AF$38, \"ERROR\", 'Data PAH'!AF27/1000), IF('Data PAH'!AF27=\"<LOD\",'Data PAH'!AF$38/1000, \"ERROR\")))","v":""},{"$f":"IF('Data PAH'!AG27=\"\",\"\",IF(ISNUMBER('Data PAH'!AG27)=TRUE, IF('Data PAH'!AG27<'Data PAH'!AG$38, \"ERROR\", 'Data PAH'!AG27), IF('Data PAH'!AG27=\"<LOD\",'Data PAH'!AG$38, \"ERROR\")))","v":""}]
[null,null,null,null,null,null,null,{"$f":"IF('Data PAH'!H28=\"\",\"\",'Data PAH'!H28)","v":""},{"$f":"IF('Data PAH'!I28=\"\",\"\",'Data PAH'!I28)","v":""},{"$f":"IFERROR(IF(K28=\"\",\"\",(IF(VLOOKUP(K28,'Gwybodaeth ymgeiswyr'!$K$8:$L$37,2,0)=\"y\",\"y\",\"\"))),\"Manual entry required\")","v":""},{"$f":"IF('Data PAH'!J28=\"\",\"\",'Data PAH'!J28)","v":""},{"$f":"IF('Data PAH'!K28=\"\",\"\",IF(ISNUMBER('Data PAH'!K28)=TRUE, IF('Data PAH'!K28<'Data PAH'!K$38, \"ERROR\", 'Data PAH'!K28/1000), IF('Data PAH'!K28=\"<LOD\",'Data PAH'!K$38/1000, \"ERROR\")))","v":""},{"$f":"IF('Data PAH'!L28=\"\",\"\",IF(ISNUMBER('Data PAH'!L28)=TRUE, IF('Data PAH'!L28<'Data PAH'!L$38, \"ERROR\", 'Data PAH'!L28/1000), IF('Data PAH'!L28=\"<LOD\",'Data PAH'!L$38/1000, \"ERROR\")))","v":""},{"$f":"IF('Data PAH'!M28=\"\",\"\",IF(ISNUMBER('Data PAH'!M28)=TRUE, IF('Data PAH'!M28<'Data PAH'!M$38, \"ERROR\", 'Data PAH'!M28/1000), IF('Data PAH'!M28=\"<LOD\",'Data PAH'!M$38/1000, \"ERROR\")))","v":""},{"$f":"IF('Data PAH'!N28=\"\",\"\",IF(ISNUMBER('Data PAH'!N28)=TRUE, IF('Data PAH'!N28<'Data PAH'!N$38, \"ERROR\", 'Data PAH'!N28/1000), IF('Data PAH'!N28=\"<LOD\",'Data PAH'!N$38/1000, \"ERROR\")))","v":""},{"$f":"IF('Data PAH'!O28=\"\",\"\",IF(ISNUMBER('Data PAH'!O28)=TRUE, IF('Data PAH'!O28<'Data PAH'!O$38, \"ERROR\", 'Data PAH'!O28/1000), IF('Data PAH'!O28=\"<LOD\",'Data PAH'!O$38/1000, \"ERROR\")))","v":""},{"$f":"IF('Data PAH'!P28=\"\",\"\",IF(ISNUMBER('Data PAH'!P28)=TRUE, IF('Data PAH'!P28<'Data PAH'!P$38, \"ERROR\", 'Data PAH'!P28/1000), IF('Data PAH'!P28=\"<LOD\",'Data PAH'!P$38/1000, \"ERROR\")))","v":""},{"$f":"IF('Data PAH'!Q28=\"\",\"\",IF(ISNUMBER('Data PAH'!Q28)=TRUE, IF('Data PAH'!Q28<'Data PAH'!Q$38, \"ERROR\", 'Data PAH'!Q28/1000), IF('Data PAH'!Q28=\"<LOD\",'Data PAH'!Q$38/1000, \"ERROR\")))","v":""},{"$f":"IF('Data PAH'!R28=\"\",\"\",IF(ISNUMBER('Data PAH'!R28)=TRUE, IF('Data PAH'!R28<'Data PAH'!R$38, \"ERROR\", 'Data PAH'!R28/1000), IF('Data PAH'!R28=\"<LOD\",'Data PAH'!R$38/1000, \"ERROR\")))","v":""},{"$f":"IF('Data PAH'!S28=\"\",\"\",IF(ISNUMBER('Data PAH'!S28)=TRUE, IF('Data PAH'!S28<'Data PAH'!S$38, \"ERROR\", 'Data PAH'!S28/1000), IF('Data PAH'!S28=\"<LOD\",'Data PAH'!S$38/1000, \"ERROR\")))","v":""},{"$f":"IF('Data PAH'!T28=\"\",\"\",IF(ISNUMBER('Data PAH'!T28)=TRUE, IF('Data PAH'!T28<'Data PAH'!T$38, \"ERROR\", 'Data PAH'!T28/1000), IF('Data PAH'!T28=\"<LOD\",'Data PAH'!T$38/1000, \"ERROR\")))","v":""},{"$f":"IF('Data PAH'!U28=\"\",\"\",IF(ISNUMBER('Data PAH'!U28)=TRUE, IF('Data PAH'!U28<'Data PAH'!U$38, \"ERROR\", 'Data PAH'!U28/1000), IF('Data PAH'!U28=\"<LOD\",'Data PAH'!U$38/1000, \"ERROR\")))","v":""},{"$f":"IF('Data PAH'!V28=\"\",\"\",IF(ISNUMBER('Data PAH'!V28)=TRUE, IF('Data PAH'!V28<'Data PAH'!V$38, \"ERROR\", 'Data PAH'!V28/1000), IF('Data PAH'!V28=\"<LOD\",'Data PAH'!V$38/1000, \"ERROR\")))","v":""},{"$f":"IF('Data PAH'!W28=\"\",\"\",IF(ISNUMBER('Data PAH'!W28)=TRUE, IF('Data PAH'!W28<'Data PAH'!W$38, \"ERROR\", 'Data PAH'!W28/1000), IF('Data PAH'!W28=\"<LOD\",'Data PAH'!W$38/1000, \"ERROR\")))","v":""},{"$f":"IF('Data PAH'!X28=\"\",\"\",IF(ISNUMBER('Data PAH'!X28)=TRUE, IF('Data PAH'!X28<'Data PAH'!X$38, \"ERROR\", 'Data PAH'!X28/1000), IF('Data PAH'!X28=\"<LOD\",'Data PAH'!X$38/1000, \"ERROR\")))","v":""},{"$f":"IF('Data PAH'!Y28=\"\",\"\",IF(ISNUMBER('Data PAH'!Y28)=TRUE, IF('Data PAH'!Y28<'Data PAH'!Y$38, \"ERROR\", 'Data PAH'!Y28/1000), IF('Data PAH'!Y28=\"<LOD\",'Data PAH'!Y$38/1000, \"ERROR\")))","v":""},{"$f":"IF('Data PAH'!Z28=\"\",\"\",IF(ISNUMBER('Data PAH'!Z28)=TRUE, IF('Data PAH'!Z28<'Data PAH'!Z$38, \"ERROR\", 'Data PAH'!Z28/1000), IF('Data PAH'!Z28=\"<LOD\",'Data PAH'!Z$38/1000, \"ERROR\")))","v":""},{"$f":"IF('Data PAH'!AA28=\"\",\"\",IF(ISNUMBER('Data PAH'!AA28)=TRUE, IF('Data PAH'!AA28<'Data PAH'!AA$38, \"ERROR\", 'Data PAH'!AA28/1000), IF('Data PAH'!AA28=\"<LOD\",'Data PAH'!AA$38/1000, \"ERROR\")))","v":""},{"$f":"IF('Data PAH'!AB28=\"\",\"\",IF(ISNUMBER('Data PAH'!AB28)=TRUE, IF('Data PAH'!AB28<'Data PAH'!AB$38, \"ERROR\", 'Data PAH'!AB28/1000), IF('Data PAH'!AB28=\"<LOD\",'Data PAH'!AB$38/1000, \"ERROR\")))","v":""},{"$f":"IF('Data PAH'!AC28=\"\",\"\",IF(ISNUMBER('Data PAH'!AC28)=TRUE, IF('Data PAH'!AC28<'Data PAH'!AC$38, \"ERROR\", 'Data PAH'!AC28/1000), IF('Data PAH'!AC28=\"<LOD\",'Data PAH'!AC$38/1000, \"ERROR\")))","v":""},{"$f":"IF('Data PAH'!AD28=\"\",\"\",IF(ISNUMBER('Data PAH'!AD28)=TRUE, IF('Data PAH'!AD28<'Data PAH'!AD$38, \"ERROR\", 'Data PAH'!AD28/1000), IF('Data PAH'!AD28=\"<LOD\",'Data PAH'!AD$38/1000, \"ERROR\")))","v":""},{"$f":"IF('Data PAH'!AE28=\"\",\"\",IF(ISNUMBER('Data PAH'!AE28)=TRUE, IF('Data PAH'!AE28<'Data PAH'!AE$38, \"ERROR\", 'Data PAH'!AE28/1000), IF('Data PAH'!AE28=\"<LOD\",'Data PAH'!AE$38/1000, \"ERROR\")))","v":""},{"$f":"IF('Data PAH'!AF28=\"\",\"\",IF(ISNUMBER('Data PAH'!AF28)=TRUE, IF('Data PAH'!AF28<'Data PAH'!AF$38, \"ERROR\", 'Data PAH'!AF28/1000), IF('Data PAH'!AF28=\"<LOD\",'Data PAH'!AF$38/1000, \"ERROR\")))","v":""},{"$f":"IF('Data PAH'!AG28=\"\",\"\",IF(ISNUMBER('Data PAH'!AG28)=TRUE, IF('Data PAH'!AG28<'Data PAH'!AG$38, \"ERROR\", 'Data PAH'!AG28), IF('Data PAH'!AG28=\"<LOD\",'Data PAH'!AG$38, \"ERROR\")))","v":""}]
[null,null,null,null,null,null,null,{"$f":"IF('Data PAH'!H29=\"\",\"\",'Data PAH'!H29)","v":""},{"$f":"IF('Data PAH'!I29=\"\",\"\",'Data PAH'!I29)","v":""},{"$f":"IFERROR(IF(K29=\"\",\"\",(IF(VLOOKUP(K29,'Gwybodaeth ymgeiswyr'!$K$8:$L$37,2,0)=\"y\",\"y\",\"\"))),\"Manual entry required\")","v":""},{"$f":"IF('Data PAH'!J29=\"\",\"\",'Data PAH'!J29)","v":""},{"$f":"IF('Data PAH'!K29=\"\",\"\",IF(ISNUMBER('Data PAH'!K29)=TRUE, IF('Data PAH'!K29<'Data PAH'!K$38, \"ERROR\", 'Data PAH'!K29/1000), IF('Data PAH'!K29=\"<LOD\",'Data PAH'!K$38/1000, \"ERROR\")))","v":""},{"$f":"IF('Data PAH'!L29=\"\",\"\",IF(ISNUMBER('Data PAH'!L29)=TRUE, IF('Data PAH'!L29<'Data PAH'!L$38, \"ERROR\", 'Data PAH'!L29/1000), IF('Data PAH'!L29=\"<LOD\",'Data PAH'!L$38/1000, \"ERROR\")))","v":""},{"$f":"IF('Data PAH'!M29=\"\",\"\",IF(ISNUMBER('Data PAH'!M29)=TRUE, IF('Data PAH'!M29<'Data PAH'!M$38, \"ERROR\", 'Data PAH'!M29/1000), IF('Data PAH'!M29=\"<LOD\",'Data PAH'!M$38/1000, \"ERROR\")))","v":""},{"$f":"IF('Data PAH'!N29=\"\",\"\",IF(ISNUMBER('Data PAH'!N29)=TRUE, IF('Data PAH'!N29<'Data PAH'!N$38, \"ERROR\", 'Data PAH'!N29/1000), IF('Data PAH'!N29=\"<LOD\",'Data PAH'!N$38/1000, \"ERROR\")))","v":""},{"$f":"IF('Data PAH'!O29=\"\",\"\",IF(ISNUMBER('Data PAH'!O29)=TRUE, IF('Data PAH'!O29<'Data PAH'!O$38, \"ERROR\", 'Data PAH'!O29/1000), IF('Data PAH'!O29=\"<LOD\",'Data PAH'!O$38/1000, \"ERROR\")))","v":""},{"$f":"IF('Data PAH'!P29=\"\",\"\",IF(ISNUMBER('Data PAH'!P29)=TRUE, IF('Data PAH'!P29<'Data PAH'!P$38, \"ERROR\", 'Data PAH'!P29/1000), IF('Data PAH'!P29=\"<LOD\",'Data PAH'!P$38/1000, \"ERROR\")))","v":""},{"$f":"IF('Data PAH'!Q29=\"\",\"\",IF(ISNUMBER('Data PAH'!Q29)=TRUE, IF('Data PAH'!Q29<'Data PAH'!Q$38, \"ERROR\", 'Data PAH'!Q29/1000), IF('Data PAH'!Q29=\"<LOD\",'Data PAH'!Q$38/1000, \"ERROR\")))","v":""},{"$f":"IF('Data PAH'!R29=\"\",\"\",IF(ISNUMBER('Data PAH'!R29)=TRUE, IF('Data PAH'!R29<'Data PAH'!R$38, \"ERROR\", 'Data PAH'!R29/1000), IF('Data PAH'!R29=\"<LOD\",'Data PAH'!R$38/1000, \"ERROR\")))","v":""},{"$f":"IF('Data PAH'!S29=\"\",\"\",IF(ISNUMBER('Data PAH'!S29)=TRUE, IF('Data PAH'!S29<'Data PAH'!S$38, \"ERROR\", 'Data PAH'!S29/1000), IF('Data PAH'!S29=\"<LOD\",'Data PAH'!S$38/1000, \"ERROR\")))","v":""},{"$f":"IF('Data PAH'!T29=\"\",\"\",IF(ISNUMBER('Data PAH'!T29)=TRUE, IF('Data PAH'!T29<'Data PAH'!T$38, \"ERROR\", 'Data PAH'!T29/1000), IF('Data PAH'!T29=\"<LOD\",'Data PAH'!T$38/1000, \"ERROR\")))","v":""},{"$f":"IF('Data PAH'!U29=\"\",\"\",IF(ISNUMBER('Data PAH'!U29)=TRUE, IF('Data PAH'!U29<'Data PAH'!U$38, \"ERROR\", 'Data PAH'!U29/1000), IF('Data PAH'!U29=\"<LOD\",'Data PAH'!U$38/1000, \"ERROR\")))","v":""},{"$f":"IF('Data PAH'!V29=\"\",\"\",IF(ISNUMBER('Data PAH'!V29)=TRUE, IF('Data PAH'!V29<'Data PAH'!V$38, \"ERROR\", 'Data PAH'!V29/1000), IF('Data PAH'!V29=\"<LOD\",'Data PAH'!V$38/1000, \"ERROR\")))","v":""},{"$f":"IF('Data PAH'!W29=\"\",\"\",IF(ISNUMBER('Data PAH'!W29)=TRUE, IF('Data PAH'!W29<'Data PAH'!W$38, \"ERROR\", 'Data PAH'!W29/1000), IF('Data PAH'!W29=\"<LOD\",'Data PAH'!W$38/1000, \"ERROR\")))","v":""},{"$f":"IF('Data PAH'!X29=\"\",\"\",IF(ISNUMBER('Data PAH'!X29)=TRUE, IF('Data PAH'!X29<'Data PAH'!X$38, \"ERROR\", 'Data PAH'!X29/1000), IF('Data PAH'!X29=\"<LOD\",'Data PAH'!X$38/1000, \"ERROR\")))","v":""},{"$f":"IF('Data PAH'!Y29=\"\",\"\",IF(ISNUMBER('Data PAH'!Y29)=TRUE, IF('Data PAH'!Y29<'Data PAH'!Y$38, \"ERROR\", 'Data PAH'!Y29/1000), IF('Data PAH'!Y29=\"<LOD\",'Data PAH'!Y$38/1000, \"ERROR\")))","v":""},{"$f":"IF('Data PAH'!Z29=\"\",\"\",IF(ISNUMBER('Data PAH'!Z29)=TRUE, IF('Data PAH'!Z29<'Data PAH'!Z$38, \"ERROR\", 'Data PAH'!Z29/1000), IF('Data PAH'!Z29=\"<LOD\",'Data PAH'!Z$38/1000, \"ERROR\")))","v":""},{"$f":"IF('Data PAH'!AA29=\"\",\"\",IF(ISNUMBER('Data PAH'!AA29)=TRUE, IF('Data PAH'!AA29<'Data PAH'!AA$38, \"ERROR\", 'Data PAH'!AA29/1000), IF('Data PAH'!AA29=\"<LOD\",'Data PAH'!AA$38/1000, \"ERROR\")))","v":""},{"$f":"IF('Data PAH'!AB29=\"\",\"\",IF(ISNUMBER('Data PAH'!AB29)=TRUE, IF('Data PAH'!AB29<'Data PAH'!AB$38, \"ERROR\", 'Data PAH'!AB29/1000), IF('Data PAH'!AB29=\"<LOD\",'Data PAH'!AB$38/1000, \"ERROR\")))","v":""},{"$f":"IF('Data PAH'!AC29=\"\",\"\",IF(ISNUMBER('Data PAH'!AC29)=TRUE, IF('Data PAH'!AC29<'Data PAH'!AC$38, \"ERROR\", 'Data PAH'!AC29/1000), IF('Data PAH'!AC29=\"<LOD\",'Data PAH'!AC$38/1000, \"ERROR\")))","v":""},{"$f":"IF('Data PAH'!AD29=\"\",\"\",IF(ISNUMBER('Data PAH'!AD29)=TRUE, IF('Data PAH'!AD29<'Data PAH'!AD$38, \"ERROR\", 'Data PAH'!AD29/1000), IF('Data PAH'!AD29=\"<LOD\",'Data PAH'!AD$38/1000, \"ERROR\")))","v":""},{"$f":"IF('Data PAH'!AE29=\"\",\"\",IF(ISNUMBER('Data PAH'!AE29)=TRUE, IF('Data PAH'!AE29<'Data PAH'!AE$38, \"ERROR\", 'Data PAH'!AE29/1000), IF('Data PAH'!AE29=\"<LOD\",'Data PAH'!AE$38/1000, \"ERROR\")))","v":""},{"$f":"IF('Data PAH'!AF29=\"\",\"\",IF(ISNUMBER('Data PAH'!AF29)=TRUE, IF('Data PAH'!AF29<'Data PAH'!AF$38, \"ERROR\", 'Data PAH'!AF29/1000), IF('Data PAH'!AF29=\"<LOD\",'Data PAH'!AF$38/1000, \"ERROR\")))","v":""},{"$f":"IF('Data PAH'!AG29=\"\",\"\",IF(ISNUMBER('Data PAH'!AG29)=TRUE, IF('Data PAH'!AG29<'Data PAH'!AG$38, \"ERROR\", 'Data PAH'!AG29), IF('Data PAH'!AG29=\"<LOD\",'Data PAH'!AG$38, \"ERROR\")))","v":""}]
[null,null,null,null,null,null,null,{"$f":"IF('Data PAH'!H30=\"\",\"\",'Data PAH'!H30)","v":""},{"$f":"IF('Data PAH'!I30=\"\",\"\",'Data PAH'!I30)","v":""},{"$f":"IFERROR(IF(K30=\"\",\"\",(IF(VLOOKUP(K30,'Gwybodaeth ymgeiswyr'!$K$8:$L$37,2,0)=\"y\",\"y\",\"\"))),\"Manual entry required\")","v":""},{"$f":"IF('Data PAH'!J30=\"\",\"\",'Data PAH'!J30)","v":""},{"$f":"IF('Data PAH'!K30=\"\",\"\",IF(ISNUMBER('Data PAH'!K30)=TRUE, IF('Data PAH'!K30<'Data PAH'!K$38, \"ERROR\", 'Data PAH'!K30/1000), IF('Data PAH'!K30=\"<LOD\",'Data PAH'!K$38/1000, \"ERROR\")))","v":""},{"$f":"IF('Data PAH'!L30=\"\",\"\",IF(ISNUMBER('Data PAH'!L30)=TRUE, IF('Data PAH'!L30<'Data PAH'!L$38, \"ERROR\", 'Data PAH'!L30/1000), IF('Data PAH'!L30=\"<LOD\",'Data PAH'!L$38/1000, \"ERROR\")))","v":""},{"$f":"IF('Data PAH'!M30=\"\",\"\",IF(ISNUMBER('Data PAH'!M30)=TRUE, IF('Data PAH'!M30<'Data PAH'!M$38, \"ERROR\", 'Data PAH'!M30/1000), IF('Data PAH'!M30=\"<LOD\",'Data PAH'!M$38/1000, \"ERROR\")))","v":""},{"$f":"IF('Data PAH'!N30=\"\",\"\",IF(ISNUMBER('Data PAH'!N30)=TRUE, IF('Data PAH'!N30<'Data PAH'!N$38, \"ERROR\", 'Data PAH'!N30/1000), IF('Data PAH'!N30=\"<LOD\",'Data PAH'!N$38/1000, \"ERROR\")))","v":""},{"$f":"IF('Data PAH'!O30=\"\",\"\",IF(ISNUMBER('Data PAH'!O30)=TRUE, IF('Data PAH'!O30<'Data PAH'!O$38, \"ERROR\", 'Data PAH'!O30/1000), IF('Data PAH'!O30=\"<LOD\",'Data PAH'!O$38/1000, \"ERROR\")))","v":""},{"$f":"IF('Data PAH'!P30=\"\",\"\",IF(ISNUMBER('Data PAH'!P30)=TRUE, IF('Data PAH'!P30<'Data PAH'!P$38, \"ERROR\", 'Data PAH'!P30/1000), IF('Data PAH'!P30=\"<LOD\",'Data PAH'!P$38/1000, \"ERROR\")))","v":""},{"$f":"IF('Data PAH'!Q30=\"\",\"\",IF(ISNUMBER('Data PAH'!Q30)=TRUE, IF('Data PAH'!Q30<'Data PAH'!Q$38, \"ERROR\", 'Data PAH'!Q30/1000), IF('Data PAH'!Q30=\"<LOD\",'Data PAH'!Q$38/1000, \"ERROR\")))","v":""},{"$f":"IF('Data PAH'!R30=\"\",\"\",IF(ISNUMBER('Data PAH'!R30)=TRUE, IF('Data PAH'!R30<'Data PAH'!R$38, \"ERROR\", 'Data PAH'!R30/1000), IF('Data PAH'!R30=\"<LOD\",'Data PAH'!R$38/1000, \"ERROR\")))","v":""},{"$f":"IF('Data PAH'!S30=\"\",\"\",IF(ISNUMBER('Data PAH'!S30)=TRUE, IF('Data PAH'!S30<'Data PAH'!S$38, \"ERROR\", 'Data PAH'!S30/1000), IF('Data PAH'!S30=\"<LOD\",'Data PAH'!S$38/1000, \"ERROR\")))","v":""},{"$f":"IF('Data PAH'!T30=\"\",\"\",IF(ISNUMBER('Data PAH'!T30)=TRUE, IF('Data PAH'!T30<'Data PAH'!T$38, \"ERROR\", 'Data PAH'!T30/1000), IF('Data PAH'!T30=\"<LOD\",'Data PAH'!T$38/1000, \"ERROR\")))","v":""},{"$f":"IF('Data PAH'!U30=\"\",\"\",IF(ISNUMBER('Data PAH'!U30)=TRUE, IF('Data PAH'!U30<'Data PAH'!U$38, \"ERROR\", 'Data PAH'!U30/1000), IF('Data PAH'!U30=\"<LOD\",'Data PAH'!U$38/1000, \"ERROR\")))","v":""},{"$f":"IF('Data PAH'!V30=\"\",\"\",IF(ISNUMBER('Data PAH'!V30)=TRUE, IF('Data PAH'!V30<'Data PAH'!V$38, \"ERROR\", 'Data PAH'!V30/1000), IF('Data PAH'!V30=\"<LOD\",'Data PAH'!V$38/1000, \"ERROR\")))","v":""},{"$f":"IF('Data PAH'!W30=\"\",\"\",IF(ISNUMBER('Data PAH'!W30)=TRUE, IF('Data PAH'!W30<'Data PAH'!W$38, \"ERROR\", 'Data PAH'!W30/1000), IF('Data PAH'!W30=\"<LOD\",'Data PAH'!W$38/1000, \"ERROR\")))","v":""},{"$f":"IF('Data PAH'!X30=\"\",\"\",IF(ISNUMBER('Data PAH'!X30)=TRUE, IF('Data PAH'!X30<'Data PAH'!X$38, \"ERROR\", 'Data PAH'!X30/1000), IF('Data PAH'!X30=\"<LOD\",'Data PAH'!X$38/1000, \"ERROR\")))","v":""},{"$f":"IF('Data PAH'!Y30=\"\",\"\",IF(ISNUMBER('Data PAH'!Y30)=TRUE, IF('Data PAH'!Y30<'Data PAH'!Y$38, \"ERROR\", 'Data PAH'!Y30/1000), IF('Data PAH'!Y30=\"<LOD\",'Data PAH'!Y$38/1000, \"ERROR\")))","v":""},{"$f":"IF('Data PAH'!Z30=\"\",\"\",IF(ISNUMBER('Data PAH'!Z30)=TRUE, IF('Data PAH'!Z30<'Data PAH'!Z$38, \"ERROR\", 'Data PAH'!Z30/1000), IF('Data PAH'!Z30=\"<LOD\",'Data PAH'!Z$38/1000, \"ERROR\")))","v":""},{"$f":"IF('Data PAH'!AA30=\"\",\"\",IF(ISNUMBER('Data PAH'!AA30)=TRUE, IF('Data PAH'!AA30<'Data PAH'!AA$38, \"ERROR\", 'Data PAH'!AA30/1000), IF('Data PAH'!AA30=\"<LOD\",'Data PAH'!AA$38/1000, \"ERROR\")))","v":""},{"$f":"IF('Data PAH'!AB30=\"\",\"\",IF(ISNUMBER('Data PAH'!AB30)=TRUE, IF('Data PAH'!AB30<'Data PAH'!AB$38, \"ERROR\", 'Data PAH'!AB30/1000), IF('Data PAH'!AB30=\"<LOD\",'Data PAH'!AB$38/1000, \"ERROR\")))","v":""},{"$f":"IF('Data PAH'!AC30=\"\",\"\",IF(ISNUMBER('Data PAH'!AC30)=TRUE, IF('Data PAH'!AC30<'Data PAH'!AC$38, \"ERROR\", 'Data PAH'!AC30/1000), IF('Data PAH'!AC30=\"<LOD\",'Data PAH'!AC$38/1000, \"ERROR\")))","v":""},{"$f":"IF('Data PAH'!AD30=\"\",\"\",IF(ISNUMBER('Data PAH'!AD30)=TRUE, IF('Data PAH'!AD30<'Data PAH'!AD$38, \"ERROR\", 'Data PAH'!AD30/1000), IF('Data PAH'!AD30=\"<LOD\",'Data PAH'!AD$38/1000, \"ERROR\")))","v":""},{"$f":"IF('Data PAH'!AE30=\"\",\"\",IF(ISNUMBER('Data PAH'!AE30)=TRUE, IF('Data PAH'!AE30<'Data PAH'!AE$38, \"ERROR\", 'Data PAH'!AE30/1000), IF('Data PAH'!AE30=\"<LOD\",'Data PAH'!AE$38/1000, \"ERROR\")))","v":""},{"$f":"IF('Data PAH'!AF30=\"\",\"\",IF(ISNUMBER('Data PAH'!AF30)=TRUE, IF('Data PAH'!AF30<'Data PAH'!AF$38, \"ERROR\", 'Data PAH'!AF30/1000), IF('Data PAH'!AF30=\"<LOD\",'Data PAH'!AF$38/1000, \"ERROR\")))","v":""},{"$f":"IF('Data PAH'!AG30=\"\",\"\",IF(ISNUMBER('Data PAH'!AG30)=TRUE, IF('Data PAH'!AG30<'Data PAH'!AG$38, \"ERROR\", 'Data PAH'!AG30), IF('Data PAH'!AG30=\"<LOD\",'Data PAH'!AG$38, \"ERROR\")))","v":""}]
[null,null,null,null,null,null,null,{"$f":"IF('Data PAH'!H31=\"\",\"\",'Data PAH'!H31)","v":""},{"$f":"IF('Data PAH'!I31=\"\",\"\",'Data PAH'!I31)","v":""},{"$f":"IFERROR(IF(K31=\"\",\"\",(IF(VLOOKUP(K31,'Gwybodaeth ymgeiswyr'!$K$8:$L$37,2,0)=\"y\",\"y\",\"\"))),\"Manual entry required\")","v":""},{"$f":"IF('Data PAH'!J31=\"\",\"\",'Data PAH'!J31)","v":""},{"$f":"IF('Data PAH'!K31=\"\",\"\",IF(ISNUMBER('Data PAH'!K31)=TRUE, IF('Data PAH'!K31<'Data PAH'!K$38, \"ERROR\", 'Data PAH'!K31/1000), IF('Data PAH'!K31=\"<LOD\",'Data PAH'!K$38/1000, \"ERROR\")))","v":""},{"$f":"IF('Data PAH'!L31=\"\",\"\",IF(ISNUMBER('Data PAH'!L31)=TRUE, IF('Data PAH'!L31<'Data PAH'!L$38, \"ERROR\", 'Data PAH'!L31/1000), IF('Data PAH'!L31=\"<LOD\",'Data PAH'!L$38/1000, \"ERROR\")))","v":""},{"$f":"IF('Data PAH'!M31=\"\",\"\",IF(ISNUMBER('Data PAH'!M31)=TRUE, IF('Data PAH'!M31<'Data PAH'!M$38, \"ERROR\", 'Data PAH'!M31/1000), IF('Data PAH'!M31=\"<LOD\",'Data PAH'!M$38/1000, \"ERROR\")))","v":""},{"$f":"IF('Data PAH'!N31=\"\",\"\",IF(ISNUMBER('Data PAH'!N31)=TRUE, IF('Data PAH'!N31<'Data PAH'!N$38, \"ERROR\", 'Data PAH'!N31/1000), IF('Data PAH'!N31=\"<LOD\",'Data PAH'!N$38/1000, \"ERROR\")))","v":""},{"$f":"IF('Data PAH'!O31=\"\",\"\",IF(ISNUMBER('Data PAH'!O31)=TRUE, IF('Data PAH'!O31<'Data PAH'!O$38, \"ERROR\", 'Data PAH'!O31/1000), IF('Data PAH'!O31=\"<LOD\",'Data PAH'!O$38/1000, \"ERROR\")))","v":""},{"$f":"IF('Data PAH'!P31=\"\",\"\",IF(ISNUMBER('Data PAH'!P31)=TRUE, IF('Data PAH'!P31<'Data PAH'!P$38, \"ERROR\", 'Data PAH'!P31/1000), IF('Data PAH'!P31=\"<LOD\",'Data PAH'!P$38/1000, \"ERROR\")))","v":""},{"$f":"IF('Data PAH'!Q31=\"\",\"\",IF(ISNUMBER('Data PAH'!Q31)=TRUE, IF('Data PAH'!Q31<'Data PAH'!Q$38, \"ERROR\", 'Data PAH'!Q31/1000), IF('Data PAH'!Q31=\"<LOD\",'Data PAH'!Q$38/1000, \"ERROR\")))","v":""},{"$f":"IF('Data PAH'!R31=\"\",\"\",IF(ISNUMBER('Data PAH'!R31)=TRUE, IF('Data PAH'!R31<'Data PAH'!R$38, \"ERROR\", 'Data PAH'!R31/1000), IF('Data PAH'!R31=\"<LOD\",'Data PAH'!R$38/1000, \"ERROR\")))","v":""},{"$f":"IF('Data PAH'!S31=\"\",\"\",IF(ISNUMBER('Data PAH'!S31)=TRUE, IF('Data PAH'!S31<'Data PAH'!S$38, \"ERROR\", 'Data PAH'!S31/1000), IF('Data PAH'!S31=\"<LOD\",'Data PAH'!S$38/1000, \"ERROR\")))","v":""},{"$f":"IF('Data PAH'!T31=\"\",\"\",IF(ISNUMBER('Data PAH'!T31)=TRUE, IF('Data PAH'!T31<'Data PAH'!T$38, \"ERROR\", 'Data PAH'!T31/1000), IF('Data PAH'!T31=\"<LOD\",'Data PAH'!T$38/1000, \"ERROR\")))","v":""},{"$f":"IF('Data PAH'!U31=\"\",\"\",IF(ISNUMBER('Data PAH'!U31)=TRUE, IF('Data PAH'!U31<'Data PAH'!U$38, \"ERROR\", 'Data PAH'!U31/1000), IF('Data PAH'!U31=\"<LOD\",'Data PAH'!U$38/1000, \"ERROR\")))","v":""},{"$f":"IF('Data PAH'!V31=\"\",\"\",IF(ISNUMBER('Data PAH'!V31)=TRUE, IF('Data PAH'!V31<'Data PAH'!V$38, \"ERROR\", 'Data PAH'!V31/1000), IF('Data PAH'!V31=\"<LOD\",'Data PAH'!V$38/1000, \"ERROR\")))","v":""},{"$f":"IF('Data PAH'!W31=\"\",\"\",IF(ISNUMBER('Data PAH'!W31)=TRUE, IF('Data PAH'!W31<'Data PAH'!W$38, \"ERROR\", 'Data PAH'!W31/1000), IF('Data PAH'!W31=\"<LOD\",'Data PAH'!W$38/1000, \"ERROR\")))","v":""},{"$f":"IF('Data PAH'!X31=\"\",\"\",IF(ISNUMBER('Data PAH'!X31)=TRUE, IF('Data PAH'!X31<'Data PAH'!X$38, \"ERROR\", 'Data PAH'!X31/1000), IF('Data PAH'!X31=\"<LOD\",'Data PAH'!X$38/1000, \"ERROR\")))","v":""},{"$f":"IF('Data PAH'!Y31=\"\",\"\",IF(ISNUMBER('Data PAH'!Y31)=TRUE, IF('Data PAH'!Y31<'Data PAH'!Y$38, \"ERROR\", 'Data PAH'!Y31/1000), IF('Data PAH'!Y31=\"<LOD\",'Data PAH'!Y$38/1000, \"ERROR\")))","v":""},{"$f":"IF('Data PAH'!Z31=\"\",\"\",IF(ISNUMBER('Data PAH'!Z31)=TRUE, IF('Data PAH'!Z31<'Data PAH'!Z$38, \"ERROR\", 'Data PAH'!Z31/1000), IF('Data PAH'!Z31=\"<LOD\",'Data PAH'!Z$38/1000, \"ERROR\")))","v":""},{"$f":"IF('Data PAH'!AA31=\"\",\"\",IF(ISNUMBER('Data PAH'!AA31)=TRUE, IF('Data PAH'!AA31<'Data PAH'!AA$38, \"ERROR\", 'Data PAH'!AA31/1000), IF('Data PAH'!AA31=\"<LOD\",'Data PAH'!AA$38/1000, \"ERROR\")))","v":""},{"$f":"IF('Data PAH'!AB31=\"\",\"\",IF(ISNUMBER('Data PAH'!AB31)=TRUE, IF('Data PAH'!AB31<'Data PAH'!AB$38, \"ERROR\", 'Data PAH'!AB31/1000), IF('Data PAH'!AB31=\"<LOD\",'Data PAH'!AB$38/1000, \"ERROR\")))","v":""},{"$f":"IF('Data PAH'!AC31=\"\",\"\",IF(ISNUMBER('Data PAH'!AC31)=TRUE, IF('Data PAH'!AC31<'Data PAH'!AC$38, \"ERROR\", 'Data PAH'!AC31/1000), IF('Data PAH'!AC31=\"<LOD\",'Data PAH'!AC$38/1000, \"ERROR\")))","v":""},{"$f":"IF('Data PAH'!AD31=\"\",\"\",IF(ISNUMBER('Data PAH'!AD31)=TRUE, IF('Data PAH'!AD31<'Data PAH'!AD$38, \"ERROR\", 'Data PAH'!AD31/1000), IF('Data PAH'!AD31=\"<LOD\",'Data PAH'!AD$38/1000, \"ERROR\")))","v":""},{"$f":"IF('Data PAH'!AE31=\"\",\"\",IF(ISNUMBER('Data PAH'!AE31)=TRUE, IF('Data PAH'!AE31<'Data PAH'!AE$38, \"ERROR\", 'Data PAH'!AE31/1000), IF('Data PAH'!AE31=\"<LOD\",'Data PAH'!AE$38/1000, \"ERROR\")))","v":""},{"$f":"IF('Data PAH'!AF31=\"\",\"\",IF(ISNUMBER('Data PAH'!AF31)=TRUE, IF('Data PAH'!AF31<'Data PAH'!AF$38, \"ERROR\", 'Data PAH'!AF31/1000), IF('Data PAH'!AF31=\"<LOD\",'Data PAH'!AF$38/1000, \"ERROR\")))","v":""},{"$f":"IF('Data PAH'!AG31=\"\",\"\",IF(ISNUMBER('Data PAH'!AG31)=TRUE, IF('Data PAH'!AG31<'Data PAH'!AG$38, \"ERROR\", 'Data PAH'!AG31), IF('Data PAH'!AG31=\"<LOD\",'Data PAH'!AG$38, \"ERROR\")))","v":""}]
[null,null,null,null,null,null,null,{"$f":"IF('Data PAH'!H32=\"\",\"\",'Data PAH'!H32)","v":""},{"$f":"IF('Data PAH'!I32=\"\",\"\",'Data PAH'!I32)","v":""},{"$f":"IFERROR(IF(K32=\"\",\"\",(IF(VLOOKUP(K32,'Gwybodaeth ymgeiswyr'!$K$8:$L$37,2,0)=\"y\",\"y\",\"\"))),\"Manual entry required\")","v":""},{"$f":"IF('Data PAH'!J32=\"\",\"\",'Data PAH'!J32)","v":""},{"$f":"IF('Data PAH'!K32=\"\",\"\",IF(ISNUMBER('Data PAH'!K32)=TRUE, IF('Data PAH'!K32<'Data PAH'!K$38, \"ERROR\", 'Data PAH'!K32/1000), IF('Data PAH'!K32=\"<LOD\",'Data PAH'!K$38/1000, \"ERROR\")))","v":""},{"$f":"IF('Data PAH'!L32=\"\",\"\",IF(ISNUMBER('Data PAH'!L32)=TRUE, IF('Data PAH'!L32<'Data PAH'!L$38, \"ERROR\", 'Data PAH'!L32/1000), IF('Data PAH'!L32=\"<LOD\",'Data PAH'!L$38/1000, \"ERROR\")))","v":""},{"$f":"IF('Data PAH'!M32=\"\",\"\",IF(ISNUMBER('Data PAH'!M32)=TRUE, IF('Data PAH'!M32<'Data PAH'!M$38, \"ERROR\", 'Data PAH'!M32/1000), IF('Data PAH'!M32=\"<LOD\",'Data PAH'!M$38/1000, \"ERROR\")))","v":""},{"$f":"IF('Data PAH'!N32=\"\",\"\",IF(ISNUMBER('Data PAH'!N32)=TRUE, IF('Data PAH'!N32<'Data PAH'!N$38, \"ERROR\", 'Data PAH'!N32/1000), IF('Data PAH'!N32=\"<LOD\",'Data PAH'!N$38/1000, \"ERROR\")))","v":""},{"$f":"IF('Data PAH'!O32=\"\",\"\",IF(ISNUMBER('Data PAH'!O32)=TRUE, IF('Data PAH'!O32<'Data PAH'!O$38, \"ERROR\", 'Data PAH'!O32/1000), IF('Data PAH'!O32=\"<LOD\",'Data PAH'!O$38/1000, \"ERROR\")))","v":""},{"$f":"IF('Data PAH'!P32=\"\",\"\",IF(ISNUMBER('Data PAH'!P32)=TRUE, IF('Data PAH'!P32<'Data PAH'!P$38, \"ERROR\", 'Data PAH'!P32/1000), IF('Data PAH'!P32=\"<LOD\",'Data PAH'!P$38/1000, \"ERROR\")))","v":""},{"$f":"IF('Data PAH'!Q32=\"\",\"\",IF(ISNUMBER('Data PAH'!Q32)=TRUE, IF('Data PAH'!Q32<'Data PAH'!Q$38, \"ERROR\", 'Data PAH'!Q32/1000), IF('Data PAH'!Q32=\"<LOD\",'Data PAH'!Q$38/1000, \"ERROR\")))","v":""},{"$f":"IF('Data PAH'!R32=\"\",\"\",IF(ISNUMBER('Data PAH'!R32)=TRUE, IF('Data PAH'!R32<'Data PAH'!R$38, \"ERROR\", 'Data PAH'!R32/1000), IF('Data PAH'!R32=\"<LOD\",'Data PAH'!R$38/1000, \"ERROR\")))","v":""},{"$f":"IF('Data PAH'!S32=\"\",\"\",IF(ISNUMBER('Data PAH'!S32)=TRUE, IF('Data PAH'!S32<'Data PAH'!S$38, \"ERROR\", 'Data PAH'!S32/1000), IF('Data PAH'!S32=\"<LOD\",'Data PAH'!S$38/1000, \"ERROR\")))","v":""},{"$f":"IF('Data PAH'!T32=\"\",\"\",IF(ISNUMBER('Data PAH'!T32)=TRUE, IF('Data PAH'!T32<'Data PAH'!T$38, \"ERROR\", 'Data PAH'!T32/1000), IF('Data PAH'!T32=\"<LOD\",'Data PAH'!T$38/1000, \"ERROR\")))","v":""},{"$f":"IF('Data PAH'!U32=\"\",\"\",IF(ISNUMBER('Data PAH'!U32)=TRUE, IF('Data PAH'!U32<'Data PAH'!U$38, \"ERROR\", 'Data PAH'!U32/1000), IF('Data PAH'!U32=\"<LOD\",'Data PAH'!U$38/1000, \"ERROR\")))","v":""},{"$f":"IF('Data PAH'!V32=\"\",\"\",IF(ISNUMBER('Data PAH'!V32)=TRUE, IF('Data PAH'!V32<'Data PAH'!V$38, \"ERROR\", 'Data PAH'!V32/1000), IF('Data PAH'!V32=\"<LOD\",'Data PAH'!V$38/1000, \"ERROR\")))","v":""},{"$f":"IF('Data PAH'!W32=\"\",\"\",IF(ISNUMBER('Data PAH'!W32)=TRUE, IF('Data PAH'!W32<'Data PAH'!W$38, \"ERROR\", 'Data PAH'!W32/1000), IF('Data PAH'!W32=\"<LOD\",'Data PAH'!W$38/1000, \"ERROR\")))","v":""},{"$f":"IF('Data PAH'!X32=\"\",\"\",IF(ISNUMBER('Data PAH'!X32)=TRUE, IF('Data PAH'!X32<'Data PAH'!X$38, \"ERROR\", 'Data PAH'!X32/1000), IF('Data PAH'!X32=\"<LOD\",'Data PAH'!X$38/1000, \"ERROR\")))","v":""},{"$f":"IF('Data PAH'!Y32=\"\",\"\",IF(ISNUMBER('Data PAH'!Y32)=TRUE, IF('Data PAH'!Y32<'Data PAH'!Y$38, \"ERROR\", 'Data PAH'!Y32/1000), IF('Data PAH'!Y32=\"<LOD\",'Data PAH'!Y$38/1000, \"ERROR\")))","v":""},{"$f":"IF('Data PAH'!Z32=\"\",\"\",IF(ISNUMBER('Data PAH'!Z32)=TRUE, IF('Data PAH'!Z32<'Data PAH'!Z$38, \"ERROR\", 'Data PAH'!Z32/1000), IF('Data PAH'!Z32=\"<LOD\",'Data PAH'!Z$38/1000, \"ERROR\")))","v":""},{"$f":"IF('Data PAH'!AA32=\"\",\"\",IF(ISNUMBER('Data PAH'!AA32)=TRUE, IF('Data PAH'!AA32<'Data PAH'!AA$38, \"ERROR\", 'Data PAH'!AA32/1000), IF('Data PAH'!AA32=\"<LOD\",'Data PAH'!AA$38/1000, \"ERROR\")))","v":""},{"$f":"IF('Data PAH'!AB32=\"\",\"\",IF(ISNUMBER('Data PAH'!AB32)=TRUE, IF('Data PAH'!AB32<'Data PAH'!AB$38, \"ERROR\", 'Data PAH'!AB32/1000), IF('Data PAH'!AB32=\"<LOD\",'Data PAH'!AB$38/1000, \"ERROR\")))","v":""},{"$f":"IF('Data PAH'!AC32=\"\",\"\",IF(ISNUMBER('Data PAH'!AC32)=TRUE, IF('Data PAH'!AC32<'Data PAH'!AC$38, \"ERROR\", 'Data PAH'!AC32/1000), IF('Data PAH'!AC32=\"<LOD\",'Data PAH'!AC$38/1000, \"ERROR\")))","v":""},{"$f":"IF('Data PAH'!AD32=\"\",\"\",IF(ISNUMBER('Data PAH'!AD32)=TRUE, IF('Data PAH'!AD32<'Data PAH'!AD$38, \"ERROR\", 'Data PAH'!AD32/1000), IF('Data PAH'!AD32=\"<LOD\",'Data PAH'!AD$38/1000, \"ERROR\")))","v":""},{"$f":"IF('Data PAH'!AE32=\"\",\"\",IF(ISNUMBER('Data PAH'!AE32)=TRUE, IF('Data PAH'!AE32<'Data PAH'!AE$38, \"ERROR\", 'Data PAH'!AE32/1000), IF('Data PAH'!AE32=\"<LOD\",'Data PAH'!AE$38/1000, \"ERROR\")))","v":""},{"$f":"IF('Data PAH'!AF32=\"\",\"\",IF(ISNUMBER('Data PAH'!AF32)=TRUE, IF('Data PAH'!AF32<'Data PAH'!AF$38, \"ERROR\", 'Data PAH'!AF32/1000), IF('Data PAH'!AF32=\"<LOD\",'Data PAH'!AF$38/1000, \"ERROR\")))","v":""},{"$f":"IF('Data PAH'!AG32=\"\",\"\",IF(ISNUMBER('Data PAH'!AG32)=TRUE, IF('Data PAH'!AG32<'Data PAH'!AG$38, \"ERROR\", 'Data PAH'!AG32), IF('Data PAH'!AG32=\"<LOD\",'Data PAH'!AG$38, \"ERROR\")))","v":""}]
[null,null,null,null,null,null,null,{"$f":"IF('Data PAH'!H33=\"\",\"\",'Data PAH'!H33)","v":""},{"$f":"IF('Data PAH'!I33=\"\",\"\",'Data PAH'!I33)","v":""},{"$f":"IFERROR(IF(K33=\"\",\"\",(IF(VLOOKUP(K33,'Gwybodaeth ymgeiswyr'!$K$8:$L$37,2,0)=\"y\",\"y\",\"\"))),\"Manual entry required\")","v":""},{"$f":"IF('Data PAH'!J33=\"\",\"\",'Data PAH'!J33)","v":""},{"$f":"IF('Data PAH'!K33=\"\",\"\",IF(ISNUMBER('Data PAH'!K33)=TRUE, IF('Data PAH'!K33<'Data PAH'!K$38, \"ERROR\", 'Data PAH'!K33/1000), IF('Data PAH'!K33=\"<LOD\",'Data PAH'!K$38/1000, \"ERROR\")))","v":""},{"$f":"IF('Data PAH'!L33=\"\",\"\",IF(ISNUMBER('Data PAH'!L33)=TRUE, IF('Data PAH'!L33<'Data PAH'!L$38, \"ERROR\", 'Data PAH'!L33/1000), IF('Data PAH'!L33=\"<LOD\",'Data PAH'!L$38/1000, \"ERROR\")))","v":""},{"$f":"IF('Data PAH'!M33=\"\",\"\",IF(ISNUMBER('Data PAH'!M33)=TRUE, IF('Data PAH'!M33<'Data PAH'!M$38, \"ERROR\", 'Data PAH'!M33/1000), IF('Data PAH'!M33=\"<LOD\",'Data PAH'!M$38/1000, \"ERROR\")))","v":""},{"$f":"IF('Data PAH'!N33=\"\",\"\",IF(ISNUMBER('Data PAH'!N33)=TRUE, IF('Data PAH'!N33<'Data PAH'!N$38, \"ERROR\", 'Data PAH'!N33/1000), IF('Data PAH'!N33=\"<LOD\",'Data PAH'!N$38/1000, \"ERROR\")))","v":""},{"$f":"IF('Data PAH'!O33=\"\",\"\",IF(ISNUMBER('Data PAH'!O33)=TRUE, IF('Data PAH'!O33<'Data PAH'!O$38, \"ERROR\", 'Data PAH'!O33/1000), IF('Data PAH'!O33=\"<LOD\",'Data PAH'!O$38/1000, \"ERROR\")))","v":""},{"$f":"IF('Data PAH'!P33=\"\",\"\",IF(ISNUMBER('Data PAH'!P33)=TRUE, IF('Data PAH'!P33<'Data PAH'!P$38, \"ERROR\", 'Data PAH'!P33/1000), IF('Data PAH'!P33=\"<LOD\",'Data PAH'!P$38/1000, \"ERROR\")))","v":""},{"$f":"IF('Data PAH'!Q33=\"\",\"\",IF(ISNUMBER('Data PAH'!Q33)=TRUE, IF('Data PAH'!Q33<'Data PAH'!Q$38, \"ERROR\", 'Data PAH'!Q33/1000), IF('Data PAH'!Q33=\"<LOD\",'Data PAH'!Q$38/1000, \"ERROR\")))","v":""},{"$f":"IF('Data PAH'!R33=\"\",\"\",IF(ISNUMBER('Data PAH'!R33)=TRUE, IF('Data PAH'!R33<'Data PAH'!R$38, \"ERROR\", 'Data PAH'!R33/1000), IF('Data PAH'!R33=\"<LOD\",'Data PAH'!R$38/1000, \"ERROR\")))","v":""},{"$f":"IF('Data PAH'!S33=\"\",\"\",IF(ISNUMBER('Data PAH'!S33)=TRUE, IF('Data PAH'!S33<'Data PAH'!S$38, \"ERROR\", 'Data PAH'!S33/1000), IF('Data PAH'!S33=\"<LOD\",'Data PAH'!S$38/1000, \"ERROR\")))","v":""},{"$f":"IF('Data PAH'!T33=\"\",\"\",IF(ISNUMBER('Data PAH'!T33)=TRUE, IF('Data PAH'!T33<'Data PAH'!T$38, \"ERROR\", 'Data PAH'!T33/1000), IF('Data PAH'!T33=\"<LOD\",'Data PAH'!T$38/1000, \"ERROR\")))","v":""},{"$f":"IF('Data PAH'!U33=\"\",\"\",IF(ISNUMBER('Data PAH'!U33)=TRUE, IF('Data PAH'!U33<'Data PAH'!U$38, \"ERROR\", 'Data PAH'!U33/1000), IF('Data PAH'!U33=\"<LOD\",'Data PAH'!U$38/1000, \"ERROR\")))","v":""},{"$f":"IF('Data PAH'!V33=\"\",\"\",IF(ISNUMBER('Data PAH'!V33)=TRUE, IF('Data PAH'!V33<'Data PAH'!V$38, \"ERROR\", 'Data PAH'!V33/1000), IF('Data PAH'!V33=\"<LOD\",'Data PAH'!V$38/1000, \"ERROR\")))","v":""},{"$f":"IF('Data PAH'!W33=\"\",\"\",IF(ISNUMBER('Data PAH'!W33)=TRUE, IF('Data PAH'!W33<'Data PAH'!W$38, \"ERROR\", 'Data PAH'!W33/1000), IF('Data PAH'!W33=\"<LOD\",'Data PAH'!W$38/1000, \"ERROR\")))","v":""},{"$f":"IF('Data PAH'!X33=\"\",\"\",IF(ISNUMBER('Data PAH'!X33)=TRUE, IF('Data PAH'!X33<'Data PAH'!X$38, \"ERROR\", 'Data PAH'!X33/1000), IF('Data PAH'!X33=\"<LOD\",'Data PAH'!X$38/1000, \"ERROR\")))","v":""},{"$f":"IF('Data PAH'!Y33=\"\",\"\",IF(ISNUMBER('Data PAH'!Y33)=TRUE, IF('Data PAH'!Y33<'Data PAH'!Y$38, \"ERROR\", 'Data PAH'!Y33/1000), IF('Data PAH'!Y33=\"<LOD\",'Data PAH'!Y$38/1000, \"ERROR\")))","v":""},{"$f":"IF('Data PAH'!Z33=\"\",\"\",IF(ISNUMBER('Data PAH'!Z33)=TRUE, IF('Data PAH'!Z33<'Data PAH'!Z$38, \"ERROR\", 'Data PAH'!Z33/1000), IF('Data PAH'!Z33=\"<LOD\",'Data PAH'!Z$38/1000, \"ERROR\")))","v":""},{"$f":"IF('Data PAH'!AA33=\"\",\"\",IF(ISNUMBER('Data PAH'!AA33)=TRUE, IF('Data PAH'!AA33<'Data PAH'!AA$38, \"ERROR\", 'Data PAH'!AA33/1000), IF('Data PAH'!AA33=\"<LOD\",'Data PAH'!AA$38/1000, \"ERROR\")))","v":""},{"$f":"IF('Data PAH'!AB33=\"\",\"\",IF(ISNUMBER('Data PAH'!AB33)=TRUE, IF('Data PAH'!AB33<'Data PAH'!AB$38, \"ERROR\", 'Data PAH'!AB33/1000), IF('Data PAH'!AB33=\"<LOD\",'Data PAH'!AB$38/1000, \"ERROR\")))","v":""},{"$f":"IF('Data PAH'!AC33=\"\",\"\",IF(ISNUMBER('Data PAH'!AC33)=TRUE, IF('Data PAH'!AC33<'Data PAH'!AC$38, \"ERROR\", 'Data PAH'!AC33/1000), IF('Data PAH'!AC33=\"<LOD\",'Data PAH'!AC$38/1000, \"ERROR\")))","v":""},{"$f":"IF('Data PAH'!AD33=\"\",\"\",IF(ISNUMBER('Data PAH'!AD33)=TRUE, IF('Data PAH'!AD33<'Data PAH'!AD$38, \"ERROR\", 'Data PAH'!AD33/1000), IF('Data PAH'!AD33=\"<LOD\",'Data PAH'!AD$38/1000, \"ERROR\")))","v":""},{"$f":"IF('Data PAH'!AE33=\"\",\"\",IF(ISNUMBER('Data PAH'!AE33)=TRUE, IF('Data PAH'!AE33<'Data PAH'!AE$38, \"ERROR\", 'Data PAH'!AE33/1000), IF('Data PAH'!AE33=\"<LOD\",'Data PAH'!AE$38/1000, \"ERROR\")))","v":""},{"$f":"IF('Data PAH'!AF33=\"\",\"\",IF(ISNUMBER('Data PAH'!AF33)=TRUE, IF('Data PAH'!AF33<'Data PAH'!AF$38, \"ERROR\", 'Data PAH'!AF33/1000), IF('Data PAH'!AF33=\"<LOD\",'Data PAH'!AF$38/1000, \"ERROR\")))","v":""},{"$f":"IF('Data PAH'!AG33=\"\",\"\",IF(ISNUMBER('Data PAH'!AG33)=TRUE, IF('Data PAH'!AG33<'Data PAH'!AG$38, \"ERROR\", 'Data PAH'!AG33), IF('Data PAH'!AG33=\"<LOD\",'Data PAH'!AG$38, \"ERROR\")))","v":""}]
[null,null,null,null,null,null,null,{"$f":"IF('Data PAH'!H34=\"\",\"\",'Data PAH'!H34)","v":""},{"$f":"IF('Data PAH'!I34=\"\",\"\",'Data PAH'!I34)","v":""},{"$f":"IFERROR(IF(K34=\"\",\"\",(IF(VLOOKUP(K34,'Gwybodaeth ymgeiswyr'!$K$8:$L$37,2,0)=\"y\",\"y\",\"\"))),\"Manual entry required\")","v":""},{"$f":"IF('Data PAH'!J34=\"\",\"\",'Data PAH'!J34)","v":""},{"$f":"IF('Data PAH'!K34=\"\",\"\",IF(ISNUMBER('Data PAH'!K34)=TRUE, IF('Data PAH'!K34<'Data PAH'!K$38, \"ERROR\", 'Data PAH'!K34/1000), IF('Data PAH'!K34=\"<LOD\",'Data PAH'!K$38/1000, \"ERROR\")))","v":""},{"$f":"IF('Data PAH'!L34=\"\",\"\",IF(ISNUMBER('Data PAH'!L34)=TRUE, IF('Data PAH'!L34<'Data PAH'!L$38, \"ERROR\", 'Data PAH'!L34/1000), IF('Data PAH'!L34=\"<LOD\",'Data PAH'!L$38/1000, \"ERROR\")))","v":""},{"$f":"IF('Data PAH'!M34=\"\",\"\",IF(ISNUMBER('Data PAH'!M34)=TRUE, IF('Data PAH'!M34<'Data PAH'!M$38, \"ERROR\", 'Data PAH'!M34/1000), IF('Data PAH'!M34=\"<LOD\",'Data PAH'!M$38/1000, \"ERROR\")))","v":""},{"$f":"IF('Data PAH'!N34=\"\",\"\",IF(ISNUMBER('Data PAH'!N34)=TRUE, IF('Data PAH'!N34<'Data PAH'!N$38, \"ERROR\", 'Data PAH'!N34/1000), IF('Data PAH'!N34=\"<LOD\",'Data PAH'!N$38/1000, \"ERROR\")))","v":""},{"$f":"IF('Data PAH'!O34=\"\",\"\",IF(ISNUMBER('Data PAH'!O34)=TRUE, IF('Data PAH'!O34<'Data PAH'!O$38, \"ERROR\", 'Data PAH'!O34/1000), IF('Data PAH'!O34=\"<LOD\",'Data PAH'!O$38/1000, \"ERROR\")))","v":""},{"$f":"IF('Data PAH'!P34=\"\",\"\",IF(ISNUMBER('Data PAH'!P34)=TRUE, IF('Data PAH'!P34<'Data PAH'!P$38, \"ERROR\", 'Data PAH'!P34/1000), IF('Data PAH'!P34=\"<LOD\",'Data PAH'!P$38/1000, \"ERROR\")))","v":""},{"$f":"IF('Data PAH'!Q34=\"\",\"\",IF(ISNUMBER('Data PAH'!Q34)=TRUE, IF('Data PAH'!Q34<'Data PAH'!Q$38, \"ERROR\", 'Data PAH'!Q34/1000), IF('Data PAH'!Q34=\"<LOD\",'Data PAH'!Q$38/1000, \"ERROR\")))","v":""},{"$f":"IF('Data PAH'!R34=\"\",\"\",IF(ISNUMBER('Data PAH'!R34)=TRUE, IF('Data PAH'!R34<'Data PAH'!R$38, \"ERROR\", 'Data PAH'!R34/1000), IF('Data PAH'!R34=\"<LOD\",'Data PAH'!R$38/1000, \"ERROR\")))","v":""},{"$f":"IF('Data PAH'!S34=\"\",\"\",IF(ISNUMBER('Data PAH'!S34)=TRUE, IF('Data PAH'!S34<'Data PAH'!S$38, \"ERROR\", 'Data PAH'!S34/1000), IF('Data PAH'!S34=\"<LOD\",'Data PAH'!S$38/1000, \"ERROR\")))","v":""},{"$f":"IF('Data PAH'!T34=\"\",\"\",IF(ISNUMBER('Data PAH'!T34)=TRUE, IF('Data PAH'!T34<'Data PAH'!T$38, \"ERROR\", 'Data PAH'!T34/1000), IF('Data PAH'!T34=\"<LOD\",'Data PAH'!T$38/1000, \"ERROR\")))","v":""},{"$f":"IF('Data PAH'!U34=\"\",\"\",IF(ISNUMBER('Data PAH'!U34)=TRUE, IF('Data PAH'!U34<'Data PAH'!U$38, \"ERROR\", 'Data PAH'!U34/1000), IF('Data PAH'!U34=\"<LOD\",'Data PAH'!U$38/1000, \"ERROR\")))","v":""},{"$f":"IF('Data PAH'!V34=\"\",\"\",IF(ISNUMBER('Data PAH'!V34)=TRUE, IF('Data PAH'!V34<'Data PAH'!V$38, \"ERROR\", 'Data PAH'!V34/1000), IF('Data PAH'!V34=\"<LOD\",'Data PAH'!V$38/1000, \"ERROR\")))","v":""},{"$f":"IF('Data PAH'!W34=\"\",\"\",IF(ISNUMBER('Data PAH'!W34)=TRUE, IF('Data PAH'!W34<'Data PAH'!W$38, \"ERROR\", 'Data PAH'!W34/1000), IF('Data PAH'!W34=\"<LOD\",'Data PAH'!W$38/1000, \"ERROR\")))","v":""},{"$f":"IF('Data PAH'!X34=\"\",\"\",IF(ISNUMBER('Data PAH'!X34)=TRUE, IF('Data PAH'!X34<'Data PAH'!X$38, \"ERROR\", 'Data PAH'!X34/1000), IF('Data PAH'!X34=\"<LOD\",'Data PAH'!X$38/1000, \"ERROR\")))","v":""},{"$f":"IF('Data PAH'!Y34=\"\",\"\",IF(ISNUMBER('Data PAH'!Y34)=TRUE, IF('Data PAH'!Y34<'Data PAH'!Y$38, \"ERROR\", 'Data PAH'!Y34/1000), IF('Data PAH'!Y34=\"<LOD\",'Data PAH'!Y$38/1000, \"ERROR\")))","v":""},{"$f":"IF('Data PAH'!Z34=\"\",\"\",IF(ISNUMBER('Data PAH'!Z34)=TRUE, IF('Data PAH'!Z34<'Data PAH'!Z$38, \"ERROR\", 'Data PAH'!Z34/1000), IF('Data PAH'!Z34=\"<LOD\",'Data PAH'!Z$38/1000, \"ERROR\")))","v":""},{"$f":"IF('Data PAH'!AA34=\"\",\"\",IF(ISNUMBER('Data PAH'!AA34)=TRUE, IF('Data PAH'!AA34<'Data PAH'!AA$38, \"ERROR\", 'Data PAH'!AA34/1000), IF('Data PAH'!AA34=\"<LOD\",'Data PAH'!AA$38/1000, \"ERROR\")))","v":""},{"$f":"IF('Data PAH'!AB34=\"\",\"\",IF(ISNUMBER('Data PAH'!AB34)=TRUE, IF('Data PAH'!AB34<'Data PAH'!AB$38, \"ERROR\", 'Data PAH'!AB34/1000), IF('Data PAH'!AB34=\"<LOD\",'Data PAH'!AB$38/1000, \"ERROR\")))","v":""},{"$f":"IF('Data PAH'!AC34=\"\",\"\",IF(ISNUMBER('Data PAH'!AC34)=TRUE, IF('Data PAH'!AC34<'Data PAH'!AC$38, \"ERROR\", 'Data PAH'!AC34/1000), IF('Data PAH'!AC34=\"<LOD\",'Data PAH'!AC$38/1000, \"ERROR\")))","v":""},{"$f":"IF('Data PAH'!AD34=\"\",\"\",IF(ISNUMBER('Data PAH'!AD34)=TRUE, IF('Data PAH'!AD34<'Data PAH'!AD$38, \"ERROR\", 'Data PAH'!AD34/1000), IF('Data PAH'!AD34=\"<LOD\",'Data PAH'!AD$38/1000, \"ERROR\")))","v":""},{"$f":"IF('Data PAH'!AE34=\"\",\"\",IF(ISNUMBER('Data PAH'!AE34)=TRUE, IF('Data PAH'!AE34<'Data PAH'!AE$38, \"ERROR\", 'Data PAH'!AE34/1000), IF('Data PAH'!AE34=\"<LOD\",'Data PAH'!AE$38/1000, \"ERROR\")))","v":""},{"$f":"IF('Data PAH'!AF34=\"\",\"\",IF(ISNUMBER('Data PAH'!AF34)=TRUE, IF('Data PAH'!AF34<'Data PAH'!AF$38, \"ERROR\", 'Data PAH'!AF34/1000), IF('Data PAH'!AF34=\"<LOD\",'Data PAH'!AF$38/1000, \"ERROR\")))","v":""},{"$f":"IF('Data PAH'!AG34=\"\",\"\",IF(ISNUMBER('Data PAH'!AG34)=TRUE, IF('Data PAH'!AG34<'Data PAH'!AG$38, \"ERROR\", 'Data PAH'!AG34), IF('Data PAH'!AG34=\"<LOD\",'Data PAH'!AG$38, \"ERROR\")))","v":""}]
[null,null,null,null,null,null,null,{"$f":"IF('Data PAH'!H35=\"\",\"\",'Data PAH'!H35)","v":""},{"$f":"IF('Data PAH'!I35=\"\",\"\",'Data PAH'!I35)","v":""},{"$f":"IFERROR(IF(K35=\"\",\"\",(IF(VLOOKUP(K35,'Gwybodaeth ymgeiswyr'!$K$8:$L$37,2,0)=\"y\",\"y\",\"\"))),\"Manual entry required\")","v":""},{"$f":"IF('Data PAH'!J35=\"\",\"\",'Data PAH'!J35)","v":""},{"$f":"IF('Data PAH'!K35=\"\",\"\",IF(ISNUMBER('Data PAH'!K35)=TRUE, IF('Data PAH'!K35<'Data PAH'!K$38, \"ERROR\", 'Data PAH'!K35/1000), IF('Data PAH'!K35=\"<LOD\",'Data PAH'!K$38/1000, \"ERROR\")))","v":""},{"$f":"IF('Data PAH'!L35=\"\",\"\",IF(ISNUMBER('Data PAH'!L35)=TRUE, IF('Data PAH'!L35<'Data PAH'!L$38, \"ERROR\", 'Data PAH'!L35/1000), IF('Data PAH'!L35=\"<LOD\",'Data PAH'!L$38/1000, \"ERROR\")))","v":""},{"$f":"IF('Data PAH'!M35=\"\",\"\",IF(ISNUMBER('Data PAH'!M35)=TRUE, IF('Data PAH'!M35<'Data PAH'!M$38, \"ERROR\", 'Data PAH'!M35/1000), IF('Data PAH'!M35=\"<LOD\",'Data PAH'!M$38/1000, \"ERROR\")))","v":""},{"$f":"IF('Data PAH'!N35=\"\",\"\",IF(ISNUMBER('Data PAH'!N35)=TRUE, IF('Data PAH'!N35<'Data PAH'!N$38, \"ERROR\", 'Data PAH'!N35/1000), IF('Data PAH'!N35=\"<LOD\",'Data PAH'!N$38/1000, \"ERROR\")))","v":""},{"$f":"IF('Data PAH'!O35=\"\",\"\",IF(ISNUMBER('Data PAH'!O35)=TRUE, IF('Data PAH'!O35<'Data PAH'!O$38, \"ERROR\", 'Data PAH'!O35/1000), IF('Data PAH'!O35=\"<LOD\",'Data PAH'!O$38/1000, \"ERROR\")))","v":""},{"$f":"IF('Data PAH'!P35=\"\",\"\",IF(ISNUMBER('Data PAH'!P35)=TRUE, IF('Data PAH'!P35<'Data PAH'!P$38, \"ERROR\", 'Data PAH'!P35/1000), IF('Data PAH'!P35=\"<LOD\",'Data PAH'!P$38/1000, \"ERROR\")))","v":""},{"$f":"IF('Data PAH'!Q35=\"\",\"\",IF(ISNUMBER('Data PAH'!Q35)=TRUE, IF('Data PAH'!Q35<'Data PAH'!Q$38, \"ERROR\", 'Data PAH'!Q35/1000), IF('Data PAH'!Q35=\"<LOD\",'Data PAH'!Q$38/1000, \"ERROR\")))","v":""},{"$f":"IF('Data PAH'!R35=\"\",\"\",IF(ISNUMBER('Data PAH'!R35)=TRUE, IF('Data PAH'!R35<'Data PAH'!R$38, \"ERROR\", 'Data PAH'!R35/1000), IF('Data PAH'!R35=\"<LOD\",'Data PAH'!R$38/1000, \"ERROR\")))","v":""},{"$f":"IF('Data PAH'!S35=\"\",\"\",IF(ISNUMBER('Data PAH'!S35)=TRUE, IF('Data PAH'!S35<'Data PAH'!S$38, \"ERROR\", 'Data PAH'!S35/1000), IF('Data PAH'!S35=\"<LOD\",'Data PAH'!S$38/1000, \"ERROR\")))","v":""},{"$f":"IF('Data PAH'!T35=\"\",\"\",IF(ISNUMBER('Data PAH'!T35)=TRUE, IF('Data PAH'!T35<'Data PAH'!T$38, \"ERROR\", 'Data PAH'!T35/1000), IF('Data PAH'!T35=\"<LOD\",'Data PAH'!T$38/1000, \"ERROR\")))","v":""},{"$f":"IF('Data PAH'!U35=\"\",\"\",IF(ISNUMBER('Data PAH'!U35)=TRUE, IF('Data PAH'!U35<'Data PAH'!U$38, \"ERROR\", 'Data PAH'!U35/1000), IF('Data PAH'!U35=\"<LOD\",'Data PAH'!U$38/1000, \"ERROR\")))","v":""},{"$f":"IF('Data PAH'!V35=\"\",\"\",IF(ISNUMBER('Data PAH'!V35)=TRUE, IF('Data PAH'!V35<'Data PAH'!V$38, \"ERROR\", 'Data PAH'!V35/1000), IF('Data PAH'!V35=\"<LOD\",'Data PAH'!V$38/1000, \"ERROR\")))","v":""},{"$f":"IF('Data PAH'!W35=\"\",\"\",IF(ISNUMBER('Data PAH'!W35)=TRUE, IF('Data PAH'!W35<'Data PAH'!W$38, \"ERROR\", 'Data PAH'!W35/1000), IF('Data PAH'!W35=\"<LOD\",'Data PAH'!W$38/1000, \"ERROR\")))","v":""},{"$f":"IF('Data PAH'!X35=\"\",\"\",IF(ISNUMBER('Data PAH'!X35)=TRUE, IF('Data PAH'!X35<'Data PAH'!X$38, \"ERROR\", 'Data PAH'!X35/1000), IF('Data PAH'!X35=\"<LOD\",'Data PAH'!X$38/1000, \"ERROR\")))","v":""},{"$f":"IF('Data PAH'!Y35=\"\",\"\",IF(ISNUMBER('Data PAH'!Y35)=TRUE, IF('Data PAH'!Y35<'Data PAH'!Y$38, \"ERROR\", 'Data PAH'!Y35/1000), IF('Data PAH'!Y35=\"<LOD\",'Data PAH'!Y$38/1000, \"ERROR\")))","v":""},{"$f":"IF('Data PAH'!Z35=\"\",\"\",IF(ISNUMBER('Data PAH'!Z35)=TRUE, IF('Data PAH'!Z35<'Data PAH'!Z$38, \"ERROR\", 'Data PAH'!Z35/1000), IF('Data PAH'!Z35=\"<LOD\",'Data PAH'!Z$38/1000, \"ERROR\")))","v":""},{"$f":"IF('Data PAH'!AA35=\"\",\"\",IF(ISNUMBER('Data PAH'!AA35)=TRUE, IF('Data PAH'!AA35<'Data PAH'!AA$38, \"ERROR\", 'Data PAH'!AA35/1000), IF('Data PAH'!AA35=\"<LOD\",'Data PAH'!AA$38/1000, \"ERROR\")))","v":""},{"$f":"IF('Data PAH'!AB35=\"\",\"\",IF(ISNUMBER('Data PAH'!AB35)=TRUE, IF('Data PAH'!AB35<'Data PAH'!AB$38, \"ERROR\", 'Data PAH'!AB35/1000), IF('Data PAH'!AB35=\"<LOD\",'Data PAH'!AB$38/1000, \"ERROR\")))","v":""},{"$f":"IF('Data PAH'!AC35=\"\",\"\",IF(ISNUMBER('Data PAH'!AC35)=TRUE, IF('Data PAH'!AC35<'Data PAH'!AC$38, \"ERROR\", 'Data PAH'!AC35/1000), IF('Data PAH'!AC35=\"<LOD\",'Data PAH'!AC$38/1000, \"ERROR\")))","v":""},{"$f":"IF('Data PAH'!AD35=\"\",\"\",IF(ISNUMBER('Data PAH'!AD35)=TRUE, IF('Data PAH'!AD35<'Data PAH'!AD$38, \"ERROR\", 'Data PAH'!AD35/1000), IF('Data PAH'!AD35=\"<LOD\",'Data PAH'!AD$38/1000, \"ERROR\")))","v":""},{"$f":"IF('Data PAH'!AE35=\"\",\"\",IF(ISNUMBER('Data PAH'!AE35)=TRUE, IF('Data PAH'!AE35<'Data PAH'!AE$38, \"ERROR\", 'Data PAH'!AE35/1000), IF('Data PAH'!AE35=\"<LOD\",'Data PAH'!AE$38/1000, \"ERROR\")))","v":""},{"$f":"IF('Data PAH'!AF35=\"\",\"\",IF(ISNUMBER('Data PAH'!AF35)=TRUE, IF('Data PAH'!AF35<'Data PAH'!AF$38, \"ERROR\", 'Data PAH'!AF35/1000), IF('Data PAH'!AF35=\"<LOD\",'Data PAH'!AF$38/1000, \"ERROR\")))","v":""},{"$f":"IF('Data PAH'!AG35=\"\",\"\",IF(ISNUMBER('Data PAH'!AG35)=TRUE, IF('Data PAH'!AG35<'Data PAH'!AG$38, \"ERROR\", 'Data PAH'!AG35), IF('Data PAH'!AG35=\"<LOD\",'Data PAH'!AG$38, \"ERROR\")))","v":""}]
[null,null,null,null,null,null,null,{"$f":"IF('Data PAH'!H36=\"\",\"\",'Data PAH'!H36)","v":""},{"$f":"IF('Data PAH'!I36=\"\",\"\",'Data PAH'!I36)","v":""},{"$f":"IFERROR(IF(K36=\"\",\"\",(IF(VLOOKUP(K36,'Gwybodaeth ymgeiswyr'!$K$8:$L$37,2,0)=\"y\",\"y\",\"\"))),\"Manual entry required\")","v":""},{"$f":"IF('Data PAH'!J36=\"\",\"\",'Data PAH'!J36)","v":""},{"$f":"IF('Data PAH'!K36=\"\",\"\",IF(ISNUMBER('Data PAH'!K36)=TRUE, IF('Data PAH'!K36<'Data PAH'!K$38, \"ERROR\", 'Data PAH'!K36/1000), IF('Data PAH'!K36=\"<LOD\",'Data PAH'!K$38/1000, \"ERROR\")))","v":""},{"$f":"IF('Data PAH'!L36=\"\",\"\",IF(ISNUMBER('Data PAH'!L36)=TRUE, IF('Data PAH'!L36<'Data PAH'!L$38, \"ERROR\", 'Data PAH'!L36/1000), IF('Data PAH'!L36=\"<LOD\",'Data PAH'!L$38/1000, \"ERROR\")))","v":""},{"$f":"IF('Data PAH'!M36=\"\",\"\",IF(ISNUMBER('Data PAH'!M36)=TRUE, IF('Data PAH'!M36<'Data PAH'!M$38, \"ERROR\", 'Data PAH'!M36/1000), IF('Data PAH'!M36=\"<LOD\",'Data PAH'!M$38/1000, \"ERROR\")))","v":""},{"$f":"IF('Data PAH'!N36=\"\",\"\",IF(ISNUMBER('Data PAH'!N36)=TRUE, IF('Data PAH'!N36<'Data PAH'!N$38, \"ERROR\", 'Data PAH'!N36/1000), IF('Data PAH'!N36=\"<LOD\",'Data PAH'!N$38/1000, \"ERROR\")))","v":""},{"$f":"IF('Data PAH'!O36=\"\",\"\",IF(ISNUMBER('Data PAH'!O36)=TRUE, IF('Data PAH'!O36<'Data PAH'!O$38, \"ERROR\", 'Data PAH'!O36/1000), IF('Data PAH'!O36=\"<LOD\",'Data PAH'!O$38/1000, \"ERROR\")))","v":""},{"$f":"IF('Data PAH'!P36=\"\",\"\",IF(ISNUMBER('Data PAH'!P36)=TRUE, IF('Data PAH'!P36<'Data PAH'!P$38, \"ERROR\", 'Data PAH'!P36/1000), IF('Data PAH'!P36=\"<LOD\",'Data PAH'!P$38/1000, \"ERROR\")))","v":""},{"$f":"IF('Data PAH'!Q36=\"\",\"\",IF(ISNUMBER('Data PAH'!Q36)=TRUE, IF('Data PAH'!Q36<'Data PAH'!Q$38, \"ERROR\", 'Data PAH'!Q36/1000), IF('Data PAH'!Q36=\"<LOD\",'Data PAH'!Q$38/1000, \"ERROR\")))","v":""},{"$f":"IF('Data PAH'!R36=\"\",\"\",IF(ISNUMBER('Data PAH'!R36)=TRUE, IF('Data PAH'!R36<'Data PAH'!R$38, \"ERROR\", 'Data PAH'!R36/1000), IF('Data PAH'!R36=\"<LOD\",'Data PAH'!R$38/1000, \"ERROR\")))","v":""},{"$f":"IF('Data PAH'!S36=\"\",\"\",IF(ISNUMBER('Data PAH'!S36)=TRUE, IF('Data PAH'!S36<'Data PAH'!S$38, \"ERROR\", 'Data PAH'!S36/1000), IF('Data PAH'!S36=\"<LOD\",'Data PAH'!S$38/1000, \"ERROR\")))","v":""},{"$f":"IF('Data PAH'!T36=\"\",\"\",IF(ISNUMBER('Data PAH'!T36)=TRUE, IF('Data PAH'!T36<'Data PAH'!T$38, \"ERROR\", 'Data PAH'!T36/1000), IF('Data PAH'!T36=\"<LOD\",'Data PAH'!T$38/1000, \"ERROR\")))","v":""},{"$f":"IF('Data PAH'!U36=\"\",\"\",IF(ISNUMBER('Data PAH'!U36)=TRUE, IF('Data PAH'!U36<'Data PAH'!U$38, \"ERROR\", 'Data PAH'!U36/1000), IF('Data PAH'!U36=\"<LOD\",'Data PAH'!U$38/1000, \"ERROR\")))","v":""},{"$f":"IF('Data PAH'!V36=\"\",\"\",IF(ISNUMBER('Data PAH'!V36)=TRUE, IF('Data PAH'!V36<'Data PAH'!V$38, \"ERROR\", 'Data PAH'!V36/1000), IF('Data PAH'!V36=\"<LOD\",'Data PAH'!V$38/1000, \"ERROR\")))","v":""},{"$f":"IF('Data PAH'!W36=\"\",\"\",IF(ISNUMBER('Data PAH'!W36)=TRUE, IF('Data PAH'!W36<'Data PAH'!W$38, \"ERROR\", 'Data PAH'!W36/1000), IF('Data PAH'!W36=\"<LOD\",'Data PAH'!W$38/1000, \"ERROR\")))","v":""},{"$f":"IF('Data PAH'!X36=\"\",\"\",IF(ISNUMBER('Data PAH'!X36)=TRUE, IF('Data PAH'!X36<'Data PAH'!X$38, \"ERROR\", 'Data PAH'!X36/1000), IF('Data PAH'!X36=\"<LOD\",'Data PAH'!X$38/1000, \"ERROR\")))","v":""},{"$f":"IF('Data PAH'!Y36=\"\",\"\",IF(ISNUMBER('Data PAH'!Y36)=TRUE, IF('Data PAH'!Y36<'Data PAH'!Y$38, \"ERROR\", 'Data PAH'!Y36/1000), IF('Data PAH'!Y36=\"<LOD\",'Data PAH'!Y$38/1000, \"ERROR\")))","v":""},{"$f":"IF('Data PAH'!Z36=\"\",\"\",IF(ISNUMBER('Data PAH'!Z36)=TRUE, IF('Data PAH'!Z36<'Data PAH'!Z$38, \"ERROR\", 'Data PAH'!Z36/1000), IF('Data PAH'!Z36=\"<LOD\",'Data PAH'!Z$38/1000, \"ERROR\")))","v":""},{"$f":"IF('Data PAH'!AA36=\"\",\"\",IF(ISNUMBER('Data PAH'!AA36)=TRUE, IF('Data PAH'!AA36<'Data PAH'!AA$38, \"ERROR\", 'Data PAH'!AA36/1000), IF('Data PAH'!AA36=\"<LOD\",'Data PAH'!AA$38/1000, \"ERROR\")))","v":""},{"$f":"IF('Data PAH'!AB36=\"\",\"\",IF(ISNUMBER('Data PAH'!AB36)=TRUE, IF('Data PAH'!AB36<'Data PAH'!AB$38, \"ERROR\", 'Data PAH'!AB36/1000), IF('Data PAH'!AB36=\"<LOD\",'Data PAH'!AB$38/1000, \"ERROR\")))","v":""},{"$f":"IF('Data PAH'!AC36=\"\",\"\",IF(ISNUMBER('Data PAH'!AC36)=TRUE, IF('Data PAH'!AC36<'Data PAH'!AC$38, \"ERROR\", 'Data PAH'!AC36/1000), IF('Data PAH'!AC36=\"<LOD\",'Data PAH'!AC$38/1000, \"ERROR\")))","v":""},{"$f":"IF('Data PAH'!AD36=\"\",\"\",IF(ISNUMBER('Data PAH'!AD36)=TRUE, IF('Data PAH'!AD36<'Data PAH'!AD$38, \"ERROR\", 'Data PAH'!AD36/1000), IF('Data PAH'!AD36=\"<LOD\",'Data PAH'!AD$38/1000, \"ERROR\")))","v":""},{"$f":"IF('Data PAH'!AE36=\"\",\"\",IF(ISNUMBER('Data PAH'!AE36)=TRUE, IF('Data PAH'!AE36<'Data PAH'!AE$38, \"ERROR\", 'Data PAH'!AE36/1000), IF('Data PAH'!AE36=\"<LOD\",'Data PAH'!AE$38/1000, \"ERROR\")))","v":""},{"$f":"IF('Data PAH'!AF36=\"\",\"\",IF(ISNUMBER('Data PAH'!AF36)=TRUE, IF('Data PAH'!AF36<'Data PAH'!AF$38, \"ERROR\", 'Data PAH'!AF36/1000), IF('Data PAH'!AF36=\"<LOD\",'Data PAH'!AF$38/1000, \"ERROR\")))","v":""},{"$f":"IF('Data PAH'!AG36=\"\",\"\",IF(ISNUMBER('Data PAH'!AG36)=TRUE, IF('Data PAH'!AG36<'Data PAH'!AG$38, \"ERROR\", 'Data PAH'!AG36), IF('Data PAH'!AG36=\"<LOD\",'Data PAH'!AG$38, \"ERROR\")))","v":""}]
[null,null,null,null,null,null,null,{"$f":"IF('Data PAH'!H37=\"\",\"\",'Data PAH'!H37)","v":""},{"$f":"IF('Data PAH'!I37=\"\",\"\",'Data PAH'!I37)","v":""},{"$f":"IFERROR(IF(K37=\"\",\"\",(IF(VLOOKUP(K37,'Gwybodaeth ymgeiswyr'!$K$8:$L$37,2,0)=\"y\",\"y\",\"\"))),\"Manual entry required\")","v":""},{"$f":"IF('Data PAH'!J37=\"\",\"\",'Data PAH'!J37)","v":""},{"$f":"IF('Data PAH'!K37=\"\",\"\",IF(ISNUMBER('Data PAH'!K37)=TRUE, IF('Data PAH'!K37<'Data PAH'!K$38, \"ERROR\", 'Data PAH'!K37/1000), IF('Data PAH'!K37=\"<LOD\",'Data PAH'!K$38/1000, \"ERROR\")))","v":""},{"$f":"IF('Data PAH'!L37=\"\",\"\",IF(ISNUMBER('Data PAH'!L37)=TRUE, IF('Data PAH'!L37<'Data PAH'!L$38, \"ERROR\", 'Data PAH'!L37/1000), IF('Data PAH'!L37=\"<LOD\",'Data PAH'!L$38/1000, \"ERROR\")))","v":""},{"$f":"IF('Data PAH'!M37=\"\",\"\",IF(ISNUMBER('Data PAH'!M37)=TRUE, IF('Data PAH'!M37<'Data PAH'!M$38, \"ERROR\", 'Data PAH'!M37/1000), IF('Data PAH'!M37=\"<LOD\",'Data PAH'!M$38/1000, \"ERROR\")))","v":""},{"$f":"IF('Data PAH'!N37=\"\",\"\",IF(ISNUMBER('Data PAH'!N37)=TRUE, IF('Data PAH'!N37<'Data PAH'!N$38, \"ERROR\", 'Data PAH'!N37/1000), IF('Data PAH'!N37=\"<LOD\",'Data PAH'!N$38/1000, \"ERROR\")))","v":""},{"$f":"IF('Data PAH'!O37=\"\",\"\",IF(ISNUMBER('Data PAH'!O37)=TRUE, IF('Data PAH'!O37<'Data PAH'!O$38, \"ERROR\", 'Data PAH'!O37/1000), IF('Data PAH'!O37=\"<LOD\",'Data PAH'!O$38/1000, \"ERROR\")))","v":""},{"$f":"IF('Data PAH'!P37=\"\",\"\",IF(ISNUMBER('Data PAH'!P37)=TRUE, IF('Data PAH'!P37<'Data PAH'!P$38, \"ERROR\", 'Data PAH'!P37/1000), IF('Data PAH'!P37=\"<LOD\",'Data PAH'!P$38/1000, \"ERROR\")))","v":""},{"$f":"IF('Data PAH'!Q37=\"\",\"\",IF(ISNUMBER('Data PAH'!Q37)=TRUE, IF('Data PAH'!Q37<'Data PAH'!Q$38, \"ERROR\", 'Data PAH'!Q37/1000), IF('Data PAH'!Q37=\"<LOD\",'Data PAH'!Q$38/1000, \"ERROR\")))","v":""},{"$f":"IF('Data PAH'!R37=\"\",\"\",IF(ISNUMBER('Data PAH'!R37)=TRUE, IF('Data PAH'!R37<'Data PAH'!R$38, \"ERROR\", 'Data PAH'!R37/1000), IF('Data PAH'!R37=\"<LOD\",'Data PAH'!R$38/1000, \"ERROR\")))","v":""},{"$f":"IF('Data PAH'!S37=\"\",\"\",IF(ISNUMBER('Data PAH'!S37)=TRUE, IF('Data PAH'!S37<'Data PAH'!S$38, \"ERROR\", 'Data PAH'!S37/1000), IF('Data PAH'!S37=\"<LOD\",'Data PAH'!S$38/1000, \"ERROR\")))","v":""},{"$f":"IF('Data PAH'!T37=\"\",\"\",IF(ISNUMBER('Data PAH'!T37)=TRUE, IF('Data PAH'!T37<'Data PAH'!T$38, \"ERROR\", 'Data PAH'!T37/1000), IF('Data PAH'!T37=\"<LOD\",'Data PAH'!T$38/1000, \"ERROR\")))","v":""},{"$f":"IF('Data PAH'!U37=\"\",\"\",IF(ISNUMBER('Data PAH'!U37)=TRUE, IF('Data PAH'!U37<'Data PAH'!U$38, \"ERROR\", 'Data PAH'!U37/1000), IF('Data PAH'!U37=\"<LOD\",'Data PAH'!U$38/1000, \"ERROR\")))","v":""},{"$f":"IF('Data PAH'!V37=\"\",\"\",IF(ISNUMBER('Data PAH'!V37)=TRUE, IF('Data PAH'!V37<'Data PAH'!V$38, \"ERROR\", 'Data PAH'!V37/1000), IF('Data PAH'!V37=\"<LOD\",'Data PAH'!V$38/1000, \"ERROR\")))","v":""},{"$f":"IF('Data PAH'!W37=\"\",\"\",IF(ISNUMBER('Data PAH'!W37)=TRUE, IF('Data PAH'!W37<'Data PAH'!W$38, \"ERROR\", 'Data PAH'!W37/1000), IF('Data PAH'!W37=\"<LOD\",'Data PAH'!W$38/1000, \"ERROR\")))","v":""},{"$f":"IF('Data PAH'!X37=\"\",\"\",IF(ISNUMBER('Data PAH'!X37)=TRUE, IF('Data PAH'!X37<'Data PAH'!X$38, \"ERROR\", 'Data PAH'!X37/1000), IF('Data PAH'!X37=\"<LOD\",'Data PAH'!X$38/1000, \"ERROR\")))","v":""},{"$f":"IF('Data PAH'!Y37=\"\",\"\",IF(ISNUMBER('Data PAH'!Y37)=TRUE, IF('Data PAH'!Y37<'Data PAH'!Y$38, \"ERROR\", 'Data PAH'!Y37/1000), IF('Data PAH'!Y37=\"<LOD\",'Data PAH'!Y$38/1000, \"ERROR\")))","v":""},{"$f":"IF('Data PAH'!Z37=\"\",\"\",IF(ISNUMBER('Data PAH'!Z37)=TRUE, IF('Data PAH'!Z37<'Data PAH'!Z$38, \"ERROR\", 'Data PAH'!Z37/1000), IF('Data PAH'!Z37=\"<LOD\",'Data PAH'!Z$38/1000, \"ERROR\")))","v":""},{"$f":"IF('Data PAH'!AA37=\"\",\"\",IF(ISNUMBER('Data PAH'!AA37)=TRUE, IF('Data PAH'!AA37<'Data PAH'!AA$38, \"ERROR\", 'Data PAH'!AA37/1000), IF('Data PAH'!AA37=\"<LOD\",'Data PAH'!AA$38/1000, \"ERROR\")))","v":""},{"$f":"IF('Data PAH'!AB37=\"\",\"\",IF(ISNUMBER('Data PAH'!AB37)=TRUE, IF('Data PAH'!AB37<'Data PAH'!AB$38, \"ERROR\", 'Data PAH'!AB37/1000), IF('Data PAH'!AB37=\"<LOD\",'Data PAH'!AB$38/1000, \"ERROR\")))","v":""},{"$f":"IF('Data PAH'!AC37=\"\",\"\",IF(ISNUMBER('Data PAH'!AC37)=TRUE, IF('Data PAH'!AC37<'Data PAH'!AC$38, \"ERROR\", 'Data PAH'!AC37/1000), IF('Data PAH'!AC37=\"<LOD\",'Data PAH'!AC$38/1000, \"ERROR\")))","v":""},{"$f":"IF('Data PAH'!AD37=\"\",\"\",IF(ISNUMBER('Data PAH'!AD37)=TRUE, IF('Data PAH'!AD37<'Data PAH'!AD$38, \"ERROR\", 'Data PAH'!AD37/1000), IF('Data PAH'!AD37=\"<LOD\",'Data PAH'!AD$38/1000, \"ERROR\")))","v":""},{"$f":"IF('Data PAH'!AE37=\"\",\"\",IF(ISNUMBER('Data PAH'!AE37)=TRUE, IF('Data PAH'!AE37<'Data PAH'!AE$38, \"ERROR\", 'Data PAH'!AE37/1000), IF('Data PAH'!AE37=\"<LOD\",'Data PAH'!AE$38/1000, \"ERROR\")))","v":""},{"$f":"IF('Data PAH'!AF37=\"\",\"\",IF(ISNUMBER('Data PAH'!AF37)=TRUE, IF('Data PAH'!AF37<'Data PAH'!AF$38, \"ERROR\", 'Data PAH'!AF37/1000), IF('Data PAH'!AF37=\"<LOD\",'Data PAH'!AF$38/1000, \"ERROR\")))","v":""},{"$f":"IF('Data PAH'!AG37=\"\",\"\",IF(ISNUMBER('Data PAH'!AG37)=TRUE, IF('Data PAH'!AG37<'Data PAH'!AG$38, \"ERROR\", 'Data PAH'!AG37), IF('Data PAH'!AG37=\"<LOD\",'Data PAH'!AG$38, \"ERROR\")))","v":""}]
[null,null,null,null,null,null,null,null,null,"Averages:",null,{"$f":"IF(COUNT(L8:L37)<1,\"\", AVERAGE(L8:L37))","v":""},{"$f":"IF(COUNT(M8:M37)<1,\"\", AVERAGE(M8:M37))","v":""},"","","","","","","","","","","","","","","","","","","","",""]
[]
[null,null,null,null,null,null,null,null,null,null,"Action level 1:  ",0.1,0.1,0.1,0.1,0.1,0.1,0.1,0.1,0.1,0.1,0.1,0.1,0.1,0.1,0.01,0.1,0.1,0.1,0.1,0.1,0.1,0.1,100]
[]
[]
[]
[null,null,null,null,null,null,null,"Transformation to wet weight and return to µg/kg"]
[]
[null,null,null,null,null,null,null,"Laboratory sample number","Dredge Area","Excluded (y if yes)","Sample ID(s)","PAHs as µg/kg wet weight",null,null,null,null,null,null,null,null,null,null,null,null,null,null,null,null,null,null,null,null,null,"Total hydrocarbon content (mg/kg)"]
[null,null,null,null,null,null,null,null,null,null,null,"Acenapthene","Acenapthylene","Anthracene","Benz[a]anthracene","Benzo[a]pyrene","Benzo[b]fluoranthene","Benzo[g,h,i]perylene","Benzo[e]pyrene","Benzo[k]fluoranthene","C1-Napthalenes","C1-Phenanthrenes","C2-Napthalenes","C3-Napthalenes","Chrysene","Dibenz[a,h]anthracene","Fluoranthene","Fluorene","Indeno[123-c,d]pyrene","Napthalene","Perylene","Phenanthrene","Pyrene"]
[null,null,null,null,null,null,null,{"$f":"IF(H8=\"\",\"\",H8)","v":""},"",{"$f":"IF(J8=\"\",\"\",J8)","v":""},{"$f":"IF(K8=\"\",\"\",K8)","v":""},{"$f":"IF(L8=\"\",\"\",((('Data Ffisegol'!$M9/100)*L8)*1000))","v":""},{"$f":"IF(M8=\"\",\"\",((('Data Ffisegol'!$M9/100)*M8)*1000))","v":""},{"$f":"IF(N8=\"\",\"\",((('Data Ffisegol'!$M9/100)*N8)*1000))","v":""},{"$f":"IF(O8=\"\",\"\",((('Data Ffisegol'!$M9/100)*O8)*1000))","v":""},{"$f":"IF(P8=\"\",\"\",((('Data Ffisegol'!$M9/100)*P8)*1000))","v":""},{"$f":"IF(Q8=\"\",\"\",((('Data Ffisegol'!$M9/100)*Q8)*1000))","v":""},{"$f":"IF(R8=\"\",\"\",((('Data Ffisegol'!$M9/100)*R8)*1000))","v":""},{"$f":"IF(S8=\"\",\"\",((('Data Ffisegol'!$M9/100)*S8)*1000))","v":""},{"$f":"IF(T8=\"\",\"\",((('Data Ffisegol'!$M9/100)*T8)*1000))","v":""},{"$f":"IF(U8=\"\",\"\",((('Data Ffisegol'!$M9/100)*U8)*1000))","v":""},{"$f":"IF(V8=\"\",\"\",((('Data Ffisegol'!$M9/100)*V8)*1000))","v":""},{"$f":"IF(W8=\"\",\"\",((('Data Ffisegol'!$M9/100)*W8)*1000))","v":""},{"$f":"IF(X8=\"\",\"\",((('Data Ffisegol'!$M9/100)*X8)*1000))","v":""},{"$f":"IF(Y8=\"\",\"\",((('Data Ffisegol'!$M9/100)*Y8)*1000))","v":""},{"$f":"IF(Z8=\"\",\"\",((('Data Ffisegol'!$M9/100)*Z8)*1000))","v":""},{"$f":"IF(AA8=\"\",\"\",((('Data Ffisegol'!$M9/100)*AA8)*1000))","v":""},{"$f":"IF(AB8=\"\",\"\",((('Data Ffisegol'!$M9/100)*AB8)*1000))","v":""},{"$f":"IF(AC8=\"\",\"\",((('Data Ffisegol'!$M9/100)*AC8)*1000))","v":""},{"$f":"IF(AD8=\"\",\"\",((('Data Ffisegol'!$M9/100)*AD8)*1000))","v":""},{"$f":"IF(AE8=\"\",\"\",((('Data Ffisegol'!$M9/100)*AE8)*1000))","v":""},{"$f":"IF(AF8=\"\",\"\",((('Data Ffisegol'!$M9/100)*AF8)*1000))","v":""},{"$f":"IF(AG8=\"\",\"\",((('Data Ffisegol'!$M9/100)*AG8)*1000))","v":""},{"$f":"IF(AH8=\"\",\"\",((('Data Ffisegol'!$M9/100)*AH8)))","v":""}]
[null,null,null,null,null,null,null,"","","","",{"$f":"IF(L9=\"\",\"\",((('Data Ffisegol'!$M10/100)*L9)*1000))","v":""},{"$f":"IF(M9=\"\",\"\",((('Data Ffisegol'!$M10/100)*M9)*1000))","v":""},{"$f":"IF(N9=\"\",\"\",((('Data Ffisegol'!$M10/100)*N9)*1000))","v":""},{"$f":"IF(O9=\"\",\"\",((('Data Ffisegol'!$M10/100)*O9)*1000))","v":""},{"$f":"IF(P9=\"\",\"\",((('Data Ffisegol'!$M10/100)*P9)*1000))","v":""},{"$f":"IF(Q9=\"\",\"\",((('Data Ffisegol'!$M10/100)*Q9)*1000))","v":""},{"$f":"IF(R9=\"\",\"\",((('Data Ffisegol'!$M10/100)*R9)*1000))","v":""},{"$f":"IF(S9=\"\",\"\",((('Data Ffisegol'!$M10/100)*S9)*1000))","v":""},{"$f":"IF(T9=\"\",\"\",((('Data Ffisegol'!$M10/100)*T9)*1000))","v":""},{"$f":"IF(U9=\"\",\"\",((('Data Ffisegol'!$M10/100)*U9)*1000))","v":""},{"$f":"IF(V9=\"\",\"\",((('Data Ffisegol'!$M10/100)*V9)*1000))","v":""},{"$f":"IF(W9=\"\",\"\",((('Data Ffisegol'!$M10/100)*W9)*1000))","v":""},{"$f":"IF(X9=\"\",\"\",((('Data Ffisegol'!$M10/100)*X9)*1000))","v":""},{"$f":"IF(Y9=\"\",\"\",((('Data Ffisegol'!$M10/100)*Y9)*1000))","v":""},{"$f":"IF(Z9=\"\",\"\",((('Data Ffisegol'!$M10/100)*Z9)*1000))","v":""},{"$f":"IF(AA9=\"\",\"\",((('Data Ffisegol'!$M10/100)*AA9)*1000))","v":""},{"$f":"IF(AB9=\"\",\"\",((('Data Ffisegol'!$M10/100)*AB9)*1000))","v":""},{"$f":"IF(AC9=\"\",\"\",((('Data Ffisegol'!$M10/100)*AC9)*1000))","v":""},{"$f":"IF(AD9=\"\",\"\",((('Data Ffisegol'!$M10/100)*AD9)*1000))","v":""},{"$f":"IF(AE9=\"\",\"\",((('Data Ffisegol'!$M10/100)*AE9)*1000))","v":""},{"$f":"IF(AF9=\"\",\"\",((('Data Ffisegol'!$M10/100)*AF9)*1000))","v":""},{"$f":"IF(AG9=\"\",\"\",((('Data Ffisegol'!$M10/100)*AG9)*1000))","v":""},{"$f":"IF(AH9=\"\",\"\",((('Data Ffisegol'!$M10/100)*AH9)))","v":""}]
[null,null,null,null,null,null,null,"","","","",{"$f":"IF(L10=\"\",\"\",((('Data Ffisegol'!$M11/100)*L10)*1000))","v":""},{"$f":"IF(M10=\"\",\"\",((('Data Ffisegol'!$M11/100)*M10)*1000))","v":""},{"$f":"IF(N10=\"\",\"\",((('Data Ffisegol'!$M11/100)*N10)*1000))","v":""},{"$f":"IF(O10=\"\",\"\",((('Data Ffisegol'!$M11/100)*O10)*1000))","v":""},{"$f":"IF(P10=\"\",\"\",((('Data Ffisegol'!$M11/100)*P10)*1000))","v":""},{"$f":"IF(Q10=\"\",\"\",((('Data Ffisegol'!$M11/100)*Q10)*1000))","v":""},{"$f":"IF(R10=\"\",\"\",((('Data Ffisegol'!$M11/100)*R10)*1000))","v":""},{"$f":"IF(S10=\"\",\"\",((('Data Ffisegol'!$M11/100)*S10)*1000))","v":""},{"$f":"IF(T10=\"\",\"\",((('Data Ffisegol'!$M11/100)*T10)*1000))","v":""},{"$f":"IF(U10=\"\",\"\",((('Data Ffisegol'!$M11/100)*U10)*1000))","v":""},{"$f":"IF(V10=\"\",\"\",((('Data Ffisegol'!$M11/100)*V10)*1000))","v":""},{"$f":"IF(W10=\"\",\"\",((('Data Ffisegol'!$M11/100)*W10)*1000))","v":""},{"$f":"IF(X10=\"\",\"\",((('Data Ffisegol'!$M11/100)*X10)*1000))","v":""},{"$f":"IF(Y10=\"\",\"\",((('Data Ffisegol'!$M11/100)*Y10)*1000))","v":""},{"$f":"IF(Z10=\"\",\"\",((('Data Ffisegol'!$M11/100)*Z10)*1000))","v":""},{"$f":"IF(AA10=\"\",\"\",((('Data Ffisegol'!$M11/100)*AA10)*1000))","v":""},{"$f":"IF(AB10=\"\",\"\",((('Data Ffisegol'!$M11/100)*AB10)*1000))","v":""},{"$f":"IF(AC10=\"\",\"\",((('Data Ffisegol'!$M11/100)*AC10)*1000))","v":""},{"$f":"IF(AD10=\"\",\"\",((('Data Ffisegol'!$M11/100)*AD10)*1000))","v":""},{"$f":"IF(AE10=\"\",\"\",((('Data Ffisegol'!$M11/100)*AE10)*1000))","v":""},{"$f":"IF(AF10=\"\",\"\",((('Data Ffisegol'!$M11/100)*AF10)*1000))","v":""},{"$f":"IF(AG10=\"\",\"\",((('Data Ffisegol'!$M11/100)*AG10)*1000))","v":""},{"$f":"IF(AH10=\"\",\"\",((('Data Ffisegol'!$M11/100)*AH10)))","v":""}]
[null,null,null,null,null,null,null,"","","","",{"$f":"IF(L11=\"\",\"\",((('Data Ffisegol'!$M12/100)*L11)*1000))","v":""},{"$f":"IF(M11=\"\",\"\",((('Data Ffisegol'!$M12/100)*M11)*1000))","v":""},{"$f":"IF(N11=\"\",\"\",((('Data Ffisegol'!$M12/100)*N11)*1000))","v":""},{"$f":"IF(O11=\"\",\"\",((('Data Ffisegol'!$M12/100)*O11)*1000))","v":""},{"$f":"IF(P11=\"\",\"\",((('Data Ffisegol'!$M12/100)*P11)*1000))","v":""},{"$f":"IF(Q11=\"\",\"\",((('Data Ffisegol'!$M12/100)*Q11)*1000))","v":""},{"$f":"IF(R11=\"\",\"\",((('Data Ffisegol'!$M12/100)*R11)*1000))","v":""},{"$f":"IF(S11=\"\",\"\",((('Data Ffisegol'!$M12/100)*S11)*1000))","v":""},{"$f":"IF(T11=\"\",\"\",((('Data Ffisegol'!$M12/100)*T11)*1000))","v":""},{"$f":"IF(U11=\"\",\"\",((('Data Ffisegol'!$M12/100)*U11)*1000))","v":""},{"$f":"IF(V11=\"\",\"\",((('Data Ffisegol'!$M12/100)*V11)*1000))","v":""},{"$f":"IF(W11=\"\",\"\",((('Data Ffisegol'!$M12/100)*W11)*1000))","v":""},{"$f":"IF(X11=\"\",\"\",((('Data Ffisegol'!$M12/100)*X11)*1000))","v":""},{"$f":"IF(Y11=\"\",\"\",((('Data Ffisegol'!$M12/100)*Y11)*1000))","v":""},{"$f":"IF(Z11=\"\",\"\",((('Data Ffisegol'!$M12/100)*Z11)*1000))","v":""},{"$f":"IF(AA11=\"\",\"\",((('Data Ffisegol'!$M12/100)*AA11)*1000))","v":""},{"$f":"IF(AB11=\"\",\"\",((('Data Ffisegol'!$M12/100)*AB11)*1000))","v":""},{"$f":"IF(AC11=\"\",\"\",((('Data Ffisegol'!$M12/100)*AC11)*1000))","v":""},{"$f":"IF(AD11=\"\",\"\",((('Data Ffisegol'!$M12/100)*AD11)*1000))","v":""},{"$f":"IF(AE11=\"\",\"\",((('Data Ffisegol'!$M12/100)*AE11)*1000))","v":""},{"$f":"IF(AF11=\"\",\"\",((('Data Ffisegol'!$M12/100)*AF11)*1000))","v":""},{"$f":"IF(AG11=\"\",\"\",((('Data Ffisegol'!$M12/100)*AG11)*1000))","v":""},{"$f":"IF(AH11=\"\",\"\",((('Data Ffisegol'!$M12/100)*AH11)))","v":""}]
[null,null,null,null,null,null,null,"","","","",{"$f":"IF(L12=\"\",\"\",((('Data Ffisegol'!$M13/100)*L12)*1000))","v":""},{"$f":"IF(M12=\"\",\"\",((('Data Ffisegol'!$M13/100)*M12)*1000))","v":""},{"$f":"IF(N12=\"\",\"\",((('Data Ffisegol'!$M13/100)*N12)*1000))","v":""},{"$f":"IF(O12=\"\",\"\",((('Data Ffisegol'!$M13/100)*O12)*1000))","v":""},{"$f":"IF(P12=\"\",\"\",((('Data Ffisegol'!$M13/100)*P12)*1000))","v":""},{"$f":"IF(Q12=\"\",\"\",((('Data Ffisegol'!$M13/100)*Q12)*1000))","v":""},{"$f":"IF(R12=\"\",\"\",((('Data Ffisegol'!$M13/100)*R12)*1000))","v":""},{"$f":"IF(S12=\"\",\"\",((('Data Ffisegol'!$M13/100)*S12)*1000))","v":""},{"$f":"IF(T12=\"\",\"\",((('Data Ffisegol'!$M13/100)*T12)*1000))","v":""},{"$f":"IF(U12=\"\",\"\",((('Data Ffisegol'!$M13/100)*U12)*1000))","v":""},{"$f":"IF(V12=\"\",\"\",((('Data Ffisegol'!$M13/100)*V12)*1000))","v":""},{"$f":"IF(W12=\"\",\"\",((('Data Ffisegol'!$M13/100)*W12)*1000))","v":""},{"$f":"IF(X12=\"\",\"\",((('Data Ffisegol'!$M13/100)*X12)*1000))","v":""},{"$f":"IF(Y12=\"\",\"\",((('Data Ffisegol'!$M13/100)*Y12)*1000))","v":""},{"$f":"IF(Z12=\"\",\"\",((('Data Ffisegol'!$M13/100)*Z12)*1000))","v":""},{"$f":"IF(AA12=\"\",\"\",((('Data Ffisegol'!$M13/100)*AA12)*1000))","v":""},{"$f":"IF(AB12=\"\",\"\",((('Data Ffisegol'!$M13/100)*AB12)*1000))","v":""},{"$f":"IF(AC12=\"\",\"\",((('Data Ffisegol'!$M13/100)*AC12)*1000))","v":""},{"$f":"IF(AD12=\"\",\"\",((('Data Ffisegol'!$M13/100)*AD12)*1000))","v":""},{"$f":"IF(AE12=\"\",\"\",((('Data Ffisegol'!$M13/100)*AE12)*1000))","v":""},{"$f":"IF(AF12=\"\",\"\",((('Data Ffisegol'!$M13/100)*AF12)*1000))","v":""},{"$f":"IF(AG12=\"\",\"\",((('Data Ffisegol'!$M13/100)*AG12)*1000))","v":""},{"$f":"IF(AH12=\"\",\"\",((('Data Ffisegol'!$M13/100)*AH12)))","v":""}]
[null,null,null,null,null,null,null,"","","","",{"$f":"IF(L13=\"\",\"\",((('Data Ffisegol'!$M14/100)*L13)*1000))","v":""},{"$f":"IF(M13=\"\",\"\",((('Data Ffisegol'!$M14/100)*M13)*1000))","v":""},{"$f":"IF(N13=\"\",\"\",((('Data Ffisegol'!$M14/100)*N13)*1000))","v":""},{"$f":"IF(O13=\"\",\"\",((('Data Ffisegol'!$M14/100)*O13)*1000))","v":""},{"$f":"IF(P13=\"\",\"\",((('Data Ffisegol'!$M14/100)*P13)*1000))","v":""},{"$f":"IF(Q13=\"\",\"\",((('Data Ffisegol'!$M14/100)*Q13)*1000))","v":""},{"$f":"IF(R13=\"\",\"\",((('Data Ffisegol'!$M14/100)*R13)*1000))","v":""},{"$f":"IF(S13=\"\",\"\",((('Data Ffisegol'!$M14/100)*S13)*1000))","v":""},{"$f":"IF(T13=\"\",\"\",((('Data Ffisegol'!$M14/100)*T13)*1000))","v":""},{"$f":"IF(U13=\"\",\"\",((('Data Ffisegol'!$M14/100)*U13)*1000))","v":""},{"$f":"IF(V13=\"\",\"\",((('Data Ffisegol'!$M14/100)*V13)*1000))","v":""},{"$f":"IF(W13=\"\",\"\",((('Data Ffisegol'!$M14/100)*W13)*1000))","v":""},{"$f":"IF(X13=\"\",\"\",((('Data Ffisegol'!$M14/100)*X13)*1000))","v":""},{"$f":"IF(Y13=\"\",\"\",((('Data Ffisegol'!$M14/100)*Y13)*1000))","v":""},{"$f":"IF(Z13=\"\",\"\",((('Data Ffisegol'!$M14/100)*Z13)*1000))","v":""},{"$f":"IF(AA13=\"\",\"\",((('Data Ffisegol'!$M14/100)*AA13)*1000))","v":""},{"$f":"IF(AB13=\"\",\"\",((('Data Ffisegol'!$M14/100)*AB13)*1000))","v":""},{"$f":"IF(AC13=\"\",\"\",((('Data Ffisegol'!$M14/100)*AC13)*1000))","v":""},{"$f":"IF(AD13=\"\",\"\",((('Data Ffisegol'!$M14/100)*AD13)*1000))","v":""},{"$f":"IF(AE13=\"\",\"\",((('Data Ffisegol'!$M14/100)*AE13)*1000))","v":""},{"$f":"IF(AF13=\"\",\"\",((('Data Ffisegol'!$M14/100)*AF13)*1000))","v":""},{"$f":"IF(AG13=\"\",\"\",((('Data Ffisegol'!$M14/100)*AG13)*1000))","v":""},{"$f":"IF(AH13=\"\",\"\",((('Data Ffisegol'!$M14/100)*AH13)))","v":""}]
[null,null,null,null,null,null,null,"","","","",{"$f":"IF(L14=\"\",\"\",((('Data Ffisegol'!$M15/100)*L14)*1000))","v":""},{"$f":"IF(M14=\"\",\"\",((('Data Ffisegol'!$M15/100)*M14)*1000))","v":""},{"$f":"IF(N14=\"\",\"\",((('Data Ffisegol'!$M15/100)*N14)*1000))","v":""},{"$f":"IF(O14=\"\",\"\",((('Data Ffisegol'!$M15/100)*O14)*1000))","v":""},{"$f":"IF(P14=\"\",\"\",((('Data Ffisegol'!$M15/100)*P14)*1000))","v":""},{"$f":"IF(Q14=\"\",\"\",((('Data Ffisegol'!$M15/100)*Q14)*1000))","v":""},{"$f":"IF(R14=\"\",\"\",((('Data Ffisegol'!$M15/100)*R14)*1000))","v":""},{"$f":"IF(S14=\"\",\"\",((('Data Ffisegol'!$M15/100)*S14)*1000))","v":""},{"$f":"IF(T14=\"\",\"\",((('Data Ffisegol'!$M15/100)*T14)*1000))","v":""},{"$f":"IF(U14=\"\",\"\",((('Data Ffisegol'!$M15/100)*U14)*1000))","v":""},{"$f":"IF(V14=\"\",\"\",((('Data Ffisegol'!$M15/100)*V14)*1000))","v":""},{"$f":"IF(W14=\"\",\"\",((('Data Ffisegol'!$M15/100)*W14)*1000))","v":""},{"$f":"IF(X14=\"\",\"\",((('Data Ffisegol'!$M15/100)*X14)*1000))","v":""},{"$f":"IF(Y14=\"\",\"\",((('Data Ffisegol'!$M15/100)*Y14)*1000))","v":""},{"$f":"IF(Z14=\"\",\"\",((('Data Ffisegol'!$M15/100)*Z14)*1000))","v":""},{"$f":"IF(AA14=\"\",\"\",((('Data Ffisegol'!$M15/100)*AA14)*1000))","v":""},{"$f":"IF(AB14=\"\",\"\",((('Data Ffisegol'!$M15/100)*AB14)*1000))","v":""},{"$f":"IF(AC14=\"\",\"\",((('Data Ffisegol'!$M15/100)*AC14)*1000))","v":""},{"$f":"IF(AD14=\"\",\"\",((('Data Ffisegol'!$M15/100)*AD14)*1000))","v":""},{"$f":"IF(AE14=\"\",\"\",((('Data Ffisegol'!$M15/100)*AE14)*1000))","v":""},{"$f":"IF(AF14=\"\",\"\",((('Data Ffisegol'!$M15/100)*AF14)*1000))","v":""},{"$f":"IF(AG14=\"\",\"\",((('Data Ffisegol'!$M15/100)*AG14)*1000))","v":""},{"$f":"IF(AH14=\"\",\"\",((('Data Ffisegol'!$M15/100)*AH14)))","v":""}]
[null,null,null,null,null,null,null,"","","","",{"$f":"IF(L15=\"\",\"\",((('Data Ffisegol'!$M16/100)*L15)*1000))","v":""},{"$f":"IF(M15=\"\",\"\",((('Data Ffisegol'!$M16/100)*M15)*1000))","v":""},{"$f":"IF(N15=\"\",\"\",((('Data Ffisegol'!$M16/100)*N15)*1000))","v":""},{"$f":"IF(O15=\"\",\"\",((('Data Ffisegol'!$M16/100)*O15)*1000))","v":""},{"$f":"IF(P15=\"\",\"\",((('Data Ffisegol'!$M16/100)*P15)*1000))","v":""},{"$f":"IF(Q15=\"\",\"\",((('Data Ffisegol'!$M16/100)*Q15)*1000))","v":""},{"$f":"IF(R15=\"\",\"\",((('Data Ffisegol'!$M16/100)*R15)*1000))","v":""},{"$f":"IF(S15=\"\",\"\",((('Data Ffisegol'!$M16/100)*S15)*1000))","v":""},{"$f":"IF(T15=\"\",\"\",((('Data Ffisegol'!$M16/100)*T15)*1000))","v":""},{"$f":"IF(U15=\"\",\"\",((('Data Ffisegol'!$M16/100)*U15)*1000))","v":""},{"$f":"IF(V15=\"\",\"\",((('Data Ffisegol'!$M16/100)*V15)*1000))","v":""},{"$f":"IF(W15=\"\",\"\",((('Data Ffisegol'!$M16/100)*W15)*1000))","v":""},{"$f":"IF(X15=\"\",\"\",((('Data Ffisegol'!$M16/100)*X15)*1000))","v":""},{"$f":"IF(Y15=\"\",\"\",((('Data Ffisegol'!$M16/100)*Y15)*1000))","v":""},{"$f":"IF(Z15=\"\",\"\",((('Data Ffisegol'!$M16/100)*Z15)*1000))","v":""},{"$f":"IF(AA15=\"\",\"\",((('Data Ffisegol'!$M16/100)*AA15)*1000))","v":""},{"$f":"IF(AB15=\"\",\"\",((('Data Ffisegol'!$M16/100)*AB15)*1000))","v":""},{"$f":"IF(AC15=\"\",\"\",((('Data Ffisegol'!$M16/100)*AC15)*1000))","v":""},{"$f":"IF(AD15=\"\",\"\",((('Data Ffisegol'!$M16/100)*AD15)*1000))","v":""},{"$f":"IF(AE15=\"\",\"\",((('Data Ffisegol'!$M16/100)*AE15)*1000))","v":""},{"$f":"IF(AF15=\"\",\"\",((('Data Ffisegol'!$M16/100)*AF15)*1000))","v":""},{"$f":"IF(AG15=\"\",\"\",((('Data Ffisegol'!$M16/100)*AG15)*1000))","v":""},{"$f":"IF(AH15=\"\",\"\",((('Data Ffisegol'!$M16/100)*AH15)))","v":""}]
[null,null,null,null,null,null,null,"","","","",{"$f":"IF(L16=\"\",\"\",((('Data Ffisegol'!$M17/100)*L16)*1000))","v":""},{"$f":"IF(M16=\"\",\"\",((('Data Ffisegol'!$M17/100)*M16)*1000))","v":""},{"$f":"IF(N16=\"\",\"\",((('Data Ffisegol'!$M17/100)*N16)*1000))","v":""},{"$f":"IF(O16=\"\",\"\",((('Data Ffisegol'!$M17/100)*O16)*1000))","v":""},{"$f":"IF(P16=\"\",\"\",((('Data Ffisegol'!$M17/100)*P16)*1000))","v":""},{"$f":"IF(Q16=\"\",\"\",((('Data Ffisegol'!$M17/100)*Q16)*1000))","v":""},{"$f":"IF(R16=\"\",\"\",((('Data Ffisegol'!$M17/100)*R16)*1000))","v":""},{"$f":"IF(S16=\"\",\"\",((('Data Ffisegol'!$M17/100)*S16)*1000))","v":""},{"$f":"IF(T16=\"\",\"\",((('Data Ffisegol'!$M17/100)*T16)*1000))","v":""},{"$f":"IF(U16=\"\",\"\",((('Data Ffisegol'!$M17/100)*U16)*1000))","v":""},{"$f":"IF(V16=\"\",\"\",((('Data Ffisegol'!$M17/100)*V16)*1000))","v":""},{"$f":"IF(W16=\"\",\"\",((('Data Ffisegol'!$M17/100)*W16)*1000))","v":""},{"$f":"IF(X16=\"\",\"\",((('Data Ffisegol'!$M17/100)*X16)*1000))","v":""},{"$f":"IF(Y16=\"\",\"\",((('Data Ffisegol'!$M17/100)*Y16)*1000))","v":""},{"$f":"IF(Z16=\"\",\"\",((('Data Ffisegol'!$M17/100)*Z16)*1000))","v":""},{"$f":"IF(AA16=\"\",\"\",((('Data Ffisegol'!$M17/100)*AA16)*1000))","v":""},{"$f":"IF(AB16=\"\",\"\",((('Data Ffisegol'!$M17/100)*AB16)*1000))","v":""},{"$f":"IF(AC16=\"\",\"\",((('Data Ffisegol'!$M17/100)*AC16)*1000))","v":""},{"$f":"IF(AD16=\"\",\"\",((('Data Ffisegol'!$M17/100)*AD16)*1000))","v":""},{"$f":"IF(AE16=\"\",\"\",((('Data Ffisegol'!$M17/100)*AE16)*1000))","v":""},{"$f":"IF(AF16=\"\",\"\",((('Data Ffisegol'!$M17/100)*AF16)*1000))","v":""},{"$f":"IF(AG16=\"\",\"\",((('Data Ffisegol'!$M17/100)*AG16)*1000))","v":""},{"$f":"IF(AH16=\"\",\"\",((('Data Ffisegol'!$M17/100)*AH16)))","v":""}]
[null,null,null,null,null,null,null,"","","","",{"$f":"IF(L17=\"\",\"\",((('Data Ffisegol'!$M18/100)*L17)*1000))","v":""},{"$f":"IF(M17=\"\",\"\",((('Data Ffisegol'!$M18/100)*M17)*1000))","v":""},{"$f":"IF(N17=\"\",\"\",((('Data Ffisegol'!$M18/100)*N17)*1000))","v":""},{"$f":"IF(O17=\"\",\"\",((('Data Ffisegol'!$M18/100)*O17)*1000))","v":""},{"$f":"IF(P17=\"\",\"\",((('Data Ffisegol'!$M18/100)*P17)*1000))","v":""},{"$f":"IF(Q17=\"\",\"\",((('Data Ffisegol'!$M18/100)*Q17)*1000))","v":""},{"$f":"IF(R17=\"\",\"\",((('Data Ffisegol'!$M18/100)*R17)*1000))","v":""},{"$f":"IF(S17=\"\",\"\",((('Data Ffisegol'!$M18/100)*S17)*1000))","v":""},{"$f":"IF(T17=\"\",\"\",((('Data Ffisegol'!$M18/100)*T17)*1000))","v":""},{"$f":"IF(U17=\"\",\"\",((('Data Ffisegol'!$M18/100)*U17)*1000))","v":""},{"$f":"IF(V17=\"\",\"\",((('Data Ffisegol'!$M18/100)*V17)*1000))","v":""},{"$f":"IF(W17=\"\",\"\",((('Data Ffisegol'!$M18/100)*W17)*1000))","v":""},{"$f":"IF(X17=\"\",\"\",((('Data Ffisegol'!$M18/100)*X17)*1000))","v":""},{"$f":"IF(Y17=\"\",\"\",((('Data Ffisegol'!$M18/100)*Y17)*1000))","v":""},{"$f":"IF(Z17=\"\",\"\",((('Data Ffisegol'!$M18/100)*Z17)*1000))","v":""},{"$f":"IF(AA17=\"\",\"\",((('Data Ffisegol'!$M18/100)*AA17)*1000))","v":""},{"$f":"IF(AB17=\"\",\"\",((('Data Ffisegol'!$M18/100)*AB17)*1000))","v":""},{"$f":"IF(AC17=\"\",\"\",((('Data Ffisegol'!$M18/100)*AC17)*1000))","v":""},{"$f":"IF(AD17=\"\",\"\",((('Data Ffisegol'!$M18/100)*AD17)*1000))","v":""},{"$f":"IF(AE17=\"\",\"\",((('Data Ffisegol'!$M18/100)*AE17)*1000))","v":""},{"$f":"IF(AF17=\"\",\"\",((('Data Ffisegol'!$M18/100)*AF17)*1000))","v":""},{"$f":"IF(AG17=\"\",\"\",((('Data Ffisegol'!$M18/100)*AG17)*1000))","v":""},{"$f":"IF(AH17=\"\",\"\",((('Data Ffisegol'!$M18/100)*AH17)))","v":""}]
[null,null,null,null,null,null,null,"","","","",{"$f":"IF(L18=\"\",\"\",((('Data Ffisegol'!$M19/100)*L18)*1000))","v":""},{"$f":"IF(M18=\"\",\"\",((('Data Ffisegol'!$M19/100)*M18)*1000))","v":""},{"$f":"IF(N18=\"\",\"\",((('Data Ffisegol'!$M19/100)*N18)*1000))","v":""},{"$f":"IF(O18=\"\",\"\",((('Data Ffisegol'!$M19/100)*O18)*1000))","v":""},{"$f":"IF(P18=\"\",\"\",((('Data Ffisegol'!$M19/100)*P18)*1000))","v":""},{"$f":"IF(Q18=\"\",\"\",((('Data Ffisegol'!$M19/100)*Q18)*1000))","v":""},{"$f":"IF(R18=\"\",\"\",((('Data Ffisegol'!$M19/100)*R18)*1000))","v":""},{"$f":"IF(S18=\"\",\"\",((('Data Ffisegol'!$M19/100)*S18)*1000))","v":""},{"$f":"IF(T18=\"\",\"\",((('Data Ffisegol'!$M19/100)*T18)*1000))","v":""},{"$f":"IF(U18=\"\",\"\",((('Data Ffisegol'!$M19/100)*U18)*1000))","v":""},{"$f":"IF(V18=\"\",\"\",((('Data Ffisegol'!$M19/100)*V18)*1000))","v":""},{"$f":"IF(W18=\"\",\"\",((('Data Ffisegol'!$M19/100)*W18)*1000))","v":""},{"$f":"IF(X18=\"\",\"\",((('Data Ffisegol'!$M19/100)*X18)*1000))","v":""},{"$f":"IF(Y18=\"\",\"\",((('Data Ffisegol'!$M19/100)*Y18)*1000))","v":""},{"$f":"IF(Z18=\"\",\"\",((('Data Ffisegol'!$M19/100)*Z18)*1000))","v":""},{"$f":"IF(AA18=\"\",\"\",((('Data Ffisegol'!$M19/100)*AA18)*1000))","v":""},{"$f":"IF(AB18=\"\",\"\",((('Data Ffisegol'!$M19/100)*AB18)*1000))","v":""},{"$f":"IF(AC18=\"\",\"\",((('Data Ffisegol'!$M19/100)*AC18)*1000))","v":""},{"$f":"IF(AD18=\"\",\"\",((('Data Ffisegol'!$M19/100)*AD18)*1000))","v":""},{"$f":"IF(AE18=\"\",\"\",((('Data Ffisegol'!$M19/100)*AE18)*1000))","v":""},{"$f":"IF(AF18=\"\",\"\",((('Data Ffisegol'!$M19/100)*AF18)*1000))","v":""},{"$f":"IF(AG18=\"\",\"\",((('Data Ffisegol'!$M19/100)*AG18)*1000))","v":""},{"$f":"IF(AH18=\"\",\"\",((('Data Ffisegol'!$M19/100)*AH18)))","v":""}]
[null,null,null,null,null,null,null,"","","","",{"$f":"IF(L19=\"\",\"\",((('Data Ffisegol'!$M20/100)*L19)*1000))","v":""},{"$f":"IF(M19=\"\",\"\",((('Data Ffisegol'!$M20/100)*M19)*1000))","v":""},{"$f":"IF(N19=\"\",\"\",((('Data Ffisegol'!$M20/100)*N19)*1000))","v":""},{"$f":"IF(O19=\"\",\"\",((('Data Ffisegol'!$M20/100)*O19)*1000))","v":""},{"$f":"IF(P19=\"\",\"\",((('Data Ffisegol'!$M20/100)*P19)*1000))","v":""},{"$f":"IF(Q19=\"\",\"\",((('Data Ffisegol'!$M20/100)*Q19)*1000))","v":""},{"$f":"IF(R19=\"\",\"\",((('Data Ffisegol'!$M20/100)*R19)*1000))","v":""},{"$f":"IF(S19=\"\",\"\",((('Data Ffisegol'!$M20/100)*S19)*1000))","v":""},{"$f":"IF(T19=\"\",\"\",((('Data Ffisegol'!$M20/100)*T19)*1000))","v":""},{"$f":"IF(U19=\"\",\"\",((('Data Ffisegol'!$M20/100)*U19)*1000))","v":""},{"$f":"IF(V19=\"\",\"\",((('Data Ffisegol'!$M20/100)*V19)*1000))","v":""},{"$f":"IF(W19=\"\",\"\",((('Data Ffisegol'!$M20/100)*W19)*1000))","v":""},{"$f":"IF(X19=\"\",\"\",((('Data Ffisegol'!$M20/100)*X19)*1000))","v":""},{"$f":"IF(Y19=\"\",\"\",((('Data Ffisegol'!$M20/100)*Y19)*1000))","v":""},{"$f":"IF(Z19=\"\",\"\",((('Data Ffisegol'!$M20/100)*Z19)*1000))","v":""},{"$f":"IF(AA19=\"\",\"\",((('Data Ffisegol'!$M20/100)*AA19)*1000))","v":""},{"$f":"IF(AB19=\"\",\"\",((('Data Ffisegol'!$M20/100)*AB19)*1000))","v":""},{"$f":"IF(AC19=\"\",\"\",((('Data Ffisegol'!$M20/100)*AC19)*1000))","v":""},{"$f":"IF(AD19=\"\",\"\",((('Data Ffisegol'!$M20/100)*AD19)*1000))","v":""},{"$f":"IF(AE19=\"\",\"\",((('Data Ffisegol'!$M20/100)*AE19)*1000))","v":""},{"$f":"IF(AF19=\"\",\"\",((('Data Ffisegol'!$M20/100)*AF19)*1000))","v":""},{"$f":"IF(AG19=\"\",\"\",((('Data Ffisegol'!$M20/100)*AG19)*1000))","v":""},{"$f":"IF(AH19=\"\",\"\",((('Data Ffisegol'!$M20/100)*AH19)))","v":""}]
[null,null,null,null,null,null,null,"","","","",{"$f":"IF(L20=\"\",\"\",((('Data Ffisegol'!$M21/100)*L20)*1000))","v":""},{"$f":"IF(M20=\"\",\"\",((('Data Ffisegol'!$M21/100)*M20)*1000))","v":""},{"$f":"IF(N20=\"\",\"\",((('Data Ffisegol'!$M21/100)*N20)*1000))","v":""},{"$f":"IF(O20=\"\",\"\",((('Data Ffisegol'!$M21/100)*O20)*1000))","v":""},{"$f":"IF(P20=\"\",\"\",((('Data Ffisegol'!$M21/100)*P20)*1000))","v":""},{"$f":"IF(Q20=\"\",\"\",((('Data Ffisegol'!$M21/100)*Q20)*1000))","v":""},{"$f":"IF(R20=\"\",\"\",((('Data Ffisegol'!$M21/100)*R20)*1000))","v":""},{"$f":"IF(S20=\"\",\"\",((('Data Ffisegol'!$M21/100)*S20)*1000))","v":""},{"$f":"IF(T20=\"\",\"\",((('Data Ffisegol'!$M21/100)*T20)*1000))","v":""},{"$f":"IF(U20=\"\",\"\",((('Data Ffisegol'!$M21/100)*U20)*1000))","v":""},{"$f":"IF(V20=\"\",\"\",((('Data Ffisegol'!$M21/100)*V20)*1000))","v":""},{"$f":"IF(W20=\"\",\"\",((('Data Ffisegol'!$M21/100)*W20)*1000))","v":""},{"$f":"IF(X20=\"\",\"\",((('Data Ffisegol'!$M21/100)*X20)*1000))","v":""},{"$f":"IF(Y20=\"\",\"\",((('Data Ffisegol'!$M21/100)*Y20)*1000))","v":""},{"$f":"IF(Z20=\"\",\"\",((('Data Ffisegol'!$M21/100)*Z20)*1000))","v":""},{"$f":"IF(AA20=\"\",\"\",((('Data Ffisegol'!$M21/100)*AA20)*1000))","v":""},{"$f":"IF(AB20=\"\",\"\",((('Data Ffisegol'!$M21/100)*AB20)*1000))","v":""},{"$f":"IF(AC20=\"\",\"\",((('Data Ffisegol'!$M21/100)*AC20)*1000))","v":""},{"$f":"IF(AD20=\"\",\"\",((('Data Ffisegol'!$M21/100)*AD20)*1000))","v":""},{"$f":"IF(AE20=\"\",\"\",((('Data Ffisegol'!$M21/100)*AE20)*1000))","v":""},{"$f":"IF(AF20=\"\",\"\",((('Data Ffisegol'!$M21/100)*AF20)*1000))","v":""},{"$f":"IF(AG20=\"\",\"\",((('Data Ffisegol'!$M21/100)*AG20)*1000))","v":""},{"$f":"IF(AH20=\"\",\"\",((('Data Ffisegol'!$M21/100)*AH20)))","v":""}]
[null,null,null,null,null,null,null,"","","","",{"$f":"IF(L21=\"\",\"\",((('Data Ffisegol'!$M22/100)*L21)*1000))","v":""},{"$f":"IF(M21=\"\",\"\",((('Data Ffisegol'!$M22/100)*M21)*1000))","v":""},{"$f":"IF(N21=\"\",\"\",((('Data Ffisegol'!$M22/100)*N21)*1000))","v":""},{"$f":"IF(O21=\"\",\"\",((('Data Ffisegol'!$M22/100)*O21)*1000))","v":""},{"$f":"IF(P21=\"\",\"\",((('Data Ffisegol'!$M22/100)*P21)*1000))","v":""},{"$f":"IF(Q21=\"\",\"\",((('Data Ffisegol'!$M22/100)*Q21)*1000))","v":""},{"$f":"IF(R21=\"\",\"\",((('Data Ffisegol'!$M22/100)*R21)*1000))","v":""},{"$f":"IF(S21=\"\",\"\",((('Data Ffisegol'!$M22/100)*S21)*1000))","v":""},{"$f":"IF(T21=\"\",\"\",((('Data Ffisegol'!$M22/100)*T21)*1000))","v":""},{"$f":"IF(U21=\"\",\"\",((('Data Ffisegol'!$M22/100)*U21)*1000))","v":""},{"$f":"IF(V21=\"\",\"\",((('Data Ffisegol'!$M22/100)*V21)*1000))","v":""},{"$f":"IF(W21=\"\",\"\",((('Data Ffisegol'!$M22/100)*W21)*1000))","v":""},{"$f":"IF(X21=\"\",\"\",((('Data Ffisegol'!$M22/100)*X21)*1000))","v":""},{"$f":"IF(Y21=\"\",\"\",((('Data Ffisegol'!$M22/100)*Y21)*1000))","v":""},{"$f":"IF(Z21=\"\",\"\",((('Data Ffisegol'!$M22/100)*Z21)*1000))","v":""},{"$f":"IF(AA21=\"\",\"\",((('Data Ffisegol'!$M22/100)*AA21)*1000))","v":""},{"$f":"IF(AB21=\"\",\"\",((('Data Ffisegol'!$M22/100)*AB21)*1000))","v":""},{"$f":"IF(AC21=\"\",\"\",((('Data Ffisegol'!$M22/100)*AC21)*1000))","v":""},{"$f":"IF(AD21=\"\",\"\",((('Data Ffisegol'!$M22/100)*AD21)*1000))","v":""},{"$f":"IF(AE21=\"\",\"\",((('Data Ffisegol'!$M22/100)*AE21)*1000))","v":""},{"$f":"IF(AF21=\"\",\"\",((('Data Ffisegol'!$M22/100)*AF21)*1000))","v":""},{"$f":"IF(AG21=\"\",\"\",((('Data Ffisegol'!$M22/100)*AG21)*1000))","v":""},{"$f":"IF(AH21=\"\",\"\",((('Data Ffisegol'!$M22/100)*AH21)))","v":""}]
[null,null,null,null,null,null,null,"","","","",{"$f":"IF(L22=\"\",\"\",((('Data Ffisegol'!$M23/100)*L22)*1000))","v":""},{"$f":"IF(M22=\"\",\"\",((('Data Ffisegol'!$M23/100)*M22)*1000))","v":""},{"$f":"IF(N22=\"\",\"\",((('Data Ffisegol'!$M23/100)*N22)*1000))","v":""},{"$f":"IF(O22=\"\",\"\",((('Data Ffisegol'!$M23/100)*O22)*1000))","v":""},{"$f":"IF(P22=\"\",\"\",((('Data Ffisegol'!$M23/100)*P22)*1000))","v":""},{"$f":"IF(Q22=\"\",\"\",((('Data Ffisegol'!$M23/100)*Q22)*1000))","v":""},{"$f":"IF(R22=\"\",\"\",((('Data Ffisegol'!$M23/100)*R22)*1000))","v":""},{"$f":"IF(S22=\"\",\"\",((('Data Ffisegol'!$M23/100)*S22)*1000))","v":""},{"$f":"IF(T22=\"\",\"\",((('Data Ffisegol'!$M23/100)*T22)*1000))","v":""},{"$f":"IF(U22=\"\",\"\",((('Data Ffisegol'!$M23/100)*U22)*1000))","v":""},{"$f":"IF(V22=\"\",\"\",((('Data Ffisegol'!$M23/100)*V22)*1000))","v":""},{"$f":"IF(W22=\"\",\"\",((('Data Ffisegol'!$M23/100)*W22)*1000))","v":""},{"$f":"IF(X22=\"\",\"\",((('Data Ffisegol'!$M23/100)*X22)*1000))","v":""},{"$f":"IF(Y22=\"\",\"\",((('Data Ffisegol'!$M23/100)*Y22)*1000))","v":""},{"$f":"IF(Z22=\"\",\"\",((('Data Ffisegol'!$M23/100)*Z22)*1000))","v":""},{"$f":"IF(AA22=\"\",\"\",((('Data Ffisegol'!$M23/100)*AA22)*1000))","v":""},{"$f":"IF(AB22=\"\",\"\",((('Data Ffisegol'!$M23/100)*AB22)*1000))","v":""},{"$f":"IF(AC22=\"\",\"\",((('Data Ffisegol'!$M23/100)*AC22)*1000))","v":""},{"$f":"IF(AD22=\"\",\"\",((('Data Ffisegol'!$M23/100)*AD22)*1000))","v":""},{"$f":"IF(AE22=\"\",\"\",((('Data Ffisegol'!$M23/100)*AE22)*1000))","v":""},{"$f":"IF(AF22=\"\",\"\",((('Data Ffisegol'!$M23/100)*AF22)*1000))","v":""},{"$f":"IF(AG22=\"\",\"\",((('Data Ffisegol'!$M23/100)*AG22)*1000))","v":""},{"$f":"IF(AH22=\"\",\"\",((('Data Ffisegol'!$M23/100)*AH22)))","v":""}]
[null,null,null,null,null,null,null,"","","","",{"$f":"IF(L23=\"\",\"\",((('Data Ffisegol'!$M24/100)*L23)*1000))","v":""},{"$f":"IF(M23=\"\",\"\",((('Data Ffisegol'!$M24/100)*M23)*1000))","v":""},{"$f":"IF(N23=\"\",\"\",((('Data Ffisegol'!$M24/100)*N23)*1000))","v":""},{"$f":"IF(O23=\"\",\"\",((('Data Ffisegol'!$M24/100)*O23)*1000))","v":""},{"$f":"IF(P23=\"\",\"\",((('Data Ffisegol'!$M24/100)*P23)*1000))","v":""},{"$f":"IF(Q23=\"\",\"\",((('Data Ffisegol'!$M24/100)*Q23)*1000))","v":""},{"$f":"IF(R23=\"\",\"\",((('Data Ffisegol'!$M24/100)*R23)*1000))","v":""},{"$f":"IF(S23=\"\",\"\",((('Data Ffisegol'!$M24/100)*S23)*1000))","v":""},{"$f":"IF(T23=\"\",\"\",((('Data Ffisegol'!$M24/100)*T23)*1000))","v":""},{"$f":"IF(U23=\"\",\"\",((('Data Ffisegol'!$M24/100)*U23)*1000))","v":""},{"$f":"IF(V23=\"\",\"\",((('Data Ffisegol'!$M24/100)*V23)*1000))","v":""},{"$f":"IF(W23=\"\",\"\",((('Data Ffisegol'!$M24/100)*W23)*1000))","v":""},{"$f":"IF(X23=\"\",\"\",((('Data Ffisegol'!$M24/100)*X23)*1000))","v":""},{"$f":"IF(Y23=\"\",\"\",((('Data Ffisegol'!$M24/100)*Y23)*1000))","v":""},{"$f":"IF(Z23=\"\",\"\",((('Data Ffisegol'!$M24/100)*Z23)*1000))","v":""},{"$f":"IF(AA23=\"\",\"\",((('Data Ffisegol'!$M24/100)*AA23)*1000))","v":""},{"$f":"IF(AB23=\"\",\"\",((('Data Ffisegol'!$M24/100)*AB23)*1000))","v":""},{"$f":"IF(AC23=\"\",\"\",((('Data Ffisegol'!$M24/100)*AC23)*1000))","v":""},{"$f":"IF(AD23=\"\",\"\",((('Data Ffisegol'!$M24/100)*AD23)*1000))","v":""},{"$f":"IF(AE23=\"\",\"\",((('Data Ffisegol'!$M24/100)*AE23)*1000))","v":""},{"$f":"IF(AF23=\"\",\"\",((('Data Ffisegol'!$M24/100)*AF23)*1000))","v":""},{"$f":"IF(AG23=\"\",\"\",((('Data Ffisegol'!$M24/100)*AG23)*1000))","v":""},{"$f":"IF(AH23=\"\",\"\",((('Data Ffisegol'!$M24/100)*AH23)))","v":""}]
[null,null,null,null,null,null,null,"","","","",{"$f":"IF(L24=\"\",\"\",((('Data Ffisegol'!$M25/100)*L24)*1000))","v":""},{"$f":"IF(M24=\"\",\"\",((('Data Ffisegol'!$M25/100)*M24)*1000))","v":""},{"$f":"IF(N24=\"\",\"\",((('Data Ffisegol'!$M25/100)*N24)*1000))","v":""},{"$f":"IF(O24=\"\",\"\",((('Data Ffisegol'!$M25/100)*O24)*1000))","v":""},{"$f":"IF(P24=\"\",\"\",((('Data Ffisegol'!$M25/100)*P24)*1000))","v":""},{"$f":"IF(Q24=\"\",\"\",((('Data Ffisegol'!$M25/100)*Q24)*1000))","v":""},{"$f":"IF(R24=\"\",\"\",((('Data Ffisegol'!$M25/100)*R24)*1000))","v":""},{"$f":"IF(S24=\"\",\"\",((('Data Ffisegol'!$M25/100)*S24)*1000))","v":""},{"$f":"IF(T24=\"\",\"\",((('Data Ffisegol'!$M25/100)*T24)*1000))","v":""},{"$f":"IF(U24=\"\",\"\",((('Data Ffisegol'!$M25/100)*U24)*1000))","v":""},{"$f":"IF(V24=\"\",\"\",((('Data Ffisegol'!$M25/100)*V24)*1000))","v":""},{"$f":"IF(W24=\"\",\"\",((('Data Ffisegol'!$M25/100)*W24)*1000))","v":""},{"$f":"IF(X24=\"\",\"\",((('Data Ffisegol'!$M25/100)*X24)*1000))","v":""},{"$f":"IF(Y24=\"\",\"\",((('Data Ffisegol'!$M25/100)*Y24)*1000))","v":""},{"$f":"IF(Z24=\"\",\"\",((('Data Ffisegol'!$M25/100)*Z24)*1000))","v":""},{"$f":"IF(AA24=\"\",\"\",((('Data Ffisegol'!$M25/100)*AA24)*1000))","v":""},{"$f":"IF(AB24=\"\",\"\",((('Data Ffisegol'!$M25/100)*AB24)*1000))","v":""},{"$f":"IF(AC24=\"\",\"\",((('Data Ffisegol'!$M25/100)*AC24)*1000))","v":""},{"$f":"IF(AD24=\"\",\"\",((('Data Ffisegol'!$M25/100)*AD24)*1000))","v":""},{"$f":"IF(AE24=\"\",\"\",((('Data Ffisegol'!$M25/100)*AE24)*1000))","v":""},{"$f":"IF(AF24=\"\",\"\",((('Data Ffisegol'!$M25/100)*AF24)*1000))","v":""},{"$f":"IF(AG24=\"\",\"\",((('Data Ffisegol'!$M25/100)*AG24)*1000))","v":""},{"$f":"IF(AH24=\"\",\"\",((('Data Ffisegol'!$M25/100)*AH24)))","v":""}]
[null,null,null,null,null,null,null,"","","","",{"$f":"IF(L25=\"\",\"\",((('Data Ffisegol'!$M26/100)*L25)*1000))","v":""},{"$f":"IF(M25=\"\",\"\",((('Data Ffisegol'!$M26/100)*M25)*1000))","v":""},{"$f":"IF(N25=\"\",\"\",((('Data Ffisegol'!$M26/100)*N25)*1000))","v":""},{"$f":"IF(O25=\"\",\"\",((('Data Ffisegol'!$M26/100)*O25)*1000))","v":""},{"$f":"IF(P25=\"\",\"\",((('Data Ffisegol'!$M26/100)*P25)*1000))","v":""},{"$f":"IF(Q25=\"\",\"\",((('Data Ffisegol'!$M26/100)*Q25)*1000))","v":""},{"$f":"IF(R25=\"\",\"\",((('Data Ffisegol'!$M26/100)*R25)*1000))","v":""},{"$f":"IF(S25=\"\",\"\",((('Data Ffisegol'!$M26/100)*S25)*1000))","v":""},{"$f":"IF(T25=\"\",\"\",((('Data Ffisegol'!$M26/100)*T25)*1000))","v":""},{"$f":"IF(U25=\"\",\"\",((('Data Ffisegol'!$M26/100)*U25)*1000))","v":""},{"$f":"IF(V25=\"\",\"\",((('Data Ffisegol'!$M26/100)*V25)*1000))","v":""},{"$f":"IF(W25=\"\",\"\",((('Data Ffisegol'!$M26/100)*W25)*1000))","v":""},{"$f":"IF(X25=\"\",\"\",((('Data Ffisegol'!$M26/100)*X25)*1000))","v":""},{"$f":"IF(Y25=\"\",\"\",((('Data Ffisegol'!$M26/100)*Y25)*1000))","v":""},{"$f":"IF(Z25=\"\",\"\",((('Data Ffisegol'!$M26/100)*Z25)*1000))","v":""},{"$f":"IF(AA25=\"\",\"\",((('Data Ffisegol'!$M26/100)*AA25)*1000))","v":""},{"$f":"IF(AB25=\"\",\"\",((('Data Ffisegol'!$M26/100)*AB25)*1000))","v":""},{"$f":"IF(AC25=\"\",\"\",((('Data Ffisegol'!$M26/100)*AC25)*1000))","v":""},{"$f":"IF(AD25=\"\",\"\",((('Data Ffisegol'!$M26/100)*AD25)*1000))","v":""},{"$f":"IF(AE25=\"\",\"\",((('Data Ffisegol'!$M26/100)*AE25)*1000))","v":""},{"$f":"IF(AF25=\"\",\"\",((('Data Ffisegol'!$M26/100)*AF25)*1000))","v":""},{"$f":"IF(AG25=\"\",\"\",((('Data Ffisegol'!$M26/100)*AG25)*1000))","v":""},{"$f":"IF(AH25=\"\",\"\",((('Data Ffisegol'!$M26/100)*AH25)))","v":""}]
[null,null,null,null,null,null,null,"","","","",{"$f":"IF(L26=\"\",\"\",((('Data Ffisegol'!$M27/100)*L26)*1000))","v":""},{"$f":"IF(M26=\"\",\"\",((('Data Ffisegol'!$M27/100)*M26)*1000))","v":""},{"$f":"IF(N26=\"\",\"\",((('Data Ffisegol'!$M27/100)*N26)*1000))","v":""},{"$f":"IF(O26=\"\",\"\",((('Data Ffisegol'!$M27/100)*O26)*1000))","v":""},{"$f":"IF(P26=\"\",\"\",((('Data Ffisegol'!$M27/100)*P26)*1000))","v":""},{"$f":"IF(Q26=\"\",\"\",((('Data Ffisegol'!$M27/100)*Q26)*1000))","v":""},{"$f":"IF(R26=\"\",\"\",((('Data Ffisegol'!$M27/100)*R26)*1000))","v":""},{"$f":"IF(S26=\"\",\"\",((('Data Ffisegol'!$M27/100)*S26)*1000))","v":""},{"$f":"IF(T26=\"\",\"\",((('Data Ffisegol'!$M27/100)*T26)*1000))","v":""},{"$f":"IF(U26=\"\",\"\",((('Data Ffisegol'!$M27/100)*U26)*1000))","v":""},{"$f":"IF(V26=\"\",\"\",((('Data Ffisegol'!$M27/100)*V26)*1000))","v":""},{"$f":"IF(W26=\"\",\"\",((('Data Ffisegol'!$M27/100)*W26)*1000))","v":""},{"$f":"IF(X26=\"\",\"\",((('Data Ffisegol'!$M27/100)*X26)*1000))","v":""},{"$f":"IF(Y26=\"\",\"\",((('Data Ffisegol'!$M27/100)*Y26)*1000))","v":""},{"$f":"IF(Z26=\"\",\"\",((('Data Ffisegol'!$M27/100)*Z26)*1000))","v":""},{"$f":"IF(AA26=\"\",\"\",((('Data Ffisegol'!$M27/100)*AA26)*1000))","v":""},{"$f":"IF(AB26=\"\",\"\",((('Data Ffisegol'!$M27/100)*AB26)*1000))","v":""},{"$f":"IF(AC26=\"\",\"\",((('Data Ffisegol'!$M27/100)*AC26)*1000))","v":""},{"$f":"IF(AD26=\"\",\"\",((('Data Ffisegol'!$M27/100)*AD26)*1000))","v":""},{"$f":"IF(AE26=\"\",\"\",((('Data Ffisegol'!$M27/100)*AE26)*1000))","v":""},{"$f":"IF(AF26=\"\",\"\",((('Data Ffisegol'!$M27/100)*AF26)*1000))","v":""},{"$f":"IF(AG26=\"\",\"\",((('Data Ffisegol'!$M27/100)*AG26)*1000))","v":""},{"$f":"IF(AH26=\"\",\"\",((('Data Ffisegol'!$M27/100)*AH26)))","v":""}]
[null,null,null,null,null,null,null,"","","","",{"$f":"IF(L27=\"\",\"\",((('Data Ffisegol'!$M28/100)*L27)*1000))","v":""},{"$f":"IF(M27=\"\",\"\",((('Data Ffisegol'!$M28/100)*M27)*1000))","v":""},{"$f":"IF(N27=\"\",\"\",((('Data Ffisegol'!$M28/100)*N27)*1000))","v":""},{"$f":"IF(O27=\"\",\"\",((('Data Ffisegol'!$M28/100)*O27)*1000))","v":""},{"$f":"IF(P27=\"\",\"\",((('Data Ffisegol'!$M28/100)*P27)*1000))","v":""},{"$f":"IF(Q27=\"\",\"\",((('Data Ffisegol'!$M28/100)*Q27)*1000))","v":""},{"$f":"IF(R27=\"\",\"\",((('Data Ffisegol'!$M28/100)*R27)*1000))","v":""},{"$f":"IF(S27=\"\",\"\",((('Data Ffisegol'!$M28/100)*S27)*1000))","v":""},{"$f":"IF(T27=\"\",\"\",((('Data Ffisegol'!$M28/100)*T27)*1000))","v":""},{"$f":"IF(U27=\"\",\"\",((('Data Ffisegol'!$M28/100)*U27)*1000))","v":""},{"$f":"IF(V27=\"\",\"\",((('Data Ffisegol'!$M28/100)*V27)*1000))","v":""},{"$f":"IF(W27=\"\",\"\",((('Data Ffisegol'!$M28/100)*W27)*1000))","v":""},{"$f":"IF(X27=\"\",\"\",((('Data Ffisegol'!$M28/100)*X27)*1000))","v":""},{"$f":"IF(Y27=\"\",\"\",((('Data Ffisegol'!$M28/100)*Y27)*1000))","v":""},{"$f":"IF(Z27=\"\",\"\",((('Data Ffisegol'!$M28/100)*Z27)*1000))","v":""},{"$f":"IF(AA27=\"\",\"\",((('Data Ffisegol'!$M28/100)*AA27)*1000))","v":""},{"$f":"IF(AB27=\"\",\"\",((('Data Ffisegol'!$M28/100)*AB27)*1000))","v":""},{"$f":"IF(AC27=\"\",\"\",((('Data Ffisegol'!$M28/100)*AC27)*1000))","v":""},{"$f":"IF(AD27=\"\",\"\",((('Data Ffisegol'!$M28/100)*AD27)*1000))","v":""},{"$f":"IF(AE27=\"\",\"\",((('Data Ffisegol'!$M28/100)*AE27)*1000))","v":""},{"$f":"IF(AF27=\"\",\"\",((('Data Ffisegol'!$M28/100)*AF27)*1000))","v":""},{"$f":"IF(AG27=\"\",\"\",((('Data Ffisegol'!$M28/100)*AG27)*1000))","v":""},{"$f":"IF(AH27=\"\",\"\",((('Data Ffisegol'!$M28/100)*AH27)))","v":""}]
[null,null,null,null,null,null,null,"","","","",{"$f":"IF(L28=\"\",\"\",((('Data Ffisegol'!$M29/100)*L28)*1000))","v":""},{"$f":"IF(M28=\"\",\"\",((('Data Ffisegol'!$M29/100)*M28)*1000))","v":""},{"$f":"IF(N28=\"\",\"\",((('Data Ffisegol'!$M29/100)*N28)*1000))","v":""},{"$f":"IF(O28=\"\",\"\",((('Data Ffisegol'!$M29/100)*O28)*1000))","v":""},{"$f":"IF(P28=\"\",\"\",((('Data Ffisegol'!$M29/100)*P28)*1000))","v":""},{"$f":"IF(Q28=\"\",\"\",((('Data Ffisegol'!$M29/100)*Q28)*1000))","v":""},{"$f":"IF(R28=\"\",\"\",((('Data Ffisegol'!$M29/100)*R28)*1000))","v":""},{"$f":"IF(S28=\"\",\"\",((('Data Ffisegol'!$M29/100)*S28)*1000))","v":""},{"$f":"IF(T28=\"\",\"\",((('Data Ffisegol'!$M29/100)*T28)*1000))","v":""},{"$f":"IF(U28=\"\",\"\",((('Data Ffisegol'!$M29/100)*U28)*1000))","v":""},{"$f":"IF(V28=\"\",\"\",((('Data Ffisegol'!$M29/100)*V28)*1000))","v":""},{"$f":"IF(W28=\"\",\"\",((('Data Ffisegol'!$M29/100)*W28)*1000))","v":""},{"$f":"IF(X28=\"\",\"\",((('Data Ffisegol'!$M29/100)*X28)*1000))","v":""},{"$f":"IF(Y28=\"\",\"\",((('Data Ffisegol'!$M29/100)*Y28)*1000))","v":""},{"$f":"IF(Z28=\"\",\"\",((('Data Ffisegol'!$M29/100)*Z28)*1000))","v":""},{"$f":"IF(AA28=\"\",\"\",((('Data Ffisegol'!$M29/100)*AA28)*1000))","v":""},{"$f":"IF(AB28=\"\",\"\",((('Data Ffisegol'!$M29/100)*AB28)*1000))","v":""},{"$f":"IF(AC28=\"\",\"\",((('Data Ffisegol'!$M29/100)*AC28)*1000))","v":""},{"$f":"IF(AD28=\"\",\"\",((('Data Ffisegol'!$M29/100)*AD28)*1000))","v":""},{"$f":"IF(AE28=\"\",\"\",((('Data Ffisegol'!$M29/100)*AE28)*1000))","v":""},{"$f":"IF(AF28=\"\",\"\",((('Data Ffisegol'!$M29/100)*AF28)*1000))","v":""},{"$f":"IF(AG28=\"\",\"\",((('Data Ffisegol'!$M29/100)*AG28)*1000))","v":""},{"$f":"IF(AH28=\"\",\"\",((('Data Ffisegol'!$M29/100)*AH28)))","v":""}]
[null,null,null,null,null,null,null,"","","","",{"$f":"IF(L29=\"\",\"\",((('Data Ffisegol'!$M30/100)*L29)*1000))","v":""},{"$f":"IF(M29=\"\",\"\",((('Data Ffisegol'!$M30/100)*M29)*1000))","v":""},{"$f":"IF(N29=\"\",\"\",((('Data Ffisegol'!$M30/100)*N29)*1000))","v":""},{"$f":"IF(O29=\"\",\"\",((('Data Ffisegol'!$M30/100)*O29)*1000))","v":""},{"$f":"IF(P29=\"\",\"\",((('Data Ffisegol'!$M30/100)*P29)*1000))","v":""},{"$f":"IF(Q29=\"\",\"\",((('Data Ffisegol'!$M30/100)*Q29)*1000))","v":""},{"$f":"IF(R29=\"\",\"\",((('Data Ffisegol'!$M30/100)*R29)*1000))","v":""},{"$f":"IF(S29=\"\",\"\",((('Data Ffisegol'!$M30/100)*S29)*1000))","v":""},{"$f":"IF(T29=\"\",\"\",((('Data Ffisegol'!$M30/100)*T29)*1000))","v":""},{"$f":"IF(U29=\"\",\"\",((('Data Ffisegol'!$M30/100)*U29)*1000))","v":""},{"$f":"IF(V29=\"\",\"\",((('Data Ffisegol'!$M30/100)*V29)*1000))","v":""},{"$f":"IF(W29=\"\",\"\",((('Data Ffisegol'!$M30/100)*W29)*1000))","v":""},{"$f":"IF(X29=\"\",\"\",((('Data Ffisegol'!$M30/100)*X29)*1000))","v":""},{"$f":"IF(Y29=\"\",\"\",((('Data Ffisegol'!$M30/100)*Y29)*1000))","v":""},{"$f":"IF(Z29=\"\",\"\",((('Data Ffisegol'!$M30/100)*Z29)*1000))","v":""},{"$f":"IF(AA29=\"\",\"\",((('Data Ffisegol'!$M30/100)*AA29)*1000))","v":""},{"$f":"IF(AB29=\"\",\"\",((('Data Ffisegol'!$M30/100)*AB29)*1000))","v":""},{"$f":"IF(AC29=\"\",\"\",((('Data Ffisegol'!$M30/100)*AC29)*1000))","v":""},{"$f":"IF(AD29=\"\",\"\",((('Data Ffisegol'!$M30/100)*AD29)*1000))","v":""},{"$f":"IF(AE29=\"\",\"\",((('Data Ffisegol'!$M30/100)*AE29)*1000))","v":""},{"$f":"IF(AF29=\"\",\"\",((('Data Ffisegol'!$M30/100)*AF29)*1000))","v":""},{"$f":"IF(AG29=\"\",\"\",((('Data Ffisegol'!$M30/100)*AG29)*1000))","v":""},{"$f":"IF(AH29=\"\",\"\",((('Data Ffisegol'!$M30/100)*AH29)))","v":""}]
[null,null,null,null,null,null,null,"","","","",{"$f":"IF(L30=\"\",\"\",((('Data Ffisegol'!$M31/100)*L30)*1000))","v":""},{"$f":"IF(M30=\"\",\"\",((('Data Ffisegol'!$M31/100)*M30)*1000))","v":""},{"$f":"IF(N30=\"\",\"\",((('Data Ffisegol'!$M31/100)*N30)*1000))","v":""},{"$f":"IF(O30=\"\",\"\",((('Data Ffisegol'!$M31/100)*O30)*1000))","v":""},{"$f":"IF(P30=\"\",\"\",((('Data Ffisegol'!$M31/100)*P30)*1000))","v":""},{"$f":"IF(Q30=\"\",\"\",((('Data Ffisegol'!$M31/100)*Q30)*1000))","v":""},{"$f":"IF(R30=\"\",\"\",((('Data Ffisegol'!$M31/100)*R30)*1000))","v":""},{"$f":"IF(S30=\"\",\"\",((('Data Ffisegol'!$M31/100)*S30)*1000))","v":""},{"$f":"IF(T30=\"\",\"\",((('Data Ffisegol'!$M31/100)*T30)*1000))","v":""},{"$f":"IF(U30=\"\",\"\",((('Data Ffisegol'!$M31/100)*U30)*1000))","v":""},{"$f":"IF(V30=\"\",\"\",((('Data Ffisegol'!$M31/100)*V30)*1000))","v":""},{"$f":"IF(W30=\"\",\"\",((('Data Ffisegol'!$M31/100)*W30)*1000))","v":""},{"$f":"IF(X30=\"\",\"\",((('Data Ffisegol'!$M31/100)*X30)*1000))","v":""},{"$f":"IF(Y30=\"\",\"\",((('Data Ffisegol'!$M31/100)*Y30)*1000))","v":""},{"$f":"IF(Z30=\"\",\"\",((('Data Ffisegol'!$M31/100)*Z30)*1000))","v":""},{"$f":"IF(AA30=\"\",\"\",((('Data Ffisegol'!$M31/100)*AA30)*1000))","v":""},{"$f":"IF(AB30=\"\",\"\",((('Data Ffisegol'!$M31/100)*AB30)*1000))","v":""},{"$f":"IF(AC30=\"\",\"\",((('Data Ffisegol'!$M31/100)*AC30)*1000))","v":""},{"$f":"IF(AD30=\"\",\"\",((('Data Ffisegol'!$M31/100)*AD30)*1000))","v":""},{"$f":"IF(AE30=\"\",\"\",((('Data Ffisegol'!$M31/100)*AE30)*1000))","v":""},{"$f":"IF(AF30=\"\",\"\",((('Data Ffisegol'!$M31/100)*AF30)*1000))","v":""},{"$f":"IF(AG30=\"\",\"\",((('Data Ffisegol'!$M31/100)*AG30)*1000))","v":""},{"$f":"IF(AH30=\"\",\"\",((('Data Ffisegol'!$M31/100)*AH30)))","v":""}]
[null,null,null,null,null,null,null,"","","","",{"$f":"IF(L31=\"\",\"\",((('Data Ffisegol'!$M32/100)*L31)*1000))","v":""},{"$f":"IF(M31=\"\",\"\",((('Data Ffisegol'!$M32/100)*M31)*1000))","v":""},{"$f":"IF(N31=\"\",\"\",((('Data Ffisegol'!$M32/100)*N31)*1000))","v":""},{"$f":"IF(O31=\"\",\"\",((('Data Ffisegol'!$M32/100)*O31)*1000))","v":""},{"$f":"IF(P31=\"\",\"\",((('Data Ffisegol'!$M32/100)*P31)*1000))","v":""},{"$f":"IF(Q31=\"\",\"\",((('Data Ffisegol'!$M32/100)*Q31)*1000))","v":""},{"$f":"IF(R31=\"\",\"\",((('Data Ffisegol'!$M32/100)*R31)*1000))","v":""},{"$f":"IF(S31=\"\",\"\",((('Data Ffisegol'!$M32/100)*S31)*1000))","v":""},{"$f":"IF(T31=\"\",\"\",((('Data Ffisegol'!$M32/100)*T31)*1000))","v":""},{"$f":"IF(U31=\"\",\"\",((('Data Ffisegol'!$M32/100)*U31)*1000))","v":""},{"$f":"IF(V31=\"\",\"\",((('Data Ffisegol'!$M32/100)*V31)*1000))","v":""},{"$f":"IF(W31=\"\",\"\",((('Data Ffisegol'!$M32/100)*W31)*1000))","v":""},{"$f":"IF(X31=\"\",\"\",((('Data Ffisegol'!$M32/100)*X31)*1000))","v":""},{"$f":"IF(Y31=\"\",\"\",((('Data Ffisegol'!$M32/100)*Y31)*1000))","v":""},{"$f":"IF(Z31=\"\",\"\",((('Data Ffisegol'!$M32/100)*Z31)*1000))","v":""},{"$f":"IF(AA31=\"\",\"\",((('Data Ffisegol'!$M32/100)*AA31)*1000))","v":""},{"$f":"IF(AB31=\"\",\"\",((('Data Ffisegol'!$M32/100)*AB31)*1000))","v":""},{"$f":"IF(AC31=\"\",\"\",((('Data Ffisegol'!$M32/100)*AC31)*1000))","v":""},{"$f":"IF(AD31=\"\",\"\",((('Data Ffisegol'!$M32/100)*AD31)*1000))","v":""},{"$f":"IF(AE31=\"\",\"\",((('Data Ffisegol'!$M32/100)*AE31)*1000))","v":""},{"$f":"IF(AF31=\"\",\"\",((('Data Ffisegol'!$M32/100)*AF31)*1000))","v":""},{"$f":"IF(AG31=\"\",\"\",((('Data Ffisegol'!$M32/100)*AG31)*1000))","v":""},{"$f":"IF(AH31=\"\",\"\",((('Data Ffisegol'!$M32/100)*AH31)))","v":""}]
[null,null,null,null,null,null,null,"","","","",{"$f":"IF(L32=\"\",\"\",((('Data Ffisegol'!$M33/100)*L32)*1000))","v":""},{"$f":"IF(M32=\"\",\"\",((('Data Ffisegol'!$M33/100)*M32)*1000))","v":""},{"$f":"IF(N32=\"\",\"\",((('Data Ffisegol'!$M33/100)*N32)*1000))","v":""},{"$f":"IF(O32=\"\",\"\",((('Data Ffisegol'!$M33/100)*O32)*1000))","v":""},{"$f":"IF(P32=\"\",\"\",((('Data Ffisegol'!$M33/100)*P32)*1000))","v":""},{"$f":"IF(Q32=\"\",\"\",((('Data Ffisegol'!$M33/100)*Q32)*1000))","v":""},{"$f":"IF(R32=\"\",\"\",((('Data Ffisegol'!$M33/100)*R32)*1000))","v":""},{"$f":"IF(S32=\"\",\"\",((('Data Ffisegol'!$M33/100)*S32)*1000))","v":""},{"$f":"IF(T32=\"\",\"\",((('Data Ffisegol'!$M33/100)*T32)*1000))","v":""},{"$f":"IF(U32=\"\",\"\",((('Data Ffisegol'!$M33/100)*U32)*1000))","v":""},{"$f":"IF(V32=\"\",\"\",((('Data Ffisegol'!$M33/100)*V32)*1000))","v":""},{"$f":"IF(W32=\"\",\"\",((('Data Ffisegol'!$M33/100)*W32)*1000))","v":""},{"$f":"IF(X32=\"\",\"\",((('Data Ffisegol'!$M33/100)*X32)*1000))","v":""},{"$f":"IF(Y32=\"\",\"\",((('Data Ffisegol'!$M33/100)*Y32)*1000))","v":""},{"$f":"IF(Z32=\"\",\"\",((('Data Ffisegol'!$M33/100)*Z32)*1000))","v":""},{"$f":"IF(AA32=\"\",\"\",((('Data Ffisegol'!$M33/100)*AA32)*1000))","v":""},{"$f":"IF(AB32=\"\",\"\",((('Data Ffisegol'!$M33/100)*AB32)*1000))","v":""},{"$f":"IF(AC32=\"\",\"\",((('Data Ffisegol'!$M33/100)*AC32)*1000))","v":""},{"$f":"IF(AD32=\"\",\"\",((('Data Ffisegol'!$M33/100)*AD32)*1000))","v":""},{"$f":"IF(AE32=\"\",\"\",((('Data Ffisegol'!$M33/100)*AE32)*1000))","v":""},{"$f":"IF(AF32=\"\",\"\",((('Data Ffisegol'!$M33/100)*AF32)*1000))","v":""},{"$f":"IF(AG32=\"\",\"\",((('Data Ffisegol'!$M33/100)*AG32)*1000))","v":""},{"$f":"IF(AH32=\"\",\"\",((('Data Ffisegol'!$M33/100)*AH32)))","v":""}]
[null,null,null,null,null,null,null,"","","","",{"$f":"IF(L33=\"\",\"\",((('Data Ffisegol'!$M34/100)*L33)*1000))","v":""},{"$f":"IF(M33=\"\",\"\",((('Data Ffisegol'!$M34/100)*M33)*1000))","v":""},{"$f":"IF(N33=\"\",\"\",((('Data Ffisegol'!$M34/100)*N33)*1000))","v":""},{"$f":"IF(O33=\"\",\"\",((('Data Ffisegol'!$M34/100)*O33)*1000))","v":""},{"$f":"IF(P33=\"\",\"\",((('Data Ffisegol'!$M34/100)*P33)*1000))","v":""},{"$f":"IF(Q33=\"\",\"\",((('Data Ffisegol'!$M34/100)*Q33)*1000))","v":""},{"$f":"IF(R33=\"\",\"\",((('Data Ffisegol'!$M34/100)*R33)*1000))","v":""},{"$f":"IF(S33=\"\",\"\",((('Data Ffisegol'!$M34/100)*S33)*1000))","v":""},{"$f":"IF(T33=\"\",\"\",((('Data Ffisegol'!$M34/100)*T33)*1000))","v":""},{"$f":"IF(U33=\"\",\"\",((('Data Ffisegol'!$M34/100)*U33)*1000))","v":""},{"$f":"IF(V33=\"\",\"\",((('Data Ffisegol'!$M34/100)*V33)*1000))","v":""},{"$f":"IF(W33=\"\",\"\",((('Data Ffisegol'!$M34/100)*W33)*1000))","v":""},{"$f":"IF(X33=\"\",\"\",((('Data Ffisegol'!$M34/100)*X33)*1000))","v":""},{"$f":"IF(Y33=\"\",\"\",((('Data Ffisegol'!$M34/100)*Y33)*1000))","v":""},{"$f":"IF(Z33=\"\",\"\",((('Data Ffisegol'!$M34/100)*Z33)*1000))","v":""},{"$f":"IF(AA33=\"\",\"\",((('Data Ffisegol'!$M34/100)*AA33)*1000))","v":""},{"$f":"IF(AB33=\"\",\"\",((('Data Ffisegol'!$M34/100)*AB33)*1000))","v":""},{"$f":"IF(AC33=\"\",\"\",((('Data Ffisegol'!$M34/100)*AC33)*1000))","v":""},{"$f":"IF(AD33=\"\",\"\",((('Data Ffisegol'!$M34/100)*AD33)*1000))","v":""},{"$f":"IF(AE33=\"\",\"\",((('Data Ffisegol'!$M34/100)*AE33)*1000))","v":""},{"$f":"IF(AF33=\"\",\"\",((('Data Ffisegol'!$M34/100)*AF33)*1000))","v":""},{"$f":"IF(AG33=\"\",\"\",((('Data Ffisegol'!$M34/100)*AG33)*1000))","v":""},{"$f":"IF(AH33=\"\",\"\",((('Data Ffisegol'!$M34/100)*AH33)))","v":""}]
[null,null,null,null,null,null,null,"","","","",{"$f":"IF(L34=\"\",\"\",((('Data Ffisegol'!$M35/100)*L34)*1000))","v":""},{"$f":"IF(M34=\"\",\"\",((('Data Ffisegol'!$M35/100)*M34)*1000))","v":""},{"$f":"IF(N34=\"\",\"\",((('Data Ffisegol'!$M35/100)*N34)*1000))","v":""},{"$f":"IF(O34=\"\",\"\",((('Data Ffisegol'!$M35/100)*O34)*1000))","v":""},{"$f":"IF(P34=\"\",\"\",((('Data Ffisegol'!$M35/100)*P34)*1000))","v":""},{"$f":"IF(Q34=\"\",\"\",((('Data Ffisegol'!$M35/100)*Q34)*1000))","v":""},{"$f":"IF(R34=\"\",\"\",((('Data Ffisegol'!$M35/100)*R34)*1000))","v":""},{"$f":"IF(S34=\"\",\"\",((('Data Ffisegol'!$M35/100)*S34)*1000))","v":""},{"$f":"IF(T34=\"\",\"\",((('Data Ffisegol'!$M35/100)*T34)*1000))","v":""},{"$f":"IF(U34=\"\",\"\",((('Data Ffisegol'!$M35/100)*U34)*1000))","v":""},{"$f":"IF(V34=\"\",\"\",((('Data Ffisegol'!$M35/100)*V34)*1000))","v":""},{"$f":"IF(W34=\"\",\"\",((('Data Ffisegol'!$M35/100)*W34)*1000))","v":""},{"$f":"IF(X34=\"\",\"\",((('Data Ffisegol'!$M35/100)*X34)*1000))","v":""},{"$f":"IF(Y34=\"\",\"\",((('Data Ffisegol'!$M35/100)*Y34)*1000))","v":""},{"$f":"IF(Z34=\"\",\"\",((('Data Ffisegol'!$M35/100)*Z34)*1000))","v":""},{"$f":"IF(AA34=\"\",\"\",((('Data Ffisegol'!$M35/100)*AA34)*1000))","v":""},{"$f":"IF(AB34=\"\",\"\",((('Data Ffisegol'!$M35/100)*AB34)*1000))","v":""},{"$f":"IF(AC34=\"\",\"\",((('Data Ffisegol'!$M35/100)*AC34)*1000))","v":""},{"$f":"IF(AD34=\"\",\"\",((('Data Ffisegol'!$M35/100)*AD34)*1000))","v":""},{"$f":"IF(AE34=\"\",\"\",((('Data Ffisegol'!$M35/100)*AE34)*1000))","v":""},{"$f":"IF(AF34=\"\",\"\",((('Data Ffisegol'!$M35/100)*AF34)*1000))","v":""},{"$f":"IF(AG34=\"\",\"\",((('Data Ffisegol'!$M35/100)*AG34)*1000))","v":""},{"$f":"IF(AH34=\"\",\"\",((('Data Ffisegol'!$M35/100)*AH34)))","v":""}]
[null,null,null,null,null,null,null,"","","","",{"$f":"IF(L35=\"\",\"\",((('Data Ffisegol'!$M36/100)*L35)*1000))","v":""},{"$f":"IF(M35=\"\",\"\",((('Data Ffisegol'!$M36/100)*M35)*1000))","v":""},{"$f":"IF(N35=\"\",\"\",((('Data Ffisegol'!$M36/100)*N35)*1000))","v":""},{"$f":"IF(O35=\"\",\"\",((('Data Ffisegol'!$M36/100)*O35)*1000))","v":""},{"$f":"IF(P35=\"\",\"\",((('Data Ffisegol'!$M36/100)*P35)*1000))","v":""},{"$f":"IF(Q35=\"\",\"\",((('Data Ffisegol'!$M36/100)*Q35)*1000))","v":""},{"$f":"IF(R35=\"\",\"\",((('Data Ffisegol'!$M36/100)*R35)*1000))","v":""},{"$f":"IF(S35=\"\",\"\",((('Data Ffisegol'!$M36/100)*S35)*1000))","v":""},{"$f":"IF(T35=\"\",\"\",((('Data Ffisegol'!$M36/100)*T35)*1000))","v":""},{"$f":"IF(U35=\"\",\"\",((('Data Ffisegol'!$M36/100)*U35)*1000))","v":""},{"$f":"IF(V35=\"\",\"\",((('Data Ffisegol'!$M36/100)*V35)*1000))","v":""},{"$f":"IF(W35=\"\",\"\",((('Data Ffisegol'!$M36/100)*W35)*1000))","v":""},{"$f":"IF(X35=\"\",\"\",((('Data Ffisegol'!$M36/100)*X35)*1000))","v":""},{"$f":"IF(Y35=\"\",\"\",((('Data Ffisegol'!$M36/100)*Y35)*1000))","v":""},{"$f":"IF(Z35=\"\",\"\",((('Data Ffisegol'!$M36/100)*Z35)*1000))","v":""},{"$f":"IF(AA35=\"\",\"\",((('Data Ffisegol'!$M36/100)*AA35)*1000))","v":""},{"$f":"IF(AB35=\"\",\"\",((('Data Ffisegol'!$M36/100)*AB35)*1000))","v":""},{"$f":"IF(AC35=\"\",\"\",((('Data Ffisegol'!$M36/100)*AC35)*1000))","v":""},{"$f":"IF(AD35=\"\",\"\",((('Data Ffisegol'!$M36/100)*AD35)*1000))","v":""},{"$f":"IF(AE35=\"\",\"\",((('Data Ffisegol'!$M36/100)*AE35)*1000))","v":""},{"$f":"IF(AF35=\"\",\"\",((('Data Ffisegol'!$M36/100)*AF35)*1000))","v":""},{"$f":"IF(AG35=\"\",\"\",((('Data Ffisegol'!$M36/100)*AG35)*1000))","v":""},{"$f":"IF(AH35=\"\",\"\",((('Data Ffisegol'!$M36/100)*AH35)))","v":""}]
[null,null,null,null,null,null,null,"","","","",{"$f":"IF(L36=\"\",\"\",((('Data Ffisegol'!$M37/100)*L36)*1000))","v":""},{"$f":"IF(M36=\"\",\"\",((('Data Ffisegol'!$M37/100)*M36)*1000))","v":""},{"$f":"IF(N36=\"\",\"\",((('Data Ffisegol'!$M37/100)*N36)*1000))","v":""},{"$f":"IF(O36=\"\",\"\",((('Data Ffisegol'!$M37/100)*O36)*1000))","v":""},{"$f":"IF(P36=\"\",\"\",((('Data Ffisegol'!$M37/100)*P36)*1000))","v":""},{"$f":"IF(Q36=\"\",\"\",((('Data Ffisegol'!$M37/100)*Q36)*1000))","v":""},{"$f":"IF(R36=\"\",\"\",((('Data Ffisegol'!$M37/100)*R36)*1000))","v":""},{"$f":"IF(S36=\"\",\"\",((('Data Ffisegol'!$M37/100)*S36)*1000))","v":""},{"$f":"IF(T36=\"\",\"\",((('Data Ffisegol'!$M37/100)*T36)*1000))","v":""},{"$f":"IF(U36=\"\",\"\",((('Data Ffisegol'!$M37/100)*U36)*1000))","v":""},{"$f":"IF(V36=\"\",\"\",((('Data Ffisegol'!$M37/100)*V36)*1000))","v":""},{"$f":"IF(W36=\"\",\"\",((('Data Ffisegol'!$M37/100)*W36)*1000))","v":""},{"$f":"IF(X36=\"\",\"\",((('Data Ffisegol'!$M37/100)*X36)*1000))","v":""},{"$f":"IF(Y36=\"\",\"\",((('Data Ffisegol'!$M37/100)*Y36)*1000))","v":""},{"$f":"IF(Z36=\"\",\"\",((('Data Ffisegol'!$M37/100)*Z36)*1000))","v":""},{"$f":"IF(AA36=\"\",\"\",((('Data Ffisegol'!$M37/100)*AA36)*1000))","v":""},{"$f":"IF(AB36=\"\",\"\",((('Data Ffisegol'!$M37/100)*AB36)*1000))","v":""},{"$f":"IF(AC36=\"\",\"\",((('Data Ffisegol'!$M37/100)*AC36)*1000))","v":""},{"$f":"IF(AD36=\"\",\"\",((('Data Ffisegol'!$M37/100)*AD36)*1000))","v":""},{"$f":"IF(AE36=\"\",\"\",((('Data Ffisegol'!$M37/100)*AE36)*1000))","v":""},{"$f":"IF(AF36=\"\",\"\",((('Data Ffisegol'!$M37/100)*AF36)*1000))","v":""},{"$f":"IF(AG36=\"\",\"\",((('Data Ffisegol'!$M37/100)*AG36)*1000))","v":""},{"$f":"IF(AH36=\"\",\"\",((('Data Ffisegol'!$M37/100)*AH36)))","v":""}]
[null,null,null,null,null,null,null,"","","","",{"$f":"IF(L37=\"\",\"\",((('Data Ffisegol'!$M38/100)*L37)*1000))","v":""},{"$f":"IF(M37=\"\",\"\",((('Data Ffisegol'!$M38/100)*M37)*1000))","v":""},{"$f":"IF(N37=\"\",\"\",((('Data Ffisegol'!$M38/100)*N37)*1000))","v":""},{"$f":"IF(O37=\"\",\"\",((('Data Ffisegol'!$M38/100)*O37)*1000))","v":""},{"$f":"IF(P37=\"\",\"\",((('Data Ffisegol'!$M38/100)*P37)*1000))","v":""},{"$f":"IF(Q37=\"\",\"\",((('Data Ffisegol'!$M38/100)*Q37)*1000))","v":""},{"$f":"IF(R37=\"\",\"\",((('Data Ffisegol'!$M38/100)*R37)*1000))","v":""},{"$f":"IF(S37=\"\",\"\",((('Data Ffisegol'!$M38/100)*S37)*1000))","v":""},{"$f":"IF(T37=\"\",\"\",((('Data Ffisegol'!$M38/100)*T37)*1000))","v":""},{"$f":"IF(U37=\"\",\"\",((('Data Ffisegol'!$M38/100)*U37)*1000))","v":""},{"$f":"IF(V37=\"\",\"\",((('Data Ffisegol'!$M38/100)*V37)*1000))","v":""},{"$f":"IF(W37=\"\",\"\",((('Data Ffisegol'!$M38/100)*W37)*1000))","v":""},{"$f":"IF(X37=\"\",\"\",((('Data Ffisegol'!$M38/100)*X37)*1000))","v":""},{"$f":"IF(Y37=\"\",\"\",((('Data Ffisegol'!$M38/100)*Y37)*1000))","v":""},{"$f":"IF(Z37=\"\",\"\",((('Data Ffisegol'!$M38/100)*Z37)*1000))","v":""},{"$f":"IF(AA37=\"\",\"\",((('Data Ffisegol'!$M38/100)*AA37)*1000))","v":""},{"$f":"IF(AB37=\"\",\"\",((('Data Ffisegol'!$M38/100)*AB37)*1000))","v":""},{"$f":"IF(AC37=\"\",\"\",((('Data Ffisegol'!$M38/100)*AC37)*1000))","v":""},{"$f":"IF(AD37=\"\",\"\",((('Data Ffisegol'!$M38/100)*AD37)*1000))","v":""},{"$f":"IF(AE37=\"\",\"\",((('Data Ffisegol'!$M38/100)*AE37)*1000))","v":""},{"$f":"IF(AF37=\"\",\"\",((('Data Ffisegol'!$M38/100)*AF37)*1000))","v":""},{"$f":"IF(AG37=\"\",\"\",((('Data Ffisegol'!$M38/100)*AG37)*1000))","v":""},{"$f":"IF(AH37=\"\",\"\",((('Data Ffisegol'!$M38/100)*AH37)))","v":""}]
[null,null,null,null,null,null,null,null,null,"Averages:",null,{"$f":"IF(COUNT(L48:L77)<1,\"\", AVERAGE(L48:L77))","v":""},{"$f":"IF(COUNT(M48:M77)<1,\"\", AVERAGE(M48:M77))","v":""},"","","","","","","","","","","","","","","","","","","","",""]
[]
[]
[]
[null,null,null,null,null,null,null,"Removal of excluded areas"]
[]
[null,null,null,null,null,null,null,"Laboratory sample number","Dredge Area","Excluded (y if yes)","Sample ID(s)","PAHs as µg/kg wet weight",null,null,null,null,null,null,null,null,null,null,null,null,null,null,null,null,null,null,null,null,null,"Total hydrocarbon content (mg/kg)"]
[null,null,null,null,null,null,null,null,null,null,null,"Acenapthene","Acenapthylene","Anthracene","Benz[a]anthracene","Benzo[a]pyrene","Benzo[b]fluoranthene","Benzo[g,h,i]perylene","Benzo[e]pyrene","Benzo[k]fluoranthene","C1-Napthalenes","C1-Phenanthrenes","C2-Napthalenes","C3-Napthalenes","Chrysene","Dibenz[a,h]anthracene","Fluoranthene","Fluorene","Indeno[123-c,d]pyrene","Napthalene","Perylene","Phenanthrene","Pyrene"]
[null,null,null,null,null,null,null,{"$f":"IF(H48=\"\",\"\",H48)","v":""},{"$f":"IF(J86=\"y\",\"\",I48)","v":""},"",{"$f":"IF(J86=\"y\",\"\",K48)","v":""},{"$f":"IF($J48=\"y\",\"\",L48)","v":""},{"$f":"IF($J48=\"y\",\"\",M48)","v":""},"","","","","","",{"$f":"IF($J48=\"y\",\"\",T48)","v":""},"","","","","","","","","","","","","",""]
[null,null,null,null,null,null,null,"",{"$f":"IF(J87=\"y\",\"\",I49)","v":""},"",{"$f":"IF(J87=\"y\",\"\",K49)","v":""},{"$f":"IF($J49=\"y\",\"\",L49)","v":""},"","","","","","","",{"$f":"IF($J49=\"y\",\"\",T49)","v":""},"","","","","","","","","","","","","",""]
[null,null,null,null,null,null,null,"","","","",{"$f":"IF($J50=\"y\",\"\",L50)","v":""},"","","","","","","",{"$f":"IF($J50=\"y\",\"\",T50)","v":""},"","","","","","","","","","","","","",""]
[null,null,null,null,null,null,null,"","","","",{"$f":"IF($J51=\"y\",\"\",L51)","v":""},"","","","","","","",{"$f":"IF($J51=\"y\",\"\",T51)","v":""},"","","","","","","","","","","","","",""]
[null,null,null,null,null,null,null,"","","","",{"$f":"IF($J52=\"y\",\"\",L52)","v":""},"","","","","","","",{"$f":"IF($J52=\"y\",\"\",T52)","v":""},"","","","","","","","","","","","","",""]
[null,null,null,null,null,null,null,"","","","",{"$f":"IF($J53=\"y\",\"\",L53)","v":""},"","","","","","","",{"$f":"IF($J53=\"y\",\"\",T53)","v":""},"","","","","","","","","","","","","",""]
[null,null,null,null,null,null,null,"","","","",{"$f":"IF($J54=\"y\",\"\",L54)","v":""},"","","","","","","",{"$f":"IF($J54=\"y\",\"\",T54)","v":""},"","","","","","","","","","","","","",""]
[null,null,null,null,null,null,null,"","","","",{"$f":"IF($J55=\"y\",\"\",L55)","v":""},"","","","","","","",{"$f":"IF($J55=\"y\",\"\",T55)","v":""},"","","","","","","","","","","","","",""]
[null,null,null,null,null,null,null,"","","","",{"$f":"IF($J56=\"y\",\"\",L56)","v":""},"","","","","","","",{"$f":"IF($J56=\"y\",\"\",T56)","v":""},"","","","","","","","","","","","","",""]
[null,null,null,null,null,null,null,"","","","",{"$f":"IF($J57=\"y\",\"\",L57)","v":""},"","","","","","","",{"$f":"IF($J57=\"y\",\"\",T57)","v":""},"","","","","","","","","","","","","",""]
[null,null,null,null,null,null,null,"","","","",{"$f":"IF($J58=\"y\",\"\",L58)","v":""},"","","","","","","",{"$f":"IF($J58=\"y\",\"\",T58)","v":""},"","","","","","","","","","","","","",""]
[null,null,null,null,null,null,null,"","","","",{"$f":"IF($J59=\"y\",\"\",L59)","v":""},"","","","","","","",{"$f":"IF($J59=\"y\",\"\",T59)","v":""},"","","","","","","","","","","","","",""]
[null,null,null,null,null,null,null,"","","","",{"$f":"IF($J60=\"y\",\"\",L60)","v":""},"","","","","","","",{"$f":"IF($J60=\"y\",\"\",T60)","v":""},"","","","","","","","","","","","","",""]
[null,null,null,null,null,null,null,"","","","",{"$f":"IF($J61=\"y\",\"\",L61)","v":""},"","","","","","","",{"$f":"IF($J61=\"y\",\"\",T61)","v":""},"","","","","","","","","","","","","",""]
[null,null,null,null,null,null,null,"","","","",{"$f":"IF($J62=\"y\",\"\",L62)","v":""},"","","","","","","",{"$f":"IF($J62=\"y\",\"\",T62)","v":""},"","","","","","","","","","","","","",""]
[null,null,null,null,null,null,null,"","","","",{"$f":"IF($J63=\"y\",\"\",L63)","v":""},"","","","","","","",{"$f":"IF($J63=\"y\",\"\",T63)","v":""},"","","","","","","","","","","","","",""]
[null,null,null,null,null,null,null,"","","","",{"$f":"IF($J64=\"y\",\"\",L64)","v":""},"","","","","","","",{"$f":"IF($J64=\"y\",\"\",T64)","v":""},"","","","","","","","","","","","","",""]
[null,null,null,null,null,null,null,"","","","",{"$f":"IF($J65=\"y\",\"\",L65)","v":""},"","","","","","","",{"$f":"IF($J65=\"y\",\"\",T65)","v":""},"","","","","","","","","","","","","",""]
[null,null,null,null,null,null,null,"","","","",{"$f":"IF($J66=\"y\",\"\",L66)","v":""},"","","","","","","",{"$f":"IF($J66=\"y\",\"\",T66)","v":""},"","","","","","","","","","","","","",""]
[null,null,null,null,null,null,null,"","","","",{"$f":"IF($J67=\"y\",\"\",L67)","v":""},"","","","","","","",{"$f":"IF($J67=\"y\",\"\",T67)","v":""},"","","","","","","","","","","","","",""]
[null,null,null,null,null,null,null,"","","","",{"$f":"IF($J68=\"y\",\"\",L68)","v":""},"","","","","","","",{"$f":"IF($J68=\"y\",\"\",T68)","v":""},"","","","","","","","","","","","","",""]
[null,null,null,null,null,null,null,"","","","",{"$f":"IF($J69=\"y\",\"\",L69)","v":""},"","","","","","","",{"$f":"IF($J69=\"y\",\"\",T69)","v":""},"","","","","","","","","","","","","",""]
[null,null,null,null,null,null,null,"","","","",{"$f":"IF($J70=\"y\",\"\",L70)","v":""},"","","","","","","",{"$f":"IF($J70=\"y\",\"\",T70)","v":""},"","","","","","","","","","","","","",""]
[null,null,null,null,null,null,null,"","","","",{"$f":"IF($J71=\"y\",\"\",L71)","v":""},"","","","","","","",{"$f":"IF($J71=\"y\",\"\",T71)","v":""},"","","","","","","","","","","","","",""]
[null,null,null,null,null,null,null,"","","","",{"$f":"IF($J72=\"y\",\"\",L72)","v":""},"","","","","","","",{"$f":"IF($J72=\"y\",\"\",T72)","v":""},"","","","","","","","","","","","","",""]
[null,null,null,null,null,null,null,"","","","",{"$f":"IF($J73=\"y\",\"\",L73)","v":""},"","","","","","","",{"$f":"IF($J73=\"y\",\"\",T73)","v":""},"","","","","","","","","","","","","",""]
[null,null,null,null,null,null,null,"","","","",{"$f":"IF($J74=\"y\",\"\",L74)","v":""},"","","","","","","",{"$f":"IF($J74=\"y\",\"\",T74)","v":""},"","","","","","","","","","","","","",""]
[null,null,null,null,null,null,null,"","","","",{"$f":"IF($J75=\"y\",\"\",L75)","v":""},"","","","","","","",{"$f":"IF($J75=\"y\",\"\",T75)","v":""},"","","","","","","","","","","","","",""]
[null,null,null,null,null,null,null,"","","","",{"$f":"IF($J76=\"y\",\"\",L76)","v":""},"","","","","","","",{"$f":"IF($J76=\"y\",\"\",T76)","v":""},"","","","","","","","","","","","","",""]
[null,null,null,null,null,null,null,"","","","",{"$f":"IF($J77=\"y\",\"\",L77)","v":""},"","","","","","","",{"$f":"IF($J77=\"y\",\"\",T77)","v":""},"","","","","","","","","","","","","",""]
[null,null,null,null,null,null,null,null,null,"Averages:",null,{"$f":"IF(COUNT(L86:L115)<1,\"\", AVERAGE(L86:L115))","v":""},"","","","","","","","","","","","","","","","","","","","","",""]
[]
[]
[]
[null,null,null,null,null,null,null,"Force significant figures"]
[]
[null,null,null,null,null,null,null,"Laboratory sample number","Dredge Area","Excluded (y if yes)","Sample ID(s)","PAHs as µg/kg wet weight",null,null,null,null,null,null,null,null,null,null,null,null,null,null,null,null,null,null,null,null,null,"Total hydrocarbon content (mg/kg)"]
[null,null,null,null,null,null,null,null,null,null,null,"Acenapthene","Acenapthylene","Anthracene","Benz[a]anthracene","Benzo[a]pyrene","Benzo[b]fluoranthene","Benzo[g,h,i]perylene","Benzo[e]pyrene","Benzo[k]fluoranthene","C1-Napthalenes","C1-Phenanthrenes","C2-Napthalenes","C3-Napthalenes","Chrysene","Dibenz[a,h]anthracene","Fluoranthene","Fluorene","Indeno[123-c,d]pyrene","Napthalene","Perylene","Phenanthrene","Pyrene"]
[null,null,null,null,null,null,null,{"$f":"IF(H86=\"\",\"\",H86)","v":""},"","",{"$f":"IF(J124=\"y\",\"\",K86)","v":""},{"$f":"IF(L86=\"\",\"\",IF(L86=0,0,(ROUND(L86,3-1-INT(LOG10(ABS(L86)))))))","v":""},{"$f":"IF(M86=\"\",\"\",IF(M86=0,0,(ROUND(M86,3-1-INT(LOG10(ABS(M86)))))))","v":""},"","","","","","","","","","","","","","","","","","","","",""]
[null,null,null,null,null,null,null,{"$f":"IF(H87=\"\",\"\",H87)","v":""},"","",{"$f":"IF(J125=\"y\",\"\",K87)","v":""},{"$f":"IF(L87=\"\",\"\",IF(L87=0,0,(ROUND(L87,3-1-INT(LOG10(ABS(L87)))))))","v":""},"","","","","","","","","","","","","","","","","","","","","",""]
[null,null,null,null,null,null,null,{"$f":"IF(H88=\"\",\"\",H88)","v":""},"","","",{"$f":"IF(L88=\"\",\"\",IF(L88=0,0,(ROUND(L88,3-1-INT(LOG10(ABS(L88)))))))","v":""},"","","","","","","","","","","","","","","","","","","","","",""]
[null,null,null,null,null,null,null,{"$f":"IF(H89=\"\",\"\",H89)","v":""},"","","",{"$f":"IF(L89=\"\",\"\",IF(L89=0,0,(ROUND(L89,3-1-INT(LOG10(ABS(L89)))))))","v":""},"","","","","","","","","","","","","","","","","","","","","",""]
[null,null,null,null,null,null,null,{"$f":"IF(H90=\"\",\"\",H90)","v":""},"","","",{"$f":"IF(L90=\"\",\"\",IF(L90=0,0,(ROUND(L90,3-1-INT(LOG10(ABS(L90)))))))","v":""},"","","","","","","","","","","","","","","","","","","","","",""]
[null,null,null,null,null,null,null,{"$f":"IF(H91=\"\",\"\",H91)","v":""},"","","",{"$f":"IF(L91=\"\",\"\",IF(L91=0,0,(ROUND(L91,3-1-INT(LOG10(ABS(L91)))))))","v":""},"","","","","","","","","","","","","","","","","","","","","",""]
[null,null,null,null,null,null,null,{"$f":"IF(H92=\"\",\"\",H92)","v":""},"","","",{"$f":"IF(L92=\"\",\"\",IF(L92=0,0,(ROUND(L92,3-1-INT(LOG10(ABS(L92)))))))","v":""},"","","","","","","","","","","","","","","","","","","","","",""]
[null,null,null,null,null,null,null,{"$f":"IF(H93=\"\",\"\",H93)","v":""},"","","",{"$f":"IF(L93=\"\",\"\",IF(L93=0,0,(ROUND(L93,3-1-INT(LOG10(ABS(L93)))))))","v":""},"","","","","","","","","","","","","","","","","","","","","",""]
[null,null,null,null,null,null,null,{"$f":"IF(H94=\"\",\"\",H94)","v":""},"","","",{"$f":"IF(L94=\"\",\"\",IF(L94=0,0,(ROUND(L94,3-1-INT(LOG10(ABS(L94)))))))","v":""},"","","","","","","","","","","","","","","","","","","","","",""]
[null,null,null,null,null,null,null,{"$f":"IF(H95=\"\",\"\",H95)","v":""},"","","",{"$f":"IF(L95=\"\",\"\",IF(L95=0,0,(ROUND(L95,3-1-INT(LOG10(ABS(L95)))))))","v":""},"","","","","","","","","","","","","","","","","","","","","",""]
[null,null,null,null,null,null,null,{"$f":"IF(H96=\"\",\"\",H96)","v":""},"","","",{"$f":"IF(L96=\"\",\"\",IF(L96=0,0,(ROUND(L96,3-1-INT(LOG10(ABS(L96)))))))","v":""},"","","","","","","","","","","","","","","","","","","","","",""]
[null,null,null,null,null,null,null,{"$f":"IF(H97=\"\",\"\",H97)","v":""},"","","",{"$f":"IF(L97=\"\",\"\",IF(L97=0,0,(ROUND(L97,3-1-INT(LOG10(ABS(L97)))))))","v":""},"","","","","","","","","","","","","","","","","","","","","",""]
[null,null,null,null,null,null,null,{"$f":"IF(H98=\"\",\"\",H98)","v":""},"","","",{"$f":"IF(L98=\"\",\"\",IF(L98=0,0,(ROUND(L98,3-1-INT(LOG10(ABS(L98)))))))","v":""},"","","","","","","","","","","","","","","","","","","","","",""]
[null,null,null,null,null,null,null,{"$f":"IF(H99=\"\",\"\",H99)","v":""},"","","",{"$f":"IF(L99=\"\",\"\",IF(L99=0,0,(ROUND(L99,3-1-INT(LOG10(ABS(L99)))))))","v":""},"","","","","","","","","","","","","","","","","","","","","",""]
[null,null,null,null,null,null,null,{"$f":"IF(H100=\"\",\"\",H100)","v":""},"","","",{"$f":"IF(L100=\"\",\"\",IF(L100=0,0,(ROUND(L100,3-1-INT(LOG10(ABS(L100)))))))","v":""},"","","","","","","","","","","","","","","","","","","","","",""]
[null,null,null,null,null,null,null,{"$f":"IF(H101=\"\",\"\",H101)","v":""},"","","",{"$f":"IF(L101=\"\",\"\",IF(L101=0,0,(ROUND(L101,3-1-INT(LOG10(ABS(L101)))))))","v":""},"","","","","","","","","","","","","","","","","","","","","",""]
[null,null,null,null,null,null,null,{"$f":"IF(H102=\"\",\"\",H102)","v":""},"","","",{"$f":"IF(L102=\"\",\"\",IF(L102=0,0,(ROUND(L102,3-1-INT(LOG10(ABS(L102)))))))","v":""},"","","","","","","","","","","","","","","","","","","","","",""]
[null,null,null,null,null,null,null,{"$f":"IF(H103=\"\",\"\",H103)","v":""},"","","",{"$f":"IF(L103=\"\",\"\",IF(L103=0,0,(ROUND(L103,3-1-INT(LOG10(ABS(L103)))))))","v":""},"","","","","","","","","","","","","","","","","","","","","",""]
[null,null,null,null,null,null,null,{"$f":"IF(H104=\"\",\"\",H104)","v":""},"","","",{"$f":"IF(L104=\"\",\"\",IF(L104=0,0,(ROUND(L104,3-1-INT(LOG10(ABS(L104)))))))","v":""},"","","","","","","","","","","","","","","","","","","","","",""]
[null,null,null,null,null,null,null,{"$f":"IF(H105=\"\",\"\",H105)","v":""},"","","",{"$f":"IF(L105=\"\",\"\",IF(L105=0,0,(ROUND(L105,3-1-INT(LOG10(ABS(L105)))))))","v":""},"","","","","","","","","","","","","","","","","","","","","",""]
[null,null,null,null,null,null,null,{"$f":"IF(H106=\"\",\"\",H106)","v":""},"","","",{"$f":"IF(L106=\"\",\"\",IF(L106=0,0,(ROUND(L106,3-1-INT(LOG10(ABS(L106)))))))","v":""},"","","","","","","","","","","","","","","","","","","","","",""]
[null,null,null,null,null,null,null,{"$f":"IF(H107=\"\",\"\",H107)","v":""},"","","",{"$f":"IF(L107=\"\",\"\",IF(L107=0,0,(ROUND(L107,3-1-INT(LOG10(ABS(L107)))))))","v":""},"","","","","","","","","","","","","","","","","","","","","",""]
[null,null,null,null,null,null,null,{"$f":"IF(H108=\"\",\"\",H108)","v":""},"","","",{"$f":"IF(L108=\"\",\"\",IF(L108=0,0,(ROUND(L108,3-1-INT(LOG10(ABS(L108)))))))","v":""},"","","","","","","","","","","","","","","","","","","","","",""]
[null,null,null,null,null,null,null,{"$f":"IF(H109=\"\",\"\",H109)","v":""},"","","",{"$f":"IF(L109=\"\",\"\",IF(L109=0,0,(ROUND(L109,3-1-INT(LOG10(ABS(L109)))))))","v":""},"","","","","","","","","","","","","","","","","","","","","",""]
[null,null,null,null,null,null,null,{"$f":"IF(H110=\"\",\"\",H110)","v":""},"","","",{"$f":"IF(L110=\"\",\"\",IF(L110=0,0,(ROUND(L110,3-1-INT(LOG10(ABS(L110)))))))","v":""},"","","","","","","","","","","","","","","","","","","","","",""]
[null,null,null,null,null,null,null,{"$f":"IF(H111=\"\",\"\",H111)","v":""},"","","",{"$f":"IF(L111=\"\",\"\",IF(L111=0,0,(ROUND(L111,3-1-INT(LOG10(ABS(L111)))))))","v":""},"","","","","","","","","","","","","","","","","","","","","",""]
[null,null,null,null,null,null,null,{"$f":"IF(H112=\"\",\"\",H112)","v":""},"","","",{"$f":"IF(L112=\"\",\"\",IF(L112=0,0,(ROUND(L112,3-1-INT(LOG10(ABS(L112)))))))","v":""},"","","","","","","","","","","","","","","","","","","","","",""]
[null,null,null,null,null,null,null,{"$f":"IF(H113=\"\",\"\",H113)","v":""},"","","",{"$f":"IF(L113=\"\",\"\",IF(L113=0,0,(ROUND(L113,3-1-INT(LOG10(ABS(L113)))))))","v":""},"","","","","","","","","","","","","","","","","","","","","",""]
[null,null,null,null,null,null,null,{"$f":"IF(H114=\"\",\"\",H114)","v":""},"","","",{"$f":"IF(L114=\"\",\"\",IF(L114=0,0,(ROUND(L114,3-1-INT(LOG10(ABS(L114)))))))","v":""},"","","","","","","","","","","","","","","","","","","","","",""]
[null,null,null,null,null,null,null,{"$f":"IF(H115=\"\",\"\",H115)","v":""},"","","",{"$f":"IF(L115=\"\",\"\",IF(L115=0,0,(ROUND(L115,3-1-INT(LOG10(ABS(L115)))))))","v":""},"","","","","","","","","","","","","","","","","","","","","",""]
[null,null,null,null,null,null,null,null,null,"Averages:",null,{"$f":"IF(COUNT(L124:L153)<1,\"\", AVERAGE(L124:L153))","v":""},"","","","","","","","","","","","","","","","","","","","","",""]
[]
[]
[]
[null,null,null,null,null,null,null,"Average of dredge areas"]
[]
[null,null,null,null,null,null,null,null,null,null,"Dredge Area","PAHs as µg/kg wet weight",null,null,null,null,null,null,null,null,null,null,null,null,null,null,null,null,null,null,null,null,null,"Total hydrocarbon content (mg/kg)"]
[null,null,null,null,null,null,null,null,null,null,null,"Acenapthene","Acenapthylene","Anthracene","Benz[a]anthracene","Benzo[a]pyrene","Benzo[b]fluoranthene","Benzo[g,h,i]perylene","Benzo[e]pyrene","Benzo[k]fluoranthene","C1-Napthalenes","C1-Phenanthrenes","C2-Napthalenes","C3-Napthalenes","Chrysene","Dibenz[a,h]anthracene","Fluoranthene","Fluorene","Indeno[123-c,d]pyrene","Napthalene","Perylene","Phenanthrene","Pyrene"]
[null,null,null,null,null,null,null,null,null,null,"Area i",{"$f":"IF(COUNTIF($I$124:$I$153,\"Area i\")<1,\"\",AVERAGEIF($I$124:$I$153,\"Area i\",L$124:L$153))","v":""},{"$f":"IF(COUNTIF($I$124:$I$153,\"Area i\")<1,\"\",AVERAGEIF($I$124:$I$153,\"Area i\",M$124:M$153))","v":""},"","","","","","","","","","","","","","","","","","","","",""]
[null,null,null,null,null,null,null,null,null,null,"Area ii",{"$f":"IF(COUNTIF($I$124:$I$153,\"Area ii\")<1,\"\",AVERAGEIF($I$124:$I$153,\"Area ii\",L$124:L$153))","v":""},{"$f":"IF(COUNTIF($I$124:$I$153,\"Area ii\")<1,\"\",AVERAGEIF($I$124:$I$153,\"Area ii\",M$124:M$153))","v":""},"","","","","","","","","","","","","","","","","","","","",""]
[null,null,null,null,null,null,null,null,null,null,"Area iii",{"$f":"IF(COUNTIF($I$124:$I$153,\"Area iii\")<1,\"\",AVERAGEIF($I$124:$I$153,\"Area iii\",L$124:L$153))","v":""},{"$f":"IF(COUNTIF($I$124:$I$153,\"Area iii\")<1,\"\",AVERAGEIF($I$124:$I$153,\"Area iii\",M$124:M$153))","v":""},"","","","","","","","","","","","","","","","","","","","",""]
[null,null,null,null,null,null,null,null,null,null,"Area iv",{"$f":"IF(COUNTIF($I$124:$I$153,\"Area iv\")<1,\"\",AVERAGEIF($I$124:$I$153,\"Area iv\",L$124:L$153))","v":""},{"$f":"IF(COUNTIF($I$124:$I$153,\"Area iv\")<1,\"\",AVERAGEIF($I$124:$I$153,\"Area iv\",M$124:M$153))","v":""},"","","","","","","","","","","","","","","","","","","","",""]
[null,null,null,null,null,null,null,null,null,null,"Area v",{"$f":"IF(COUNTIF($I$124:$I$153,\"Area v\")<1,\"\",AVERAGEIF($I$124:$I$153,\"Area v\",L$124:L$153))","v":""},{"$f":"IF(COUNTIF($I$124:$I$153,\"Area v\")<1,\"\",AVERAGEIF($I$124:$I$153,\"Area v\",M$124:M$153))","v":""},"","","","","","","","","","","","","","","","","","","","",""]
[null,null,null,null,null,null,null,null,null,null,"Area vi",{"$f":"IF(COUNTIF($I$124:$I$153,\"Area vi\")<1,\"\",AVERAGEIF($I$124:$I$153,\"Area vi\",L$124:L$153))","v":""},{"$f":"IF(COUNTIF($I$124:$I$153,\"Area vi\")<1,\"\",AVERAGEIF($I$124:$I$153,\"Area vi\",M$124:M$153))","v":""},"","","","","","","","","","","","","","","","","","","","",""]
[null,null,null,null,null,null,null,null,null,null,"Averages:",{"$f":"IF(COUNT(L162:L167)<1,\"\", AVERAGE(L162:L167))","v":""},"","","","","","","","","","","","","","","","","","","","","",""]
[]
[]
[null,null,null,null,null,null,null,null,null,null,null,null,null,null,null," ",null,null,null,null,null,null,null,null,null,null,null,null," "]
[null,null,null,null,null,null,null,"PR weightings (dredge area averages multiplied by dredge area tonnage)"]
[]
[null,null,null,null,null,null,null,null,null,null,"Dredge Area","PAHs as µg/kg wet weight",null,null,null,null,null,null,null,null,null,null,null,null,null,null,null,null,null,null,null,null,null,"Total hydrocarbon content (mg/kg)"]
[null,null,null,null,null,null,null,null,null,null,null,"Acenapthene","Acenapthylene","Anthracene","Benz[a]anthracene","Benzo[a]pyrene","Benzo[b]fluoranthene","Benzo[g,h,i]perylene","Benzo[e]pyrene","Benzo[k]fluoranthene","C1-Napthalenes","C1-Phenanthrenes","C2-Napthalenes","C3-Napthalenes","Chrysene","Dibenz[a,h]anthracene","Fluoranthene","Fluorene","Indeno[123-c,d]pyrene","Napthalene","Perylene","Phenanthrene","Pyrene"]
[null,null,null,null,null,null,null,null,null,null,{"$f":"K162","v":"Area i"},{"$f":"IF(L162=\"\",\"\",L162*'PR details'!$G4)","v":""},{"$f":"IF(M162=\"\",\"\",M162*'PR details'!$G4)","v":""},{"$f":"IF(N162=\"\",\"\",N162*'PR details'!$G4)","v":""},{"$f":"IF(O162=\"\",\"\",O162*'PR details'!$G4)","v":""},{"$f":"IF(P162=\"\",\"\",P162*'PR details'!$G4)","v":""},{"$f":"IF(Q162=\"\",\"\",Q162*'PR details'!$G4)","v":""},{"$f":"IF(R162=\"\",\"\",R162*'PR details'!$G4)","v":""},{"$f":"IF(S162=\"\",\"\",S162*'PR details'!$G4)","v":""},{"$f":"IF(T162=\"\",\"\",T162*'PR details'!$G4)","v":""},{"$f":"IF(U162=\"\",\"\",U162*'PR details'!$G4)","v":""},{"$f":"IF(V162=\"\",\"\",V162*'PR details'!$G4)","v":""},{"$f":"IF(W162=\"\",\"\",W162*'PR details'!$G4)","v":""},{"$f":"IF(X162=\"\",\"\",X162*'PR details'!$G4)","v":""},{"$f":"IF(Y162=\"\",\"\",Y162*'PR details'!$G4)","v":""},{"$f":"IF(Z162=\"\",\"\",Z162*'PR details'!$G4)","v":""},{"$f":"IF(AA162=\"\",\"\",AA162*'PR details'!$G4)","v":""},{"$f":"IF(AB162=\"\",\"\",AB162*'PR details'!$G4)","v":""},{"$f":"IF(AC162=\"\",\"\",AC162*'PR details'!$G4)","v":""},{"$f":"IF(AD162=\"\",\"\",AD162*'PR details'!$G4)","v":""},{"$f":"IF(AE162=\"\",\"\",AE162*'PR details'!$G4)","v":""},{"$f":"IF(AF162=\"\",\"\",AF162*'PR details'!$G4)","v":""},{"$f":"IF(AG162=\"\",\"\",AG162*'PR details'!$G4)","v":""},{"$f":"IF(AH162=\"\",\"\",AH162*'PR details'!$G4)","v":""}]
[null,null,null,null,null,null,null,null,null,null,"Area ii",{"$f":"IF(L163=\"\",\"\",L163*'PR details'!$G5)","v":""},{"$f":"IF(M163=\"\",\"\",M163*'PR details'!$G5)","v":""},{"$f":"IF(N163=\"\",\"\",N163*'PR details'!$G5)","v":""},{"$f":"IF(O163=\"\",\"\",O163*'PR details'!$G5)","v":""},{"$f":"IF(P163=\"\",\"\",P163*'PR details'!$G5)","v":""},{"$f":"IF(Q163=\"\",\"\",Q163*'PR details'!$G5)","v":""},{"$f":"IF(R163=\"\",\"\",R163*'PR details'!$G5)","v":""},{"$f":"IF(S163=\"\",\"\",S163*'PR details'!$G5)","v":""},{"$f":"IF(T163=\"\",\"\",T163*'PR details'!$G5)","v":""},{"$f":"IF(U163=\"\",\"\",U163*'PR details'!$G5)","v":""},{"$f":"IF(V163=\"\",\"\",V163*'PR details'!$G5)","v":""},{"$f":"IF(W163=\"\",\"\",W163*'PR details'!$G5)","v":""},{"$f":"IF(X163=\"\",\"\",X163*'PR details'!$G5)","v":""},{"$f":"IF(Y163=\"\",\"\",Y163*'PR details'!$G5)","v":""},{"$f":"IF(Z163=\"\",\"\",Z163*'PR details'!$G5)","v":""},{"$f":"IF(AA163=\"\",\"\",AA163*'PR details'!$G5)","v":""},{"$f":"IF(AB163=\"\",\"\",AB163*'PR details'!$G5)","v":""},{"$f":"IF(AC163=\"\",\"\",AC163*'PR details'!$G5)","v":""},{"$f":"IF(AD163=\"\",\"\",AD163*'PR details'!$G5)","v":""},{"$f":"IF(AE163=\"\",\"\",AE163*'PR details'!$G5)","v":""},{"$f":"IF(AF163=\"\",\"\",AF163*'PR details'!$G5)","v":""},{"$f":"IF(AG163=\"\",\"\",AG163*'PR details'!$G5)","v":""},{"$f":"IF(AH163=\"\",\"\",AH163*'PR details'!$G5)","v":""}]
[null,null,null,null,null,null,null,null,null,null,"Area iii",{"$f":"IF(L164=\"\",\"\",L164*'PR details'!$G6)","v":""},{"$f":"IF(M164=\"\",\"\",M164*'PR details'!$G6)","v":""},{"$f":"IF(N164=\"\",\"\",N164*'PR details'!$G6)","v":""},{"$f":"IF(O164=\"\",\"\",O164*'PR details'!$G6)","v":""},{"$f":"IF(P164=\"\",\"\",P164*'PR details'!$G6)","v":""},{"$f":"IF(Q164=\"\",\"\",Q164*'PR details'!$G6)","v":""},{"$f":"IF(R164=\"\",\"\",R164*'PR details'!$G6)","v":""},{"$f":"IF(S164=\"\",\"\",S164*'PR details'!$G6)","v":""},{"$f":"IF(T164=\"\",\"\",T164*'PR details'!$G6)","v":""},{"$f":"IF(U164=\"\",\"\",U164*'PR details'!$G6)","v":""},{"$f":"IF(V164=\"\",\"\",V164*'PR details'!$G6)","v":""},{"$f":"IF(W164=\"\",\"\",W164*'PR details'!$G6)","v":""},{"$f":"IF(X164=\"\",\"\",X164*'PR details'!$G6)","v":""},{"$f":"IF(Y164=\"\",\"\",Y164*'PR details'!$G6)","v":""},{"$f":"IF(Z164=\"\",\"\",Z164*'PR details'!$G6)","v":""},{"$f":"IF(AA164=\"\",\"\",AA164*'PR details'!$G6)","v":""},{"$f":"IF(AB164=\"\",\"\",AB164*'PR details'!$G6)","v":""},{"$f":"IF(AC164=\"\",\"\",AC164*'PR details'!$G6)","v":""},{"$f":"IF(AD164=\"\",\"\",AD164*'PR details'!$G6)","v":""},{"$f":"IF(AE164=\"\",\"\",AE164*'PR details'!$G6)","v":""},{"$f":"IF(AF164=\"\",\"\",AF164*'PR details'!$G6)","v":""},{"$f":"IF(AG164=\"\",\"\",AG164*'PR details'!$G6)","v":""},{"$f":"IF(AH164=\"\",\"\",AH164*'PR details'!$G6)","v":""}]
[null,null,null,null,null,null,null,null,null,null,"Area iv",{"$f":"IF(L165=\"\",\"\",L165*'PR details'!$G7)","v":""},{"$f":"IF(M165=\"\",\"\",M165*'PR details'!$G7)","v":""},{"$f":"IF(N165=\"\",\"\",N165*'PR details'!$G7)","v":""},{"$f":"IF(O165=\"\",\"\",O165*'PR details'!$G7)","v":""},{"$f":"IF(P165=\"\",\"\",P165*'PR details'!$G7)","v":""},{"$f":"IF(Q165=\"\",\"\",Q165*'PR details'!$G7)","v":""},{"$f":"IF(R165=\"\",\"\",R165*'PR details'!$G7)","v":""},{"$f":"IF(S165=\"\",\"\",S165*'PR details'!$G7)","v":""},{"$f":"IF(T165=\"\",\"\",T165*'PR details'!$G7)","v":""},{"$f":"IF(U165=\"\",\"\",U165*'PR details'!$G7)","v":""},{"$f":"IF(V165=\"\",\"\",V165*'PR details'!$G7)","v":""},{"$f":"IF(W165=\"\",\"\",W165*'PR details'!$G7)","v":""},{"$f":"IF(X165=\"\",\"\",X165*'PR details'!$G7)","v":""},{"$f":"IF(Y165=\"\",\"\",Y165*'PR details'!$G7)","v":""},{"$f":"IF(Z165=\"\",\"\",Z165*'PR details'!$G7)","v":""},{"$f":"IF(AA165=\"\",\"\",AA165*'PR details'!$G7)","v":""},{"$f":"IF(AB165=\"\",\"\",AB165*'PR details'!$G7)","v":""},{"$f":"IF(AC165=\"\",\"\",AC165*'PR details'!$G7)","v":""},{"$f":"IF(AD165=\"\",\"\",AD165*'PR details'!$G7)","v":""},{"$f":"IF(AE165=\"\",\"\",AE165*'PR details'!$G7)","v":""},{"$f":"IF(AF165=\"\",\"\",AF165*'PR details'!$G7)","v":""},{"$f":"IF(AG165=\"\",\"\",AG165*'PR details'!$G7)","v":""},{"$f":"IF(AH165=\"\",\"\",AH165*'PR details'!$G7)","v":""}]
[null,null,null,null,null,null,null,null,null,null,"Area v",{"$f":"IF(L166=\"\",\"\",L166*'PR details'!$G8)","v":""},{"$f":"IF(M166=\"\",\"\",M166*'PR details'!$G8)","v":""},{"$f":"IF(N166=\"\",\"\",N166*'PR details'!$G8)","v":""},{"$f":"IF(O166=\"\",\"\",O166*'PR details'!$G8)","v":""},{"$f":"IF(P166=\"\",\"\",P166*'PR details'!$G8)","v":""},{"$f":"IF(Q166=\"\",\"\",Q166*'PR details'!$G8)","v":""},{"$f":"IF(R166=\"\",\"\",R166*'PR details'!$G8)","v":""},{"$f":"IF(S166=\"\",\"\",S166*'PR details'!$G8)","v":""},{"$f":"IF(T166=\"\",\"\",T166*'PR details'!$G8)","v":""},{"$f":"IF(U166=\"\",\"\",U166*'PR details'!$G8)","v":""},{"$f":"IF(V166=\"\",\"\",V166*'PR details'!$G8)","v":""},{"$f":"IF(W166=\"\",\"\",W166*'PR details'!$G8)","v":""},{"$f":"IF(X166=\"\",\"\",X166*'PR details'!$G8)","v":""},{"$f":"IF(Y166=\"\",\"\",Y166*'PR details'!$G8)","v":""},{"$f":"IF(Z166=\"\",\"\",Z166*'PR details'!$G8)","v":""},{"$f":"IF(AA166=\"\",\"\",AA166*'PR details'!$G8)","v":""},{"$f":"IF(AB166=\"\",\"\",AB166*'PR details'!$G8)","v":""},{"$f":"IF(AC166=\"\",\"\",AC166*'PR details'!$G8)","v":""},{"$f":"IF(AD166=\"\",\"\",AD166*'PR details'!$G8)","v":""},{"$f":"IF(AE166=\"\",\"\",AE166*'PR details'!$G8)","v":""},{"$f":"IF(AF166=\"\",\"\",AF166*'PR details'!$G8)","v":""},{"$f":"IF(AG166=\"\",\"\",AG166*'PR details'!$G8)","v":""},{"$f":"IF(AH166=\"\",\"\",AH166*'PR details'!$G8)","v":""}]
[null,null,null,null,null,null,null,null,null,null,"Area vi",{"$f":"IF(L167=\"\",\"\",L167*'PR details'!$G9)","v":""},{"$f":"IF(M167=\"\",\"\",M167*'PR details'!$G9)","v":""},{"$f":"IF(N167=\"\",\"\",N167*'PR details'!$G9)","v":""},{"$f":"IF(O167=\"\",\"\",O167*'PR details'!$G9)","v":""},{"$f":"IF(P167=\"\",\"\",P167*'PR details'!$G9)","v":""},{"$f":"IF(Q167=\"\",\"\",Q167*'PR details'!$G9)","v":""},{"$f":"IF(R167=\"\",\"\",R167*'PR details'!$G9)","v":""},{"$f":"IF(S167=\"\",\"\",S167*'PR details'!$G9)","v":""},{"$f":"IF(T167=\"\",\"\",T167*'PR details'!$G9)","v":""},{"$f":"IF(U167=\"\",\"\",U167*'PR details'!$G9)","v":""},{"$f":"IF(V167=\"\",\"\",V167*'PR details'!$G9)","v":""},{"$f":"IF(W167=\"\",\"\",W167*'PR details'!$G9)","v":""},{"$f":"IF(X167=\"\",\"\",X167*'PR details'!$G9)","v":""},{"$f":"IF(Y167=\"\",\"\",Y167*'PR details'!$G9)","v":""},{"$f":"IF(Z167=\"\",\"\",Z167*'PR details'!$G9)","v":""},{"$f":"IF(AA167=\"\",\"\",AA167*'PR details'!$G9)","v":""},{"$f":"IF(AB167=\"\",\"\",AB167*'PR details'!$G9)","v":""},{"$f":"IF(AC167=\"\",\"\",AC167*'PR details'!$G9)","v":""},{"$f":"IF(AD167=\"\",\"\",AD167*'PR details'!$G9)","v":""},{"$f":"IF(AE167=\"\",\"\",AE167*'PR details'!$G9)","v":""},{"$f":"IF(AF167=\"\",\"\",AF167*'PR details'!$G9)","v":""},{"$f":"IF(AG167=\"\",\"\",AG167*'PR details'!$G9)","v":""},{"$f":"IF(AH167=\"\",\"\",AH167*'PR details'!$G9)","v":""}]
[]
[]
[]
[null,null,null,null,null,null,null,"PR average"]
[]
[null,null,null,null,null,null,null,null,null,null,null,"PAHs as µg/kg wet weight",null,null,null,null,null,null,null,null,null,null,null,null,null,null,null,null,null,null,null,null,null,"Total hydrocarbon content (mg/kg)"]
[null,null,null,null,null,null,null,null,null,null,null,"Acenapthene","Acenapthylene","Anthracene","Benz[a]anthracene","Benzo[a]pyrene","Benzo[b]fluoranthene","Benzo[g,h,i]perylene","Benzo[e]pyrene","Benzo[k]fluoranthene","C1-Napthalenes","C1-Phenanthrenes","C2-Napthalenes","C3-Napthalenes","Chrysene","Dibenz[a,h]anthracene","Fluoranthene","Fluorene","Indeno[123-c,d]pyrene","Napthalene","Perylene","Phenanthrene","Pyrene"]
[null,null,null,null,null,null,null,null,null,null,null,{"$f":"IF(COUNT(L176:L181)<1,\"\",SUM(L176:L181))","v":""},"","","","","","","","","","","","","","","","","","","","","",""]

{"sheet":"Data PCB","index":11,"n_rows":38,"n_cols":35,"rows_kept":38,"cut":false,"hidden":false,"merged":[[37,7,37,9],[4,10,4,34],[4,7,6,7],[4,8,6,8],[4,9,6,9]]}
[]
[null,"Data deuffenyl polyclorinedig"]
[null,null,null,null,null,null,null,"Allbynnau dadansoddi:"]
[null,"Cyfarwyddiadau:"]
[null,"1. Cofnodwch y labordy/contractwr sy'n gyfrifol am ddadansoddiad deuffenyl polyclorinedig",null,null,null,null,null,"Rhif sampl y labordy","Ardal Garthu","Rhif(au) adnabod y samplau","Deuffenylau polyclorinedig fel pwysau sych mg/kg"]
[null,"2. Cofnodwch y dyddiad y dadansoddwyd y samplau.",null,null,null,null,null,null,null,null,"2,2',4,5,5'-Pentachlorobiphenyl","2,3',4,4'-Pentachlorobiphenyl","2,3,3',4',6-Pentachlorobiphenyl","2,3',4,4',5-Pentachlorobiphenyl","2,2',3,3',4,4'-Hexachlorobiphenyl","2,2',3,4,4',5'-Hexachlorobiphenyl","2,2',3,4,5,5'-Hexachlorobiphenyl","2,2',3,4',5',6-Hexachlorobiphenyl","2,2',3,5,5',6-Hexachlorobiphenyl","2,2',4,4',5,5'-Hexachlorobiphenyl","2,3,3',4,4',5-Hexachlorobiphenyl","2,3,3',4,4',6-Hexachlorobiphenyl","2,2',3,3',4,4',5-Heptachlorobiphenyl","2,2',5- Trichlorobiphenyl","2,2',3,4,4',5,5'-Heptachlorobiphenyl","2,2',3,4,4',5',6-Heptachlorobiphenyl","2,2',3,4',5,5',6-Heptachlorobiphenyl","2,2',3,3',4,4',5,5'-Octachlorobiphenyl","2,4,4'-Trichlorobiphenyl","2,4',5-Trichlorobiphenyl","2,2',3,5'-Tetrachlorobiphenyl","2,2',4,4'-Tetrachlorobiphenyl","2,2',4,5'-Tetrachlorobiphenyl","2,2',5,5'-Tetrachlorobiphenyl","2,3',4,4'-Tetrachlorobiphenyl"]
[null,"3. Rhowch set ddata lawn ar gyfer pob sampl yn nhabl canlyniadau'r dadansoddiad",null,null,null,null,null,null,null,null,"CB101","CB105","CB110","CB118","CB128","CB138","CB141","CB149","CB151","CB153","CB156","CB158","CB170","CB18","CB180","CB183","CB187","CB194","CB28","CB31","CB44","CB47","CB49","CB52","CB66"]
[null,"4. Dylid adrodd ar ganlyniadau dadansoddi mewn pwysau sych mg/kg (ppm). "]
[null,"5. Rhowch derfyn canfod methodolegol ar gyfer pob deuffenyl polyclorinedig cyn mewnbynnu data crai"]
[null,"6. Lle mae allbynnau dadansoddi yn llai na’r terfynau canfod nodwch y testun “<LOD”"]
[null,"7. Mae deuffenylau polyclorinedig ICES 7 wedi’u hamlygu mewn print trwm"]
[null,"8. Lle rydych yn copïo a gludo cofnodion, defnyddiwch y gwerthoedd yr ydych yn eu gludo yn unig"]
[null,"9. Pan fyddwch chi'n nodi rhifau adnabod sawl sampl, defnyddiwch ffurflen y naidlen (pop-up)"]
[null,null,"Dylai rhifau adnabod gael eu gwahanu gan goma"]
[]
[null,"Gwybodaeth dadansoddi:"]
[]
[null,null,"Labordy/contractwr:"]
[null,null,"Dyddiad y dadansoddiad:"]
[]
[]
[]
[]
[]
[]
[]
[]
[]
[]
[]
[]
[]
[]
[]
[]
[]
[]
[null,null,null,null,null,null,null,"Terfynau canfod (pwysau sych mg/kg):  "]

{"sheet":"PCB calcs","index":12,"n_rows":197,"n_cols":38,"rows_kept":197,"cut":false,"hidden":true,"merged":[[47,36,49,36],[179,11,179,35],[179,36,181,36],[179,37,181,37],[86,37,88,37],[164,11,164,35],[164,36,166,36],[164,37,166,37],[86,36,88,36],[86,11,86,35],[47,37,49,37],[125,36,127,36],[125,37,127,37],[5,8,7,8],[5,9,7,9],[5,10,7,10],[47,10,49,10],[47,11,47,35],[5,37,7,37],[5,11,5,35],[164,10,166,10],[179,7,181,7],[179,8,181,8],[179,9,181,9],[179,10,181,10],[86,7,88,7],[47,7,49,7],[47,8,49,8],[47,9,49,9],[5,36,7,36],[86,8,88,8],[86,9,88,9],[86,10,88,10],[5,7,7,7],[193,36,195,36],[193,37,195,37],[193,7,195,7],[193,8,195,8],[193,9,195,9],[193,10,195,10],[193,11,193,35],[125,7,127,7],[125,8,127,8],[125,9,127,9],[125,10,127,10],[125,11,125,35]]}
[]
[null,"Polyaromatic hydrocarbon summary information",null,null,null,null,null,null,null," "]
[]
[null,"Analysis information:",null,null,null,null,null,"Determinand analysis outputs - adjusted for limits of detection:"]
[]
[null,null,"Applicant:",{"$f":"IF('Gwybodaeth ymgeiswyr'!E15=\"\",\"\",'Gwybodaeth ymgeiswyr'!E15)","v":""},null,null,null,"Laboratory sample number","Dredge Area","Excluded (y if yes)","Sample ID(s)","PCBs as mg/kg dry weight",null,null,null,null,null,null,null,null,null,null,null,null,null,null,null,null,null,null,null,null,null,null,null,null,"ICES 7","Total 25 congeners"]
[null,null,"Application number:",{"$f":"IF('Gwybodaeth ymgeiswyr'!E16=\"\",\"\",'Gwybodaeth ymgeiswyr'!E16)","v":""},null,null,null,null,null,null,null,"2,2',4,5,5'-Pentachlorobiphenyl","2,3,3',4,4'-Pentachlorobiphenyl","2,3,3',4',6-Pentachlorobiphenyl","2,3',4,4',5-Pentachlorobiphenyl","2,2',3,3',4,4'-Hexachlorobiphenyl","2,2',3,4,4',5'-Hexachlorobiphenyl","2,2',3,4,5,5'-Hexachlorobiphenyl","2,2',3,4',5',6-Hexachlorobiphenyl","2,2',3,5,5',6-Hexachlorobiphenyl","2,2',4,4',5,5'-Hexachlorobiphenyl","2,3,3',4,4',5-Hexachlorobiphenyl","2,3,3',4,4',6-Hexachlorobiphenyl","2,2',3,3',4,4',5-Heptachlorobiphenyl","2,2',5- Trichlorobiphenyl","2,2',3,4,4',5,5'-Heptachlorobiphenyl","2,2',3,4,4',5',6-Heptachlorobiphenyl","2,2',3,4',5,5',6-Heptachlorobiphenyl","2,2',3,3',4,4',5,5'-Octachlorobiphenyl","2,4,4'-Trichlorobiphenyl","2,4',5-Trichlorobiphenyl","2,2',3,5'-Tetrachlorobiphenyl","2,2',4,4'-Tetrachlorobiphenyl","2,2',4,5'-Tetrachlorobiphenyl","2,2',5,5'-Tetrachlorobiphenyl","2,3',4,4'-Tetrachlorobiphenyl"]
[null,null,"Application title:",{"$f":"IF('Gwybodaeth ymgeiswyr'!E17=\"\",\"\",'Gwybodaeth ymgeiswyr'!E17)","v":""},null,null,null,null,null,null,null,"CB101","CB105","CB110","CB118","CB128","CB138","CB141","CB149","CB151","CB153","CB156","CB158","CB170","CB18","CB180","CB183","CB187","CB194","CB28","CB31","CB44","CB47","CB49","CB52","CB66"]
[null,null,"Date sampled:",{"$f":"IF('Gwybodaeth ymgeiswyr'!E18=\"\",\"\",'Gwybodaeth ymgeiswyr'!E18)","v":""},null,null,null,{"$f":"IF('Data PCB'!H8=\"\",\"\",'Data PCB'!H8)","v":""},{"$f":"IF('Data PCB'!I8=\"\",\"\",'Data PCB'!I8)","v":""},{"$f":"IFERROR(IF(K9=\"\",\"\",(IF(VLOOKUP(K9,'Gwybodaeth ymgeiswyr'!$K$8:$L$37,2,0)=\"y\",\"y\",\"\"))),\"Manual entry required\")","v":""},{"$f":"IF('Data PCB'!J8=\"\",\"\",'Data PCB'!J8)","v":""},{"$f":"IF('Data PCB'!K8=\"\",\"\",IF(ISNUMBER('Data PCB'!K8)=TRUE, IF('Data PCB'!K8<'Data PCB'!K$38, \"ERROR\", 'Data PCB'!K8), IF('Data PCB'!K8=\"<LOD\",'Data PCB'!K$38, \"ERROR\")))","v":""},{"$f":"IF('Data PCB'!L8=\"\",\"\",IF(ISNUMBER('Data PCB'!L8)=TRUE, IF('Data PCB'!L8<'Data PCB'!L$38, \"ERROR\", 'Data PCB'!L8), IF('Data PCB'!L8=\"<LOD\",'Data PCB'!L$38, \"ERROR\")))","v":""},{"$f":"IF('Data PCB'!M8=\"\",\"\",IF(ISNUMBER('Data PCB'!M8)=TRUE, IF('Data PCB'!M8<'Data PCB'!M$38, \"ERROR\", 'Data PCB'!M8), IF('Data PCB'!M8=\"<LOD\",'Data PCB'!M$38, \"ERROR\")))","v":""},{"$f":"IF('Data PCB'!N8=\"\",\"\",IF(ISNUMBER('Data PCB'!N8)=TRUE, IF('Data PCB'!N8<'Data PCB'!N$38, \"ERROR\", 'Data PCB'!N8), IF('Data PCB'!N8=\"<LOD\",'Data PCB'!N$38, \"ERROR\")))","v":""},{"$f":"IF('Data PCB'!O8=\"\",\"\",IF(ISNUMBER('Data PCB'!O8)=TRUE, IF('Data PCB'!O8<'Data PCB'!O$38, \"ERROR\", 'Data PCB'!O8), IF('Data PCB'!O8=\"<LOD\",'Data PCB'!O$38, \"ERROR\")))","v":""},{"$f":"IF('Data PCB'!P8=\"\",\"\",IF(ISNUMBER('Data PCB'!P8)=TRUE, IF('Data PCB'!P8<'Data PCB'!P$38, \"ERROR\", 'Data PCB'!P8), IF('Data PCB'!P8=\"<LOD\",'Data PCB'!P$38, \"ERROR\")))","v":""},{"$f":"IF('Data PCB'!Q8=\"\",\"\",IF(ISNUMBER('Data PCB'!Q8)=TRUE, IF('Data PCB'!Q8<'Data PCB'!Q$38, \"ERROR\", 'Data PCB'!Q8), IF('Data PCB'!Q8=\"<LOD\",'Data PCB'!Q$38, \"ERROR\")))","v":""},{"$f":"IF('Data PCB'!R8=\"\",\"\",IF(ISNUMBER('Data PCB'!R8)=TRUE, IF('Data PCB'!R8<'Data PCB'!R$38, \"ERROR\", 'Data PCB'!R8), IF('Data PCB'!R8=\"<LOD\",'Data PCB'!R$38, \"ERROR\")))","v":""},{"$f":"IF('Data PCB'!S8=\"\",\"\",IF(ISNUMBER('Data PCB'!S8)=TRUE, IF('Data PCB'!S8<'Data PCB'!S$38, \"ERROR\", 'Data PCB'!S8), IF('Data PCB'!S8=\"<LOD\",'Data PCB'!S$38, \"ERROR\")))","v":""},{"$f":"IF('Data PCB'!T8=\"\",\"\",IF(ISNUMBER('Data PCB'!T8)=TRUE, IF('Data PCB'!T8<'Data PCB'!T$38, \"ERROR\", 'Data PCB'!T8), IF('Data PCB'!T8=\"<LOD\",'Data PCB'!T$38, \"ERROR\")))","v":""},{"$f":"IF('Data PCB'!U8=\"\",\"\",IF(ISNUMBER('Data PCB'!U8)=TRUE, IF('Data PCB'!U8<'Data PCB'!U$38, \"ERROR\", 'Data PCB'!U8), IF('Data PCB'!U8=\"<LOD\",'Data PCB'!U$38, \"ERROR\")))","v":""},{"$f":"IF('Data PCB'!V8=\"\",\"\",IF(ISNUMBER('Data PCB'!V8)=TRUE, IF('Data PCB'!V8<'Data PCB'!V$38, \"ERROR\", 'Data PCB'!V8), IF('Data PCB'!V8=\"<LOD\",'Data PCB'!V$38, \"ERROR\")))","v":""},{"$f":"IF('Data PCB'!W8=\"\",\"\",IF(ISNUMBER('Data PCB'!W8)=TRUE, IF('Data PCB'!W8<'Data PCB'!W$38, \"ERROR\", 'Data PCB'!W8), IF('Data PCB'!W8=\"<LOD\",'Data PCB'!W$38, \"ERROR\")))","v":""},{"$f":"IF('Data PCB'!X8=\"\",\"\",IF(ISNUMBER('Data PCB'!X8)=TRUE, IF('Data PCB'!X8<'Data PCB'!X$38, \"ERROR\", 'Data PCB'!X8), IF('Data PCB'!X8=\"<LOD\",'Data PCB'!X$38, \"ERROR\")))","v":""},{"$f":"IF('Data PCB'!Y8=\"\",\"\",IF(ISNUMBER('Data PCB'!Y8)=TRUE, IF('Data PCB'!Y8<'Data PCB'!Y$38, \"ERROR\", 'Data PCB'!Y8), IF('Data PCB'!Y8=\"<LOD\",'Data PCB'!Y$38, \"ERROR\")))","v":""},{"$f":"IF('Data PCB'!Z8=\"\",\"\",IF(ISNUMBER('Data PCB'!Z8)=TRUE, IF('Data PCB'!Z8<'Data PCB'!Z$38, \"ERROR\", 'Data PCB'!Z8), IF('Data PCB'!Z8=\"<LOD\",'Data PCB'!Z$38, \"ERROR\")))","v":""},{"$f":"IF('Data PCB'!AA8=\"\",\"\",IF(ISNUMBER('Data PCB'!AA8)=TRUE, IF('Data PCB'!AA8<'Data PCB'!AA$38, \"ERROR\", 'Data PCB'!AA8), IF('Data PCB'!AA8=\"<LOD\",'Data PCB'!AA$38, \"ERROR\")))","v":""},{"$f":"IF('Data PCB'!AB8=\"\",\"\",IF(ISNUMBER('Data PCB'!AB8)=TRUE, IF('Data PCB'!AB8<'Data PCB'!AB$38, \"ERROR\", 'Data PCB'!AB8), IF('Data PCB'!AB8=\"<LOD\",'Data PCB'!AB$38, \"ERROR\")))","v":""},{"$f":"IF('Data PCB'!AC8=\"\",\"\",IF(ISNUMBER('Data PCB'!AC8)=TRUE, IF('Data PCB'!AC8<'Data PCB'!AC$38, \"ERROR\", 'Data PCB'!AC8), IF('Data PCB'!AC8=\"<LOD\",'Data PCB'!AC$38, \"ERROR\")))","v":""},{"$f":"IF('Data PCB'!AD8=\"\",\"\",IF(ISNUMBER('Data PCB'!AD8)=TRUE, IF('Data PCB'!AD8<'Data PCB'!AD$38, \"ERROR\", 'Data PCB'!AD8), IF('Data PCB'!AD8=\"<LOD\",'Data PCB'!AD$38, \"ERROR\")))","v":""},{"$f":"IF('Data PCB'!AE8=\"\",\"\",IF(ISNUMBER('Data PCB'!AE8)=TRUE, IF('Data PCB'!AE8<'Data PCB'!AE$38, \"ERROR\", 'Data PCB'!AE8), IF('Data PCB'!AE8=\"<LOD\",'Data PCB'!AE$38, \"ERROR\")))","v":""},{"$f":"IF('Data PCB'!AF8=\"\",\"\",IF(ISNUMBER('Data PCB'!AF8)=TRUE, IF('Data PCB'!AF8<'Data PCB'!AF$38, \"ERROR\", 'Data PCB'!AF8), IF('Data PCB'!AF8=\"<LOD\",'Data PCB'!AF$38, \"ERROR\")))","v":""},{"$f":"IF('Data PCB'!AG8=\"\",\"\",IF(ISNUMBER('Data PCB'!AG8)=TRUE, IF('Data PCB'!AG8<'Data PCB'!AG$38, \"ERROR\", 'Data PCB'!AG8), IF('Data PCB'!AG8=\"<LOD\",'Data PCB'!AG$38, \"ERROR\")))","v":""},{"$f":"IF('Data PCB'!AH8=\"\",\"\",IF(ISNUMBER('Data PCB'!AH8)=TRUE, IF('Data PCB'!AH8<'Data PCB'!AH$38, \"ERROR\", 'Data PCB'!AH8), IF('Data PCB'!AH8=\"<LOD\",'Data PCB'!AH$38, \"ERROR\")))","v":""},{"$f":"IF('Data PCB'!AI8=\"\",\"\",IF(ISNUMBER('Data PCB'!AI8)=TRUE, IF('Data PCB'!AI8<'Data PCB'!AI$38, \"ERROR\", 'Data PCB'!AI8), IF('Data PCB'!AI8=\"<LOD\",'Data PCB'!AI$38, \"ERROR\")))","v":""},{"$f":"IF(COUNT(AI9,AD9,Z9,U9,Q9,O9,L9)<1,\"\",SUM(AI9,AD9,Z9,U9,Q9,O9,L9))","v":""},{"$f":"IF(COUNT(L9:AJ9)<1,\"\",(SUM(L9:AJ9)))","v":""}]
[null,null,"Sampling location:",{"$f":"IF('Gwybodaeth ymgeiswyr'!E19=\"\",\"\",'Gwybodaeth ymgeiswyr'!E19)","v":""},null,null,null,{"$f":"IF('Data PCB'!H9=\"\",\"\",'Data PCB'!H9)","v":""},{"$f":"IF('Data PCB'!I9=\"\",\"\",'Data PCB'!I9)","v":""},{"$f":"IFERROR(IF(K10=\"\",\"\",(IF(VLOOKUP(K10,'Gwybodaeth ymgeiswyr'!$K$8:$L$37,2,0)=\"y\",\"y\",\"\"))),\"Manual entry required\")","v":""},{"$f":"IF('Data PCB'!J9=\"\",\"\",'Data PCB'!J9)","v":""},{"$f":"IF('Data PCB'!K9=\"\",\"\",IF(ISNUMBER('Data PCB'!K9)=TRUE, IF('Data PCB'!K9<'Data PCB'!K$38, \"ERROR\", 'Data PCB'!K9), IF('Data PCB'!K9=\"<LOD\",'Data PCB'!K$38, \"ERROR\")))","v":""},{"$f":"IF('Data PCB'!L9=\"\",\"\",IF(ISNUMBER('Data PCB'!L9)=TRUE, IF('Data PCB'!L9<'Data PCB'!L$38, \"ERROR\", 'Data PCB'!L9), IF('Data PCB'!L9=\"<LOD\",'Data PCB'!L$38, \"ERROR\")))","v":""},{"$f":"IF('Data PCB'!M9=\"\",\"\",IF(ISNUMBER('Data PCB'!M9)=TRUE, IF('Data PCB'!M9<'Data PCB'!M$38, \"ERROR\", 'Data PCB'!M9), IF('Data PCB'!M9=\"<LOD\",'Data PCB'!M$38, \"ERROR\")))","v":""},{"$f":"IF('Data PCB'!N9=\"\",\"\",IF(ISNUMBER('Data PCB'!N9)=TRUE, IF('Data PCB'!N9<'Data PCB'!N$38, \"ERROR\", 'Data PCB'!N9), IF('Data PCB'!N9=\"<LOD\",'Data PCB'!N$38, \"ERROR\")))","v":""},{"$f":"IF('Data PCB'!O9=\"\",\"\",IF(ISNUMBER('Data PCB'!O9)=TRUE, IF('Data PCB'!O9<'Data PCB'!O$38, \"ERROR\", 'Data PCB'!O9), IF('Data PCB'!O9=\"<LOD\",'Data PCB'!O$38, \"ERROR\")))","v":""},{"$f":"IF('Data PCB'!P9=\"\",\"\",IF(ISNUMBER('Data PCB'!P9)=TRUE, IF('Data PCB'!P9<'Data PCB'!P$38, \"ERROR\", 'Data PCB'!P9), IF('Data PCB'!P9=\"<LOD\",'Data PCB'!P$38, \"ERROR\")))","v":""},{"$f":"IF('Data PCB'!Q9=\"\",\"\",IF(ISNUMBER('Data PCB'!Q9)=TRUE, IF('Data PCB'!Q9<'Data PCB'!Q$38, \"ERROR\", 'Data PCB'!Q9), IF('Data PCB'!Q9=\"<LOD\",'Data PCB'!Q$38, \"ERROR\")))","v":""},{"$f":"IF('Data PCB'!R9=\"\",\"\",IF(ISNUMBER('Data PCB'!R9)=TRUE, IF('Data PCB'!R9<'Data PCB'!R$38, \"ERROR\", 'Data PCB'!R9), IF('Data PCB'!R9=\"<LOD\",'Data PCB'!R$38, \"ERROR\")))","v":""},{"$f":"IF('Data PCB'!S9=\"\",\"\",IF(ISNUMBER('Data PCB'!S9)=TRUE, IF('Data PCB'!S9<'Data PCB'!S$38, \"ERROR\", 'Data PCB'!S9), IF('Data PCB'!S9=\"<LOD\",'Data PCB'!S$38, \"ERROR\")))","v":""},{"$f":"IF('Data PCB'!T9=\"\",\"\",IF(ISNUMBER('Data PCB'!T9)=TRUE, IF('Data PCB'!T9<'Data PCB'!T$38, \"ERROR\", 'Data PCB'!T9), IF('Data PCB'!T9=\"<LOD\",'Data PCB'!T$38, \"ERROR\")))","v":""},{"$f":"IF('Data PCB'!U9=\"\",\"\",IF(ISNUMBER('Data PCB'!U9)=TRUE, IF('Data PCB'!U9<'Data PCB'!U$38, \"ERROR\", 'Data PCB'!U9), IF('Data PCB'!U9=\"<LOD\",'Data PCB'!U$38, \"ERROR\")))","v":""},{"$f":"IF('Data PCB'!V9=\"\",\"\",IF(ISNUMBER('Data PCB'!V9)=TRUE, IF('Data PCB'!V9<'Data PCB'!V$38, \"ERROR\", 'Data PCB'!V9), IF('Data PCB'!V9=\"<LOD\",'Data PCB'!V$38, \"ERROR\")))","v":""},{"$f":"IF('Data PCB'!W9=\"\",\"\",IF(ISNUMBER('Data PCB'!W9)=TRUE, IF('Data PCB'!W9<'Data PCB'!W$38, \"ERROR\", 'Data PCB'!W9), IF('Data PCB'!W9=\"<LOD\",'Data PCB'!W$38, \"ERROR\")))","v":""},{"$f":"IF('Data PCB'!X9=\"\",\"\",IF(ISNUMBER('Data PCB'!X9)=TRUE, IF('Data PCB'!X9<'Data PCB'!X$38, \"ERROR\", 'Data PCB'!X9), IF('Data PCB'!X9=\"<LOD\",'Data PCB'!X$38, \"ERROR\")))","v":""},{"$f":"IF('Data PCB'!Y9=\"\",\"\",IF(ISNUMBER('Data PCB'!Y9)=TRUE, IF('Data PCB'!Y9<'Data PCB'!Y$38, \"ERROR\", 'Data PCB'!Y9), IF('Data PCB'!Y9=\"<LOD\",'Data PCB'!Y$38, \"ERROR\")))","v":""},{"$f":"IF('Data PCB'!Z9=\"\",\"\",IF(ISNUMBER('Data PCB'!Z9)=TRUE, IF('Data PCB'!Z9<'Data PCB'!Z$38, \"ERROR\", 'Data PCB'!Z9), IF('Data PCB'!Z9=\"<LOD\",'Data PCB'!Z$38, \"ERROR\")))","v":""},{"$f":"IF('Data PCB'!AA9=\"\",\"\",IF(ISNUMBER('Data PCB'!AA9)=TRUE, IF('Data PCB'!AA9<'Data PCB'!AA$38, \"ERROR\", 'Data PCB'!AA9), IF('Data PCB'!AA9=\"<LOD\",'Data PCB'!AA$38, \"ERROR\")))","v":""},{"$f":"IF('Data PCB'!AB9=\"\",\"\",IF(ISNUMBER('Data PCB'!AB9)=TRUE, IF('Data PCB'!AB9<'Data PCB'!AB$38, \"ERROR\", 'Data PCB'!AB9), IF('Data PCB'!AB9=\"<LOD\",'Data PCB'!AB$38, \"ERROR\")))","v":""},{"$f":"IF('Data PCB'!AC9=\"\",\"\",IF(ISNUMBER('Data PCB'!AC9)=TRUE, IF('Data PCB'!AC9<'Data PCB'!AC$38, \"ERROR\", 'Data PCB'!AC9), IF('Data PCB'!AC9=\"<LOD\",'Data PCB'!AC$38, \"ERROR\")))","v":""},{"$f":"IF('Data PCB'!AD9=\"\",\"\",IF(ISNUMBER('Data PCB'!AD9)=TRUE, IF('Data PCB'!AD9<'Data PCB'!AD$38, \"ERROR\", 'Data PCB'!AD9), IF('Data PCB'!AD9=\"<LOD\",'Data PCB'!AD$38, \"ERROR\")))","v":""},{"$f":"IF('Data PCB'!AE9=\"\",\"\",IF(ISNUMBER('Data PCB'!AE9)=TRUE, IF('Data PCB'!AE9<'Data PCB'!AE$38, \"ERROR\", 'Data PCB'!AE9), IF('Data PCB'!AE9=\"<LOD\",'Data PCB'!AE$38, \"ERROR\")))","v":""},{"$f":"IF('Data PCB'!AF9=\"\",\"\",IF(ISNUMBER('Data PCB'!AF9)=TRUE, IF('Data PCB'!AF9<'Data PCB'!AF$38, \"ERROR\", 'Data PCB'!AF9), IF('Data PCB'!AF9=\"<LOD\",'Data PCB'!AF$38, \"ERROR\")))","v":""},{"$f":"IF('Data PCB'!AG9=\"\",\"\",IF(ISNUMBER('Data PCB'!AG9)=TRUE, IF('Data PCB'!AG9<'Data PCB'!AG$38, \"ERROR\", 'Data PCB'!AG9), IF('Data PCB'!AG9=\"<LOD\",'Data PCB'!AG$38, \"ERROR\")))","v":""},{"$f":"IF('Data PCB'!AH9=\"\",\"\",IF(ISNUMBER('Data PCB'!AH9)=TRUE, IF('Data PCB'!AH9<'Data PCB'!AH$38, \"ERROR\", 'Data PCB'!AH9), IF('Data PCB'!AH9=\"<LOD\",'Data PCB'!AH$38, \"ERROR\")))","v":""},{"$f":"IF('Data PCB'!AI9=\"\",\"\",IF(ISNUMBER('Data PCB'!AI9)=TRUE, IF('Data PCB'!AI9<'Data PCB'!AI$38, \"ERROR\", 'Data PCB'!AI9), IF('Data PCB'!AI9=\"<LOD\",'Data PCB'!AI$38, \"ERROR\")))","v":""},"",""]
[null,null,null,null,null,null,null,{"$f":"IF('Data PCB'!H10=\"\",\"\",'Data PCB'!H10)","v":""},{"$f":"IF('Data PCB'!I10=\"\",\"\",'Data PCB'!I10)","v":""},{"$f":"IFERROR(IF(K11=\"\",\"\",(IF(VLOOKUP(K11,'Gwybodaeth ymgeiswyr'!$K$8:$L$37,2,0)=\"y\",\"y\",\"\"))),\"Manual entry required\")","v":""},{"$f":"IF('Data PCB'!J10=\"\",\"\",'Data PCB'!J10)","v":""},{"$f":"IF('Data PCB'!K10=\"\",\"\",IF(ISNUMBER('Data PCB'!K10)=TRUE, IF('Data PCB'!K10<'Data PCB'!K$38, \"ERROR\", 'Data PCB'!K10), IF('Data PCB'!K10=\"<LOD\",'Data PCB'!K$38, \"ERROR\")))","v":""},{"$f":"IF('Data PCB'!L10=\"\",\"\",IF(ISNUMBER('Data PCB'!L10)=TRUE, IF('Data PCB'!L10<'Data PCB'!L$38, \"ERROR\", 'Data PCB'!L10), IF('Data PCB'!L10=\"<LOD\",'Data PCB'!L$38, \"ERROR\")))","v":""},{"$f":"IF('Data PCB'!M10=\"\",\"\",IF(ISNUMBER('Data PCB'!M10)=TRUE, IF('Data PCB'!M10<'Data PCB'!M$38, \"ERROR\", 'Data PCB'!M10), IF('Data PCB'!M10=\"<LOD\",'Data PCB'!M$38, \"ERROR\")))","v":""},{"$f":"IF('Data PCB'!N10=\"\",\"\",IF(ISNUMBER('Data PCB'!N10)=TRUE, IF('Data PCB'!N10<'Data PCB'!N$38, \"ERROR\", 'Data PCB'!N10), IF('Data PCB'!N10=\"<LOD\",'Data PCB'!N$38, \"ERROR\")))","v":""},{"$f":"IF('Data PCB'!O10=\"\",\"\",IF(ISNUMBER('Data PCB'!O10)=TRUE, IF('Data PCB'!O10<'Data PCB'!O$38, \"ERROR\", 'Data PCB'!O10), IF('Data PCB'!O10=\"<LOD\",'Data PCB'!O$38, \"ERROR\")))","v":""},{"$f":"IF('Data PCB'!P10=\"\",\"\",IF(ISNUMBER('Data PCB'!P10)=TRUE, IF('Data PCB'!P10<'Data PCB'!P$38, \"ERROR\", 'Data PCB'!P10), IF('Data PCB'!P10=\"<LOD\",'Data PCB'!P$38, \"ERROR\")))","v":""},{"$f":"IF('Data PCB'!Q10=\"\",\"\",IF(ISNUMBER('Data PCB'!Q10)=TRUE, IF('Data PCB'!Q10<'Data PCB'!Q$38, \"ERROR\", 'Data PCB'!Q10), IF('Data PCB'!Q10=\"<LOD\",'Data PCB'!Q$38, \"ERROR\")))","v":""},{"$f":"IF('Data PCB'!R10=\"\",\"\",IF(ISNUMBER('Data PCB'!R10)=TRUE, IF('Data PCB'!R10<'Data PCB'!R$38, \"ERROR\", 'Data PCB'!R10), IF('Data PCB'!R10=\"<LOD\",'Data PCB'!R$38, \"ERROR\")))","v":""},{"$f":"IF('Data PCB'!S10=\"\",\"\",IF(ISNUMBER('Data PCB'!S10)=TRUE, IF('Data PCB'!S10<'Data PCB'!S$38, \"ERROR\", 'Data PCB'!S10), IF('Data PCB'!S10=\"<LOD\",'Data PCB'!S$38, \"ERROR\")))","v":""},{"$f":"IF('Data PCB'!T10=\"\",\"\",IF(ISNUMBER('Data PCB'!T10)=TRUE, IF('Data PCB'!T10<'Data PCB'!T$38, \"ERROR\", 'Data PCB'!T10), IF('Data PCB'!T10=\"<LOD\",'Data PCB'!T$38, \"ERROR\")))","v":""},{"$f":"IF('Data PCB'!U10=\"\",\"\",IF(ISNUMBER('Data PCB'!U10)=TRUE, IF('Data PCB'!U10<'Data PCB'!U$38, \"ERROR\", 'Data PCB'!U10), IF('Data PCB'!U10=\"<LOD\",'Data PCB'!U$38, \"ERROR\")))","v":""},{"$f":"IF('Data PCB'!V10=\"\",\"\",IF(ISNUMBER('Data PCB'!V10)=TRUE, IF('Data PCB'!V10<'Data PCB'!V$38, \"ERROR\", 'Data PCB'!V10), IF('Data PCB'!V10=\"<LOD\",'Data PCB'!V$38, \"ERROR\")))","v":""},{"$f":"IF('Data PCB'!W10=\"\",\"\",IF(ISNUMBER('Data PCB'!W10)=TRUE, IF('Data PCB'!W10<'Data PCB'!W$38, \"ERROR\", 'Data PCB'!W10), IF('Data PCB'!W10=\"<LOD\",'Data PCB'!W$38, \"ERROR\")))","v":""},{"$f":"IF('Data PCB'!X10=\"\",\"\",IF(ISNUMBER('Data PCB'!X10)=TRUE, IF('Data PCB'!X10<'Data PCB'!X$38, \"ERROR\", 'Data PCB'!X10), IF('Data PCB'!X10=\"<LOD\",'Data PCB'!X$38, \"ERROR\")))","v":""},{"$f":"IF('Data PCB'!Y10=\"\",\"\",IF(ISNUMBER('Data PCB'!Y10)=TRUE, IF('Data PCB'!Y10<'Data PCB'!Y$38, \"ERROR\", 'Data PCB'!Y10), IF('Data PCB'!Y10=\"<LOD\",'Data PCB'!Y$38, \"ERROR\")))","v":""},{"$f":"IF('Data PCB'!Z10=\"\",\"\",IF(ISNUMBER('Data PCB'!Z10)=TRUE, IF('Data PCB'!Z10<'Data PCB'!Z$38, \"ERROR\", 'Data PCB'!Z10), IF('Data PCB'!Z10=\"<LOD\",'Data PCB'!Z$38, \"ERROR\")))","v":""},{"$f":"IF('Data PCB'!AA10=\"\",\"\",IF(ISNUMBER('Data PCB'!AA10)=TRUE, IF('Data PCB'!AA10<'Data PCB'!AA$38, \"ERROR\", 'Data PCB'!AA10), IF('Data PCB'!AA10=\"<LOD\",'Data PCB'!AA$38, \"ERROR\")))","v":""},{"$f":"IF('Data PCB'!AB10=\"\",\"\",IF(ISNUMBER('Data PCB'!AB10)=TRUE, IF('Data PCB'!AB10<'Data PCB'!AB$38, \"ERROR\", 'Data PCB'!AB10), IF('Data PCB'!AB10=\"<LOD\",'Data PCB'!AB$38, \"ERROR\")))","v":""},{"$f":"IF('Data PCB'!AC10=\"\",\"\",IF(ISNUMBER('Data PCB'!AC10)=TRUE, IF('Data PCB'!AC10<'Data PCB'!AC$38, \"ERROR\", 'Data PCB'!AC10), IF('Data PCB'!AC10=\"<LOD\",'Data PCB'!AC$38, \"ERROR\")))","v":""},{"$f":"IF('Data PCB'!AD10=\"\",\"\",IF(ISNUMBER('Data PCB'!AD10)=TRUE, IF('Data PCB'!AD10<'Data PCB'!AD$38, \"ERROR\", 'Data PCB'!AD10), IF('Data PCB'!AD10=\"<LOD\",'Data PCB'!AD$38, \"ERROR\")))","v":""},{"$f":"IF('Data PCB'!AE10=\"\",\"\",IF(ISNUMBER('Data PCB'!AE10)=TRUE, IF('Data PCB'!AE10<'Data PCB'!AE$38, \"ERROR\", 'Data PCB'!AE10), IF('Data PCB'!AE10=\"<LOD\",'Data PCB'!AE$38, \"ERROR\")))","v":""},{"$f":"IF('Data PCB'!AF10=\"\",\"\",IF(ISNUMBER('Data PCB'!AF10)=TRUE, IF('Data PCB'!AF10<'Data PCB'!AF$38, \"ERROR\", 'Data PCB'!AF10), IF('Data PCB'!AF10=\"<LOD\",'Data PCB'!AF$38, \"ERROR\")))","v":""},{"$f":"IF('Data PCB'!AG10=\"\",\"\",IF(ISNUMBER('Data PCB'!AG10)=TRUE, IF('Data PCB'!AG10<'Data PCB'!AG$38, \"ERROR\", 'Data PCB'!AG10), IF('Data PCB'!AG10=\"<LOD\",'Data PCB'!AG$38, \"ERROR\")))","v":""},{"$f":"IF('Data PCB'!AH10=\"\",\"\",IF(ISNUMBER('Data PCB'!AH10)=TRUE, IF('Data PCB'!AH10<'Data PCB'!AH$38, \"ERROR\", 'Data PCB'!AH10), IF('Data PCB'!AH10=\"<LOD\",'Data PCB'!AH$38, \"ERROR\")))","v":""},{"$f":"IF('Data PCB'!AI10=\"\",\"\",IF(ISNUMBER('Data PCB'!AI10)=TRUE, IF('Data PCB'!AI10<'Data PCB'!AI$38, \"ERROR\", 'Data PCB'!AI10), IF('Data PCB'!AI10=\"<LOD\",'Data PCB'!AI$38, \"ERROR\")))","v":""},"",""]
[null,null,"Laboratory/contractor:",{"$f":"IF('Data PCB'!D18=\"\",\"\",'Data PCB'!D18)","v":""},null,null,null,{"$f":"IF('Data PCB'!H11=\"\",\"\",'Data PCB'!H11)","v":""},{"$f":"IF('Data PCB'!I11=\"\",\"\",'Data PCB'!I11)","v":""},{"$f":"IFERROR(IF(K12=\"\",\"\",(IF(VLOOKUP(K12,'Gwybodaeth ymgeiswyr'!$K$8:$L$37,2,0)=\"y\",\"y\",\"\"))),\"Manual entry required\")","v":""},{"$f":"IF('Data PCB'!J11=\"\",\"\",'Data PCB'!J11)","v":""},{"$f":"IF('Data PCB'!K11=\"\",\"\",IF(ISNUMBER('Data PCB'!K11)=TRUE, IF('Data PCB'!K11<'Data PCB'!K$38, \"ERROR\", 'Data PCB'!K11), IF('Data PCB'!K11=\"<LOD\",'Data PCB'!K$38, \"ERROR\")))","v":""},{"$f":"IF('Data PCB'!L11=\"\",\"\",IF(ISNUMBER('Data PCB'!L11)=TRUE, IF('Data PCB'!L11<'Data PCB'!L$38, \"ERROR\", 'Data PCB'!L11), IF('Data PCB'!L11=\"<LOD\",'Data PCB'!L$38, \"ERROR\")))","v":""},{"$f":"IF('Data PCB'!M11=\"\",\"\",IF(ISNUMBER('Data PCB'!M11)=TRUE, IF('Data PCB'!M11<'Data PCB'!M$38, \"ERROR\", 'Data PCB'!M11), IF('Data PCB'!M11=\"<LOD\",'Data PCB'!M$38, \"ERROR\")))","v":""},{"$f":"IF('Data PCB'!N11=\"\",\"\",IF(ISNUMBER('Data PCB'!N11)=TRUE, IF('Data PCB'!N11<'Data PCB'!N$38, \"ERROR\", 'Data PCB'!N11), IF('Data PCB'!N11=\"<LOD\",'Data PCB'!N$38, \"ERROR\")))","v":""},{"$f":"IF('Data PCB'!O11=\"\",\"\",IF(ISNUMBER('Data PCB'!O11)=TRUE, IF('Data PCB'!O11<'Data PCB'!O$38, \"ERROR\", 'Data PCB'!O11), IF('Data PCB'!O11=\"<LOD\",'Data PCB'!O$38, \"ERROR\")))","v":""},{"$f":"IF('Data PCB'!P11=\"\",\"\",IF(ISNUMBER('Data PCB'!P11)=TRUE, IF('Data PCB'!P11<'Data PCB'!P$38, \"ERROR\", 'Data PCB'!P11), IF('Data PCB'!P11=\"<LOD\",'Data PCB'!P$38, \"ERROR\")))","v":""},{"$f":"IF('Data PCB'!Q11=\"\",\"\",IF(ISNUMBER('Data PCB'!Q11)=TRUE, IF('Data PCB'!Q11<'Data PCB'!Q$38, \"ERROR\", 'Data PCB'!Q11), IF('Data PCB'!Q11=\"<LOD\",'Data PCB'!Q$38, \"ERROR\")))","v":""},{"$f":"IF('Data PCB'!R11=\"\",\"\",IF(ISNUMBER('Data PCB'!R11)=TRUE, IF('Data PCB'!R11<'Data PCB'!R$38, \"ERROR\", 'Data PCB'!R11), IF('Data PCB'!R11=\"<LOD\",'Data PCB'!R$38, \"ERROR\")))","v":""},{"$f":"IF('Data PCB'!S11=\"\",\"\",IF(ISNUMBER('Data PCB'!S11)=TRUE, IF('Data PCB'!S11<'Data PCB'!S$38, \"ERROR\", 'Data PCB'!S11), IF('Data PCB'!S11=\"<LOD\",'Data PCB'!S$38, \"ERROR\")))","v":""},{"$f":"IF('Data PCB'!T11=\"\",\"\",IF(ISNUMBER('Data PCB'!T11)=TRUE, IF('Data PCB'!T11<'Data PCB'!T$38, \"ERROR\", 'Data PCB'!T11), IF('Data PCB'!T11=\"<LOD\",'Data PCB'!T$38, \"ERROR\")))","v":""},{"$f":"IF('Data PCB'!U11=\"\",\"\",IF(ISNUMBER('Data PCB'!U11)=TRUE, IF('Data PCB'!U11<'Data PCB'!U$38, \"ERROR\", 'Data PCB'!U11), IF('Data PCB'!U11=\"<LOD\",'Data PCB'!U$38, \"ERROR\")))","v":""},{"$f":"IF('Data PCB'!V11=\"\",\"\",IF(ISNUMBER('Data PCB'!V11)=TRUE, IF('Data PCB'!V11<'Data PCB'!V$38, \"ERROR\", 'Data PCB'!V11), IF('Data PCB'!V11=\"<LOD\",'Data PCB'!V$38, \"ERROR\")))","v":""},{"$f":"IF('Data PCB'!W11=\"\",\"\",IF(ISNUMBER('Data PCB'!W11)=TRUE, IF('Data PCB'!W11<'Data PCB'!W$38, \"ERROR\", 'Data PCB'!W11), IF('Data PCB'!W11=\"<LOD\",'Data PCB'!W$38, \"ERROR\")))","v":""},{"$f":"IF('Data PCB'!X11=\"\",\"\",IF(ISNUMBER('Data PCB'!X11)=TRUE, IF('Data PCB'!X11<'Data PCB'!X$38, \"ERROR\", 'Data PCB'!X11), IF('Data PCB'!X11=\"<LOD\",'Data PCB'!X$38, \"ERROR\")))","v":""},{"$f":"IF('Data PCB'!Y11=\"\",\"\",IF(ISNUMBER('Data PCB'!Y11)=TRUE, IF('Data PCB'!Y11<'Data PCB'!Y$38, \"ERROR\", 'Data PCB'!Y11), IF('Data PCB'!Y11=\"<LOD\",'Data PCB'!Y$38, \"ERROR\")))","v":""},{"$f":"IF('Data PCB'!Z11=\"\",\"\",IF(ISNUMBER('Data PCB'!Z11)=TRUE, IF('Data PCB'!Z11<'Data PCB'!Z$38, \"ERROR\", 'Data PCB'!Z11), IF('Data PCB'!Z11=\"<LOD\",'Data PCB'!Z$38, \"ERROR\")))","v":""},{"$f":"IF('Data PCB'!AA11=\"\",\"\",IF(ISNUMBER('Data PCB'!AA11)=TRUE, IF('Data PCB'!AA11<'Data PCB'!AA$38, \"ERROR\", 'Data PCB'!AA11), IF('Data PCB'!AA11=\"<LOD\",'Data PCB'!AA$38, \"ERROR\")))","v":""},{"$f":"IF('Data PCB'!AB11=\"\",\"\",IF(ISNUMBER('Data PCB'!AB11)=TRUE, IF('Data PCB'!AB11<'Data PCB'!AB$38, \"ERROR\", 'Data PCB'!AB11), IF('Data PCB'!AB11=\"<LOD\",'Data PCB'!AB$38, \"ERROR\")))","v":""},{"$f":"IF('Data PCB'!AC11=\"\",\"\",IF(ISNUMBER('Data PCB'!AC11)=TRUE, IF('Data PCB'!AC11<'Data PCB'!AC$38, \"ERROR\", 'Data PCB'!AC11), IF('Data PCB'!AC11=\"<LOD\",'Data PCB'!AC$38, \"ERROR\")))","v":""},{"$f":"IF('Data PCB'!AD11=\"\",\"\",IF(ISNUMBER('Data PCB'!AD11)=TRUE, IF('Data PCB'!AD11<'Data PCB'!AD$38, \"ERROR\", 'Data PCB'!AD11), IF('Data PCB'!AD11=\"<LOD\",'Data PCB'!AD$38, \"ERROR\")))","v":""},{"$f":"IF('Data PCB'!AE11=\"\",\"\",IF(ISNUMBER('Data PCB'!AE11)=TRUE, IF('Data PCB'!AE11<'Data PCB'!AE$38, \"ERROR\", 'Data PCB'!AE11), IF('Data PCB'!AE11=\"<LOD\",'Data PCB'!AE$38, \"ERROR\")))","v":""},{"$f":"IF('Data PCB'!AF11=\"\",\"\",IF(ISNUMBER('Data PCB'!AF11)=TRUE, IF('Data PCB'!AF11<'Data PCB'!AF$38, \"ERROR\", 'Data PCB'!AF11), IF('Data PCB'!AF11=\"<LOD\",'Data PCB'!AF$38, \"ERROR\")))","v":""},{"$f":"IF('Data PCB'!AG11=\"\",\"\",IF(ISNUMBER('Data PCB'!AG11)=TRUE, IF('Data PCB'!AG11<'Data PCB'!AG$38, \"ERROR\", 'Data PCB'!AG11), IF('Data PCB'!AG11=\"<LOD\",'Data PCB'!AG$38, \"ERROR\")))","v":""},{"$f":"IF('Data PCB'!AH11=\"\",\"\",IF(ISNUMBER('Data PCB'!AH11)=TRUE, IF('Data PCB'!AH11<'Data PCB'!AH$38, \"ERROR\", 'Data PCB'!AH11), IF('Data PCB'!AH11=\"<LOD\",'Data PCB'!AH$38, \"ERROR\")))","v":""},{"$f":"IF('Data PCB'!AI11=\"\",\"\",IF(ISNUMBER('Data PCB'!AI11)=TRUE, IF('Data PCB'!AI11<'Data PCB'!AI$38, \"ERROR\", 'Data PCB'!AI11), IF('Data PCB'!AI11=\"<LOD\",'Data PCB'!AI$38, \"ERROR\")))","v":""},"",""]
[null,null,"Date of analysis:",{"$f":"IF('Data PCB'!D19=\"\",\"\",'Data PCB'!D19)","v":""},null,null,null,{"$f":"IF('Data PCB'!H12=\"\",\"\",'Data PCB'!H12)","v":""},{"$f":"IF('Data PCB'!I12=\"\",\"\",'Data PCB'!I12)","v":""},{"$f":"IFERROR(IF(K13=\"\",\"\",(IF(VLOOKUP(K13,'Gwybodaeth ymgeiswyr'!$K$8:$L$37,2,0)=\"y\",\"y\",\"\"))),\"Manual entry required\")","v":""},{"$f":"IF('Data PCB'!J12=\"\",\"\",'Data PCB'!J12)","v":""},{"$f":"IF('Data PCB'!K12=\"\",\"\",IF(ISNUMBER('Data PCB'!K12)=TRUE, IF('Data PCB'!K12<'Data PCB'!K$38, \"ERROR\", 'Data PCB'!K12), IF('Data PCB'!K12=\"<LOD\",'Data PCB'!K$38, \"ERROR\")))","v":""},{"$f":"IF('Data PCB'!L12=\"\",\"\",IF(ISNUMBER('Data PCB'!L12)=TRUE, IF('Data PCB'!L12<'Data PCB'!L$38, \"ERROR\", 'Data PCB'!L12), IF('Data PCB'!L12=\"<LOD\",'Data PCB'!L$38, \"ERROR\")))","v":""},{"$f":"IF('Data PCB'!M12=\"\",\"\",IF(ISNUMBER('Data PCB'!M12)=TRUE, IF('Data PCB'!M12<'Data PCB'!M$38, \"ERROR\", 'Data PCB'!M12), IF('Data PCB'!M12=\"<LOD\",'Data PCB'!M$38, \"ERROR\")))","v":""},{"$f":"IF('Data PCB'!N12=\"\",\"\",IF(ISNUMBER('Data PCB'!N12)=TRUE, IF('Data PCB'!N12<'Data PCB'!N$38, \"ERROR\", 'Data PCB'!N12), IF('Data PCB'!N12=\"<LOD\",'Data PCB'!N$38, \"ERROR\")))","v":""},{"$f":"IF('Data PCB'!O12=\"\",\"\",IF(ISNUMBER('Data PCB'!O12)=TRUE, IF('Data PCB'!O12<'Data PCB'!O$38, \"ERROR\", 'Data PCB'!O12), IF('Data PCB'!O12=\"<LOD\",'Data PCB'!O$38, \"ERROR\")))","v":""},{"$f":"IF('Data PCB'!P12=\"\",\"\",IF(ISNUMBER('Data PCB'!P12)=TRUE, IF('Data PCB'!P12<'Data PCB'!P$38, \"ERROR\", 'Data PCB'!P12), IF('Data PCB'!P12=\"<LOD\",'Data PCB'!P$38, \"ERROR\")))","v":""},{"$f":"IF('Data PCB'!Q12=\"\",\"\",IF(ISNUMBER('Data PCB'!Q12)=TRUE, IF('Data PCB'!Q12<'Data PCB'!Q$38, \"ERROR\", 'Data PCB'!Q12), IF('Data PCB'!Q12=\"<LOD\",'Data PCB'!Q$38, \"ERROR\")))","v":""},{"$f":"IF('Data PCB'!R12=\"\",\"\",IF(ISNUMBER('Data PCB'!R12)=TRUE, IF('Data PCB'!R12<'Data PCB'!R$38, \"ERROR\", 'Data PCB'!R12), IF('Data PCB'!R12=\"<LOD\",'Data PCB'!R$38, \"ERROR\")))","v":""},{"$f":"IF('Data PCB'!S12=\"\",\"\",IF(ISNUMBER('Data PCB'!S12)=TRUE, IF('Data PCB'!S12<'Data PCB'!S$38, \"ERROR\", 'Data PCB'!S12), IF('Data PCB'!S12=\"<LOD\",'Data PCB'!S$38, \"ERROR\")))","v":""},{"$f":"IF('Data PCB'!T12=\"\",\"\",IF(ISNUMBER('Data PCB'!T12)=TRUE, IF('Data PCB'!T12<'Data PCB'!T$38, \"ERROR\", 'Data PCB'!T12), IF('Data PCB'!T12=\"<LOD\",'Data PCB'!T$38, \"ERROR\")))","v":""},{"$f":"IF('Data PCB'!U12=\"\",\"\",IF(ISNUMBER('Data PCB'!U12)=TRUE, IF('Data PCB'!U12<'Data PCB'!U$38, \"ERROR\", 'Data PCB'!U12), IF('Data PCB'!U12=\"<LOD\",'Data PCB'!U$38, \"ERROR\")))","v":""},{"$f":"IF('Data PCB'!V12=\"\",\"\",IF(ISNUMBER('Data PCB'!V12)=TRUE, IF('Data PCB'!V12<'Data PCB'!V$38, \"ERROR\", 'Data PCB'!V12), IF('Data PCB'!V12=\"<LOD\",'Data PCB'!V$38, \"ERROR\")))","v":""},{"$f":"IF('Data PCB'!W12=\"\",\"\",IF(ISNUMBER('Data PCB'!W12)=TRUE, IF('Data PCB'!W12<'Data PCB'!W$38, \"ERROR\", 'Data PCB'!W12), IF('Data PCB'!W12=\"<LOD\",'Data PCB'!W$38, \"ERROR\")))","v":""},{"$f":"IF('Data PCB'!X12=\"\",\"\",IF(ISNUMBER('Data PCB'!X12)=TRUE, IF('Data PCB'!X12<'Data PCB'!X$38, \"ERROR\", 'Data PCB'!X12), IF('Data PCB'!X12=\"<LOD\",'Data PCB'!X$38, \"ERROR\")))","v":""},{"$f":"IF('Data PCB'!Y12=\"\",\"\",IF(ISNUMBER('Data PCB'!Y12)=TRUE, IF('Data PCB'!Y12<'Data PCB'!Y$38, \"ERROR\", 'Data PCB'!Y12), IF('Data PCB'!Y12=\"<LOD\",'Data PCB'!Y$38, \"ERROR\")))","v":""},{"$f":"IF('Data PCB'!Z12=\"\",\"\",IF(ISNUMBER('Data PCB'!Z12)=TRUE, IF('Data PCB'!Z12<'Data PCB'!Z$38, \"ERROR\", 'Data PCB'!Z12), IF('Data PCB'!Z12=\"<LOD\",'Data PCB'!Z$38, \"ERROR\")))","v":""},{"$f":"IF('Data PCB'!AA12=\"\",\"\",IF(ISNUMBER('Data PCB'!AA12)=TRUE, IF('Data PCB'!AA12<'Data PCB'!AA$38, \"ERROR\", 'Data PCB'!AA12), IF('Data PCB'!AA12=\"<LOD\",'Data PCB'!AA$38, \"ERROR\")))","v":""},{"$f":"IF('Data PCB'!AB12=\"\",\"\",IF(ISNUMBER('Data PCB'!AB12)=TRUE, IF('Data PCB'!AB12<'Data PCB'!AB$38, \"ERROR\", 'Data PCB'!AB12), IF('Data PCB'!AB12=\"<LOD\",'Data PCB'!AB$38, \"ERROR\")))","v":""},{"$f":"IF('Data PCB'!AC12=\"\",\"\",IF(ISNUMBER('Data PCB'!AC12)=TRUE, IF('Data PCB'!AC12<'Data PCB'!AC$38, \"ERROR\", 'Data PCB'!AC12), IF('Data PCB'!AC12=\"<LOD\",'Data PCB'!AC$38, \"ERROR\")))","v":""},{"$f":"IF('Data PCB'!AD12=\"\",\"\",IF(ISNUMBER('Data PCB'!AD12)=TRUE, IF('Data PCB'!AD12<'Data PCB'!AD$38, \"ERROR\", 'Data PCB'!AD12), IF('Data PCB'!AD12=\"<LOD\",'Data PCB'!AD$38, \"ERROR\")))","v":""},{"$f":"IF('Data PCB'!AE12=\"\",\"\",IF(ISNUMBER('Data PCB'!AE12)=TRUE, IF('Data PCB'!AE12<'Data PCB'!AE$38, \"ERROR\", 'Data PCB'!AE12), IF('Data PCB'!AE12=\"<LOD\",'Data PCB'!AE$38, \"ERROR\")))","v":""},{"$f":"IF('Data PCB'!AF12=\"\",\"\",IF(ISNUMBER('Data PCB'!AF12)=TRUE, IF('Data PCB'!AF12<'Data PCB'!AF$38, \"ERROR\", 'Data PCB'!AF12), IF('Data PCB'!AF12=\"<LOD\",'Data PCB'!AF$38, \"ERROR\")))","v":""},{"$f":"IF('Data PCB'!AG12=\"\",\"\",IF(ISNUMBER('Data PCB'!AG12)=TRUE, IF('Data PCB'!AG12<'Data PCB'!AG$38, \"ERROR\", 'Data PCB'!AG12), IF('Data PCB'!AG12=\"<LOD\",'Data PCB'!AG$38, \"ERROR\")))","v":""},{"$f":"IF('Data PCB'!AH12=\"\",\"\",IF(ISNUMBER('Data PCB'!AH12)=TRUE, IF('Data PCB'!AH12<'Data PCB'!AH$38, \"ERROR\", 'Data PCB'!AH12), IF('Data PCB'!AH12=\"<LOD\",'Data PCB'!AH$38, \"ERROR\")))","v":""},{"$f":"IF('Data PCB'!AI12=\"\",\"\",IF(ISNUMBER('Data PCB'!AI12)=TRUE, IF('Data PCB'!AI12<'Data PCB'!AI$38, \"ERROR\", 'Data PCB'!AI12), IF('Data PCB'!AI12=\"<LOD\",'Data PCB'!AI$38, \"ERROR\")))","v":""},"",""]
[null,null,null,null,null,null,null,{"$f":"IF('Data PCB'!H13=\"\",\"\",'Data PCB'!H13)","v":""},{"$f":"IF('Data PCB'!I13=\"\",\"\",'Data PCB'!I13)","v":""},{"$f":"IFERROR(IF(K14=\"\",\"\",(IF(VLOOKUP(K14,'Gwybodaeth ymgeiswyr'!$K$8:$L$37,2,0)=\"y\",\"y\",\"\"))),\"Manual entry required\")","v":""},{"$f":"IF('Data PCB'!J13=\"\",\"\",'Data PCB'!J13)","v":""},{"$f":"IF('Data PCB'!K13=\"\",\"\",IF(ISNUMBER('Data PCB'!K13)=TRUE, IF('Data PCB'!K13<'Data PCB'!K$38, \"ERROR\", 'Data PCB'!K13), IF('Data PCB'!K13=\"<LOD\",'Data PCB'!K$38, \"ERROR\")))","v":""},{"$f":"IF('Data PCB'!L13=\"\",\"\",IF(ISNUMBER('Data PCB'!L13)=TRUE, IF('Data PCB'!L13<'Data PCB'!L$38, \"ERROR\", 'Data PCB'!L13), IF('Data PCB'!L13=\"<LOD\",'Data PCB'!L$38, \"ERROR\")))","v":""},{"$f":"IF('Data PCB'!M13=\"\",\"\",IF(ISNUMBER('Data PCB'!M13)=TRUE, IF('Data PCB'!M13<'Data PCB'!M$38, \"ERROR\", 'Data PCB'!M13), IF('Data PCB'!M13=\"<LOD\",'Data PCB'!M$38, \"ERROR\")))","v":""},{"$f":"IF('Data PCB'!N13=\"\",\"\",IF(ISNUMBER('Data PCB'!N13)=TRUE, IF('Data PCB'!N13<'Data PCB'!N$38, \"ERROR\", 'Data PCB'!N13), IF('Data PCB'!N13=\"<LOD\",'Data PCB'!N$38, \"ERROR\")))","v":""},{"$f":"IF('Data PCB'!O13=\"\",\"\",IF(ISNUMBER('Data PCB'!O13)=TRUE, IF('Data PCB'!O13<'Data PCB'!O$38, \"ERROR\", 'Data PCB'!O13), IF('Data PCB'!O13=\"<LOD\",'Data PCB'!O$38, \"ERROR\")))","v":""},{"$f":"IF('Data PCB'!P13=\"\",\"\",IF(ISNUMBER('Data PCB'!P13)=TRUE, IF('Data PCB'!P13<'Data PCB'!P$38, \"ERROR\", 'Data PCB'!P13), IF('Data PCB'!P13=\"<LOD\",'Data PCB'!P$38, \"ERROR\")))","v":""},{"$f":"IF('Data PCB'!Q13=\"\",\"\",IF(ISNUMBER('Data PCB'!Q13)=TRUE, IF('Data PCB'!Q13<'Data PCB'!Q$38, \"ERROR\", 'Data PCB'!Q13), IF('Data PCB'!Q13=\"<LOD\",'Data PCB'!Q$38, \"ERROR\")))","v":""},{"$f":"IF('Data PCB'!R13=\"\",\"\",IF(ISNUMBER('Data PCB'!R13)=TRUE, IF('Data PCB'!R13<'Data PCB'!R$38, \"ERROR\", 'Data PCB'!R13), IF('Data PCB'!R13=\"<LOD\",'Data PCB'!R$38, \"ERROR\")))","v":""},{"$f":"IF('Data PCB'!S13=\"\",\"\",IF(ISNUMBER('Data PCB'!S13)=TRUE, IF('Data PCB'!S13<'Data PCB'!S$38, \"ERROR\", 'Data PCB'!S13), IF('Data PCB'!S13=\"<LOD\",'Data PCB'!S$38, \"ERROR\")))","v":""},{"$f":"IF('Data PCB'!T13=\"\",\"\",IF(ISNUMBER('Data PCB'!T13)=TRUE, IF('Data PCB'!T13<'Data PCB'!T$38, \"ERROR\", 'Data PCB'!T13), IF('Data PCB'!T13=\"<LOD\",'Data PCB'!T$38, \"ERROR\")))","v":""},{"$f":"IF('Data PCB'!U13=\"\",\"\",IF(ISNUMBER('Data PCB'!U13)=TRUE, IF('Data PCB'!U13<'Data PCB'!U$38, \"ERROR\", 'Data PCB'!U13), IF('Data PCB'!U13=\"<LOD\",'Data PCB'!U$38, \"ERROR\")))","v":""},{"$f":"IF('Data PCB'!V13=\"\",\"\",IF(ISNUMBER('Data PCB'!V13)=TRUE, IF('Data PCB'!V13<'Data PCB'!V$38, \"ERROR\", 'Data PCB'!V13), IF('Data PCB'!V13=\"<LOD\",'Data PCB'!V$38, \"ERROR\")))","v":""},{"$f":"IF('Data PCB'!W13=\"\",\"\",IF(ISNUMBER('Data PCB'!W13)=TRUE, IF('Data PCB'!W13<'Data PCB'!W$38, \"ERROR\", 'Data PCB'!W13), IF('Data PCB'!W13=\"<LOD\",'Data PCB'!W$38, \"ERROR\")))","v":""},{"$f":"IF('Data PCB'!X13=\"\",\"\",IF(ISNUMBER('Data PCB'!X13)=TRUE, IF('Data PCB'!X13<'Data PCB'!X$38, \"ERROR\", 'Data PCB'!X13), IF('Data PCB'!X13=\"<LOD\",'Data PCB'!X$38, \"ERROR\")))","v":""},{"$f":"IF('Data PCB'!Y13=\"\",\"\",IF(ISNUMBER('Data PCB'!Y13)=TRUE, IF('Data PCB'!Y13<'Data PCB'!Y$38, \"ERROR\", 'Data PCB'!Y13), IF('Data PCB'!Y13=\"<LOD\",'Data PCB'!Y$38, \"ERROR\")))","v":""},{"$f":"IF('Data PCB'!Z13=\"\",\"\",IF(ISNUMBER('Data PCB'!Z13)=TRUE, IF('Data PCB'!Z13<'Data PCB'!Z$38, \"ERROR\", 'Data PCB'!Z13), IF('Data PCB'!Z13=\"<LOD\",'Data PCB'!Z$38, \"ERROR\")))","v":""},{"$f":"IF('Data PCB'!AA13=\"\",\"\",IF(ISNUMBER('Data PCB'!AA13)=TRUE, IF('Data PCB'!AA13<'Data PCB'!AA$38, \"ERROR\", 'Data PCB'!AA13), IF('Data PCB'!AA13=\"<LOD\",'Data PCB'!AA$38, \"ERROR\")))","v":""},{"$f":"IF('Data PCB'!AB13=\"\",\"\",IF(ISNUMBER('Data PCB'!AB13)=TRUE, IF('Data PCB'!AB13<'Data PCB'!AB$38, \"ERROR\", 'Data PCB'!AB13), IF('Data PCB'!AB13=\"<LOD\",'Data PCB'!AB$38, \"ERROR\")))","v":""},{"$f":"IF('Data PCB'!AC13=\"\",\"\",IF(ISNUMBER('Data PCB'!AC13)=TRUE, IF('Data PCB'!AC13<'Data PCB'!AC$38, \"ERROR\", 'Data PCB'!AC13), IF('Data PCB'!AC13=\"<LOD\",'Data PCB'!AC$38, \"ERROR\")))","v":""},{"$f":"IF('Data PCB'!AD13=\"\",\"\",IF(ISNUMBER('Data PCB'!AD13)=TRUE, IF('Data PCB'!AD13<'Data PCB'!AD$38, \"ERROR\", 'Data PCB'!AD13), IF('Data PCB'!AD13=\"<LOD\",'Data PCB'!AD$38, \"ERROR\")))","v":""},{"$f":"IF('Data PCB'!AE13=\"\",\"\",IF(ISNUMBER('Data PCB'!AE13)=TRUE, IF('Data PCB'!AE13<'Data PCB'!AE$38, \"ERROR\", 'Data PCB'!AE13), IF('Data PCB'!AE13=\"<LOD\",'Data PCB'!AE$38, \"ERROR\")))","v":""},{"$f":"IF('Data PCB'!AF13=\"\",\"\",IF(ISNUMBER('Data PCB'!AF13)=TRUE, IF('Data PCB'!AF13<'Data PCB'!AF$38, \"ERROR\", 'Data PCB'!AF13), IF('Data PCB'!AF13=\"<LOD\",'Data PCB'!AF$38, \"ERROR\")))","v":""},{"$f":"IF('Data PCB'!AG13=\"\",\"\",IF(ISNUMBER('Data PCB'!AG13)=TRUE, IF('Data PCB'!AG13<'Data PCB'!AG$38, \"ERROR\", 'Data PCB'!AG13), IF('Data PCB'!AG13=\"<LOD\",'Data PCB'!AG$38, \"ERROR\")))","v":""},{"$f":"IF('Data PCB'!AH13=\"\",\"\",IF(ISNUMBER('Data PCB'!AH13)=TRUE, IF('Data PCB'!AH13<'Data PCB'!AH$38, \"ERROR\", 'Data PCB'!AH13), IF('Data PCB'!AH13=\"<LOD\",'Data PCB'!AH$38, \"ERROR\")))","v":""},{"$f":"IF('Data PCB'!AI13=\"\",\"\",IF(ISNUMBER('Data PCB'!AI13)=TRUE, IF('Data PCB'!AI13<'Data PCB'!AI$38, \"ERROR\", 'Data PCB'!AI13), IF('Data PCB'!AI13=\"<LOD\",'Data PCB'!AI$38, \"ERROR\")))","v":""},"",""]
[null,null,null,null,null,null,null,{"$f":"IF('Data PCB'!H14=\"\",\"\",'Data PCB'!H14)","v":""},{"$f":"IF('Data PCB'!I14=\"\",\"\",'Data PCB'!I14)","v":""},{"$f":"IFERROR(IF(K15=\"\",\"\",(IF(VLOOKUP(K15,'Gwybodaeth ymgeiswyr'!$K$8:$L$37,2,0)=\"y\",\"y\",\"\"))),\"Manual entry required\")","v":""},{"$f":"IF('Data PCB'!J14=\"\",\"\",'Data PCB'!J14)","v":""},{"$f":"IF('Data PCB'!K14=\"\",\"\",IF(ISNUMBER('Data PCB'!K14)=TRUE, IF('Data PCB'!K14<'Data PCB'!K$38, \"ERROR\", 'Data PCB'!K14), IF('Data PCB'!K14=\"<LOD\",'Data PCB'!K$38, \"ERROR\")))","v":""},{"$f":"IF('Data PCB'!L14=\"\",\"\",IF(ISNUMBER('Data PCB'!L14)=TRUE, IF('Data PCB'!L14<'Data PCB'!L$38, \"ERROR\", 'Data PCB'!L14), IF('Data PCB'!L14=\"<LOD\",'Data PCB'!L$38, \"ERROR\")))","v":""},{"$f":"IF('Data PCB'!M14=\"\",\"\",IF(ISNUMBER('Data PCB'!M14)=TRUE, IF('Data PCB'!M14<'Data PCB'!M$38, \"ERROR\", 'Data PCB'!M14), IF('Data PCB'!M14=\"<LOD\",'Data PCB'!M$38, \"ERROR\")))","v":""},{"$f":"IF('Data PCB'!N14=\"\",\"\",IF(ISNUMBER('Data PCB'!N14)=TRUE, IF('Data PCB'!N14<'Data PCB'!N$38, \"ERROR\", 'Data PCB'!N14), IF('Data PCB'!N14=\"<LOD\",'Data PCB'!N$38, \"ERROR\")))","v":""},{"$f":"IF('Data PCB'!O14=\"\",\"\",IF(ISNUMBER('Data PCB'!O14)=TRUE, IF('Data PCB'!O14<'Data PCB'!O$38, \"ERROR\", 'Data PCB'!O14), IF('Data PCB'!O14=\"<LOD\",'Data PCB'!O$38, \"ERROR\")))","v":""},{"$f":"IF('Data PCB'!P14=\"\",\"\",IF(ISNUMBER('Data PCB'!P14)=TRUE, IF('Data PCB'!P14<'Data PCB'!P$38, \"ERROR\", 'Data PCB'!P14), IF('Data PCB'!P14=\"<LOD\",'Data PCB'!P$38, \"ERROR\")))","v":""},{"$f":"IF('Data PCB'!Q14=\"\",\"\",IF(ISNUMBER('Data PCB'!Q14)=TRUE, IF('Data PCB'!Q14<'Data PCB'!Q$38, \"ERROR\", 'Data PCB'!Q14), IF('Data PCB'!Q14=\"<LOD\",'Data PCB'!Q$38, \"ERROR\")))","v":""},{"$f":"IF('Data PCB'!R14=\"\",\"\",IF(ISNUMBER('Data PCB'!R14)=TRUE, IF('Data PCB'!R14<'Data PCB'!R$38, \"ERROR\", 'Data PCB'!R14), IF('Data PCB'!R14=\"<LOD\",'Data PCB'!R$38, \"ERROR\")))","v":""},{"$f":"IF('Data PCB'!S14=\"\",\"\",IF(ISNUMBER('Data PCB'!S14)=TRUE, IF('Data PCB'!S14<'Data PCB'!S$38, \"ERROR\", 'Data PCB'!S14), IF('Data PCB'!S14=\"<LOD\",'Data PCB'!S$38, \"ERROR\")))","v":""},{"$f":"IF('Data PCB'!T14=\"\",\"\",IF(ISNUMBER('Data PCB'!T14)=TRUE, IF('Data PCB'!T14<'Data PCB'!T$38, \"ERROR\", 'Data PCB'!T14), IF('Data PCB'!T14=\"<LOD\",'Data PCB'!T$38, \"ERROR\")))","v":""},{"$f":"IF('Data PCB'!U14=\"\",\"\",IF(ISNUMBER('Data PCB'!U14)=TRUE, IF('Data PCB'!U14<'Data PCB'!U$38, \"ERROR\", 'Data PCB'!U14), IF('Data PCB'!U14=\"<LOD\",'Data PCB'!U$38, \"ERROR\")))","v":""},{"$f":"IF('Data PCB'!V14=\"\",\"\",IF(ISNUMBER('Data PCB'!V14)=TRUE, IF('Data PCB'!V14<'Data PCB'!V$38, \"ERROR\", 'Data PCB'!V14), IF('Data PCB'!V14=\"<LOD\",'Data PCB'!V$38, \"ERROR\")))","v":""},{"$f":"IF('Data PCB'!W14=\"\",\"\",IF(ISNUMBER('Data PCB'!W14)=TRUE, IF('Data PCB'!W14<'Data PCB'!W$38, \"ERROR\", 'Data PCB'!W14), IF('Data PCB'!W14=\"<LOD\",'Data PCB'!W$38, \"ERROR\")))","v":""},{"$f":"IF('Data PCB'!X14=\"\",\"\",IF(ISNUMBER('Data PCB'!X14)=TRUE, IF('Data PCB'!X14<'Data PCB'!X$38, \"ERROR\", 'Data PCB'!X14), IF('Data PCB'!X14=\"<LOD\",'Data PCB'!X$38, \"ERROR\")))","v":""},{"$f":"IF('Data PCB'!Y14=\"\",\"\",IF(ISNUMBER('Data PCB'!Y14)=TRUE, IF('Data PCB'!Y14<'Data PCB'!Y$38, \"ERROR\", 'Data PCB'!Y14), IF('Data PCB'!Y14=\"<LOD\",'Data PCB'!Y$38, \"ERROR\")))","v":""},{"$f":"IF('Data PCB'!Z14=\"\",\"\",IF(ISNUMBER('Data PCB'!Z14)=TRUE, IF('Data PCB'!Z14<'Data PCB'!Z$38, \"ERROR\", 'Data PCB'!Z14), IF('Data PCB'!Z14=\"<LOD\",'Data PCB'!Z$38, \"ERROR\")))","v":""},{"$f":"IF('Data PCB'!AA14=\"\",\"\",IF(ISNUMBER('Data PCB'!AA14)=TRUE, IF('Data PCB'!AA14<'Data PCB'!AA$38, \"ERROR\", 'Data PCB'!AA14), IF('Data PCB'!AA14=\"<LOD\",'Data PCB'!AA$38, \"ERROR\")))","v":""},{"$f":"IF('Data PCB'!AB14=\"\",\"\",IF(ISNUMBER('Data PCB'!AB14)=TRUE, IF('Data PCB'!AB14<'Data PCB'!AB$38, \"ERROR\", 'Data PCB'!AB14), IF('Data PCB'!AB14=\"<LOD\",'Data PCB'!AB$38, \"ERROR\")))","v":""},{"$f":"IF('Data PCB'!AC14=\"\",\"\",IF(ISNUMBER('Data PCB'!AC14)=TRUE, IF('Data PCB'!AC14<'Data PCB'!AC$38, \"ERROR\", 'Data PCB'!AC14), IF('Data PCB'!AC14=\"<LOD\",'Data PCB'!AC$38, \"ERROR\")))","v":""},{"$f":"IF('Data PCB'!AD14=\"\",\"\",IF(ISNUMBER('Data PCB'!AD14)=TRUE, IF('Data PCB'!AD14<'Data PCB'!AD$38, \"ERROR\", 'Data PCB'!AD14), IF('Data PCB'!AD14=\"<LOD\",'Data PCB'!AD$38, \"ERROR\")))","v":""},{"$f":"IF('Data PCB'!AE14=\"\",\"\",IF(ISNUMBER('Data PCB'!AE14)=TRUE, IF('Data PCB'!AE14<'Data PCB'!AE$38, \"ERROR\", 'Data PCB'!AE14), IF('Data PCB'!AE14=\"<LOD\",'Data PCB'!AE$38, \"ERROR\")))","v":""},{"$f":"IF('Data PCB'!AF14=\"\",\"\",IF(ISNUMBER('Data PCB'!AF14)=TRUE, IF('Data PCB'!AF14<'Data PCB'!AF$38, \"ERROR\", 'Data PCB'!AF14), IF('Data PCB'!AF14=\"<LOD\",'Data PCB'!AF$38, \"ERROR\")))","v":""},{"$f":"IF('Data PCB'!AG14=\"\",\"\",IF(ISNUMBER('Data PCB'!AG14)=TRUE, IF('Data PCB'!AG14<'Data PCB'!AG$38, \"ERROR\", 'Data PCB'!AG14), IF('Data PCB'!AG14=\"<LOD\",'Data PCB'!AG$38, \"ERROR\")))","v":""},{"$f":"IF('Data PCB'!AH14=\"\",\"\",IF(ISNUMBER('Data PCB'!AH14)=TRUE, IF('Data PCB'!AH14<'Data PCB'!AH$38, \"ERROR\", 'Data PCB'!AH14), IF('Data PCB'!AH14=\"<LOD\",'Data PCB'!AH$38, \"ERROR\")))","v":""},{"$f":"IF('Data PCB'!AI14=\"\",\"\",IF(ISNUMBER('Data PCB'!AI14)=TRUE, IF('Data PCB'!AI14<'Data PCB'!AI$38, \"ERROR\", 'Data PCB'!AI14), IF('Data PCB'!AI14=\"<LOD\",'Data PCB'!AI$38, \"ERROR\")))","v":""},"",""]
[null,null,null,null,null,null,null,{"$f":"IF('Data PCB'!H15=\"\",\"\",'Data PCB'!H15)","v":""},{"$f":"IF('Data PCB'!I15=\"\",\"\",'Data PCB'!I15)","v":""},{"$f":"IFERROR(IF(K16=\"\",\"\",(IF(VLOOKUP(K16,'Gwybodaeth ymgeiswyr'!$K$8:$L$37,2,0)=\"y\",\"y\",\"\"))),\"Manual entry required\")","v":""},{"$f":"IF('Data PCB'!J15=\"\",\"\",'Data PCB'!J15)","v":""},{"$f":"IF('Data PCB'!K15=\"\",\"\",IF(ISNUMBER('Data PCB'!K15)=TRUE, IF('Data PCB'!K15<'Data PCB'!K$38, \"ERROR\", 'Data PCB'!K15), IF('Data PCB'!K15=\"<LOD\",'Data PCB'!K$38, \"ERROR\")))","v":""},{"$f":"IF('Data PCB'!L15=\"\",\"\",IF(ISNUMBER('Data PCB'!L15)=TRUE, IF('Data PCB'!L15<'Data PCB'!L$38, \"ERROR\", 'Data PCB'!L15), IF('Data PCB'!L15=\"<LOD\",'Data PCB'!L$38, \"ERROR\")))","v":""},{"$f":"IF('Data PCB'!M15=\"\",\"\",IF(ISNUMBER('Data PCB'!M15)=TRUE, IF('Data PCB'!M15<'Data PCB'!M$38, \"ERROR\", 'Data PCB'!M15), IF('Data PCB'!M15=\"<LOD\",'Data PCB'!M$38, \"ERROR\")))","v":""},{"$f":"IF('Data PCB'!N15=\"\",\"\",IF(ISNUMBER('Data PCB'!N15)=TRUE, IF('Data PCB'!N15<'Data PCB'!N$38, \"ERROR\", 'Data PCB'!N15), IF('Data PCB'!N15=\"<LOD\",'Data PCB'!N$38, \"ERROR\")))","v":""},{"$f":"IF('Data PCB'!O15=\"\",\"\",IF(ISNUMBER('Data PCB'!O15)=TRUE, IF('Data PCB'!O15<'Data PCB'!O$38, \"ERROR\", 'Data PCB'!O15), IF('Data PCB'!O15=\"<LOD\",'Data PCB'!O$38, \"ERROR\")))","v":""},{"$f":"IF('Data PCB'!P15=\"\",\"\",IF(ISNUMBER('Data PCB'!P15)=TRUE, IF('Data PCB'!P15<'Data PCB'!P$38, \"ERROR\", 'Data PCB'!P15), IF('Data PCB'!P15=\"<LOD\",'Data PCB'!P$38, \"ERROR\")))","v":""},{"$f":"IF('Data PCB'!Q15=\"\",\"\",IF(ISNUMBER('Data PCB'!Q15)=TRUE, IF('Data PCB'!Q15<'Data PCB'!Q$38, \"ERROR\", 'Data PCB'!Q15), IF('Data PCB'!Q15=\"<LOD\",'Data PCB'!Q$38, \"ERROR\")))","v":""},{"$f":"IF('Data PCB'!R15=\"\",\"\",IF(ISNUMBER('Data PCB'!R15)=TRUE, IF('Data PCB'!R15<'Data PCB'!R$38, \"ERROR\", 'Data PCB'!R15), IF('Data PCB'!R15=\"<LOD\",'Data PCB'!R$38, \"ERROR\")))","v":""},{"$f":"IF('Data PCB'!S15=\"\",\"\",IF(ISNUMBER('Data PCB'!S15)=TRUE, IF('Data PCB'!S15<'Data PCB'!S$38, \"ERROR\", 'Data PCB'!S15), IF('Data PCB'!S15=\"<LOD\",'Data PCB'!S$38, \"ERROR\")))","v":""},{"$f":"IF('Data PCB'!T15=\"\",\"\",IF(ISNUMBER('Data PCB'!T15)=TRUE, IF('Data PCB'!T15<'Data PCB'!T$38, \"ERROR\", 'Data PCB'!T15), IF('Data PCB'!T15=\"<LOD\",'Data PCB'!T$38, \"ERROR\")))","v":""},{"$f":"IF('Data PCB'!U15=\"\",\"\",IF(ISNUMBER('Data PCB'!U15)=TRUE, IF('Data PCB'!U15<'Data PCB'!U$38, \"ERROR\", 'Data PCB'!U15), IF('Data PCB'!U15=\"<LOD\",'Data PCB'!U$38, \"ERROR\")))","v":""},{"$f":"IF('Data PCB'!V15=\"\",\"\",IF(ISNUMBER('Data PCB'!V15)=TRUE, IF('Data PCB'!V15<'Data PCB'!V$38, \"ERROR\", 'Data PCB'!V15), IF('Data PCB'!V15=\"<LOD\",'Data PCB'!V$38, \"ERROR\")))","v":""},{"$f":"IF('Data PCB'!W15=\"\",\"\",IF(ISNUMBER('Data PCB'!W15)=TRUE, IF('Data PCB'!W15<'Data PCB'!W$38, \"ERROR\", 'Data PCB'!W15), IF('Data PCB'!W15=\"<LOD\",'Data PCB'!W$38, \"ERROR\")))","v":""},{"$f":"IF('Data PCB'!X15=\"\",\"\",IF(ISNUMBER('Data PCB'!X15)=TRUE, IF('Data PCB'!X15<'Data PCB'!X$38, \"ERROR\", 'Data PCB'!X15), IF('Data PCB'!X15=\"<LOD\",'Data PCB'!X$38, \"ERROR\")))","v":""},{"$f":"IF('Data PCB'!Y15=\"\",\"\",IF(ISNUMBER('Data PCB'!Y15)=TRUE, IF('Data PCB'!Y15<'Data PCB'!Y$38, \"ERROR\", 'Data PCB'!Y15), IF('Data PCB'!Y15=\"<LOD\",'Data PCB'!Y$38, \"ERROR\")))","v":""},{"$f":"IF('Data PCB'!Z15=\"\",\"\",IF(ISNUMBER('Data PCB'!Z15)=TRUE, IF('Data PCB'!Z15<'Data PCB'!Z$38, \"ERROR\", 'Data PCB'!Z15), IF('Data PCB'!Z15=\"<LOD\",'Data PCB'!Z$38, \"ERROR\")))","v":""},{"$f":"IF('Data PCB'!AA15=\"\",\"\",IF(ISNUMBER('Data PCB'!AA15)=TRUE, IF('Data PCB'!AA15<'Data PCB'!AA$38, \"ERROR\", 'Data PCB'!AA15), IF('Data PCB'!AA15=\"<LOD\",'Data PCB'!AA$38, \"ERROR\")))","v":""},{"$f":"IF('Data PCB'!AB15=\"\",\"\",IF(ISNUMBER('Data PCB'!AB15)=TRUE, IF('Data PCB'!AB15<'Data PCB'!AB$38, \"ERROR\", 'Data PCB'!AB15), IF('Data PCB'!AB15=\"<LOD\",'Data PCB'!AB$38, \"ERROR\")))","v":""},{"$f":"IF('Data PCB'!AC15=\"\",\"\",IF(ISNUMBER('Data PCB'!AC15)=TRUE, IF('Data PCB'!AC15<'Data PCB'!AC$38, \"ERROR\", 'Data PCB'!AC15), IF('Data PCB'!AC15=\"<LOD\",'Data PCB'!AC$38, \"ERROR\")))","v":""},{"$f":"IF('Data PCB'!AD15=\"\",\"\",IF(ISNUMBER('Data PCB'!AD15)=TRUE, IF('Data PCB'!AD15<'Data PCB'!AD$38, \"ERROR\", 'Data PCB'!AD15), IF('Data PCB'!AD15=\"<LOD\",'Data PCB'!AD$38, \"ERROR\")))","v":""},{"$f":"IF('Data PCB'!AE15=\"\",\"\",IF(ISNUMBER('Data PCB'!AE15)=TRUE, IF('Data PCB'!AE15<'Data PCB'!AE$38, \"ERROR\", 'Data PCB'!AE15), IF('Data PCB'!AE15=\"<LOD\",'Data PCB'!AE$38, \"ERROR\")))","v":""},{"$f":"IF('Data PCB'!AF15=\"\",\"\",IF(ISNUMBER('Data PCB'!AF15)=TRUE, IF('Data PCB'!AF15<'Data PCB'!AF$38, \"ERROR\", 'Data PCB'!AF15), IF('Data PCB'!AF15=\"<LOD\",'Data PCB'!AF$38, \"ERROR\")))","v":""},{"$f":"IF('Data PCB'!AG15=\"\",\"\",IF(ISNUMBER('Data PCB'!AG15)=TRUE, IF('Data PCB'!AG15<'Data PCB'!AG$38, \"ERROR\", 'Data PCB'!AG15), IF('Data PCB'!AG15=\"<LOD\",'Data PCB'!AG$38, \"ERROR\")))","v":""},{"$f":"IF('Data PCB'!AH15=\"\",\"\",IF(ISNUMBER('Data PCB'!AH15)=TRUE, IF('Data PCB'!AH15<'Data PCB'!AH$38, \"ERROR\", 'Data PCB'!AH15), IF('Data PCB'!AH15=\"<LOD\",'Data PCB'!AH$38, \"ERROR\")))","v":""},{"$f":"IF('Data PCB'!AI15=\"\",\"\",IF(ISNUMBER('Data PCB'!AI15)=TRUE, IF('Data PCB'!AI15<'Data PCB'!AI$38, \"ERROR\", 'Data PCB'!AI15), IF('Data PCB'!AI15=\"<LOD\",'Data PCB'!AI$38, \"ERROR\")))","v":""},"",""]
[null,null,null,null,null,null,null,{"$f":"IF('Data PCB'!H16=\"\",\"\",'Data PCB'!H16)","v":""},{"$f":"IF('Data PCB'!I16=\"\",\"\",'Data PCB'!I16)","v":""},{"$f":"IFERROR(IF(K17=\"\",\"\",(IF(VLOOKUP(K17,'Gwybodaeth ymgeiswyr'!$K$8:$L$37,2,0)=\"y\",\"y\",\"\"))),\"Manual entry required\")","v":""},{"$f":"IF('Data PCB'!J16=\"\",\"\",'Data PCB'!J16)","v":""},{"$f":"IF('Data PCB'!K16=\"\",\"\",IF(ISNUMBER('Data PCB'!K16)=TRUE, IF('Data PCB'!K16<'Data PCB'!K$38, \"ERROR\", 'Data PCB'!K16), IF('Data PCB'!K16=\"<LOD\",'Data PCB'!K$38, \"ERROR\")))","v":""},{"$f":"IF('Data PCB'!L16=\"\",\"\",IF(ISNUMBER('Data PCB'!L16)=TRUE, IF('Data PCB'!L16<'Data PCB'!L$38, \"ERROR\", 'Data PCB'!L16), IF('Data PCB'!L16=\"<LOD\",'Data PCB'!L$38, \"ERROR\")))","v":""},{"$f":"IF('Data PCB'!M16=\"\",\"\",IF(ISNUMBER('Data PCB'!M16)=TRUE, IF('Data PCB'!M16<'Data PCB'!M$38, \"ERROR\", 'Data PCB'!M16), IF('Data PCB'!M16=\"<LOD\",'Data PCB'!M$38, \"ERROR\")))","v":""},{"$f":"IF('Data PCB'!N16=\"\",\"\",IF(ISNUMBER('Data PCB'!N16)=TRUE, IF('Data PCB'!N16<'Data PCB'!N$38, \"ERROR\", 'Data PCB'!N16), IF('Data PCB'!N16=\"<LOD\",'Data PCB'!N$38, \"ERROR\")))","v":""},{"$f":"IF('Data PCB'!O16=\"\",\"\",IF(ISNUMBER('Data PCB'!O16)=TRUE, IF('Data PCB'!O16<'Data PCB'!O$38, \"ERROR\", 'Data PCB'!O16), IF('Data PCB'!O16=\"<LOD\",'Data PCB'!O$38, \"ERROR\")))","v":""},{"$f":"IF('Data PCB'!P16=\"\",\"\",IF(ISNUMBER('Data PCB'!P16)=TRUE, IF('Data PCB'!P16<'Data PCB'!P$38, \"ERROR\", 'Data PCB'!P16), IF('Data PCB'!P16=\"<LOD\",'Data PCB'!P$38, \"ERROR\")))","v":""},{"$f":"IF('Data PCB'!Q16=\"\",\"\",IF(ISNUMBER('Data PCB'!Q16)=TRUE, IF('Data PCB'!Q16<'Data PCB'!Q$38, \"ERROR\", 'Data PCB'!Q16), IF('Data PCB'!Q16=\"<LOD\",'Data PCB'!Q$38, \"ERROR\")))","v":""},{"$f":"IF('Data PCB'!R16=\"\",\"\",IF(ISNUMBER('Data PCB'!R16)=TRUE, IF('Data PCB'!R16<'Data PCB'!R$38, \"ERROR\", 'Data PCB'!R16), IF('Data PCB'!R16=\"<LOD\",'Data PCB'!R$38, \"ERROR\")))","v":""},{"$f":"IF('Data PCB'!S16=\"\",\"\",IF(ISNUMBER('Data PCB'!S16)=TRUE, IF('Data PCB'!S16<'Data PCB'!S$38, \"ERROR\", 'Data PCB'!S16), IF('Data PCB'!S16=\"<LOD\",'Data PCB'!S$38, \"ERROR\")))","v":""},{"$f":"IF('Data PCB'!T16=\"\",\"\",IF(ISNUMBER('Data PCB'!T16)=TRUE, IF('Data PCB'!T16<'Data PCB'!T$38, \"ERROR\", 'Data PCB'!T16), IF('Data PCB'!T16=\"<LOD\",'Data PCB'!T$38, \"ERROR\")))","v":""},{"$f":"IF('Data PCB'!U16=\"\",\"\",IF(ISNUMBER('Data PCB'!U16)=TRUE, IF('Data PCB'!U16<'Data PCB'!U$38, \"ERROR\", 'Data PCB'!U16), IF('Data PCB'!U16=\"<LOD\",'Data PCB'!U$38, \"ERROR\")))","v":""},{"$f":"IF('Data PCB'!V16=\"\",\"\",IF(ISNUMBER('Data PCB'!V16)=TRUE, IF('Data PCB'!V16<'Data PCB'!V$38, \"ERROR\", 'Data PCB'!V16), IF('Data PCB'!V16=\"<LOD\",'Data PCB'!V$38, \"ERROR\")))","v":""},{"$f":"IF('Data PCB'!W16=\"\",\"\",IF(ISNUMBER('Data PCB'!W16)=TRUE, IF('Data PCB'!W16<'Data PCB'!W$38, \"ERROR\", 'Data PCB'!W16), IF('Data PCB'!W16=\"<LOD\",'Data PCB'!W$38, \"ERROR\")))","v":""},{"$f":"IF('Data PCB'!X16=\"\",\"\",IF(ISNUMBER('Data PCB'!X16)=TRUE, IF('Data PCB'!X16<'Data PCB'!X$38, \"ERROR\", 'Data PCB'!X16), IF('Data PCB'!X16=\"<LOD\",'Data PCB'!X$38, \"ERROR\")))","v":""},{"$f":"IF('Data PCB'!Y16=\"\",\"\",IF(ISNUMBER('Data PCB'!Y16)=TRUE, IF('Data PCB'!Y16<'Data PCB'!Y$38, \"ERROR\", 'Data PCB'!Y16), IF('Data PCB'!Y16=\"<LOD\",'Data PCB'!Y$38, \"ERROR\")))","v":""},{"$f":"IF('Data PCB'!Z16=\"\",\"\",IF(ISNUMBER('Data PCB'!Z16)=TRUE, IF('Data PCB'!Z16<'Data PCB'!Z$38, \"ERROR\", 'Data PCB'!Z16), IF('Data PCB'!Z16=\"<LOD\",'Data PCB'!Z$38, \"ERROR\")))","v":""},{"$f":"IF('Data PCB'!AA16=\"\",\"\",IF(ISNUMBER('Data PCB'!AA16)=TRUE, IF('Data PCB'!AA16<'Data PCB'!AA$38, \"ERROR\", 'Data PCB'!AA16), IF('Data PCB'!AA16=\"<LOD\",'Data PCB'!AA$38, \"ERROR\")))","v":""},{"$f":"IF('Data PCB'!AB16=\"\",\"\",IF(ISNUMBER('Data PCB'!AB16)=TRUE, IF('Data PCB'!AB16<'Data PCB'!AB$38, \"ERROR\", 'Data PCB'!AB16), IF('Data PCB'!AB16=\"<LOD\",'Data PCB'!AB$38, \"ERROR\")))","v":""},{"$f":"IF('Data PCB'!AC16=\"\",\"\",IF(ISNUMBER('Data PCB'!AC16)=TRUE, IF('Data PCB'!AC16<'Data PCB'!AC$38, \"ERROR\", 'Data PCB'!AC16), IF('Data PCB'!AC16=\"<LOD\",'Data PCB'!AC$38, \"ERROR\")))","v":""},{"$f":"IF('Data PCB'!AD16=\"\",\"\",IF(ISNUMBER('Data PCB'!AD16)=TRUE, IF('Data PCB'!AD16<'Data PCB'!AD$38, \"ERROR\", 'Data PCB'!AD16), IF('Data PCB'!AD16=\"<LOD\",'Data PCB'!AD$38, \"ERROR\")))","v":""},{"$f":"IF('Data PCB'!AE16=\"\",\"\",IF(ISNUMBER('Data PCB'!AE16)=TRUE, IF('Data PCB'!AE16<'Data PCB'!AE$38, \"ERROR\", 'Data PCB'!AE16), IF('Data PCB'!AE16=\"<LOD\",'Data PCB'!AE$38, \"ERROR\")))","v":""},{"$f":"IF('Data PCB'!AF16=\"\",\"\",IF(ISNUMBER('Data PCB'!AF16)=TRUE, IF('Data PCB'!AF16<'Data PCB'!AF$38, \"ERROR\", 'Data PCB'!AF16), IF('Data PCB'!AF16=\"<LOD\",'Data PCB'!AF$38, \"ERROR\")))","v":""},{"$f":"IF('Data PCB'!AG16=\"\",\"\",IF(ISNUMBER('Data PCB'!AG16)=TRUE, IF('Data PCB'!AG16<'Data PCB'!AG$38, \"ERROR\", 'Data PCB'!AG16), IF('Data PCB'!AG16=\"<LOD\",'Data PCB'!AG$38, \"ERROR\")))","v":""},{"$f":"IF('Data PCB'!AH16=\"\",\"\",IF(ISNUMBER('Data PCB'!AH16)=TRUE, IF('Data PCB'!AH16<'Data PCB'!AH$38, \"ERROR\", 'Data PCB'!AH16), IF('Data PCB'!AH16=\"<LOD\",'Data PCB'!AH$38, \"ERROR\")))","v":""},{"$f":"IF('Data PCB'!AI16=\"\",\"\",IF(ISNUMBER('Data PCB'!AI16)=TRUE, IF('Data PCB'!AI16<'Data PCB'!AI$38, \"ERROR\", 'Data PCB'!AI16), IF('Data PCB'!AI16=\"<LOD\",'Data PCB'!AI$38, \"ERROR\")))","v":""},"",""]
[null,null,null,null,null,null,null,{"$f":"IF('Data PCB'!H17=\"\",\"\",'Data PCB'!H17)","v":""},{"$f":"IF('Data PCB'!I17=\"\",\"\",'Data PCB'!I17)","v":""},{"$f":"IFERROR(IF(K18=\"\",\"\",(IF(VLOOKUP(K18,'Gwybodaeth ymgeiswyr'!$K$8:$L$37,2,0)=\"y\",\"y\",\"\"))),\"Manual entry required\")","v":""},{"$f":"IF('Data PCB'!J17=\"\",\"\",'Data PCB'!J17)","v":""},{"$f":"IF('Data PCB'!K17=\"\",\"\",IF(ISNUMBER('Data PCB'!K17)=TRUE, IF('Data PCB'!K17<'Data PCB'!K$38, \"ERROR\", 'Data PCB'!K17), IF('Data PCB'!K17=\"<LOD\",'Data PCB'!K$38, \"ERROR\")))","v":""},{"$f":"IF('Data PCB'!L17=\"\",\"\",IF(ISNUMBER('Data PCB'!L17)=TRUE, IF('Data PCB'!L17<'Data PCB'!L$38, \"ERROR\", 'Data PCB'!L17), IF('Data PCB'!L17=\"<LOD\",'Data PCB'!L$38, \"ERROR\")))","v":""},{"$f":"IF('Data PCB'!M17=\"\",\"\",IF(ISNUMBER('Data PCB'!M17)=TRUE, IF('Data PCB'!M17<'Data PCB'!M$38, \"ERROR\", 'Data PCB'!M17), IF('Data PCB'!M17=\"<LOD\",'Data PCB'!M$38, \"ERROR\")))","v":""},{"$f":"IF('Data PCB'!N17=\"\",\"\",IF(ISNUMBER('Data PCB'!N17)=TRUE, IF('Data PCB'!N17<'Data PCB'!N$38, \"ERROR\", 'Data PCB'!N17), IF('Data PCB'!N17=\"<LOD\",'Data PCB'!N$38, \"ERROR\")))","v":""},{"$f":"IF('Data PCB'!O17=\"\",\"\",IF(ISNUMBER('Data PCB'!O17)=TRUE, IF('Data PCB'!O17<'Data PCB'!O$38, \"ERROR\", 'Data PCB'!O17), IF('Data PCB'!O17=\"<LOD\",'Data PCB'!O$38, \"ERROR\")))","v":""},{"$f":"IF('Data PCB'!P17=\"\",\"\",IF(ISNUMBER('Data PCB'!P17)=TRUE, IF('Data PCB'!P17<'Data PCB'!P$38, \"ERROR\", 'Data PCB'!P17), IF('Data PCB'!P17=\"<LOD\",'Data PCB'!P$38, \"ERROR\")))","v":""},{"$f":"IF('Data PCB'!Q17=\"\",\"\",IF(ISNUMBER('Data PCB'!Q17)=TRUE, IF('Data PCB'!Q17<'Data PCB'!Q$38, \"ERROR\", 'Data PCB'!Q17), IF('Data PCB'!Q17=\"<LOD\",'Data PCB'!Q$38, \"ERROR\")))","v":""},{"$f":"IF('Data PCB'!R17=\"\",\"\",IF(ISNUMBER('Data PCB'!R17)=TRUE, IF('Data PCB'!R17<'Data PCB'!R$38, \"ERROR\", 'Data PCB'!R17), IF('Data PCB'!R17=\"<LOD\",'Data PCB'!R$38, \"ERROR\")))","v":""},{"$f":"IF('Data PCB'!S17=\"\",\"\",IF(ISNUMBER('Data PCB'!S17)=TRUE, IF('Data PCB'!S17<'Data PCB'!S$38, \"ERROR\", 'Data PCB'!S17), IF('Data PCB'!S17=\"<LOD\",'Data PCB'!S$38, \"ERROR\")))","v":""},{"$f":"IF('Data PCB'!T17=\"\",\"\",IF(ISNUMBER('Data PCB'!T17)=TRUE, IF('Data PCB'!T17<'Data PCB'!T$38, \"ERROR\", 'Data PCB'!T17), IF('Data PCB'!T17=\"<LOD\",'Data PCB'!T$38, \"ERROR\")))","v":""},{"$f":"IF('Data PCB'!U17=\"\",\"\",IF(ISNUMBER('Data PCB'!U17)=TRUE, IF('Data PCB'!U17<'Data PCB'!U$38, \"ERROR\", 'Data PCB'!U17), IF('Data PCB'!U17=\"<LOD\",'Data PCB'!U$38, \"ERROR\")))","v":""},{"$f":"IF('Data PCB'!V17=\"\",\"\",IF(ISNUMBER('Data PCB'!V17)=TRUE, IF('Data PCB'!V17<'Data PCB'!V$38, \"ERROR\", 'Data PCB'!V17), IF('Data PCB'!V17=\"<LOD\",'Data PCB'!V$38, \"ERROR\")))","v":""},{"$f":"IF('Data PCB'!W17=\"\",\"\",IF(ISNUMBER('Data PCB'!W17)=TRUE, IF('Data PCB'!W17<'Data PCB'!W$38, \"ERROR\", 'Data PCB'!W17), IF('Data PCB'!W17=\"<LOD\",'Data PCB'!W$38, \"ERROR\")))","v":""},{"$f":"IF('Data PCB'!X17=\"\",\"\",IF(ISNUMBER('Data PCB'!X17)=TRUE, IF('Data PCB'!X17<'Data PCB'!X$38, \"ERROR\", 'Data PCB'!X17), IF('Data PCB'!X17=\"<LOD\",'Data PCB'!X$38, \"ERROR\")))","v":""},{"$f":"IF('Data PCB'!Y17=\"\",\"\",IF(ISNUMBER('Data PCB'!Y17)=TRUE, IF('Data PCB'!Y17<'Data PCB'!Y$38, \"ERROR\", 'Data PCB'!Y17), IF('Data PCB'!Y17=\"<LOD\",'Data PCB'!Y$38, \"ERROR\")))","v":""},{"$f":"IF('Data PCB'!Z17=\"\",\"\",IF(ISNUMBER('Data PCB'!Z17)=TRUE, IF('Data PCB'!Z17<'Data PCB'!Z$38, \"ERROR\", 'Data PCB'!Z17), IF('Data PCB'!Z17=\"<LOD\",'Data PCB'!Z$38, \"ERROR\")))","v":""},{"$f":"IF('Data PCB'!AA17=\"\",\"\",IF(ISNUMBER('Data PCB'!AA17)=TRUE, IF('Data PCB'!AA17<'Data PCB'!AA$38, \"ERROR\", 'Data PCB'!AA17), IF('Data PCB'!AA17=\"<LOD\",'Data PCB'!AA$38, \"ERROR\")))","v":""},{"$f":"IF('Data PCB'!AB17=\"\",\"\",IF(ISNUMBER('Data PCB'!AB17)=TRUE, IF('Data PCB'!AB17<'Data PCB'!AB$38, \"ERROR\", 'Data PCB'!AB17), IF('Data PCB'!AB17=\"<LOD\",'Data PCB'!AB$38, \"ERROR\")))","v":""},{"$f":"IF('Data PCB'!AC17=\"\",\"\",IF(ISNUMBER('Data PCB'!AC17)=TRUE, IF('Data PCB'!AC17<'Data PCB'!AC$38, \"ERROR\", 'Data PCB'!AC17), IF('Data PCB'!AC17=\"<LOD\",'Data PCB'!AC$38, \"ERROR\")))","v":""},{"$f":"IF('Data PCB'!AD17=\"\",\"\",IF(ISNUMBER('Data PCB'!AD17)=TRUE, IF('Data PCB'!AD17<'Data PCB'!AD$38, \"ERROR\", 'Data PCB'!AD17), IF('Data PCB'!AD17=\"<LOD\",'Data PCB'!AD$38, \"ERROR\")))","v":""},{"$f":"IF('Data PCB'!AE17=\"\",\"\",IF(ISNUMBER('Data PCB'!AE17)=TRUE, IF('Data PCB'!AE17<'Data PCB'!AE$38, \"ERROR\", 'Data PCB'!AE17), IF('Data PCB'!AE17=\"<LOD\",'Data PCB'!AE$38, \"ERROR\")))","v":""},{"$f":"IF('Data PCB'!AF17=\"\",\"\",IF(ISNUMBER('Data PCB'!AF17)=TRUE, IF('Data PCB'!AF17<'Data PCB'!AF$38, \"ERROR\", 'Data PCB'!AF17), IF('Data PCB'!AF17=\"<LOD\",'Data PCB'!AF$38, \"ERROR\")))","v":""},{"$f":"IF('Data PCB'!AG17=\"\",\"\",IF(ISNUMBER('Data PCB'!AG17)=TRUE, IF('Data PCB'!AG17<'Data PCB'!AG$38, \"ERROR\", 'Data PCB'!AG17), IF('Data PCB'!AG17=\"<LOD\",'Data PCB'!AG$38, \"ERROR\")))","v":""},{"$f":"IF('Data PCB'!AH17=\"\",\"\",IF(ISNUMBER('Data PCB'!AH17)=TRUE, IF('Data PCB'!AH17<'Data PCB'!AH$38, \"ERROR\", 'Data PCB'!AH17), IF('Data PCB'!AH17=\"<LOD\",'Data PCB'!AH$38, \"ERROR\")))","v":""},{"$f":"IF('Data PCB'!AI17=\"\",\"\",IF(ISNUMBER('Data PCB'!AI17)=TRUE, IF('Data PCB'!AI17<'Data PCB'!AI$38, \"ERROR\", 'Data PCB'!AI17), IF('Data PCB'!AI17=\"<LOD\",'Data PCB'!AI$38, \"ERROR\")))","v":""},"",""]
[null,null,null,null,null,null,null,{"$f":"IF('Data PCB'!H18=\"\",\"\",'Data PCB'!H18)","v":""},{"$f":"IF('Data PCB'!I18=\"\",\"\",'Data PCB'!I18)","v":""},{"$f":"IFERROR(IF(K19=\"\",\"\",(IF(VLOOKUP(K19,'Gwybodaeth ymgeiswyr'!$K$8:$L$37,2,0)=\"y\",\"y\",\"\"))),\"Manual entry required\")","v":""},{"$f":"IF('Data PCB'!J18=\"\",\"\",'Data PCB'!J18)","v":""},{"$f":"IF('Data PCB'!K18=\"\",\"\",IF(ISNUMBER('Data PCB'!K18)=TRUE, IF('Data PCB'!K18<'Data PCB'!K$38, \"ERROR\", 'Data PCB'!K18), IF('Data PCB'!K18=\"<LOD\",'Data PCB'!K$38, \"ERROR\")))","v":""},{"$f":"IF('Data PCB'!L18=\"\",\"\",IF(ISNUMBER('Data PCB'!L18)=TRUE, IF('Data PCB'!L18<'Data PCB'!L$38, \"ERROR\", 'Data PCB'!L18), IF('Data PCB'!L18=\"<LOD\",'Data PCB'!L$38, \"ERROR\")))","v":""},{"$f":"IF('Data PCB'!M18=\"\",\"\",IF(ISNUMBER('Data PCB'!M18)=TRUE, IF('Data PCB'!M18<'Data PCB'!M$38, \"ERROR\", 'Data PCB'!M18), IF('Data PCB'!M18=\"<LOD\",'Data PCB'!M$38, \"ERROR\")))","v":""},{"$f":"IF('Data PCB'!N18=\"\",\"\",IF(ISNUMBER('Data PCB'!N18)=TRUE, IF('Data PCB'!N18<'Data PCB'!N$38, \"ERROR\", 'Data PCB'!N18), IF('Data PCB'!N18=\"<LOD\",'Data PCB'!N$38, \"ERROR\")))","v":""},{"$f":"IF('Data PCB'!O18=\"\",\"\",IF(ISNUMBER('Data PCB'!O18)=TRUE, IF('Data PCB'!O18<'Data PCB'!O$38, \"ERROR\", 'Data PCB'!O18), IF('Data PCB'!O18=\"<LOD\",'Data PCB'!O$38, \"ERROR\")))","v":""},{"$f":"IF('Data PCB'!P18=\"\",\"\",IF(ISNUMBER('Data PCB'!P18)=TRUE, IF('Data PCB'!P18<'Data PCB'!P$38, \"ERROR\", 'Data PCB'!P18), IF('Data PCB'!P18=\"<LOD\",'Data PCB'!P$38, \"ERROR\")))","v":""},{"$f":"IF('Data PCB'!Q18=\"\",\"\",IF(ISNUMBER('Data PCB'!Q18)=TRUE, IF('Data PCB'!Q18<'Data PCB'!Q$38, \"ERROR\", 'Data PCB'!Q18), IF('Data PCB'!Q18=\"<LOD\",'Data PCB'!Q$38, \"ERROR\")))","v":""},{"$f":"IF('Data PCB'!R18=\"\",\"\",IF(ISNUMBER('Data PCB'!R18)=TRUE, IF('Data PCB'!R18<'Data PCB'!R$38, \"ERROR\", 'Data PCB'!R18), IF('Data PCB'!R18=\"<LOD\",'Data PCB'!R$38, \"ERROR\")))","v":""},{"$f":"IF('Data PCB'!S18=\"\",\"\",IF(ISNUMBER('Data PCB'!S18)=TRUE, IF('Data PCB'!S18<'Data PCB'!S$38, \"ERROR\", 'Data PCB'!S18), IF('Data PCB'!S18=\"<LOD\",'Data PCB'!S$38, \"ERROR\")))","v":""},{"$f":"IF('Data PCB'!T18=\"\",\"\",IF(ISNUMBER('Data PCB'!T18)=TRUE, IF('Data PCB'!T18<'Data PCB'!T$38, \"ERROR\", 'Data PCB'!T18), IF('Data PCB'!T18=\"<LOD\",'Data PCB'!T$38, \"ERROR\")))","v":""},{"$f":"IF('Data PCB'!U18=\"\",\"\",IF(ISNUMBER('Data PCB'!U18)=TRUE, IF('Data PCB'!U18<'Data PCB'!U$38, \"ERROR\", 'Data PCB'!U18), IF('Data PCB'!U18=\"<LOD\",'Data PCB'!U$38, \"ERROR\")))","v":""},{"$f":"IF('Data PCB'!V18=\"\",\"\",IF(ISNUMBER('Data PCB'!V18)=TRUE, IF('Data PCB'!V18<'Data PCB'!V$38, \"ERROR\", 'Data PCB'!V18), IF('Data PCB'!V18=\"<LOD\",'Data PCB'!V$38, \"ERROR\")))","v":""},{"$f":"IF('Data PCB'!W18=\"\",\"\",IF(ISNUMBER('Data PCB'!W18)=TRUE, IF('Data PCB'!W18<'Data PCB'!W$38, \"ERROR\", 'Data PCB'!W18), IF('Data PCB'!W18=\"<LOD\",'Data PCB'!W$38, \"ERROR\")))","v":""},{"$f":"IF('Data PCB'!X18=\"\",\"\",IF(ISNUMBER('Data PCB'!X18)=TRUE, IF('Data PCB'!X18<'Data PCB'!X$38, \"ERROR\", 'Data PCB'!X18), IF('Data PCB'!X18=\"<LOD\",'Data PCB'!X$38, \"ERROR\")))","v":""},{"$f":"IF('Data PCB'!Y18=\"\",\"\",IF(ISNUMBER('Data PCB'!Y18)=TRUE, IF('Data PCB'!Y18<'Data PCB'!Y$38, \"ERROR\", 'Data PCB'!Y18), IF('Data PCB'!Y18=\"<LOD\",'Data PCB'!Y$38, \"ERROR\")))","v":""},{"$f":"IF('Data PCB'!Z18=\"\",\"\",IF(ISNUMBER('Data PCB'!Z18)=TRUE, IF('Data PCB'!Z18<'Data PCB'!Z$38, \"ERROR\", 'Data PCB'!Z18), IF('Data PCB'!Z18=\"<LOD\",'Data PCB'!Z$38, \"ERROR\")))","v":""},{"$f":"IF('Data PCB'!AA18=\"\",\"\",IF(ISNUMBER('Data PCB'!AA18)=TRUE, IF('Data PCB'!AA18<'Data PCB'!AA$38, \"ERROR\", 'Data PCB'!AA18), IF('Data PCB'!AA18=\"<LOD\",'Data PCB'!AA$38, \"ERROR\")))","v":""},{"$f":"IF('Data PCB'!AB18=\"\",\"\",IF(ISNUMBER('Data PCB'!AB18)=TRUE, IF('Data PCB'!AB18<'Data PCB'!AB$38, \"ERROR\", 'Data PCB'!AB18), IF('Data PCB'!AB18=\"<LOD\",'Data PCB'!AB$38, \"ERROR\")))","v":""},{"$f":"IF('Data PCB'!AC18=\"\",\"\",IF(ISNUMBER('Data PCB'!AC18)=TRUE, IF('Data PCB'!AC18<'Data PCB'!AC$38, \"ERROR\", 'Data PCB'!AC18), IF('Data PCB'!AC18=\"<LOD\",'Data PCB'!AC$38, \"ERROR\")))","v":""},{"$f":"IF('Data PCB'!AD18=\"\",\"\",IF(ISNUMBER('Data PCB'!AD18)=TRUE, IF('Data PCB'!AD18<'Data PCB'!AD$38, \"ERROR\", 'Data PCB'!AD18), IF('Data PCB'!AD18=\"<LOD\",'Data PCB'!AD$38, \"ERROR\")))","v":""},{"$f":"IF('Data PCB'!AE18=\"\",\"\",IF(ISNUMBER('Data PCB'!AE18)=TRUE, IF('Data PCB'!AE18<'Data PCB'!AE$38, \"ERROR\", 'Data PCB'!AE18), IF('Data PCB'!AE18=\"<LOD\",'Data PCB'!AE$38, \"ERROR\")))","v":""},{"$f":"IF('Data PCB'!AF18=\"\",\"\",IF(ISNUMBER('Data PCB'!AF18)=TRUE, IF('Data PCB'!AF18<'Data PCB'!AF$38, \"ERROR\", 'Data PCB'!AF18), IF('Data PCB'!AF18=\"<LOD\",'Data PCB'!AF$38, \"ERROR\")))","v":""},{"$f":"IF('Data PCB'!AG18=\"\",\"\",IF(ISNUMBER('Data PCB'!AG18)=TRUE, IF('Data PCB'!AG18<'Data PCB'!AG$38, \"ERROR\", 'Data PCB'!AG18), IF('Data PCB'!AG18=\"<LOD\",'Data PCB'!AG$38, \"ERROR\")))","v":""},{"$f":"IF('Data PCB'!AH18=\"\",\"\",IF(ISNUMBER('Data PCB'!AH18)=TRUE, IF('Data PCB'!AH18<'Data PCB'!AH$38, \"ERROR\", 'Data PCB'!AH18), IF('Data PCB'!AH18=\"<LOD\",'Data PCB'!AH$38, \"ERROR\")))","v":""},{"$f":"IF('Data PCB'!AI18=\"\",\"\",IF(ISNUMBER('Data PCB'!AI18)=TRUE, IF('Data PCB'!AI18<'Data PCB'!AI$38, \"ERROR\", 'Data PCB'!AI18), IF('Data PCB'!AI18=\"<LOD\",'Data PCB'!AI$38, \"ERROR\")))","v":""},"",""]
[null,null,null,null,null,null,null,{"$f":"IF('Data PCB'!H19=\"\",\"\",'Data PCB'!H19)","v":""},{"$f":"IF('Data PCB'!I19=\"\",\"\",'Data PCB'!I19)","v":""},{"$f":"IFERROR(IF(K20=\"\",\"\",(IF(VLOOKUP(K20,'Gwybodaeth ymgeiswyr'!$K$8:$L$37,2,0)=\"y\",\"y\",\"\"))),\"Manual entry required\")","v":""},{"$f":"IF('Data PCB'!J19=\"\",\"\",'Data PCB'!J19)","v":""},{"$f":"IF('Data PCB'!K19=\"\",\"\",IF(ISNUMBER('Data PCB'!K19)=TRUE, IF('Data PCB'!K19<'Data PCB'!K$38, \"ERROR\", 'Data PCB'!K19), IF('Data PCB'!K19=\"<LOD\",'Data PCB'!K$38, \"ERROR\")))","v":""},{"$f":"IF('Data PCB'!L19=\"\",\"\",IF(ISNUMBER('Data PCB'!L19)=TRUE, IF('Data PCB'!L19<'Data PCB'!L$38, \"ERROR\", 'Data PCB'!L19), IF('Data PCB'!L19=\"<LOD\",'Data PCB'!L$38, \"ERROR\")))","v":""},{"$f":"IF('Data PCB'!M19=\"\",\"\",IF(ISNUMBER('Data PCB'!M19)=TRUE, IF('Data PCB'!M19<'Data PCB'!M$38, \"ERROR\", 'Data PCB'!M19), IF('Data PCB'!M19=\"<LOD\",'Data PCB'!M$38, \"ERROR\")))","v":""},{"$f":"IF('Data PCB'!N19=\"\",\"\",IF(ISNUMBER('Data PCB'!N19)=TRUE, IF('Data PCB'!N19<'Data PCB'!N$38, \"ERROR\", 'Data PCB'!N19), IF('Data PCB'!N19=\"<LOD\",'Data PCB'!N$38, \"ERROR\")))","v":""},{"$f":"IF('Data PCB'!O19=\"\",\"\",IF(ISNUMBER('Data PCB'!O19)=TRUE, IF('Data PCB'!O19<'Data PCB'!O$38, \"ERROR\", 'Data PCB'!O19), IF('Data PCB'!O19=\"<LOD\",'Data PCB'!O$38, \"ERROR\")))","v":""},{"$f":"IF('Data PCB'!P19=\"\",\"\",IF(ISNUMBER('Data PCB'!P19)=TRUE, IF('Data PCB'!P19<'Data PCB'!P$38, \"ERROR\", 'Data PCB'!P19), IF('Data PCB'!P19=\"<LOD\",'Data PCB'!P$38, \"ERROR\")))","v":""},{"$f":"IF('Data PCB'!Q19=\"\",\"\",IF(ISNUMBER('Data PCB'!Q19)=TRUE, IF('Data PCB'!Q19<'Data PCB'!Q$38, \"ERROR\", 'Data PCB'!Q19), IF('Data PCB'!Q19=\"<LOD\",'Data PCB'!Q$38, \"ERROR\")))","v":""},{"$f":"IF('Data PCB'!R19=\"\",\"\",IF(ISNUMBER('Data PCB'!R19)=TRUE, IF('Data PCB'!R19<'Data PCB'!R$38, \"ERROR\", 'Data PCB'!R19), IF('Data PCB'!R19=\"<LOD\",'Data PCB'!R$38, \"ERROR\")))","v":""},{"$f":"IF('Data PCB'!S19=\"\",\"\",IF(ISNUMBER('Data PCB'!S19)=TRUE, IF('Data PCB'!S19<'Data PCB'!S$38, \"ERROR\", 'Data PCB'!S19), IF('Data PCB'!S19=\"<LOD\",'Data PCB'!S$38, \"ERROR\")))","v":""},{"$f":"IF('Data PCB'!T19=\"\",\"\",IF(ISNUMBER('Data PCB'!T19)=TRUE, IF('Data PCB'!T19<'Data PCB'!T$38, \"ERROR\", 'Data PCB'!T19), IF('Data PCB'!T19=\"<LOD\",'Data PCB'!T$38, \"ERROR\")))","v":""},{"$f":"IF('Data PCB'!U19=\"\",\"\",IF(ISNUMBER('Data PCB'!U19)=TRUE, IF('Data PCB'!U19<'Data PCB'!U$38, \"ERROR\", 'Data PCB'!U19), IF('Data PCB'!U19=\"<LOD\",'Data PCB'!U$38, \"ERROR\")))","v":""},{"$f":"IF('Data PCB'!V19=\"\",\"\",IF(ISNUMBER('Data PCB'!V19)=TRUE, IF('Data PCB'!V19<'Data PCB'!V$38, \"ERROR\", 'Data PCB'!V19), IF('Data PCB'!V19=\"<LOD\",'Data PCB'!V$38, \"ERROR\")))","v":""},{"$f":"IF('Data PCB'!W19=\"\",\"\",IF(ISNUMBER('Data PCB'!W19)=TRUE, IF('Data PCB'!W19<'Data PCB'!W$38, \"ERROR\", 'Data PCB'!W19), IF('Data PCB'!W19=\"<LOD\",'Data PCB'!W$38, \"ERROR\")))","v":""},{"$f":"IF('Data PCB'!X19=\"\",\"\",IF(ISNUMBER('Data PCB'!X19)=TRUE, IF('Data PCB'!X19<'Data PCB'!X$38, \"ERROR\", 'Data PCB'!X19), IF('Data PCB'!X19=\"<LOD\",'Data PCB'!X$38, \"ERROR\")))","v":""},{"$f":"IF('Data PCB'!Y19=\"\",\"\",IF(ISNUMBER('Data PCB'!Y19)=TRUE, IF('Data PCB'!Y19<'Data PCB'!Y$38, \"ERROR\", 'Data PCB'!Y19), IF('Data PCB'!Y19=\"<LOD\",'Data PCB'!Y$38, \"ERROR\")))","v":""},{"$f":"IF('Data PCB'!Z19=\"\",\"\",IF(ISNUMBER('Data PCB'!Z19)=TRUE, IF('Data PCB'!Z19<'Data PCB'!Z$38, \"ERROR\", 'Data PCB'!Z19), IF('Data PCB'!Z19=\"<LOD\",'Data PCB'!Z$38, \"ERROR\")))","v":""},{"$f":"IF('Data PCB'!AA19=\"\",\"\",IF(ISNUMBER('Data PCB'!AA19)=TRUE, IF('Data PCB'!AA19<'Data PCB'!AA$38, \"ERROR\", 'Data PCB'!AA19), IF('Data PCB'!AA19=\"<LOD\",'Data PCB'!AA$38, \"ERROR\")))","v":""},{"$f":"IF('Data PCB'!AB19=\"\",\"\",IF(ISNUMBER('Data PCB'!AB19)=TRUE, IF('Data PCB'!AB19<'Data PCB'!AB$38, \"ERROR\", 'Data PCB'!AB19), IF('Data PCB'!AB19=\"<LOD\",'Data PCB'!AB$38, \"ERROR\")))","v":""},{"$f":"IF('Data PCB'!AC19=\"\",\"\",IF(ISNUMBER('Data PCB'!AC19)=TRUE, IF('Data PCB'!AC19<'Data PCB'!AC$38, \"ERROR\", 'Data PCB'!AC19), IF('Data PCB'!AC19=\"<LOD\",'Data PCB'!AC$38, \"ERROR\")))","v":""},{"$f":"IF('Data PCB'!AD19=\"\",\"\",IF(ISNUMBER('Data PCB'!AD19)=TRUE, IF('Data PCB'!AD19<'Data PCB'!AD$38, \"ERROR\", 'Data PCB'!AD19), IF('Data PCB'!AD19=\"<LOD\",'Data PCB'!AD$38, \"ERROR\")))","v":""},{"$f":"IF('Data PCB'!AE19=\"\",\"\",IF(ISNUMBER('Data PCB'!AE19)=TRUE, IF('Data PCB'!AE19<'Data PCB'!AE$38, \"ERROR\", 'Data PCB'!AE19), IF('Data PCB'!AE19=\"<LOD\",'Data PCB'!AE$38, \"ERROR\")))","v":""},{"$f":"IF('Data PCB'!AF19=\"\",\"\",IF(ISNUMBER('Data PCB'!AF19)=TRUE, IF('Data PCB'!AF19<'Data PCB'!AF$38, \"ERROR\", 'Data PCB'!AF19), IF('Data PCB'!AF19=\"<LOD\",'Data PCB'!AF$38, \"ERROR\")))","v":""},{"$f":"IF('Data PCB'!AG19=\"\",\"\",IF(ISNUMBER('Data PCB'!AG19)=TRUE, IF('Data PCB'!AG19<'Data PCB'!AG$38, \"ERROR\", 'Data PCB'!AG19), IF('Data PCB'!AG19=\"<LOD\",'Data PCB'!AG$38, \"ERROR\")))","v":""},{"$f":"IF('Data PCB'!AH19=\"\",\"\",IF(ISNUMBER('Data PCB'!AH19)=TRUE, IF('Data PCB'!AH19<'Data PCB'!AH$38, \"ERROR\", 'Data PCB'!AH19), IF('Data PCB'!AH19=\"<LOD\",'Data PCB'!AH$38, \"ERROR\")))","v":""},{"$f":"IF('Data PCB'!AI19=\"\",\"\",IF(ISNUMBER('Data PCB'!AI19)=TRUE, IF('Data PCB'!AI19<'Data PCB'!AI$38, \"ERROR\", 'Data PCB'!AI19), IF('Data PCB'!AI19=\"<LOD\",'Data PCB'!AI$38, \"ERROR\")))","v":""},"",""]
[null,null,null,null,null,null,null,{"$f":"IF('Data PCB'!H20=\"\",\"\",'Data PCB'!H20)","v":""},{"$f":"IF('Data PCB'!I20=\"\",\"\",'Data PCB'!I20)","v":""},{"$f":"IFERROR(IF(K21=\"\",\"\",(IF(VLOOKUP(K21,'Gwybodaeth ymgeiswyr'!$K$8:$L$37,2,0)=\"y\",\"y\",\"\"))),\"Manual entry required\")","v":""},{"$f":"IF('Data PCB'!J20=\"\",\"\",'Data PCB'!J20)","v":""},{"$f":"IF('Data PCB'!K20=\"\",\"\",IF(ISNUMBER('Data PCB'!K20)=TRUE, IF('Data PCB'!K20<'Data PCB'!K$38, \"ERROR\", 'Data PCB'!K20), IF('Data PCB'!K20=\"<LOD\",'Data PCB'!K$38, \"ERROR\")))","v":""},{"$f":"IF('Data PCB'!L20=\"\",\"\",IF(ISNUMBER('Data PCB'!L20)=TRUE, IF('Data PCB'!L20<'Data PCB'!L$38, \"ERROR\", 'Data PCB'!L20), IF('Data PCB'!L20=\"<LOD\",'Data PCB'!L$38, \"ERROR\")))","v":""},{"$f":"IF('Data PCB'!M20=\"\",\"\",IF(ISNUMBER('Data PCB'!M20)=TRUE, IF('Data PCB'!M20<'Data PCB'!M$38, \"ERROR\", 'Data PCB'!M20), IF('Data PCB'!M20=\"<LOD\",'Data PCB'!M$38, \"ERROR\")))","v":""},{"$f":"IF('Data PCB'!N20=\"\",\"\",IF(ISNUMBER('Data PCB'!N20)=TRUE, IF('Data PCB'!N20<'Data PCB'!N$38, \"ERROR\", 'Data PCB'!N20), IF('Data PCB'!N20=\"<LOD\",'Data PCB'!N$38, \"ERROR\")))","v":""},{"$f":"IF('Data PCB'!O20=\"\",\"\",IF(ISNUMBER('Data PCB'!O20)=TRUE, IF('Data PCB'!O20<'Data PCB'!O$38, \"ERROR\", 'Data PCB'!O20), IF('Data PCB'!O20=\"<LOD\",'Data PCB'!O$38, \"ERROR\")))","v":""},{"$f":"IF('Data PCB'!P20=\"\",\"\",IF(ISNUMBER('Data PCB'!P20)=TRUE, IF('Data PCB'!P20<'Data PCB'!P$38, \"ERROR\", 'Data PCB'!P20), IF('Data PCB'!P20=\"<LOD\",'Data PCB'!P$38, \"ERROR\")))","v":""},{"$f":"IF('Data PCB'!Q20=\"\",\"\",IF(ISNUMBER('Data PCB'!Q20)=TRUE, IF('Data PCB'!Q20<'Data PCB'!Q$38, \"ERROR\", 'Data PCB'!Q20), IF('Data PCB'!Q20=\"<LOD\",'Data PCB'!Q$38, \"ERROR\")))","v":""},{"$f":"IF('Data PCB'!R20=\"\",\"\",IF(ISNUMBER('Data PCB'!R20)=TRUE, IF('Data PCB'!R20<'Data PCB'!R$38, \"ERROR\", 'Data PCB'!R20), IF('Data PCB'!R20=\"<LOD\",'Data PCB'!R$38, \"ERROR\")))","v":""},{"$f":"IF('Data PCB'!S20=\"\",\"\",IF(ISNUMBER('Data PCB'!S20)=TRUE, IF('Data PCB'!S20<'Data PCB'!S$38, \"ERROR\", 'Data PCB'!S20), IF('Data PCB'!S20=\"<LOD\",'Data PCB'!S$38, \"ERROR\")))","v":""},{"$f":"IF('Data PCB'!T20=\"\",\"\",IF(ISNUMBER('Data PCB'!T20)=TRUE, IF('Data PCB'!T20<'Data PCB'!T$38, \"ERROR\", 'Data PCB'!T20), IF('Data PCB'!T20=\"<LOD\",'Data PCB'!T$38, \"ERROR\")))","v":""},{"$f":"IF('Data PCB'!U20=\"\",\"\",IF(ISNUMBER('Data PCB'!U20)=TRUE, IF('Data PCB'!U20<'Data PCB'!U$38, \"ERROR\", 'Data PCB'!U20), IF('Data PCB'!U20=\"<LOD\",'Data PCB'!U$38, \"ERROR\")))","v":""},{"$f":"IF('Data PCB'!V20=\"\",\"\",IF(ISNUMBER('Data PCB'!V20)=TRUE, IF('Data PCB'!V20<'Data PCB'!V$38, \"ERROR\", 'Data PCB'!V20), IF('Data PCB'!V20=\"<LOD\",'Data PCB'!V$38, \"ERROR\")))","v":""},{"$f":"IF('Data PCB'!W20=\"\",\"\",IF(ISNUMBER('Data PCB'!W20)=TRUE, IF('Data PCB'!W20<'Data PCB'!W$38, \"ERROR\", 'Data PCB'!W20), IF('Data PCB'!W20=\"<LOD\",'Data PCB'!W$38, \"ERROR\")))","v":""},{"$f":"IF('Data PCB'!X20=\"\",\"\",IF(ISNUMBER('Data PCB'!X20)=TRUE, IF('Data PCB'!X20<'Data PCB'!X$38, \"ERROR\", 'Data PCB'!X20), IF('Data PCB'!X20=\"<LOD\",'Data PCB'!X$38, \"ERROR\")))","v":""},{"$f":"IF('Data PCB'!Y20=\"\",\"\",IF(ISNUMBER('Data PCB'!Y20)=TRUE, IF('Data PCB'!Y20<'Data PCB'!Y$38, \"ERROR\", 'Data PCB'!Y20), IF('Data PCB'!Y20=\"<LOD\",'Data PCB'!Y$38, \"ERROR\")))","v":""},{"$f":"IF('Data PCB'!Z20=\"\",\"\",IF(ISNUMBER('Data PCB'!Z20)=TRUE, IF('Data PCB'!Z20<'Data PCB'!Z$38, \"ERROR\", 'Data PCB'!Z20), IF('Data PCB'!Z20=\"<LOD\",'Data PCB'!Z$38, \"ERROR\")))","v":""},{"$f":"IF('Data PCB'!AA20=\"\",\"\",IF(ISNUMBER('Data PCB'!AA20)=TRUE, IF('Data PCB'!AA20<'Data PCB'!AA$38, \"ERROR\", 'Data PCB'!AA20), IF('Data PCB'!AA20=\"<LOD\",'Data PCB'!AA$38, \"ERROR\")))","v":""},{"$f":"IF('Data PCB'!AB20=\"\",\"\",IF(ISNUMBER('Data PCB'!AB20)=TRUE, IF('Data PCB'!AB20<'Data PCB'!AB$38, \"ERROR\", 'Data PCB'!AB20), IF('Data PCB'!AB20=\"<LOD\",'Data PCB'!AB$38, \"ERROR\")))","v":""},{"$f":"IF('Data PCB'!AC20=\"\",\"\",IF(ISNUMBER('Data PCB'!AC20)=TRUE, IF('Data PCB'!AC20<'Data PCB'!AC$38, \"ERROR\", 'Data PCB'!AC20), IF('Data PCB'!AC20=\"<LOD\",'Data PCB'!AC$38, \"ERROR\")))","v":""},{"$f":"IF('Data PCB'!AD20=\"\",\"\",IF(ISNUMBER('Data PCB'!AD20)=TRUE, IF('Data PCB'!AD20<'Data PCB'!AD$38, \"ERROR\", 'Data PCB'!AD20), IF('Data PCB'!AD20=\"<LOD\",'Data PCB'!AD$38, \"ERROR\")))","v":""},{"$f":"IF('Data PCB'!AE20=\"\",\"\",IF(ISNUMBER('Data PCB'!AE20)=TRUE, IF('Data PCB'!AE20<'Data PCB'!AE$38, \"ERROR\", 'Data PCB'!AE20), IF('Data PCB'!AE20=\"<LOD\",'Data PCB'!AE$38, \"ERROR\")))","v":""},{"$f":"IF('Data PCB'!AF20=\"\",\"\",IF(ISNUMBER('Data PCB'!AF20)=TRUE, IF('Data PCB'!AF20<'Data PCB'!AF$38, \"ERROR\", 'Data PCB'!AF20), IF('Data PCB'!AF20=\"<LOD\",'Data PCB'!AF$38, \"ERROR\")))","v":""},{"$f":"IF('Data PCB'!AG20=\"\",\"\",IF(ISNUMBER('Data PCB'!AG20)=TRUE, IF('Data PCB'!AG20<'Data PCB'!AG$38, \"ERROR\", 'Data PCB'!AG20), IF('Data PCB'!AG20=\"<LOD\",'Data PCB'!AG$38, \"ERROR\")))","v":""},{"$f":"IF('Data PCB'!AH20=\"\",\"\",IF(ISNUMBER('Data PCB'!AH20)=TRUE, IF('Data PCB'!AH20<'Data PCB'!AH$38, \"ERROR\", 'Data PCB'!AH20), IF('Data PCB'!AH20=\"<LOD\",'Data PCB'!AH$38, \"ERROR\")))","v":""},{"$f":"IF('Data PCB'!AI20=\"\",\"\",IF(ISNUMBER('Data PCB'!AI20)=TRUE, IF('Data PCB'!AI20<'Data PCB'!AI$38, \"ERROR\", 'Data PCB'!AI20), IF('Data PCB'!AI20=\"<LOD\",'Data PCB'!AI$38, \"ERROR\")))","v":""},"",""]
[null,null,null,null,null,null,null,{"$f":"IF('Data PCB'!H21=\"\",\"\",'Data PCB'!H21)","v":""},{"$f":"IF('Data PCB'!I21=\"\",\"\",'Data PCB'!I21)","v":""},{"$f":"IFERROR(IF(K22=\"\",\"\",(IF(VLOOKUP(K22,'Gwybodaeth ymgeiswyr'!$K$8:$L$37,2,0)=\"y\",\"y\",\"\"))),\"Manual entry required\")","v":""},{"$f":"IF('Data PCB'!J21=\"\",\"\",'Data PCB'!J21)","v":""},{"$f":"IF('Data PCB'!K21=\"\",\"\",IF(ISNUMBER('Data PCB'!K21)=TRUE, IF('Data PCB'!K21<'Data PCB'!K$38, \"ERROR\", 'Data PCB'!K21), IF('Data PCB'!K21=\"<LOD\",'Data PCB'!K$38, \"ERROR\")))","v":""},{"$f":"IF('Data PCB'!L21=\"\",\"\",IF(ISNUMBER('Data PCB'!L21)=TRUE, IF('Data PCB'!L21<'Data PCB'!L$38, \"ERROR\", 'Data PCB'!L21), IF('Data PCB'!L21=\"<LOD\",'Data PCB'!L$38, \"ERROR\")))","v":""},{"$f":"IF('Data PCB'!M21=\"\",\"\",IF(ISNUMBER('Data PCB'!M21)=TRUE, IF('Data PCB'!M21<'Data PCB'!M$38, \"ERROR\", 'Data PCB'!M21), IF('Data PCB'!M21=\"<LOD\",'Data PCB'!M$38, \"ERROR\")))","v":""},{"$f":"IF('Data PCB'!N21=\"\",\"\",IF(ISNUMBER('Data PCB'!N21)=TRUE, IF('Data PCB'!N21<'Data PCB'!N$38, \"ERROR\", 'Data PCB'!N21), IF('Data PCB'!N21=\"<LOD\",'Data PCB'!N$38, \"ERROR\")))","v":""},{"$f":"IF('Data PCB'!O21=\"\",\"\",IF(ISNUMBER('Data PCB'!O21)=TRUE, IF('Data PCB'!O21<'Data PCB'!O$38, \"ERROR\", 'Data PCB'!O21), IF('Data PCB'!O21=\"<LOD\",'Data PCB'!O$38, \"ERROR\")))","v":""},{"$f":"IF('Data PCB'!P21=\"\",\"\",IF(ISNUMBER('Data PCB'!P21)=TRUE, IF('Data PCB'!P21<'Data PCB'!P$38, \"ERROR\", 'Data PCB'!P21), IF('Data PCB'!P21=\"<LOD\",'Data PCB'!P$38, \"ERROR\")))","v":""},{"$f":"IF('Data PCB'!Q21=\"\",\"\",IF(ISNUMBER('Data PCB'!Q21)=TRUE, IF('Data PCB'!Q21<'Data PCB'!Q$38, \"ERROR\", 'Data PCB'!Q21), IF('Data PCB'!Q21=\"<LOD\",'Data PCB'!Q$38, \"ERROR\")))","v":""},{"$f":"IF('Data PCB'!R21=\"\",\"\",IF(ISNUMBER('Data PCB'!R21)=TRUE, IF('Data PCB'!R21<'Data PCB'!R$38, \"ERROR\", 'Data PCB'!R21), IF('Data PCB'!R21=\"<LOD\",'Data PCB'!R$38, \"ERROR\")))","v":""},{"$f":"IF('Data PCB'!S21=\"\",\"\",IF(ISNUMBER('Data PCB'!S21)=TRUE, IF('Data PCB'!S21<'Data PCB'!S$38, \"ERROR\", 'Data PCB'!S21), IF('Data PCB'!S21=\"<LOD\",'Data PCB'!S$38, \"ERROR\")))","v":""},{"$f":"IF('Data PCB'!T21=\"\",\"\",IF(ISNUMBER('Data PCB'!T21)=TRUE, IF('Data PCB'!T21<'Data PCB'!T$38, \"ERROR\", 'Data PCB'!T21), IF('Data PCB'!T21=\"<LOD\",'Data PCB'!T$38, \"ERROR\")))","v":""},{"$f":"IF('Data PCB'!U21=\"\",\"\",IF(ISNUMBER('Data PCB'!U21)=TRUE, IF('Data PCB'!U21<'Data PCB'!U$38, \"ERROR\", 'Data PCB'!U21), IF('Data PCB'!U21=\"<LOD\",'Data PCB'!U$38, \"ERROR\")))","v":""},{"$f":"IF('Data PCB'!V21=\"\",\"\",IF(ISNUMBER('Data PCB'!V21)=TRUE, IF('Data PCB'!V21<'Data PCB'!V$38, \"ERROR\", 'Data PCB'!V21), IF('Data PCB'!V21=\"<LOD\",'Data PCB'!V$38, \"ERROR\")))","v":""},{"$f":"IF('Data PCB'!W21=\"\",\"\",IF(ISNUMBER('Data PCB'!W21)=TRUE, IF('Data PCB'!W21<'Data PCB'!W$38, \"ERROR\", 'Data PCB'!W21), IF('Data PCB'!W21=\"<LOD\",'Data PCB'!W$38, \"ERROR\")))","v":""},{"$f":"IF('Data PCB'!X21=\"\",\"\",IF(ISNUMBER('Data PCB'!X21)=TRUE, IF('Data PCB'!X21<'Data PCB'!X$38, \"ERROR\", 'Data PCB'!X21), IF('Data PCB'!X21=\"<LOD\",'Data PCB'!X$38, \"ERROR\")))","v":""},{"$f":"IF('Data PCB'!Y21=\"\",\"\",IF(ISNUMBER('Data PCB'!Y21)=TRUE, IF('Data PCB'!Y21<'Data PCB'!Y$38, \"ERROR\", 'Data PCB'!Y21), IF('Data PCB'!Y21=\"<LOD\",'Data PCB'!Y$38, \"ERROR\")))","v":""},{"$f":"IF('Data PCB'!Z21=\"\",\"\",IF(ISNUMBER('Data PCB'!Z21)=TRUE, IF('Data PCB'!Z21<'Data PCB'!Z$38, \"ERROR\", 'Data PCB'!Z21), IF('Data PCB'!Z21=\"<LOD\",'Data PCB'!Z$38, \"ERROR\")))","v":""},{"$f":"IF('Data PCB'!AA21=\"\",\"\",IF(ISNUMBER('Data PCB'!AA21)=TRUE, IF('Data PCB'!AA21<'Data PCB'!AA$38, \"ERROR\", 'Data PCB'!AA21), IF('Data PCB'!AA21=\"<LOD\",'Data PCB'!AA$38, \"ERROR\")))","v":""},{"$f":"IF('Data PCB'!AB21=\"\",\"\",IF(ISNUMBER('Data PCB'!AB21)=TRUE, IF('Data PCB'!AB21<'Data PCB'!AB$38, \"ERROR\", 'Data PCB'!AB21), IF('Data PCB'!AB21=\"<LOD\",'Data PCB'!AB$38, \"ERROR\")))","v":""},{"$f":"IF('Data PCB'!AC21=\"\",\"\",IF(ISNUMBER('Data PCB'!AC21)=TRUE, IF('Data PCB'!AC21<'Data PCB'!AC$38, \"ERROR\", 'Data PCB'!AC21), IF('Data PCB'!AC21=\"<LOD\",'Data PCB'!AC$38, \"ERROR\")))","v":""},{"$f":"IF('Data PCB'!AD21=\"\",\"\",IF(ISNUMBER('Data PCB'!AD21)=TRUE, IF('Data PCB'!AD21<'Data PCB'!AD$38, \"ERROR\", 'Data PCB'!AD21), IF('Data PCB'!AD21=\"<LOD\",'Data PCB'!AD$38, \"ERROR\")))","v":""},{"$f":"IF('Data PCB'!AE21=\"\",\"\",IF(ISNUMBER('Data PCB'!AE21)=TRUE, IF('Data PCB'!AE21<'Data PCB'!AE$38, \"ERROR\", 'Data PCB'!AE21), IF('Data PCB'!AE21=\"<LOD\",'Data PCB'!AE$38, \"ERROR\")))","v":""},{"$f":"IF('Data PCB'!AF21=\"\",\"\",IF(ISNUMBER('Data PCB'!AF21)=TRUE, IF('Data PCB'!AF21<'Data PCB'!AF$38, \"ERROR\", 'Data PCB'!AF21), IF('Data PCB'!AF21=\"<LOD\",'Data PCB'!AF$38, \"ERROR\")))","v":""},{"$f":"IF('Data PCB'!AG21=\"\",\"\",IF(ISNUMBER('Data PCB'!AG21)=TRUE, IF('Data PCB'!AG21<'Data PCB'!AG$38, \"ERROR\", 'Data PCB'!AG21), IF('Data PCB'!AG21=\"<LOD\",'Data PCB'!AG$38, \"ERROR\")))","v":""},{"$f":"IF('Data PCB'!AH21=\"\",\"\",IF(ISNUMBER('Data PCB'!AH21)=TRUE, IF('Data PCB'!AH21<'Data PCB'!AH$38, \"ERROR\", 'Data PCB'!AH21), IF('Data PCB'!AH21=\"<LOD\",'Data PCB'!AH$38, \"ERROR\")))","v":""},{"$f":"IF('Data PCB'!AI21=\"\",\"\",IF(ISNUMBER('Data PCB'!AI21)=TRUE, IF('Data PCB'!AI21<'Data PCB'!AI$38, \"ERROR\", 'Data PCB'!AI21), IF('Data PCB'!AI21=\"<LOD\",'Data PCB'!AI$38, \"ERROR\")))","v":""},"",""]
[null,null,null,null,null,null,null,{"$f":"IF('Data PCB'!H22=\"\",\"\",'Data PCB'!H22)","v":""},{"$f":"IF('Data PCB'!I22=\"\",\"\",'Data PCB'!I22)","v":""},{"$f":"IFERROR(IF(K23=\"\",\"\",(IF(VLOOKUP(K23,'Gwybodaeth ymgeiswyr'!$K$8:$L$37,2,0)=\"y\",\"y\",\"\"))),\"Manual entry required\")","v":""},{"$f":"IF('Data PCB'!J22=\"\",\"\",'Data PCB'!J22)","v":""},{"$f":"IF('Data PCB'!K22=\"\",\"\",IF(ISNUMBER('Data PCB'!K22)=TRUE, IF('Data PCB'!K22<'Data PCB'!K$38, \"ERROR\", 'Data PCB'!K22), IF('Data PCB'!K22=\"<LOD\",'Data PCB'!K$38, \"ERROR\")))","v":""},{"$f":"IF('Data PCB'!L22=\"\",\"\",IF(ISNUMBER('Data PCB'!L22)=TRUE, IF('Data PCB'!L22<'Data PCB'!L$38, \"ERROR\", 'Data PCB'!L22), IF('Data PCB'!L22=\"<LOD\",'Data PCB'!L$38, \"ERROR\")))","v":""},{"$f":"IF('Data PCB'!M22=\"\",\"\",IF(ISNUMBER('Data PCB'!M22)=TRUE, IF('Data PCB'!M22<'Data PCB'!M$38, \"ERROR\", 'Data PCB'!M22), IF('Data PCB'!M22=\"<LOD\",'Data PCB'!M$38, \"ERROR\")))","v":""},{"$f":"IF('Data PCB'!N22=\"\",\"\",IF(ISNUMBER('Data PCB'!N22)=TRUE, IF('Data PCB'!N22<'Data PCB'!N$38, \"ERROR\", 'Data PCB'!N22), IF('Data PCB'!N22=\"<LOD\",'Data PCB'!N$38, \"ERROR\")))","v":""},{"$f":"IF('Data PCB'!O22=\"\",\"\",IF(ISNUMBER('Data PCB'!O22)=TRUE, IF('Data PCB'!O22<'Data PCB'!O$38, \"ERROR\", 'Data PCB'!O22), IF('Data PCB'!O22=\"<LOD\",'Data PCB'!O$38, \"ERROR\")))","v":""},{"$f":"IF('Data PCB'!P22=\"\",\"\",IF(ISNUMBER('Data PCB'!P22)=TRUE, IF('Data PCB'!P22<'Data PCB'!P$38, \"ERROR\", 'Data PCB'!P22), IF('Data PCB'!P22=\"<LOD\",'Data PCB'!P$38, \"ERROR\")))","v":""},{"$f":"IF('Data PCB'!Q22=\"\",\"\",IF(ISNUMBER('Data PCB'!Q22)=TRUE, IF('Data PCB'!Q22<'Data PCB'!Q$38, \"ERROR\", 'Data PCB'!Q22), IF('Data PCB'!Q22=\"<LOD\",'Data PCB'!Q$38, \"ERROR\")))","v":""},{"$f":"IF('Data PCB'!R22=\"\",\"\",IF(ISNUMBER('Data PCB'!R22)=TRUE, IF('Data PCB'!R22<'Data PCB'!R$38, \"ERROR\", 'Data PCB'!R22), IF('Data PCB'!R22=\"<LOD\",'Data PCB'!R$38, \"ERROR\")))","v":""},{"$f":"IF('Data PCB'!S22=\"\",\"\",IF(ISNUMBER('Data PCB'!S22)=TRUE, IF('Data PCB'!S22<'Data PCB'!S$38, \"ERROR\", 'Data PCB'!S22), IF('Data PCB'!S22=\"<LOD\",'Data PCB'!S$38, \"ERROR\")))","v":""},{"$f":"IF('Data PCB'!T22=\"\",\"\",IF(ISNUMBER('Data PCB'!T22)=TRUE, IF('Data PCB'!T22<'Data PCB'!T$38, \"ERROR\", 'Data PCB'!T22), IF('Data PCB'!T22=\"<LOD\",'Data PCB'!T$38, \"ERROR\")))","v":""},{"$f":"IF('Data PCB'!U22=\"\",\"\",IF(ISNUMBER('Data PCB'!U22)=TRUE, IF('Data PCB'!U22<'Data PCB'!U$38, \"ERROR\", 'Data PCB'!U22), IF('Data PCB'!U22=\"<LOD\",'Data PCB'!U$38, \"ERROR\")))","v":""},{"$f":"IF('Data PCB'!V22=\"\",\"\",IF(ISNUMBER('Data PCB'!V22)=TRUE, IF('Data PCB'!V22<'Data PCB'!V$38, \"ERROR\", 'Data PCB'!V22), IF('Data PCB'!V22=\"<LOD\",'Data PCB'!V$38, \"ERROR\")))","v":""},{"$f":"IF('Data PCB'!W22=\"\",\"\",IF(ISNUMBER('Data PCB'!W22)=TRUE, IF('Data PCB'!W22<'Data PCB'!W$38, \"ERROR\", 'Data PCB'!W22), IF('Data PCB'!W22=\"<LOD\",'Data PCB'!W$38, \"ERROR\")))","v":""},{"$f":"IF('Data PCB'!X22=\"\",\"\",IF(ISNUMBER('Data PCB'!X22)=TRUE, IF('Data PCB'!X22<'Data PCB'!X$38, \"ERROR\", 'Data PCB'!X22), IF('Data PCB'!X22=\"<LOD\",'Data PCB'!X$38, \"ERROR\")))","v":""},{"$f":"IF('Data PCB'!Y22=\"\",\"\",IF(ISNUMBER('Data PCB'!Y22)=TRUE, IF('Data PCB'!Y22<'Data PCB'!Y$38, \"ERROR\", 'Data PCB'!Y22), IF('Data PCB'!Y22=\"<LOD\",'Data PCB'!Y$38, \"ERROR\")))","v":""},{"$f":"IF('Data PCB'!Z22=\"\",\"\",IF(ISNUMBER('Data PCB'!Z22)=TRUE, IF('Data PCB'!Z22<'Data PCB'!Z$38, \"ERROR\", 'Data PCB'!Z22), IF('Data PCB'!Z22=\"<LOD\",'Data PCB'!Z$38, \"ERROR\")))","v":""},{"$f":"IF('Data PCB'!AA22=\"\",\"\",IF(ISNUMBER('Data PCB'!AA22)=TRUE, IF('Data PCB'!AA22<'Data PCB'!AA$38, \"ERROR\", 'Data PCB'!AA22), IF('Data PCB'!AA22=\"<LOD\",'Data PCB'!AA$38, \"ERROR\")))","v":""},{"$f":"IF('Data PCB'!AB22=\"\",\"\",IF(ISNUMBER('Data PCB'!AB22)=TRUE, IF('Data PCB'!AB22<'Data PCB'!AB$38, \"ERROR\", 'Data PCB'!AB22), IF('Data PCB'!AB22=\"<LOD\",'Data PCB'!AB$38, \"ERROR\")))","v":""},{"$f":"IF('Data PCB'!AC22=\"\",\"\",IF(ISNUMBER('Data PCB'!AC22)=TRUE, IF('Data PCB'!AC22<'Data PCB'!AC$38, \"ERROR\", 'Data PCB'!AC22), IF('Data PCB'!AC22=\"<LOD\",'Data PCB'!AC$38, \"ERROR\")))","v":""},{"$f":"IF('Data PCB'!AD22=\"\",\"\",IF(ISNUMBER('Data PCB'!AD22)=TRUE, IF('Data PCB'!AD22<'Data PCB'!AD$38, \"ERROR\", 'Data PCB'!AD22), IF('Data PCB'!AD22=\"<LOD\",'Data PCB'!AD$38, \"ERROR\")))","v":""},{"$f":"IF('Data PCB'!AE22=\"\",\"\",IF(ISNUMBER('Data PCB'!AE22)=TRUE, IF('Data PCB'!AE22<'Data PCB'!AE$38, \"ERROR\", 'Data PCB'!AE22), IF('Data PCB'!AE22=\"<LOD\",'Data PCB'!AE$38, \"ERROR\")))","v":""},{"$f":"IF('Data PCB'!AF22=\"\",\"\",IF(ISNUMBER('Data PCB'!AF22)=TRUE, IF('Data PCB'!AF22<'Data PCB'!AF$38, \"ERROR\", 'Data PCB'!AF22), IF('Data PCB'!AF22=\"<LOD\",'Data PCB'!AF$38, \"ERROR\")))","v":""},{"$f":"IF('Data PCB'!AG22=\"\",\"\",IF(ISNUMBER('Data PCB'!AG22)=TRUE, IF('Data PCB'!AG22<'Data PCB'!AG$38, \"ERROR\", 'Data PCB'!AG22), IF('Data PCB'!AG22=\"<LOD\",'Data PCB'!AG$38, \"ERROR\")))","v":""},{"$f":"IF('Data PCB'!AH22=\"\",\"\",IF(ISNUMBER('Data PCB'!AH22)=TRUE, IF('Data PCB'!AH22<'Data PCB'!AH$38, \"ERROR\", 'Data PCB'!AH22), IF('Data PCB'!AH22=\"<LOD\",'Data PCB'!AH$38, \"ERROR\")))","v":""},{"$f":"IF('Data PCB'!AI22=\"\",\"\",IF(ISNUMBER('Data PCB'!AI22)=TRUE, IF('Data PCB'!AI22<'Data PCB'!AI$38, \"ERROR\", 'Data PCB'!AI22), IF('Data PCB'!AI22=\"<LOD\",'Data PCB'!AI$38, \"ERROR\")))","v":""},"",""]
[null,null,null,null,null,null,null,{"$f":"IF('Data PCB'!H23=\"\",\"\",'Data PCB'!H23)","v":""},{"$f":"IF('Data PCB'!I23=\"\",\"\",'Data PCB'!I23)","v":""},{"$f":"IFERROR(IF(K24=\"\",\"\",(IF(VLOOKUP(K24,'Gwybodaeth ymgeiswyr'!$K$8:$L$37,2,0)=\"y\",\"y\",\"\"))),\"Manual entry required\")","v":""},{"$f":"IF('Data PCB'!J23=\"\",\"\",'Data PCB'!J23)","v":""},{"$f":"IF('Data PCB'!K23=\"\",\"\",IF(ISNUMBER('Data PCB'!K23)=TRUE, IF('Data PCB'!K23<'Data PCB'!K$38, \"ERROR\", 'Data PCB'!K23), IF('Data PCB'!K23=\"<LOD\",'Data PCB'!K$38, \"ERROR\")))","v":""},{"$f":"IF('Data PCB'!L23=\"\",\"\",IF(ISNUMBER('Data PCB'!L23)=TRUE, IF('Data PCB'!L23<'Data PCB'!L$38, \"ERROR\", 'Data PCB'!L23), IF('Data PCB'!L23=\"<LOD\",'Data PCB'!L$38, \"ERROR\")))","v":""},{"$f":"IF('Data PCB'!M23=\"\",\"\",IF(ISNUMBER('Data PCB'!M23)=TRUE, IF('Data PCB'!M23<'Data PCB'!M$38, \"ERROR\", 'Data PCB'!M23), IF('Data PCB'!M23=\"<LOD\",'Data PCB'!M$38, \"ERROR\")))","v":""},{"$f":"IF('Data PCB'!N23=\"\",\"\",IF(ISNUMBER('Data PCB'!N23)=TRUE, IF('Data PCB'!N23<'Data PCB'!N$38, \"ERROR\", 'Data PCB'!N23), IF('Data PCB'!N23=\"<LOD\",'Data PCB'!N$38, \"ERROR\")))","v":""},{"$f":"IF('Data PCB'!O23=\"\",\"\",IF(ISNUMBER('Data PCB'!O23)=TRUE, IF('Data PCB'!O23<'Data PCB'!O$38, \"ERROR\", 'Data PCB'!O23), IF('Data PCB'!O23=\"<LOD\",'Data PCB'!O$38, \"ERROR\")))","v":""},{"$f":"IF('Data PCB'!P23=\"\",\"\",IF(ISNUMBER('Data PCB'!P23)=TRUE, IF('Data PCB'!P23<'Data PCB'!P$38, \"ERROR\", 'Data PCB'!P23), IF('Data PCB'!P23=\"<LOD\",'Data PCB'!P$38, \"ERROR\")))","v":""},{"$f":"IF('Data PCB'!Q23=\"\",\"\",IF(ISNUMBER('Data PCB'!Q23)=TRUE, IF('Data PCB'!Q23<'Data PCB'!Q$38, \"ERROR\", 'Data PCB'!Q23), IF('Data PCB'!Q23=\"<LOD\",'Data PCB'!Q$38, \"ERROR\")))","v":""},{"$f":"IF('Data PCB'!R23=\"\",\"\",IF(ISNUMBER('Data PCB'!R23)=TRUE, IF('Data PCB'!R23<'Data PCB'!R$38, \"ERROR\", 'Data PCB'!R23), IF('Data PCB'!R23=\"<LOD\",'Data PCB'!R$38, \"ERROR\")))","v":""},{"$f":"IF('Data PCB'!S23=\"\",\"\",IF(ISNUMBER('Data PCB'!S23)=TRUE, IF('Data PCB'!S23<'Data PCB'!S$38, \"ERROR\", 'Data PCB'!S23), IF('Data PCB'!S23=\"<LOD\",'Data PCB'!S$38, \"ERROR\")))","v":""},{"$f":"IF('Data PCB'!T23=\"\",\"\",IF(ISNUMBER('Data PCB'!T23)=TRUE, IF('Data PCB'!T23<'Data PCB'!T$38, \"ERROR\", 'Data PCB'!T23), IF('Data PCB'!T23=\"<LOD\",'Data PCB'!T$38, \"ERROR\")))","v":""},{"$f":"IF('Data PCB'!U23=\"\",\"\",IF(ISNUMBER('Data PCB'!U23)=TRUE, IF('Data PCB'!U23<'Data PCB'!U$38, \"ERROR\", 'Data PCB'!U23), IF('Data PCB'!U23=\"<LOD\",'Data PCB'!U$38, \"ERROR\")))","v":""},{"$f":"IF('Data PCB'!V23=\"\",\"\",IF(ISNUMBER('Data PCB'!V23)=TRUE, IF('Data PCB'!V23<'Data PCB'!V$38, \"ERROR\", 'Data PCB'!V23), IF('Data PCB'!V23=\"<LOD\",'Data PCB'!V$38, \"ERROR\")))","v":""},{"$f":"IF('Data PCB'!W23=\"\",\"\",IF(ISNUMBER('Data PCB'!W23)=TRUE, IF('Data PCB'!W23<'Data PCB'!W$38, \"ERROR\", 'Data PCB'!W23), IF('Data PCB'!W23=\"<LOD\",'Data PCB'!W$38, \"ERROR\")))","v":""},{"$f":"IF('Data PCB'!X23=\"\",\"\",IF(ISNUMBER('Data PCB'!X23)=TRUE, IF('Data PCB'!X23<'Data PCB'!X$38, \"ERROR\", 'Data PCB'!X23), IF('Data PCB'!X23=\"<LOD\",'Data PCB'!X$38, \"ERROR\")))","v":""},{"$f":"IF('Data PCB'!Y23=\"\",\"\",IF(ISNUMBER('Data PCB'!Y23)=TRUE, IF('Data PCB'!Y23<'Data PCB'!Y$38, \"ERROR\", 'Data PCB'!Y23), IF('Data PCB'!Y23=\"<LOD\",'Data PCB'!Y$38, \"ERROR\")))","v":""},{"$f":"IF('Data PCB'!Z23=\"\",\"\",IF(ISNUMBER('Data PCB'!Z23)=TRUE, IF('Data PCB'!Z23<'Data PCB'!Z$38, \"ERROR\", 'Data PCB'!Z23), IF('Data PCB'!Z23=\"<LOD\",'Data PCB'!Z$38, \"ERROR\")))","v":""},{"$f":"IF('Data PCB'!AA23=\"\",\"\",IF(ISNUMBER('Data PCB'!AA23)=TRUE, IF('Data PCB'!AA23<'Data PCB'!AA$38, \"ERROR\", 'Data PCB'!AA23), IF('Data PCB'!AA23=\"<LOD\",'Data PCB'!AA$38, \"ERROR\")))","v":""},{"$f":"IF('Data PCB'!AB23=\"\",\"\",IF(ISNUMBER('Data PCB'!AB23)=TRUE, IF('Data PCB'!AB23<'Data PCB'!AB$38, \"ERROR\", 'Data PCB'!AB23), IF('Data PCB'!AB23=\"<LOD\",'Data PCB'!AB$38, \"ERROR\")))","v":""},{"$f":"IF('Data PCB'!AC23=\"\",\"\",IF(ISNUMBER('Data PCB'!AC23)=TRUE, IF('Data PCB'!AC23<'Data PCB'!AC$38, \"ERROR\", 'Data PCB'!AC23), IF('Data PCB'!AC23=\"<LOD\",'Data PCB'!AC$38, \"ERROR\")))","v":""},{"$f":"IF('Data PCB'!AD23=\"\",\"\",IF(ISNUMBER('Data PCB'!AD23)=TRUE, IF('Data PCB'!AD23<'Data PCB'!AD$38, \"ERROR\", 'Data PCB'!AD23), IF('Data PCB'!AD23=\"<LOD\",'Data PCB'!AD$38, \"ERROR\")))","v":""},{"$f":"IF('Data PCB'!AE23=\"\",\"\",IF(ISNUMBER('Data PCB'!AE23)=TRUE, IF('Data PCB'!AE23<'Data PCB'!AE$38, \"ERROR\", 'Data PCB'!AE23), IF('Data PCB'!AE23=\"<LOD\",'Data PCB'!AE$38, \"ERROR\")))","v":""},{"$f":"IF('Data PCB'!AF23=\"\",\"\",IF(ISNUMBER('Data PCB'!AF23)=TRUE, IF('Data PCB'!AF23<'Data PCB'!AF$38, \"ERROR\", 'Data PCB'!AF23), IF('Data PCB'!AF23=\"<LOD\",'Data PCB'!AF$38, \"ERROR\")))","v":""},{"$f":"IF('Data PCB'!AG23=\"\",\"\",IF(ISNUMBER('Data PCB'!AG23)=TRUE, IF('Data PCB'!AG23<'Data PCB'!AG$38, \"ERROR\", 'Data PCB'!AG23), IF('Data PCB'!AG23=\"<LOD\",'Data PCB'!AG$38, \"ERROR\")))","v":""},{"$f":"IF('Data PCB'!AH23=\"\",\"\",IF(ISNUMBER('Data PCB'!AH23)=TRUE, IF('Data PCB'!AH23<'Data PCB'!AH$38, \"ERROR\", 'Data PCB'!AH23), IF('Data PCB'!AH23=\"<LOD\",'Data PCB'!AH$38, \"ERROR\")))","v":""},{"$f":"IF('Data PCB'!AI23=\"\",\"\",IF(ISNUMBER('Data PCB'!AI23)=TRUE, IF('Data PCB'!AI23<'Data PCB'!AI$38, \"ERROR\", 'Data PCB'!AI23), IF('Data PCB'!AI23=\"<LOD\",'Data PCB'!AI$38, \"ERROR\")))","v":""},"",""]
[null,null,null,null,null,null,null,{"$f":"IF('Data PCB'!H24=\"\",\"\",'Data PCB'!H24)","v":""},{"$f":"IF('Data PCB'!I24=\"\",\"\",'Data PCB'!I24)","v":""},{"$f":"IFERROR(IF(K25=\"\",\"\",(IF(VLOOKUP(K25,'Gwybodaeth ymgeiswyr'!$K$8:$L$37,2,0)=\"y\",\"y\",\"\"))),\"Manual entry required\")","v":""},{"$f":"IF('Data PCB'!J24=\"\",\"\",'Data PCB'!J24)","v":""},{"$f":"IF('Data PCB'!K24=\"\",\"\",IF(ISNUMBER('Data PCB'!K24)=TRUE, IF('Data PCB'!K24<'Data PCB'!K$38, \"ERROR\", 'Data PCB'!K24), IF('Data PCB'!K24=\"<LOD\",'Data PCB'!K$38, \"ERROR\")))","v":""},{"$f":"IF('Data PCB'!L24=\"\",\"\",IF(ISNUMBER('Data PCB'!L24)=TRUE, IF('Data PCB'!L24<'Data PCB'!L$38, \"ERROR\", 'Data PCB'!L24), IF('Data PCB'!L24=\"<LOD\",'Data PCB'!L$38, \"ERROR\")))","v":""},{"$f":"IF('Data PCB'!M24=\"\",\"\",IF(ISNUMBER('Data PCB'!M24)=TRUE, IF('Data PCB'!M24<'Data PCB'!M$38, \"ERROR\", 'Data PCB'!M24), IF('Data PCB'!M24=\"<LOD\",'Data PCB'!M$38, \"ERROR\")))","v":""},{"$f":"IF('Data PCB'!N24=\"\",\"\",IF(ISNUMBER('Data PCB'!N24)=TRUE, IF('Data PCB'!N24<'Data PCB'!N$38, \"ERROR\", 'Data PCB'!N24), IF('Data PCB'!N24=\"<LOD\",'Data PCB'!N$38, \"ERROR\")))","v":""},{"$f":"IF('Data PCB'!O24=\"\",\"\",IF(ISNUMBER('Data PCB'!O24)=TRUE, IF('Data PCB'!O24<'Data PCB'!O$38, \"ERROR\", 'Data PCB'!O24), IF('Data PCB'!O24=\"<LOD\",'Data PCB'!O$38, \"ERROR\")))","v":""},{"$f":"IF('Data PCB'!P24=\"\",\"\",IF(ISNUMBER('Data PCB'!P24)=TRUE, IF('Data PCB'!P24<'Data PCB'!P$38, \"ERROR\", 'Data PCB'!P24), IF('Data PCB'!P24=\"<LOD\",'Data PCB'!P$38, \"ERROR\")))","v":""},{"$f":"IF('Data PCB'!Q24=\"\",\"\",IF(ISNUMBER('Data PCB'!Q24)=TRUE, IF('Data PCB'!Q24<'Data PCB'!Q$38, \"ERROR\", 'Data PCB'!Q24), IF('Data PCB'!Q24=\"<LOD\",'Data PCB'!Q$38, \"ERROR\")))","v":""},{"$f":"IF('Data PCB'!R24=\"\",\"\",IF(ISNUMBER('Data PCB'!R24)=TRUE, IF('Data PCB'!R24<'Data PCB'!R$38, \"ERROR\", 'Data PCB'!R24), IF('Data PCB'!R24=\"<LOD\",'Data PCB'!R$38, \"ERROR\")))","v":""},{"$f":"IF('Data PCB'!S24=\"\",\"\",IF(ISNUMBER('Data PCB'!S24)=TRUE, IF('Data PCB'!S24<'Data PCB'!S$38, \"ERROR\", 'Data PCB'!S24), IF('Data PCB'!S24=\"<LOD\",'Data PCB'!S$38, \"ERROR\")))","v":""},{"$f":"IF('Data PCB'!T24=\"\",\"\",IF(ISNUMBER('Data PCB'!T24)=TRUE, IF('Data PCB'!T24<'Data PCB'!T$38, \"ERROR\", 'Data PCB'!T24), IF('Data PCB'!T24=\"<LOD\",'Data PCB'!T$38, \"ERROR\")))","v":""},{"$f":"IF('Data PCB'!U24=\"\",\"\",IF(ISNUMBER('Data PCB'!U24)=TRUE, IF('Data PCB'!U24<'Data PCB'!U$38, \"ERROR\", 'Data PCB'!U24), IF('Data PCB'!U24=\"<LOD\",'Data PCB'!U$38, \"ERROR\")))","v":""},{"$f":"IF('Data PCB'!V24=\"\",\"\",IF(ISNUMBER('Data PCB'!V24)=TRUE, IF('Data PCB'!V24<'Data PCB'!V$38, \"ERROR\", 'Data PCB'!V24), IF('Data PCB'!V24=\"<LOD\",'Data PCB'!V$38, \"ERROR\")))","v":""},{"$f":"IF('Data PCB'!W24=\"\",\"\",IF(ISNUMBER('Data PCB'!W24)=TRUE, IF('Data PCB'!W24<'Data PCB'!W$38, \"ERROR\", 'Data PCB'!W24), IF('Data PCB'!W24=\"<LOD\",'Data PCB'!W$38, \"ERROR\")))","v":""},{"$f":"IF('Data PCB'!X24=\"\",\"\",IF(ISNUMBER('Data PCB'!X24)=TRUE, IF('Data PCB'!X24<'Data PCB'!X$38, \"ERROR\", 'Data PCB'!X24), IF('Data PCB'!X24=\"<LOD\",'Data PCB'!X$38, \"ERROR\")))","v":""},{"$f":"IF('Data PCB'!Y24=\"\",\"\",IF(ISNUMBER('Data PCB'!Y24)=TRUE, IF('Data PCB'!Y24<'Data PCB'!Y$38, \"ERROR\", 'Data PCB'!Y24), IF('Data PCB'!Y24=\"<LOD\",'Data PCB'!Y$38, \"ERROR\")))","v":""},{"$f":"IF('Data PCB'!Z24=\"\",\"\",IF(ISNUMBER('Data PCB'!Z24)=TRUE, IF('Data PCB'!Z24<'Data PCB'!Z$38, \"ERROR\", 'Data PCB'!Z24), IF('Data PCB'!Z24=\"<LOD\",'Data PCB'!Z$38, \"ERROR\")))","v":""},{"$f":"IF('Data PCB'!AA24=\"\",\"\",IF(ISNUMBER('Data PCB'!AA24)=TRUE, IF('Data PCB'!AA24<'Data PCB'!AA$38, \"ERROR\", 'Data PCB'!AA24), IF('Data PCB'!AA24=\"<LOD\",'Data PCB'!AA$38, \"ERROR\")))","v":""},{"$f":"IF('Data PCB'!AB24=\"\",\"\",IF(ISNUMBER('Data PCB'!AB24)=TRUE, IF('Data PCB'!AB24<'Data PCB'!AB$38, \"ERROR\", 'Data PCB'!AB24), IF('Data PCB'!AB24=\"<LOD\",'Data PCB'!AB$38, \"ERROR\")))","v":""},{"$f":"IF('Data PCB'!AC24=\"\",\"\",IF(ISNUMBER('Data PCB'!AC24)=TRUE, IF('Data PCB'!AC24<'Data PCB'!AC$38, \"ERROR\", 'Data PCB'!AC24), IF('Data PCB'!AC24=\"<LOD\",'Data PCB'!AC$38, \"ERROR\")))","v":""},{"$f":"IF('Data PCB'!AD24=\"\",\"\",IF(ISNUMBER('Data PCB'!AD24)=TRUE, IF('Data PCB'!AD24<'Data PCB'!AD$38, \"ERROR\", 'Data PCB'!AD24), IF('Data PCB'!AD24=\"<LOD\",'Data PCB'!AD$38, \"ERROR\")))","v":""},{"$f":"IF('Data PCB'!AE24=\"\",\"\",IF(ISNUMBER('Data PCB'!AE24)=TRUE, IF('Data PCB'!AE24<'Data PCB'!AE$38, \"ERROR\", 'Data PCB'!AE24), IF('Data PCB'!AE24=\"<LOD\",'Data PCB'!AE$38, \"ERROR\")))","v":""},{"$f":"IF('Data PCB'!AF24=\"\",\"\",IF(ISNUMBER('Data PCB'!AF24)=TRUE, IF('Data PCB'!AF24<'Data PCB'!AF$38, \"ERROR\", 'Data PCB'!AF24), IF('Data PCB'!AF24=\"<LOD\",'Data PCB'!AF$38, \"ERROR\")))","v":""},{"$f":"IF('Data PCB'!AG24=\"\",\"\",IF(ISNUMBER('Data PCB'!AG24)=TRUE, IF('Data PCB'!AG24<'Data PCB'!AG$38, \"ERROR\", 'Data PCB'!AG24), IF('Data PCB'!AG24=\"<LOD\",'Data PCB'!AG$38, \"ERROR\")))","v":""},{"$f":"IF('Data PCB'!AH24=\"\",\"\",IF(ISNUMBER('Data PCB'!AH24)=TRUE, IF('Data PCB'!AH24<'Data PCB'!AH$38, \"ERROR\", 'Data PCB'!AH24), IF('Data PCB'!AH24=\"<LOD\",'Data PCB'!AH$38, \"ERROR\")))","v":""},{"$f":"IF('Data PCB'!AI24=\"\",\"\",IF(ISNUMBER('Data PCB'!AI24)=TRUE, IF('Data PCB'!AI24<'Data PCB'!AI$38, \"ERROR\", 'Data PCB'!AI24), IF('Data PCB'!AI24=\"<LOD\",'Data PCB'!AI$38, \"ERROR\")))","v":""},"",""]
[null,null,null,null,null,null,null,{"$f":"IF('Data PCB'!H25=\"\",\"\",'Data PCB'!H25)","v":""},{"$f":"IF('Data PCB'!I25=\"\",\"\",'Data PCB'!I25)","v":""},{"$f":"IFERROR(IF(K26=\"\",\"\",(IF(VLOOKUP(K26,'Gwybodaeth ymgeiswyr'!$K$8:$L$37,2,0)=\"y\",\"y\",\"\"))),\"Manual entry required\")","v":""},{"$f":"IF('Data PCB'!J25=\"\",\"\",'Data PCB'!J25)","v":""},{"$f":"IF('Data PCB'!K25=\"\",\"\",IF(ISNUMBER('Data PCB'!K25)=TRUE, IF('Data PCB'!K25<'Data PCB'!K$38, \"ERROR\", 'Data PCB'!K25), IF('Data PCB'!K25=\"<LOD\",'Data PCB'!K$38, \"ERROR\")))","v":""},{"$f":"IF('Data PCB'!L25=\"\",\"\",IF(ISNUMBER('Data PCB'!L25)=TRUE, IF('Data PCB'!L25<'Data PCB'!L$38, \"ERROR\", 'Data PCB'!L25), IF('Data PCB'!L25=\"<LOD\",'Data PCB'!L$38, \"ERROR\")))","v":""},{"$f":"IF('Data PCB'!M25=\"\",\"\",IF(ISNUMBER('Data PCB'!M25)=TRUE, IF('Data PCB'!M25<'Data PCB'!M$38, \"ERROR\", 'Data PCB'!M25), IF('Data PCB'!M25=\"<LOD\",'Data PCB'!M$38, \"ERROR\")))","v":""},{"$f":"IF('Data PCB'!N25=\"\",\"\",IF(ISNUMBER('Data PCB'!N25)=TRUE, IF('Data PCB'!N25<'Data PCB'!N$38, \"ERROR\", 'Data PCB'!N25), IF('Data PCB'!N25=\"<LOD\",'Data PCB'!N$38, \"ERROR\")))","v":""},{"$f":"IF('Data PCB'!O25=\"\",\"\",IF(ISNUMBER('Data PCB'!O25)=TRUE, IF('Data PCB'!O25<'Data PCB'!O$38, \"ERROR\", 'Data PCB'!O25), IF('Data PCB'!O25=\"<LOD\",'Data PCB'!O$38, \"ERROR\")))","v":""},{"$f":"IF('Data PCB'!P25=\"\",\"\",IF(ISNUMBER('Data PCB'!P25)=TRUE, IF('Data PCB'!P25<'Data PCB'!P$38, \"ERROR\", 'Data PCB'!P25), IF('Data PCB'!P25=\"<LOD\",'Data PCB'!P$38, \"ERROR\")))","v":""},{"$f":"IF('Data PCB'!Q25=\"\",\"\",IF(ISNUMBER('Data PCB'!Q25)=TRUE, IF('Data PCB'!Q25<'Data PCB'!Q$38, \"ERROR\", 'Data PCB'!Q25), IF('Data PCB'!Q25=\"<LOD\",'Data PCB'!Q$38, \"ERROR\")))","v":""},{"$f":"IF('Data PCB'!R25=\"\",\"\",IF(ISNUMBER('Data PCB'!R25)=TRUE, IF('Data PCB'!R25<'Data PCB'!R$38, \"ERROR\", 'Data PCB'!R25), IF('Data PCB'!R25=\"<LOD\",'Data PCB'!R$38, \"ERROR\")))","v":""},{"$f":"IF('Data PCB'!S25=\"\",\"\",IF(ISNUMBER('Data PCB'!S25)=TRUE, IF('Data PCB'!S25<'Data PCB'!S$38, \"ERROR\", 'Data PCB'!S25), IF('Data PCB'!S25=\"<LOD\",'Data PCB'!S$38, \"ERROR\")))","v":""},{"$f":"IF('Data PCB'!T25=\"\",\"\",IF(ISNUMBER('Data PCB'!T25)=TRUE, IF('Data PCB'!T25<'Data PCB'!T$38, \"ERROR\", 'Data PCB'!T25), IF('Data PCB'!T25=\"<LOD\",'Data PCB'!T$38, \"ERROR\")))","v":""},{"$f":"IF('Data PCB'!U25=\"\",\"\",IF(ISNUMBER('Data PCB'!U25)=TRUE, IF('Data PCB'!U25<'Data PCB'!U$38, \"ERROR\", 'Data PCB'!U25), IF('Data PCB'!U25=\"<LOD\",'Data PCB'!U$38, \"ERROR\")))","v":""},{"$f":"IF('Data PCB'!V25=\"\",\"\",IF(ISNUMBER('Data PCB'!V25)=TRUE, IF('Data PCB'!V25<'Data PCB'!V$38, \"ERROR\", 'Data PCB'!V25), IF('Data PCB'!V25=\"<LOD\",'Data PCB'!V$38, \"ERROR\")))","v":""},{"$f":"IF('Data PCB'!W25=\"\",\"\",IF(ISNUMBER('Data PCB'!W25)=TRUE, IF('Data PCB'!W25<'Data PCB'!W$38, \"ERROR\", 'Data PCB'!W25), IF('Data PCB'!W25=\"<LOD\",'Data PCB'!W$38, \"ERROR\")))","v":""},{"$f":"IF('Data PCB'!X25=\"\",\"\",IF(ISNUMBER('Data PCB'!X25)=TRUE, IF('Data PCB'!X25<'Data PCB'!X$38, \"ERROR\", 'Data PCB'!X25), IF('Data PCB'!X25=\"<LOD\",'Data PCB'!X$38, \"ERROR\")))","v":""},{"$f":"IF('Data PCB'!Y25=\"\",\"\",IF(ISNUMBER('Data PCB'!Y25)=TRUE, IF('Data PCB'!Y25<'Data PCB'!Y$38, \"ERROR\", 'Data PCB'!Y25), IF('Data PCB'!Y25=\"<LOD\",'Data PCB'!Y$38, \"ERROR\")))","v":""},{"$f":"IF('Data PCB'!Z25=\"\",\"\",IF(ISNUMBER('Data PCB'!Z25)=TRUE, IF('Data PCB'!Z25<'Data PCB'!Z$38, \"ERROR\", 'Data PCB'!Z25), IF('Data PCB'!Z25=\"<LOD\",'Data PCB'!Z$38, \"ERROR\")))","v":""},{"$f":"IF('Data PCB'!AA25=\"\",\"\",IF(ISNUMBER('Data PCB'!AA25)=TRUE, IF('Data PCB'!AA25<'Data PCB'!AA$38, \"ERROR\", 'Data PCB'!AA25), IF('Data PCB'!AA25=\"<LOD\",'Data PCB'!AA$38, \"ERROR\")))","v":""},{"$f":"IF('Data PCB'!AB25=\"\",\"\",IF(ISNUMBER('Data PCB'!AB25)=TRUE, IF('Data PCB'!AB25<'Data PCB'!AB$38, \"ERROR\", 'Data PCB'!AB25), IF('Data PCB'!AB25=\"<LOD\",'Data PCB'!AB$38, \"ERROR\")))","v":""},{"$f":"IF('Data PCB'!AC25=\"\",\"\",IF(ISNUMBER('Data PCB'!AC25)=TRUE, IF('Data PCB'!AC25<'Data PCB'!AC$38, \"ERROR\", 'Data PCB'!AC25), IF('Data PCB'!AC25=\"<LOD\",'Data PCB'!AC$38, \"ERROR\")))","v":""},{"$f":"IF('Data PCB'!AD25=\"\",\"\",IF(ISNUMBER('Data PCB'!AD25)=TRUE, IF('Data PCB'!AD25<'Data PCB'!AD$38, \"ERROR\", 'Data PCB'!AD25), IF('Data PCB'!AD25=\"<LOD\",'Data PCB'!AD$38, \"ERROR\")))","v":""},{"$f":"IF('Data PCB'!AE25=\"\",\"\",IF(ISNUMBER('Data PCB'!AE25)=TRUE, IF('Data PCB'!AE25<'Data PCB'!AE$38, \"ERROR\", 'Data PCB'!AE25), IF('Data PCB'!AE25=\"<LOD\",'Data PCB'!AE$38, \"ERROR\")))","v":""},{"$f":"IF('Data PCB'!AF25=\"\",\"\",IF(ISNUMBER('Data PCB'!AF25)=TRUE, IF('Data PCB'!AF25<'Data PCB'!AF$38, \"ERROR\", 'Data PCB'!AF25), IF('Data PCB'!AF25=\"<LOD\",'Data PCB'!AF$38, \"ERROR\")))","v":""},{"$f":"IF('Data PCB'!AG25=\"\",\"\",IF(ISNUMBER('Data PCB'!AG25)=TRUE, IF('Data PCB'!AG25<'Data PCB'!AG$38, \"ERROR\", 'Data PCB'!AG25), IF('Data PCB'!AG25=\"<LOD\",'Data PCB'!AG$38, \"ERROR\")))","v":""},{"$f":"IF('Data PCB'!AH25=\"\",\"\",IF(ISNUMBER('Data PCB'!AH25)=TRUE, IF('Data PCB'!AH25<'Data PCB'!AH$38, \"ERROR\", 'Data PCB'!AH25), IF('Data PCB'!AH25=\"<LOD\",'Data PCB'!AH$38, \"ERROR\")))","v":""},{"$f":"IF('Data PCB'!AI25=\"\",\"\",IF(ISNUMBER('Data PCB'!AI25)=TRUE, IF('Data PCB'!AI25<'Data PCB'!AI$38, \"ERROR\", 'Data PCB'!AI25), IF('Data PCB'!AI25=\"<LOD\",'Data PCB'!AI$38, \"ERROR\")))","v":""},"",""]
[null,null,null,null,null,null,null,{"$f":"IF('Data PCB'!H26=\"\",\"\",'Data PCB'!H26)","v":""},{"$f":"IF('Data PCB'!I26=\"\",\"\",'Data PCB'!I26)","v":""},{"$f":"IFERROR(IF(K27=\"\",\"\",(IF(VLOOKUP(K27,'Gwybodaeth ymgeiswyr'!$K$8:$L$37,2,0)=\"y\",\"y\",\"\"))),\"Manual entry required\")","v":""},{"$f":"IF('Data PCB'!J26=\"\",\"\",'Data PCB'!J26)","v":""},{"$f":"IF('Data PCB'!K26=\"\",\"\",IF(ISNUMBER('Data PCB'!K26)=TRUE, IF('Data PCB'!K26<'Data PCB'!K$38, \"ERROR\", 'Data PCB'!K26), IF('Data PCB'!K26=\"<LOD\",'Data PCB'!K$38, \"ERROR\")))","v":""},{"$f":"IF('Data PCB'!L26=\"\",\"\",IF(ISNUMBER('Data PCB'!L26)=TRUE, IF('Data PCB'!L26<'Data PCB'!L$38, \"ERROR\", 'Data PCB'!L26), IF('Data PCB'!L26=\"<LOD\",'Data PCB'!L$38, \"ERROR\")))","v":""},{"$f":"IF('Data PCB'!M26=\"\",\"\",IF(ISNUMBER('Data PCB'!M26)=TRUE, IF('Data PCB'!M26<'Data PCB'!M$38, \"ERROR\", 'Data PCB'!M26), IF('Data PCB'!M26=\"<LOD\",'Data PCB'!M$38, \"ERROR\")))","v":""},{"$f":"IF('Data PCB'!N26=\"\",\"\",IF(ISNUMBER('Data PCB'!N26)=TRUE, IF('Data PCB'!N26<'Data PCB'!N$38, \"ERROR\", 'Data PCB'!N26), IF('Data PCB'!N26=\"<LOD\",'Data PCB'!N$38, \"ERROR\")))","v":""},{"$f":"IF('Data PCB'!O26=\"\",\"\",IF(ISNUMBER('Data PCB'!O26)=TRUE, IF('Data PCB'!O26<'Data PCB'!O$38, \"ERROR\", 'Data PCB'!O26), IF('Data PCB'!O26=\"<LOD\",'Data PCB'!O$38, \"ERROR\")))","v":""},{"$f":"IF('Data PCB'!P26=\"\",\"\",IF(ISNUMBER('Data PCB'!P26)=TRUE, IF('Data PCB'!P26<'Data PCB'!P$38, \"ERROR\", 'Data PCB'!P26), IF('Data PCB'!P26=\"<LOD\",'Data PCB'!P$38, \"ERROR\")))","v":""},{"$f":"IF('Data PCB'!Q26=\"\",\"\",IF(ISNUMBER('Data PCB'!Q26)=TRUE, IF('Data PCB'!Q26<'Data PCB'!Q$38, \"ERROR\", 'Data PCB'!Q26), IF('Data PCB'!Q26=\"<LOD\",'Data PCB'!Q$38, \"ERROR\")))","v":""},{"$f":"IF('Data PCB'!R26=\"\",\"\",IF(ISNUMBER('Data PCB'!R26)=TRUE, IF('Data PCB'!R26<'Data PCB'!R$38, \"ERROR\", 'Data PCB'!R26), IF('Data PCB'!R26=\"<LOD\",'Data PCB'!R$38, \"ERROR\")))","v":""},{"$f":"IF('Data PCB'!S26=\"\",\"\",IF(ISNUMBER('Data PCB'!S26)=TRUE, IF('Data PCB'!S26<'Data PCB'!S$38, \"ERROR\", 'Data PCB'!S26), IF('Data PCB'!S26=\"<LOD\",'Data PCB'!S$38, \"ERROR\")))","v":""},{"$f":"IF('Data PCB'!T26=\"\",\"\",IF(ISNUMBER('Data PCB'!T26)=TRUE, IF('Data PCB'!T26<'Data PCB'!T$38, \"ERROR\", 'Data PCB'!T26), IF('Data PCB'!T26=\"<LOD\",'Data PCB'!T$38, \"ERROR\")))","v":""},{"$f":"IF('Data PCB'!U26=\"\",\"\",IF(ISNUMBER('Data PCB'!U26)=TRUE, IF('Data PCB'!U26<'Data PCB'!U$38, \"ERROR\", 'Data PCB'!U26), IF('Data PCB'!U26=\"<LOD\",'Data PCB'!U$38, \"ERROR\")))","v":""},{"$f":"IF('Data PCB'!V26=\"\",\"\",IF(ISNUMBER('Data PCB'!V26)=TRUE, IF('Data PCB'!V26<'Data PCB'!V$38, \"ERROR\", 'Data PCB'!V26), IF('Data PCB'!V26=\"<LOD\",'Data PCB'!V$38, \"ERROR\")))","v":""},{"$f":"IF('Data PCB'!W26=\"\",\"\",IF(ISNUMBER('Data PCB'!W26)=TRUE, IF('Data PCB'!W26<'Data PCB'!W$38, \"ERROR\", 'Data PCB'!W26), IF('Data PCB'!W26=\"<LOD\",'Data PCB'!W$38, \"ERROR\")))","v":""},{"$f":"IF('Data PCB'!X26=\"\",\"\",IF(ISNUMBER('Data PCB'!X26)=TRUE, IF('Data PCB'!X26<'Data PCB'!X$38, \"ERROR\", 'Data PCB'!X26), IF('Data PCB'!X26=\"<LOD\",'Data PCB'!X$38, \"ERROR\")))","v":""},{"$f":"IF('Data PCB'!Y26=\"\",\"\",IF(ISNUMBER('Data PCB'!Y26)=TRUE, IF('Data PCB'!Y26<'Data PCB'!Y$38, \"ERROR\", 'Data PCB'!Y26), IF('Data PCB'!Y26=\"<LOD\",'Data PCB'!Y$38, \"ERROR\")))","v":""},{"$f":"IF('Data PCB'!Z26=\"\",\"\",IF(ISNUMBER('Data PCB'!Z26)=TRUE, IF('Data PCB'!Z26<'Data PCB'!Z$38, \"ERROR\", 'Data PCB'!Z26), IF('Data PCB'!Z26=\"<LOD\",'Data PCB'!Z$38, \"ERROR\")))","v":""},{"$f":"IF('Data PCB'!AA26=\"\",\"\",IF(ISNUMBER('Data PCB'!AA26)=TRUE, IF('Data PCB'!AA26<'Data PCB'!AA$38, \"ERROR\", 'Data PCB'!AA26), IF('Data PCB'!AA26=\"<LOD\",'Data PCB'!AA$38, \"ERROR\")))","v":""},{"$f":"IF('Data PCB'!AB26=\"\",\"\",IF(ISNUMBER('Data PCB'!AB26)=TRUE, IF('Data PCB'!AB26<'Data PCB'!AB$38, \"ERROR\", 'Data PCB'!AB26), IF('Data PCB'!AB26=\"<LOD\",'Data PCB'!AB$38, \"ERROR\")))","v":""},{"$f":"IF('Data PCB'!AC26=\"\",\"\",IF(ISNUMBER('Data PCB'!AC26)=TRUE, IF('Data PCB'!AC26<'Data PCB'!AC$38, \"ERROR\", 'Data PCB'!AC26), IF('Data PCB'!AC26=\"<LOD\",'Data PCB'!AC$38, \"ERROR\")))","v":""},{"$f":"IF('Data PCB'!AD26=\"\",\"\",IF(ISNUMBER('Data PCB'!AD26)=TRUE, IF('Data PCB'!AD26<'Data PCB'!AD$38, \"ERROR\", 'Data PCB'!AD26), IF('Data PCB'!AD26=\"<LOD\",'Data PCB'!AD$38, \"ERROR\")))","v":""},{"$f":"IF('Data PCB'!AE26=\"\",\"\",IF(ISNUMBER('Data PCB'!AE26)=TRUE, IF('Data PCB'!AE26<'Data PCB'!AE$38, \"ERROR\", 'Data PCB'!AE26), IF('Data PCB'!AE26=\"<LOD\",'Data PCB'!AE$38, \"ERROR\")))","v":""},{"$f":"IF('Data PCB'!AF26=\"\",\"\",IF(ISNUMBER('Data PCB'!AF26)=TRUE, IF('Data PCB'!AF26<'Data PCB'!AF$38, \"ERROR\", 'Data PCB'!AF26), IF('Data PCB'!AF26=\"<LOD\",'Data PCB'!AF$38, \"ERROR\")))","v":""},{"$f":"IF('Data PCB'!AG26=\"\",\"\",IF(ISNUMBER('Data PCB'!AG26)=TRUE, IF('Data PCB'!AG26<'Data PCB'!AG$38, \"ERROR\", 'Data PCB'!AG26), IF('Data PCB'!AG26=\"<LOD\",'Data PCB'!AG$38, \"ERROR\")))","v":""},{"$f":"IF('Data PCB'!AH26=\"\",\"\",IF(ISNUMBER('Data PCB'!AH26)=TRUE, IF('Data PCB'!AH26<'Data PCB'!AH$38, \"ERROR\", 'Data PCB'!AH26), IF('Data PCB'!AH26=\"<LOD\",'Data PCB'!AH$38, \"ERROR\")))","v":""},{"$f":"IF('Data PCB'!AI26=\"\",\"\",IF(ISNUMBER('Data PCB'!AI26)=TRUE, IF('Data PCB'!AI26<'Data PCB'!AI$38, \"ERROR\", 'Data PCB'!AI26), IF('Data PCB'!AI26=\"<LOD\",'Data PCB'!AI$38, \"ERROR\")))","v":""},"",""]
[null,null,null,null,null,null,null,{"$f":"IF('Data PCB'!H27=\"\",\"\",'Data PCB'!H27)","v":""},{"$f":"IF('Data PCB'!I27=\"\",\"\",'Data PCB'!I27)","v":""},{"$f":"IFERROR(IF(K28=\"\",\"\",(IF(VLOOKUP(K28,'Gwybodaeth ymgeiswyr'!$K$8:$L$37,2,0)=\"y\",\"y\",\"\"))),\"Manual entry required\")","v":""},{"$f":"IF('Data PCB'!J27=\"\",\"\",'Data PCB'!J27)","v":""},{"$f":"IF('Data PCB'!K27=\"\",\"\",IF(ISNUMBER('Data PCB'!K27)=TRUE, IF('Data PCB'!K27<'Data PCB'!K$38, \"ERROR\", 'Data PCB'!K27), IF('Data PCB'!K27=\"<LOD\",'Data PCB'!K$38, \"ERROR\")))","v":""},{"$f":"IF('Data PCB'!L27=\"\",\"\",IF(ISNUMBER('Data PCB'!L27)=TRUE, IF('Data PCB'!L27<'Data PCB'!L$38, \"ERROR\", 'Data PCB'!L27), IF('Data PCB'!L27=\"<LOD\",'Data PCB'!L$38, \"ERROR\")))","v":""},{"$f":"IF('Data PCB'!M27=\"\",\"\",IF(ISNUMBER('Data PCB'!M27)=TRUE, IF('Data PCB'!M27<'Data PCB'!M$38, \"ERROR\", 'Data PCB'!M27), IF('Data PCB'!M27=\"<LOD\",'Data PCB'!M$38, \"ERROR\")))","v":""},{"$f":"IF('Data PCB'!N27=\"\",\"\",IF(ISNUMBER('Data PCB'!N27)=TRUE, IF('Data PCB'!N27<'Data PCB'!N$38, \"ERROR\", 'Data PCB'!N27), IF('Data PCB'!N27=\"<LOD\",'Data PCB'!N$38, \"ERROR\")))","v":""},{"$f":"IF('Data PCB'!O27=\"\",\"\",IF(ISNUMBER('Data PCB'!O27)=TRUE, IF('Data PCB'!O27<'Data PCB'!O$38, \"ERROR\", 'Data PCB'!O27), IF('Data PCB'!O27=\"<LOD\",'Data PCB'!O$38, \"ERROR\")))","v":""},{"$f":"IF('Data PCB'!P27=\"\",\"\",IF(ISNUMBER('Data PCB'!P27)=TRUE, IF('Data PCB'!P27<'Data PCB'!P$38, \"ERROR\", 'Data PCB'!P27), IF('Data PCB'!P27=\"<LOD\",'Data PCB'!P$38, \"ERROR\")))","v":""},{"$f":"IF('Data PCB'!Q27=\"\",\"\",IF(ISNUMBER('Data PCB'!Q27)=TRUE, IF('Data PCB'!Q27<'Data PCB'!Q$38, \"ERROR\", 'Data PCB'!Q27), IF('Data PCB'!Q27=\"<LOD\",'Data PCB'!Q$38, \"ERROR\")))","v":""},{"$f":"IF('Data PCB'!R27=\"\",\"\",IF(ISNUMBER('Data PCB'!R27)=TRUE, IF('Data PCB'!R27<'Data PCB'!R$38, \"ERROR\", 'Data PCB'!R27), IF('Data PCB'!R27=\"<LOD\",'Data PCB'!R$38, \"ERROR\")))","v":""},{"$f":"IF('Data PCB'!S27=\"\",\"\",IF(ISNUMBER('Data PCB'!S27)=TRUE, IF('Data PCB'!S27<'Data PCB'!S$38, \"ERROR\", 'Data PCB'!S27), IF('Data PCB'!S27=\"<LOD\",'Data PCB'!S$38, \"ERROR\")))","v":""},{"$f":"IF('Data PCB'!T27=\"\",\"\",IF(ISNUMBER('Data PCB'!T27)=TRUE, IF('Data PCB'!T27<'Data PCB'!T$38, \"ERROR\", 'Data PCB'!T27), IF('Data PCB'!T27=\"<LOD\",'Data PCB'!T$38, \"ERROR\")))","v":""},{"$f":"IF('Data PCB'!U27=\"\",\"\",IF(ISNUMBER('Data PCB'!U27)=TRUE, IF('Data PCB'!U27<'Data PCB'!U$38, \"ERROR\", 'Data PCB'!U27), IF('Data PCB'!U27=\"<LOD\",'Data PCB'!U$38, \"ERROR\")))","v":""},{"$f":"IF('Data PCB'!V27=\"\",\"\",IF(ISNUMBER('Data PCB'!V27)=TRUE, IF('Data PCB'!V27<'Data PCB'!V$38, \"ERROR\", 'Data PCB'!V27), IF('Data PCB'!V27=\"<LOD\",'Data PCB'!V$38, \"ERROR\")))","v":""},{"$f":"IF('Data PCB'!W27=\"\",\"\",IF(ISNUMBER('Data PCB'!W27)=TRUE, IF('Data PCB'!W27<'Data PCB'!W$38, \"ERROR\", 'Data PCB'!W27), IF('Data PCB'!W27=\"<LOD\",'Data PCB'!W$38, \"ERROR\")))","v":""},{"$f":"IF('Data PCB'!X27=\"\",\"\",IF(ISNUMBER('Data PCB'!X27)=TRUE, IF('Data PCB'!X27<'Data PCB'!X$38, \"ERROR\", 'Data PCB'!X27), IF('Data PCB'!X27=\"<LOD\",'Data PCB'!X$38, \"ERROR\")))","v":""},{"$f":"IF('Data PCB'!Y27=\"\",\"\",IF(ISNUMBER('Data PCB'!Y27)=TRUE, IF('Data PCB'!Y27<'Data PCB'!Y$38, \"ERROR\", 'Data PCB'!Y27), IF('Data PCB'!Y27=\"<LOD\",'Data PCB'!Y$38, \"ERROR\")))","v":""},{"$f":"IF('Data PCB'!Z27=\"\",\"\",IF(ISNUMBER('Data PCB'!Z27)=TRUE, IF('Data PCB'!Z27<'Data PCB'!Z$38, \"ERROR\", 'Data PCB'!Z27), IF('Data PCB'!Z27=\"<LOD\",'Data PCB'!Z$38, \"ERROR\")))","v":""},{"$f":"IF('Data PCB'!AA27=\"\",\"\",IF(ISNUMBER('Data PCB'!AA27)=TRUE, IF('Data PCB'!AA27<'Data PCB'!AA$38, \"ERROR\", 'Data PCB'!AA27), IF('Data PCB'!AA27=\"<LOD\",'Data PCB'!AA$38, \"ERROR\")))","v":""},{"$f":"IF('Data PCB'!AB27=\"\",\"\",IF(ISNUMBER('Data PCB'!AB27)=TRUE, IF('Data PCB'!AB27<'Data PCB'!AB$38, \"ERROR\", 'Data PCB'!AB27), IF('Data PCB'!AB27=\"<LOD\",'Data PCB'!AB$38, \"ERROR\")))","v":""},{"$f":"IF('Data PCB'!AC27=\"\",\"\",IF(ISNUMBER('Data PCB'!AC27)=TRUE, IF('Data PCB'!AC27<'Data PCB'!AC$38, \"ERROR\", 'Data PCB'!AC27), IF('Data PCB'!AC27=\"<LOD\",'Data PCB'!AC$38, \"ERROR\")))","v":""},{"$f":"IF('Data PCB'!AD27=\"\",\"\",IF(ISNUMBER('Data PCB'!AD27)=TRUE, IF('Data PCB'!AD27<'Data PCB'!AD$38, \"ERROR\", 'Data PCB'!AD27), IF('Data PCB'!AD27=\"<LOD\",'Data PCB'!AD$38, \"ERROR\")))","v":""},{"$f":"IF('Data PCB'!AE27=\"\",\"\",IF(ISNUMBER('Data PCB'!AE27)=TRUE, IF('Data PCB'!AE27<'Data PCB'!AE$38, \"ERROR\", 'Data PCB'!AE27), IF('Data PCB'!AE27=\"<LOD\",'Data PCB'!AE$38, \"ERROR\")))","v":""},{"$f":"IF('Data PCB'!AF27=\"\",\"\",IF(ISNUMBER('Data PCB'!AF27)=TRUE, IF('Data PCB'!AF27<'Data PCB'!AF$38, \"ERROR\", 'Data PCB'!AF27), IF('Data PCB'!AF27=\"<LOD\",'Data PCB'!AF$38, \"ERROR\")))","v":""},{"$f":"IF('Data PCB'!AG27=\"\",\"\",IF(ISNUMBER('Data PCB'!AG27)=TRUE, IF('Data PCB'!AG27<'Data PCB'!AG$38, \"ERROR\", 'Data PCB'!AG27), IF('Data PCB'!AG27=\"<LOD\",'Data PCB'!AG$38, \"ERROR\")))","v":""},{"$f":"IF('Data PCB'!AH27=\"\",\"\",IF(ISNUMBER('Data PCB'!AH27)=TRUE, IF('Data PCB'!AH27<'Data PCB'!AH$38, \"ERROR\", 'Data PCB'!AH27), IF('Data PCB'!AH27=\"<LOD\",'Data PCB'!AH$38, \"ERROR\")))","v":""},{"$f":"IF('Data PCB'!AI27=\"\",\"\",IF(ISNUMBER('Data PCB'!AI27)=TRUE, IF('Data PCB'!AI27<'Data PCB'!AI$38, \"ERROR\", 'Data PCB'!AI27), IF('Data PCB'!AI27=\"<LOD\",'Data PCB'!AI$38, \"ERROR\")))","v":""},"",""]
[null,null,null,null,null,null,null,{"$f":"IF('Data PCB'!H28=\"\",\"\",'Data PCB'!H28)","v":""},{"$f":"IF('Data PCB'!I28=\"\",\"\",'Data PCB'!I28)","v":""},{"$f":"IFERROR(IF(K29=\"\",\"\",(IF(VLOOKUP(K29,'Gwybodaeth ymgeiswyr'!$K$8:$L$37,2,0)=\"y\",\"y\",\"\"))),\"Manual entry required\")","v":""},{"$f":"IF('Data PCB'!J28=\"\",\"\",'Data PCB'!J28)","v":""},{"$f":"IF('Data PCB'!K28=\"\",\"\",IF(ISNUMBER('Data PCB'!K28)=TRUE, IF('Data PCB'!K28<'Data PCB'!K$38, \"ERROR\", 'Data PCB'!K28), IF('Data PCB'!K28=\"<LOD\",'Data PCB'!K$38, \"ERROR\")))","v":""},{"$f":"IF('Data PCB'!L28=\"\",\"\",IF(ISNUMBER('Data PCB'!L28)=TRUE, IF('Data PCB'!L28<'Data PCB'!L$38, \"ERROR\", 'Data PCB'!L28), IF('Data PCB'!L28=\"<LOD\",'Data PCB'!L$38, \"ERROR\")))","v":""},{"$f":"IF('Data PCB'!M28=\"\",\"\",IF(ISNUMBER('Data PCB'!M28)=TRUE, IF('Data PCB'!M28<'Data PCB'!M$38, \"ERROR\", 'Data PCB'!M28), IF('Data PCB'!M28=\"<LOD\",'Data PCB'!M$38, \"ERROR\")))","v":""},{"$f":"IF('Data PCB'!N28=\"\",\"\",IF(ISNUMBER('Data PCB'!N28)=TRUE, IF('Data PCB'!N28<'Data PCB'!N$38, \"ERROR\", 'Data PCB'!N28), IF('Data PCB'!N28=\"<LOD\",'Data PCB'!N$38, \"ERROR\")))","v":""},{"$f":"IF('Data PCB'!O28=\"\",\"\",IF(ISNUMBER('Data PCB'!O28)=TRUE, IF('Data PCB'!O28<'Data PCB'!O$38, \"ERROR\", 'Data PCB'!O28), IF('Data PCB'!O28=\"<LOD\",'Data PCB'!O$38, \"ERROR\")))","v":""},{"$f":"IF('Data PCB'!P28=\"\",\"\",IF(ISNUMBER('Data PCB'!P28)=TRUE, IF('Data PCB'!P28<'Data PCB'!P$38, \"ERROR\", 'Data PCB'!P28), IF('Data PCB'!P28=\"<LOD\",'Data PCB'!P$38, \"ERROR\")))","v":""},{"$f":"IF('Data PCB'!Q28=\"\",\"\",IF(ISNUMBER('Data PCB'!Q28)=TRUE, IF('Data PCB'!Q28<'Data PCB'!Q$38, \"ERROR\", 'Data PCB'!Q28), IF('Data PCB'!Q28=\"<LOD\",'Data PCB'!Q$38, \"ERROR\")))","v":""},{"$f":"IF('Data PCB'!R28=\"\",\"\",IF(ISNUMBER('Data PCB'!R28)=TRUE, IF('Data PCB'!R28<'Data PCB'!R$38, \"ERROR\", 'Data PCB'!R28), IF('Data PCB'!R28=\"<LOD\",'Data PCB'!R$38, \"ERROR\")))","v":""},{"$f":"IF('Data PCB'!S28=\"\",\"\",IF(ISNUMBER('Data PCB'!S28)=TRUE, IF('Data PCB'!S28<'Data PCB'!S$38, \"ERROR\", 'Data PCB'!S28), IF('Data PCB'!S28=\"<LOD\",'Data PCB'!S$38, \"ERROR\")))","v":""},{"$f":"IF('Data PCB'!T28=\"\",\"\",IF(ISNUMBER('Data PCB'!T28)=TRUE, IF('Data PCB'!T28<'Data PCB'!T$38, \"ERROR\", 'Data PCB'!T28), IF('Data PCB'!T28=\"<LOD\",'Data PCB'!T$38, \"ERROR\")))","v":""},{"$f":"IF('Data PCB'!U28=\"\",\"\",IF(ISNUMBER('Data PCB'!U28)=TRUE, IF('Data PCB'!U28<'Data PCB'!U$38, \"ERROR\", 'Data PCB'!U28), IF('Data PCB'!U28=\"<LOD\",'Data PCB'!U$38, \"ERROR\")))","v":""},{"$f":"IF('Data PCB'!V28=\"\",\"\",IF(ISNUMBER('Data PCB'!V28)=TRUE, IF('Data PCB'!V28<'Data PCB'!V$38, \"ERROR\", 'Data PCB'!V28), IF('Data PCB'!V28=\"<LOD\",'Data PCB'!V$38, \"ERROR\")))","v":""},{"$f":"IF('Data PCB'!W28=\"\",\"\",IF(ISNUMBER('Data PCB'!W28)=TRUE, IF('Data PCB'!W28<'Data PCB'!W$38, \"ERROR\", 'Data PCB'!W28), IF('Data PCB'!W28=\"<LOD\",'Data PCB'!W$38, \"ERROR\")))","v":""},{"$f":"IF('Data PCB'!X28=\"\",\"\",IF(ISNUMBER('Data PCB'!X28)=TRUE, IF('Data PCB'!X28<'Data PCB'!X$38, \"ERROR\", 'Data PCB'!X28), IF('Data PCB'!X28=\"<LOD\",'Data PCB'!X$38, \"ERROR\")))","v":""},{"$f":"IF('Data PCB'!Y28=\"\",\"\",IF(ISNUMBER('Data PCB'!Y28)=TRUE, IF('Data PCB'!Y28<'Data PCB'!Y$38, \"ERROR\", 'Data PCB'!Y28), IF('Data PCB'!Y28=\"<LOD\",'Data PCB'!Y$38, \"ERROR\")))","v":""},{"$f":"IF('Data PCB'!Z28=\"\",\"\",IF(ISNUMBER('Data PCB'!Z28)=TRUE, IF('Data PCB'!Z28<'Data PCB'!Z$38, \"ERROR\", 'Data PCB'!Z28), IF('Data PCB'!Z28=\"<LOD\",'Data PCB'!Z$38, \"ERROR\")))","v":""},{"$f":"IF('Data PCB'!AA28=\"\",\"\",IF(ISNUMBER('Data PCB'!AA28)=TRUE, IF('Data PCB'!AA28<'Data PCB'!AA$38, \"ERROR\", 'Data PCB'!AA28), IF('Data PCB'!AA28=\"<LOD\",'Data PCB'!AA$38, \"ERROR\")))","v":""},{"$f":"IF('Data PCB'!AB28=\"\",\"\",IF(ISNUMBER('Data PCB'!AB28)=TRUE, IF('Data PCB'!AB28<'Data PCB'!AB$38, \"ERROR\", 'Data PCB'!AB28), IF('Data PCB'!AB28=\"<LOD\",'Data PCB'!AB$38, \"ERROR\")))","v":""},{"$f":"IF('Data PCB'!AC28=\"\",\"\",IF(ISNUMBER('Data PCB'!AC28)=TRUE, IF('Data PCB'!AC28<'Data PCB'!AC$38, \"ERROR\", 'Data PCB'!AC28), IF('Data PCB'!AC28=\"<LOD\",'Data PCB'!AC$38, \"ERROR\")))","v":""},{"$f":"IF('Data PCB'!AD28=\"\",\"\",IF(ISNUMBER('Data PCB'!AD28)=TRUE, IF('Data PCB'!AD28<'Data PCB'!AD$38, \"ERROR\", 'Data PCB'!AD28), IF('Data PCB'!AD28=\"<LOD\",'Data PCB'!AD$38, \"ERROR\")))","v":""},{"$f":"IF('Data PCB'!AE28=\"\",\"\",IF(ISNUMBER('Data PCB'!AE28)=TRUE, IF('Data PCB'!AE28<'Data PCB'!AE$38, \"ERROR\", 'Data PCB'!AE28), IF('Data PCB'!AE28=\"<LOD\",'Data PCB'!AE$38, \"ERROR\")))","v":""},{"$f":"IF('Data PCB'!AF28=\"\",\"\",IF(ISNUMBER('Data PCB'!AF28)=TRUE, IF('Data PCB'!AF28<'Data PCB'!AF$38, \"ERROR\", 'Data PCB'!AF28), IF('Data PCB'!AF28=\"<LOD\",'Data PCB'!AF$38, \"ERROR\")))","v":""},{"$f":"IF('Data PCB'!AG28=\"\",\"\",IF(ISNUMBER('Data PCB'!AG28)=TRUE, IF('Data PCB'!AG28<'Data PCB'!AG$38, \"ERROR\", 'Data PCB'!AG28), IF('Data PCB'!AG28=\"<LOD\",'Data PCB'!AG$38, \"ERROR\")))","v":""},{"$f":"IF('Data PCB'!AH28=\"\",\"\",IF(ISNUMBER('Data PCB'!AH28)=TRUE, IF('Data PCB'!AH28<'Data PCB'!AH$38, \"ERROR\", 'Data PCB'!AH28), IF('Data PCB'!AH28=\"<LOD\",'Data PCB'!AH$38, \"ERROR\")))","v":""},{"$f":"IF('Data PCB'!AI28=\"\",\"\",IF(ISNUMBER('Data PCB'!AI28)=TRUE, IF('Data PCB'!AI28<'Data PCB'!AI$38, \"ERROR\", 'Data PCB'!AI28), IF('Data PCB'!AI28=\"<LOD\",'Data PCB'!AI$38, \"ERROR\")))","v":""},"",""]
[null,null,null,null,null,null,null,{"$f":"IF('Data PCB'!H29=\"\",\"\",'Data PCB'!H29)","v":""},{"$f":"IF('Data PCB'!I29=\"\",\"\",'Data PCB'!I29)","v":""},{"$f":"IFERROR(IF(K30=\"\",\"\",(IF(VLOOKUP(K30,'Gwybodaeth ymgeiswyr'!$K$8:$L$37,2,0)=\"y\",\"y\",\"\"))),\"Manual entry required\")","v":""},{"$f":"IF('Data PCB'!J29=\"\",\"\",'Data PCB'!J29)","v":""},{"$f":"IF('Data PCB'!K29=\"\",\"\",IF(ISNUMBER('Data PCB'!K29)=TRUE, IF('Data PCB'!K29<'Data PCB'!K$38, \"ERROR\", 'Data PCB'!K29), IF('Data PCB'!K29=\"<LOD\",'Data PCB'!K$38, \"ERROR\")))","v":""},{"$f":"IF('Data PCB'!L29=\"\",\"\",IF(ISNUMBER('Data PCB'!L29)=TRUE, IF('Data PCB'!L29<'Data PCB'!L$38, \"ERROR\", 'Data PCB'!L29), IF('Data PCB'!L29=\"<LOD\",'Data PCB'!L$38, \"ERROR\")))","v":""},{"$f":"IF('Data PCB'!M29=\"\",\"\",IF(ISNUMBER('Data PCB'!M29)=TRUE, IF('Data PCB'!M29<'Data PCB'!M$38, \"ERROR\", 'Data PCB'!M29), IF('Data PCB'!M29=\"<LOD\",'Data PCB'!M$38, \"ERROR\")))","v":""},{"$f":"IF('Data PCB'!N29=\"\",\"\",IF(ISNUMBER('Data PCB'!N29)=TRUE, IF('Data PCB'!N29<'Data PCB'!N$38, \"ERROR\", 'Data PCB'!N29), IF('Data PCB'!N29=\"<LOD\",'Data PCB'!N$38, \"ERROR\")))","v":""},{"$f":"IF('Data PCB'!O29=\"\",\"\",IF(ISNUMBER('Data PCB'!O29)=TRUE, IF('Data PCB'!O29<'Data PCB'!O$38, \"ERROR\", 'Data PCB'!O29), IF('Data PCB'!O29=\"<LOD\",'Data PCB'!O$38, \"ERROR\")))","v":""},{"$f":"IF('Data PCB'!P29=\"\",\"\",IF(ISNUMBER('Data PCB'!P29)=TRUE, IF('Data PCB'!P29<'Data PCB'!P$38, \"ERROR\", 'Data PCB'!P29), IF('Data PCB'!P29=\"<LOD\",'Data PCB'!P$38, \"ERROR\")))","v":""},{"$f":"IF('Data PCB'!Q29=\"\",\"\",IF(ISNUMBER('Data PCB'!Q29)=TRUE, IF('Data PCB'!Q29<'Data PCB'!Q$38, \"ERROR\", 'Data PCB'!Q29), IF('Data PCB'!Q29=\"<LOD\",'Data PCB'!Q$38, \"ERROR\")))","v":""},{"$f":"IF('Data PCB'!R29=\"\",\"\",IF(ISNUMBER('Data PCB'!R29)=TRUE, IF('Data PCB'!R29<'Data PCB'!R$38, \"ERROR\", 'Data PCB'!R29), IF('Data PCB'!R29=\"<LOD\",'Data PCB'!R$38, \"ERROR\")))","v":""},{"$f":"IF('Data PCB'!S29=\"\",\"\",IF(ISNUMBER('Data PCB'!S29)=TRUE, IF('Data PCB'!S29<'Data PCB'!S$38, \"ERROR\", 'Data PCB'!S29), IF('Data PCB'!S29=\"<LOD\",'Data PCB'!S$38, \"ERROR\")))","v":""},{"$f":"IF('Data PCB'!T29=\"\",\"\",IF(ISNUMBER('Data PCB'!T29)=TRUE, IF('Data PCB'!T29<'Data PCB'!T$38, \"ERROR\", 'Data PCB'!T29), IF('Data PCB'!T29=\"<LOD\",'Data PCB'!T$38, \"ERROR\")))","v":""},{"$f":"IF('Data PCB'!U29=\"\",\"\",IF(ISNUMBER('Data PCB'!U29)=TRUE, IF('Data PCB'!U29<'Data PCB'!U$38, \"ERROR\", 'Data PCB'!U29), IF('Data PCB'!U29=\"<LOD\",'Data PCB'!U$38, \"ERROR\")))","v":""},{"$f":"IF('Data PCB'!V29=\"\",\"\",IF(ISNUMBER('Data PCB'!V29)=TRUE, IF('Data PCB'!V29<'Data PCB'!V$38, \"ERROR\", 'Data PCB'!V29), IF('Data PCB'!V29=\"<LOD\",'Data PCB'!V$38, \"ERROR\")))","v":""},{"$f":"IF('Data PCB'!W29=\"\",\"\",IF(ISNUMBER('Data PCB'!W29)=TRUE, IF('Data PCB'!W29<'Data PCB'!W$38, \"ERROR\", 'Data PCB'!W29), IF('Data PCB'!W29=\"<LOD\",'Data PCB'!W$38, \"ERROR\")))","v":""},{"$f":"IF('Data PCB'!X29=\"\",\"\",IF(ISNUMBER('Data PCB'!X29)=TRUE, IF('Data PCB'!X29<'Data PCB'!X$38, \"ERROR\", 'Data PCB'!X29), IF('Data PCB'!X29=\"<LOD\",'Data PCB'!X$38, \"ERROR\")))","v":""},{"$f":"IF('Data PCB'!Y29=\"\",\"\",IF(ISNUMBER('Data PCB'!Y29)=TRUE, IF('Data PCB'!Y29<'Data PCB'!Y$38, \"ERROR\", 'Data PCB'!Y29), IF('Data PCB'!Y29=\"<LOD\",'Data PCB'!Y$38, \"ERROR\")))","v":""},{"$f":"IF('Data PCB'!Z29=\"\",\"\",IF(ISNUMBER('Data PCB'!Z29)=TRUE, IF('Data PCB'!Z29<'Data PCB'!Z$38, \"ERROR\", 'Data PCB'!Z29), IF('Data PCB'!Z29=\"<LOD\",'Data PCB'!Z$38, \"ERROR\")))","v":""},{"$f":"IF('Data PCB'!AA29=\"\",\"\",IF(ISNUMBER('Data PCB'!AA29)=TRUE, IF('Data PCB'!AA29<'Data PCB'!AA$38, \"ERROR\", 'Data PCB'!AA29), IF('Data PCB'!AA29=\"<LOD\",'Data PCB'!AA$38, \"ERROR\")))","v":""},{"$f":"IF('Data PCB'!AB29=\"\",\"\",IF(ISNUMBER('Data PCB'!AB29)=TRUE, IF('Data PCB'!AB29<'Data PCB'!AB$38, \"ERROR\", 'Data PCB'!AB29), IF('Data PCB'!AB29=\"<LOD\",'Data PCB'!AB$38, \"ERROR\")))","v":""},{"$f":"IF('Data PCB'!AC29=\"\",\"\",IF(ISNUMBER('Data PCB'!AC29)=TRUE, IF('Data PCB'!AC29<'Data PCB'!AC$38, \"ERROR\", 'Data PCB'!AC29), IF('Data PCB'!AC29=\"<LOD\",'Data PCB'!AC$38, \"ERROR\")))","v":""},{"$f":"IF('Data PCB'!AD29=\"\",\"\",IF(ISNUMBER('Data PCB'!AD29)=TRUE, IF('Data PCB'!AD29<'Data PCB'!AD$38, \"ERROR\", 'Data PCB'!AD29), IF('Data PCB'!AD29=\"<LOD\",'Data PCB'!AD$38, \"ERROR\")))","v":""},{"$f":"IF('Data PCB'!AE29=\"\",\"\",IF(ISNUMBER('Data PCB'!AE29)=TRUE, IF('Data PCB'!AE29<'Data PCB'!AE$38, \"ERROR\", 'Data PCB'!AE29), IF('Data PCB'!AE29=\"<LOD\",'Data PCB'!AE$38, \"ERROR\")))","v":""},{"$f":"IF('Data PCB'!AF29=\"\",\"\",IF(ISNUMBER('Data PCB'!AF29)=TRUE, IF('Data PCB'!AF29<'Data PCB'!AF$38, \"ERROR\", 'Data PCB'!AF29), IF('Data PCB'!AF29=\"<LOD\",'Data PCB'!AF$38, \"ERROR\")))","v":""},{"$f":"IF('Data PCB'!AG29=\"\",\"\",IF(ISNUMBER('Data PCB'!AG29)=TRUE, IF('Data PCB'!AG29<'Data PCB'!AG$38, \"ERROR\", 'Data PCB'!AG29), IF('Data PCB'!AG29=\"<LOD\",'Data PCB'!AG$38, \"ERROR\")))","v":""},{"$f":"IF('Data PCB'!AH29=\"\",\"\",IF(ISNUMBER('Data PCB'!AH29)=TRUE, IF('Data PCB'!AH29<'Data PCB'!AH$38, \"ERROR\", 'Data PCB'!AH29), IF('Data PCB'!AH29=\"<LOD\",'Data PCB'!AH$38, \"ERROR\")))","v":""},{"$f":"IF('Data PCB'!AI29=\"\",\"\",IF(ISNUMBER('Data PCB'!AI29)=TRUE, IF('Data PCB'!AI29<'Data PCB'!AI$38, \"ERROR\", 'Data PCB'!AI29), IF('Data PCB'!AI29=\"<LOD\",'Data PCB'!AI$38, \"ERROR\")))","v":""},"",""]
[null,null,null,null,null,null,null,{"$f":"IF('Data PCB'!H30=\"\",\"\",'Data PCB'!H30)","v":""},{"$f":"IF('Data PCB'!I30=\"\",\"\",'Data PCB'!I30)","v":""},{"$f":"IFERROR(IF(K31=\"\",\"\",(IF(VLOOKUP(K31,'Gwybodaeth ymgeiswyr'!$K$8:$L$37,2,0)=\"y\",\"y\",\"\"))),\"Manual entry required\")","v":""},{"$f":"IF('Data PCB'!J30=\"\",\"\",'Data PCB'!J30)","v":""},{"$f":"IF('Data PCB'!K30=\"\",\"\",IF(ISNUMBER('Data PCB'!K30)=TRUE, IF('Data PCB'!K30<'Data PCB'!K$38, \"ERROR\", 'Data PCB'!K30), IF('Data PCB'!K30=\"<LOD\",'Data PCB'!K$38, \"ERROR\")))","v":""},{"$f":"IF('Data PCB'!L30=\"\",\"\",IF(ISNUMBER('Data PCB'!L30)=TRUE, IF('Data PCB'!L30<'Data PCB'!L$38, \"ERROR\", 'Data PCB'!L30), IF('Data PCB'!L30=\"<LOD\",'Data PCB'!L$38, \"ERROR\")))","v":""},{"$f":"IF('Data PCB'!M30=\"\",\"\",IF(ISNUMBER('Data PCB'!M30)=TRUE, IF('Data PCB'!M30<'Data PCB'!M$38, \"ERROR\", 'Data PCB'!M30), IF('Data PCB'!M30=\"<LOD\",'Data PCB'!M$38, \"ERROR\")))","v":""},{"$f":"IF('Data PCB'!N30=\"\",\"\",IF(ISNUMBER('Data PCB'!N30)=TRUE, IF('Data PCB'!N30<'Data PCB'!N$38, \"ERROR\", 'Data PCB'!N30), IF('Data PCB'!N30=\"<LOD\",'Data PCB'!N$38, \"ERROR\")))","v":""},{"$f":"IF('Data PCB'!O30=\"\",\"\",IF(ISNUMBER('Data PCB'!O30)=TRUE, IF('Data PCB'!O30<'Data PCB'!O$38, \"ERROR\", 'Data PCB'!O30), IF('Data PCB'!O30=\"<LOD\",'Data PCB'!O$38, \"ERROR\")))","v":""},{"$f":"IF('Data PCB'!P30=\"\",\"\",IF(ISNUMBER('Data PCB'!P30)=TRUE, IF('Data PCB'!P30<'Data PCB'!P$38, \"ERROR\", 'Data PCB'!P30), IF('Data PCB'!P30=\"<LOD\",'Data PCB'!P$38, \"ERROR\")))","v":""},{"$f":"IF('Data PCB'!Q30=\"\",\"\",IF(ISNUMBER('Data PCB'!Q30)=TRUE, IF('Data PCB'!Q30<'Data PCB'!Q$38, \"ERROR\", 'Data PCB'!Q30), IF('Data PCB'!Q30=\"<LOD\",'Data PCB'!Q$38, \"ERROR\")))","v":""},{"$f":"IF('Data PCB'!R30=\"\",\"\",IF(ISNUMBER('Data PCB'!R30)=TRUE, IF('Data PCB'!R30<'Data PCB'!R$38, \"ERROR\", 'Data PCB'!R30), IF('Data PCB'!R30=\"<LOD\",'Data PCB'!R$38, \"ERROR\")))","v":""},{"$f":"IF('Data PCB'!S30=\"\",\"\",IF(ISNUMBER('Data PCB'!S30)=TRUE, IF('Data PCB'!S30<'Data PCB'!S$38, \"ERROR\", 'Data PCB'!S30), IF('Data PCB'!S30=\"<LOD\",'Data PCB'!S$38, \"ERROR\")))","v":""},{"$f":"IF('Data PCB'!T30=\"\",\"\",IF(ISNUMBER('Data PCB'!T30)=TRUE, IF('Data PCB'!T30<'Data PCB'!T$38, \"ERROR\", 'Data PCB'!T30), IF('Data PCB'!T30=\"<LOD\",'Data PCB'!T$38, \"ERROR\")))","v":""},{"$f":"IF('Data PCB'!U30=\"\",\"\",IF(ISNUMBER('Data PCB'!U30)=TRUE, IF('Data PCB'!U30<'Data PCB'!U$38, \"ERROR\", 'Data PCB'!U30), IF('Data PCB'!U30=\"<LOD\",'Data PCB'!U$38, \"ERROR\")))","v":""},{"$f":"IF('Data PCB'!V30=\"\",\"\",IF(ISNUMBER('Data PCB'!V30)=TRUE, IF('Data PCB'!V30<'Data PCB'!V$38, \"ERROR\", 'Data PCB'!V30), IF('Data PCB'!V30=\"<LOD\",'Data PCB'!V$38, \"ERROR\")))","v":""},{"$f":"IF('Data PCB'!W30=\"\",\"\",IF(ISNUMBER('Data PCB'!W30)=TRUE, IF('Data PCB'!W30<'Data PCB'!W$38, \"ERROR\", 'Data PCB'!W30), IF('Data PCB'!W30=\"<LOD\",'Data PCB'!W$38, \"ERROR\")))","v":""},{"$f":"IF('Data PCB'!X30=\"\",\"\",IF(ISNUMBER('Data PCB'!X30)=TRUE, IF('Data PCB'!X30<'Data PCB'!X$38, \"ERROR\", 'Data PCB'!X30), IF('Data PCB'!X30=\"<LOD\",'Data PCB'!X$38, \"ERROR\")))","v":""},{"$f":"IF('Data PCB'!Y30=\"\",\"\",IF(ISNUMBER('Data PCB'!Y30)=TRUE, IF('Data PCB'!Y30<'Data PCB'!Y$38, \"ERROR\", 'Data PCB'!Y30), IF('Data PCB'!Y30=\"<LOD\",'Data PCB'!Y$38, \"ERROR\")))","v":""},{"$f":"IF('Data PCB'!Z30=\"\",\"\",IF(ISNUMBER('Data PCB'!Z30)=TRUE, IF('Data PCB'!Z30<'Data PCB'!Z$38, \"ERROR\", 'Data PCB'!Z30), IF('Data PCB'!Z30=\"<LOD\",'Data PCB'!Z$38, \"ERROR\")))","v":""},{"$f":"IF('Data PCB'!AA30=\"\",\"\",IF(ISNUMBER('Data PCB'!AA30)=TRUE, IF('Data PCB'!AA30<'Data PCB'!AA$38, \"ERROR\", 'Data PCB'!AA30), IF('Data PCB'!AA30=\"<LOD\",'Data PCB'!AA$38, \"ERROR\")))","v":""},{"$f":"IF('Data PCB'!AB30=\"\",\"\",IF(ISNUMBER('Data PCB'!AB30)=TRUE, IF('Data PCB'!AB30<'Data PCB'!AB$38, \"ERROR\", 'Data PCB'!AB30), IF('Data PCB'!AB30=\"<LOD\",'Data PCB'!AB$38, \"ERROR\")))","v":""},{"$f":"IF('Data PCB'!AC30=\"\",\"\",IF(ISNUMBER('Data PCB'!AC30)=TRUE, IF('Data PCB'!AC30<'Data PCB'!AC$38, \"ERROR\", 'Data PCB'!AC30), IF('Data PCB'!AC30=\"<LOD\",'Data PCB'!AC$38, \"ERROR\")))","v":""},{"$f":"IF('Data PCB'!AD30=\"\",\"\",IF(ISNUMBER('Data PCB'!AD30)=TRUE, IF('Data PCB'!AD30<'Data PCB'!AD$38, \"ERROR\", 'Data PCB'!AD30), IF('Data PCB'!AD30=\"<LOD\",'Data PCB'!AD$38, \"ERROR\")))","v":""},{"$f":"IF('Data PCB'!AE30=\"\",\"\",IF(ISNUMBER('Data PCB'!AE30)=TRUE, IF('Data PCB'!AE30<'Data PCB'!AE$38, \"ERROR\", 'Data PCB'!AE30), IF('Data PCB'!AE30=\"<LOD\",'Data PCB'!AE$38, \"ERROR\")))","v":""},{"$f":"IF('Data PCB'!AF30=\"\",\"\",IF(ISNUMBER('Data PCB'!AF30)=TRUE, IF('Data PCB'!AF30<'Data PCB'!AF$38, \"ERROR\", 'Data PCB'!AF30), IF('Data PCB'!AF30=\"<LOD\",'Data PCB'!AF$38, \"ERROR\")))","v":""},{"$f":"IF('Data PCB'!AG30=\"\",\"\",IF(ISNUMBER('Data PCB'!AG30)=TRUE, IF('Data PCB'!AG30<'Data PCB'!AG$38, \"ERROR\", 'Data PCB'!AG30), IF('Data PCB'!AG30=\"<LOD\",'Data PCB'!AG$38, \"ERROR\")))","v":""},{"$f":"IF('Data PCB'!AH30=\"\",\"\",IF(ISNUMBER('Data PCB'!AH30)=TRUE, IF('Data PCB'!AH30<'Data PCB'!AH$38, \"ERROR\", 'Data PCB'!AH30), IF('Data PCB'!AH30=\"<LOD\",'Data PCB'!AH$38, \"ERROR\")))","v":""},{"$f":"IF('Data PCB'!AI30=\"\",\"\",IF(ISNUMBER('Data PCB'!AI30)=TRUE, IF('Data PCB'!AI30<'Data PCB'!AI$38, \"ERROR\", 'Data PCB'!AI30), IF('Data PCB'!AI30=\"<LOD\",'Data PCB'!AI$38, \"ERROR\")))","v":""},{"$f":"IF(COUNT(AI31,AD31,Z31,U31,Q31,O31,L31)<1,\"\",SUM(AI31,AD31,Z31,U31,Q31,O31,L31))","v":""},{"$f":"IF(COUNT(L31:AJ31)<1,\"\",(SUM(L31:AJ31)))","v":""}]
[null,null,null,null,null,null,null,{"$f":"IF('Data PCB'!H31=\"\",\"\",'Data PCB'!H31)","v":""},{"$f":"IF('Data PCB'!I31=\"\",\"\",'Data PCB'!I31)","v":""},{"$f":"IFERROR(IF(K32=\"\",\"\",(IF(VLOOKUP(K32,'Gwybodaeth ymgeiswyr'!$K$8:$L$37,2,0)=\"y\",\"y\",\"\"))),\"Manual entry required\")","v":""},{"$f":"IF('Data PCB'!J31=\"\",\"\",'Data PCB'!J31)","v":""},{"$f":"IF('Data PCB'!K31=\"\",\"\",IF(ISNUMBER('Data PCB'!K31)=TRUE, IF('Data PCB'!K31<'Data PCB'!K$38, \"ERROR\", 'Data PCB'!K31), IF('Data PCB'!K31=\"<LOD\",'Data PCB'!K$38, \"ERROR\")))","v":""},{"$f":"IF('Data PCB'!L31=\"\",\"\",IF(ISNUMBER('Data PCB'!L31)=TRUE, IF('Data PCB'!L31<'Data PCB'!L$38, \"ERROR\", 'Data PCB'!L31), IF('Data PCB'!L31=\"<LOD\",'Data PCB'!L$38, \"ERROR\")))","v":""},{"$f":"IF('Data PCB'!M31=\"\",\"\",IF(ISNUMBER('Data PCB'!M31)=TRUE, IF('Data PCB'!M31<'Data PCB'!M$38, \"ERROR\", 'Data PCB'!M31), IF('Data PCB'!M31=\"<LOD\",'Data PCB'!M$38, \"ERROR\")))","v":""},{"$f":"IF('Data PCB'!N31=\"\",\"\",IF(ISNUMBER('Data PCB'!N31)=TRUE, IF('Data PCB'!N31<'Data PCB'!N$38, \"ERROR\", 'Data PCB'!N31), IF('Data PCB'!N31=\"<LOD\",'Data PCB'!N$38, \"ERROR\")))","v":""},{"$f":"IF('Data PCB'!O31=\"\",\"\",IF(ISNUMBER('Data PCB'!O31)=TRUE, IF('Data PCB'!O31<'Data PCB'!O$38, \"ERROR\", 'Data PCB'!O31), IF('Data PCB'!O31=\"<LOD\",'Data PCB'!O$38, \"ERROR\")))","v":""},{"$f":"IF('Data PCB'!P31=\"\",\"\",IF(ISNUMBER('Data PCB'!P31)=TRUE, IF('Data PCB'!P31<'Data PCB'!P$38, \"ERROR\", 'Data PCB'!P31), IF('Data PCB'!P31=\"<LOD\",'Data PCB'!P$38, \"ERROR\")))","v":""},{"$f":"IF('Data PCB'!Q31=\"\",\"\",IF(ISNUMBER('Data PCB'!Q31)=TRUE, IF('Data PCB'!Q31<'Data PCB'!Q$38, \"ERROR\", 'Data PCB'!Q31), IF('Data PCB'!Q31=\"<LOD\",'Data PCB'!Q$38, \"ERROR\")))","v":""},{"$f":"IF('Data PCB'!R31=\"\",\"\",IF(ISNUMBER('Data PCB'!R31)=TRUE, IF('Data PCB'!R31<'Data PCB'!R$38, \"ERROR\", 'Data PCB'!R31), IF('Data PCB'!R31=\"<LOD\",'Data PCB'!R$38, \"ERROR\")))","v":""},{"$f":"IF('Data PCB'!S31=\"\",\"\",IF(ISNUMBER('Data PCB'!S31)=TRUE, IF('Data PCB'!S31<'Data PCB'!S$38, \"ERROR\", 'Data PCB'!S31), IF('Data PCB'!S31=\"<LOD\",'Data PCB'!S$38, \"ERROR\")))","v":""},{"$f":"IF('Data PCB'!T31=\"\",\"\",IF(ISNUMBER('Data PCB'!T31)=TRUE, IF('Data PCB'!T31<'Data PCB'!T$38, \"ERROR\", 'Data PCB'!T31), IF('Data PCB'!T31=\"<LOD\",'Data PCB'!T$38, \"ERROR\")))","v":""},{"$f":"IF('Data PCB'!U31=\"\",\"\",IF(ISNUMBER('Data PCB'!U31)=TRUE, IF('Data PCB'!U31<'Data PCB'!U$38, \"ERROR\", 'Data PCB'!U31), IF('Data PCB'!U31=\"<LOD\",'Data PCB'!U$38, \"ERROR\")))","v":""},{"$f":"IF('Data PCB'!V31=\"\",\"\",IF(ISNUMBER('Data PCB'!V31)=TRUE, IF('Data PCB'!V31<'Data PCB'!V$38, \"ERROR\", 'Data PCB'!V31), IF('Data PCB'!V31=\"<LOD\",'Data PCB'!V$38, \"ERROR\")))","v":""},{"$f":"IF('Data PCB'!W31=\"\",\"\",IF(ISNUMBER('Data PCB'!W31)=TRUE, IF('Data PCB'!W31<'Data PCB'!W$38, \"ERROR\", 'Data PCB'!W31), IF('Data PCB'!W31=\"<LOD\",'Data PCB'!W$38, \"ERROR\")))","v":""},{"$f":"IF('Data PCB'!X31=\"\",\"\",IF(ISNUMBER('Data PCB'!X31)=TRUE, IF('Data PCB'!X31<'Data PCB'!X$38, \"ERROR\", 'Data PCB'!X31), IF('Data PCB'!X31=\"<LOD\",'Data PCB'!X$38, \"ERROR\")))","v":""},{"$f":"IF('Data PCB'!Y31=\"\",\"\",IF(ISNUMBER('Data PCB'!Y31)=TRUE, IF('Data PCB'!Y31<'Data PCB'!Y$38, \"ERROR\", 'Data PCB'!Y31), IF('Data PCB'!Y31=\"<LOD\",'Data PCB'!Y$38, \"ERROR\")))","v":""},{"$f":"IF('Data PCB'!Z31=\"\",\"\",IF(ISNUMBER('Data PCB'!Z31)=TRUE, IF('Data PCB'!Z31<'Data PCB'!Z$38, \"ERROR\", 'Data PCB'!Z31), IF('Data PCB'!Z31=\"<LOD\",'Data PCB'!Z$38, \"ERROR\")))","v":""},{"$f":"IF('Data PCB'!AA31=\"\",\"\",IF(ISNUMBER('Data PCB'!AA31)=TRUE, IF('Data PCB'!AA31<'Data PCB'!AA$38, \"ERROR\", 'Data PCB'!AA31), IF('Data PCB'!AA31=\"<LOD\",'Data PCB'!AA$38, \"ERROR\")))","v":""},{"$f":"IF('Data PCB'!AB31=\"\",\"\",IF(ISNUMBER('Data PCB'!AB31)=TRUE, IF('Data PCB'!AB31<'Data PCB'!AB$38, \"ERROR\", 'Data PCB'!AB31), IF('Data PCB'!AB31=\"<LOD\",'Data PCB'!AB$38, \"ERROR\")))","v":""},{"$f":"IF('Data PCB'!AC31=\"\",\"\",IF(ISNUMBER('Data PCB'!AC31)=TRUE, IF('Data PCB'!AC31<'Data PCB'!AC$38, \"ERROR\", 'Data PCB'!AC31), IF('Data PCB'!AC31=\"<LOD\",'Data PCB'!AC$38, \"ERROR\")))","v":""},{"$f":"IF('Data PCB'!AD31=\"\",\"\",IF(ISNUMBER('Data PCB'!AD31)=TRUE, IF('Data PCB'!AD31<'Data PCB'!AD$38, \"ERROR\", 'Data PCB'!AD31), IF('Data PCB'!AD31=\"<LOD\",'Data PCB'!AD$38, \"ERROR\")))","v":""},{"$f":"IF('Data PCB'!AE31=\"\",\"\",IF(ISNUMBER('Data PCB'!AE31)=TRUE, IF('Data PCB'!AE31<'Data PCB'!AE$38, \"ERROR\", 'Data PCB'!AE31), IF('Data PCB'!AE31=\"<LOD\",'Data PCB'!AE$38, \"ERROR\")))","v":""},{"$f":"IF('Data PCB'!AF31=\"\",\"\",IF(ISNUMBER('Data PCB'!AF31)=TRUE, IF('Data PCB'!AF31<'Data PCB'!AF$38, \"ERROR\", 'Data PCB'!AF31), IF('Data PCB'!AF31=\"<LOD\",'Data PCB'!AF$38, \"ERROR\")))","v":""},{"$f":"IF('Data PCB'!AG31=\"\",\"\",IF(ISNUMBER('Data PCB'!AG31)=TRUE, IF('Data PCB'!AG31<'Data PCB'!AG$38, \"ERROR\", 'Data PCB'!AG31), IF('Data PCB'!AG31=\"<LOD\",'Data PCB'!AG$38, \"ERROR\")))","v":""},{"$f":"IF('Data PCB'!AH31=\"\",\"\",IF(ISNUMBER('Data PCB'!AH31)=TRUE, IF('Data PCB'!AH31<'Data PCB'!AH$38, \"ERROR\", 'Data PCB'!AH31), IF('Data PCB'!AH31=\"<LOD\",'Data PCB'!AH$38, \"ERROR\")))","v":""},{"$f":"IF('Data PCB'!AI31=\"\",\"\",IF(ISNUMBER('Data PCB'!AI31)=TRUE, IF('Data PCB'!AI31<'Data PCB'!AI$38, \"ERROR\", 'Data PCB'!AI31), IF('Data PCB'!AI31=\"<LOD\",'Data PCB'!AI$38, \"ERROR\")))","v":""},"",""]
[null,null,null,null,null,null,null,{"$f":"IF('Data PCB'!H32=\"\",\"\",'Data PCB'!H32)","v":""},{"$f":"IF('Data PCB'!I32=\"\",\"\",'Data PCB'!I32)","v":""},{"$f":"IFERROR(IF(K33=\"\",\"\",(IF(VLOOKUP(K33,'Gwybodaeth ymgeiswyr'!$K$8:$L$37,2,0)=\"y\",\"y\",\"\"))),\"Manual entry required\")","v":""},{"$f":"IF('Data PCB'!J32=\"\",\"\",'Data PCB'!J32)","v":""},{"$f":"IF('Data PCB'!K32=\"\",\"\",IF(ISNUMBER('Data PCB'!K32)=TRUE, IF('Data PCB'!K32<'Data PCB'!K$38, \"ERROR\", 'Data PCB'!K32), IF('Data PCB'!K32=\"<LOD\",'Data PCB'!K$38, \"ERROR\")))","v":""},{"$f":"IF('Data PCB'!L32=\"\",\"\",IF(ISNUMBER('Data PCB'!L32)=TRUE, IF('Data PCB'!L32<'Data PCB'!L$38, \"ERROR\", 'Data PCB'!L32), IF('Data PCB'!L32=\"<LOD\",'Data PCB'!L$38, \"ERROR\")))","v":""},{"$f":"IF('Data PCB'!M32=\"\",\"\",IF(ISNUMBER('Data PCB'!M32)=TRUE, IF('Data PCB'!M32<'Data PCB'!M$38, \"ERROR\", 'Data PCB'!M32), IF('Data PCB'!M32=\"<LOD\",'Data PCB'!M$38, \"ERROR\")))","v":""},{"$f":"IF('Data PCB'!N32=\"\",\"\",IF(ISNUMBER('Data PCB'!N32)=TRUE, IF('Data PCB'!N32<'Data PCB'!N$38, \"ERROR\", 'Data PCB'!N32), IF('Data PCB'!N32=\"<LOD\",'Data PCB'!N$38, \"ERROR\")))","v":""},{"$f":"IF('Data PCB'!O32=\"\",\"\",IF(ISNUMBER('Data PCB'!O32)=TRUE, IF('Data PCB'!O32<'Data PCB'!O$38, \"ERROR\", 'Data PCB'!O32), IF('Data PCB'!O32=\"<LOD\",'Data PCB'!O$38, \"ERROR\")))","v":""},{"$f":"IF('Data PCB'!P32=\"\",\"\",IF(ISNUMBER('Data PCB'!P32)=TRUE, IF('Data PCB'!P32<'Data PCB'!P$38, \"ERROR\", 'Data PCB'!P32), IF('Data PCB'!P32=\"<LOD\",'Data PCB'!P$38, \"ERROR\")))","v":""},{"$f":"IF('Data PCB'!Q32=\"\",\"\",IF(ISNUMBER('Data PCB'!Q32)=TRUE, IF('Data PCB'!Q32<'Data PCB'!Q$38, \"ERROR\", 'Data PCB'!Q32), IF('Data PCB'!Q32=\"<LOD\",'Data PCB'!Q$38, \"ERROR\")))","v":""},{"$f":"IF('Data PCB'!R32=\"\",\"\",IF(ISNUMBER('Data PCB'!R32)=TRUE, IF('Data PCB'!R32<'Data PCB'!R$38, \"ERROR\", 'Data PCB'!R32), IF('Data PCB'!R32=\"<LOD\",'Data PCB'!R$38, \"ERROR\")))","v":""},{"$f":"IF('Data PCB'!S32=\"\",\"\",IF(ISNUMBER('Data PCB'!S32)=TRUE, IF('Data PCB'!S32<'Data PCB'!S$38, \"ERROR\", 'Data PCB'!S32), IF('Data PCB'!S32=\"<LOD\",'Data PCB'!S$38, \"ERROR\")))","v":""},{"$f":"IF('Data PCB'!T32=\"\",\"\",IF(ISNUMBER('Data PCB'!T32)=TRUE, IF('Data PCB'!T32<'Data PCB'!T$38, \"ERROR\", 'Data PCB'!T32), IF('Data PCB'!T32=\"<LOD\",'Data PCB'!T$38, \"ERROR\")))","v":""},{"$f":"IF('Data PCB'!U32=\"\",\"\",IF(ISNUMBER('Data PCB'!U32)=TRUE, IF('Data PCB'!U32<'Data PCB'!U$38, \"ERROR\", 'Data PCB'!U32), IF('Data PCB'!U32=\"<LOD\",'Data PCB'!U$38, \"ERROR\")))","v":""},{"$f":"IF('Data PCB'!V32=\"\",\"\",IF(ISNUMBER('Data PCB'!V32)=TRUE, IF('Data PCB'!V32<'Data PCB'!V$38, \"ERROR\", 'Data PCB'!V32), IF('Data PCB'!V32=\"<LOD\",'Data PCB'!V$38, \"ERROR\")))","v":""},{"$f":"IF('Data PCB'!W32=\"\",\"\",IF(ISNUMBER('Data PCB'!W32)=TRUE, IF('Data PCB'!W32<'Data PCB'!W$38, \"ERROR\", 'Data PCB'!W32), IF('Data PCB'!W32=\"<LOD\",'Data PCB'!W$38, \"ERROR\")))","v":""},{"$f":"IF('Data PCB'!X32=\"\",\"\",IF(ISNUMBER('Data PCB'!X32)=TRUE, IF('Data PCB'!X32<'Data PCB'!X$38, \"ERROR\", 'Data PCB'!X32), IF('Data PCB'!X32=\"<LOD\",'Data PCB'!X$38, \"ERROR\")))","v":""},{"$f":"IF('Data PCB'!Y32=\"\",\"\",IF(ISNUMBER('Data PCB'!Y32)=TRUE, IF('Data PCB'!Y32<'Data PCB'!Y$38, \"ERROR\", 'Data PCB'!Y32), IF('Data PCB'!Y32=\"<LOD\",'Data PCB'!Y$38, \"ERROR\")))","v":""},{"$f":"IF('Data PCB'!Z32=\"\",\"\",IF(ISNUMBER('Data PCB'!Z32)=TRUE, IF('Data PCB'!Z32<'Data PCB'!Z$38, \"ERROR\", 'Data PCB'!Z32), IF('Data PCB'!Z32=\"<LOD\",'Data PCB'!Z$38, \"ERROR\")))","v":""},{"$f":"IF('Data PCB'!AA32=\"\",\"\",IF(ISNUMBER('Data PCB'!AA32)=TRUE, IF('Data PCB'!AA32<'Data PCB'!AA$38, \"ERROR\", 'Data PCB'!AA32), IF('Data PCB'!AA32=\"<LOD\",'Data PCB'!AA$38, \"ERROR\")))","v":""},{"$f":"IF('Data PCB'!AB32=\"\",\"\",IF(ISNUMBER('Data PCB'!AB32)=TRUE, IF('Data PCB'!AB32<'Data PCB'!AB$38, \"ERROR\", 'Data PCB'!AB32), IF('Data PCB'!AB32=\"<LOD\",'Data PCB'!AB$38, \"ERROR\")))","v":""},{"$f":"IF('Data PCB'!AC32=\"\",\"\",IF(ISNUMBER('Data PCB'!AC32)=TRUE, IF('Data PCB'!AC32<'Data PCB'!AC$38, \"ERROR\", 'Data PCB'!AC32), IF('Data PCB'!AC32=\"<LOD\",'Data PCB'!AC$38, \"ERROR\")))","v":""},{"$f":"IF('Data PCB'!AD32=\"\",\"\",IF(ISNUMBER('Data PCB'!AD32)=TRUE, IF('Data PCB'!AD32<'Data PCB'!AD$38, \"ERROR\", 'Data PCB'!AD32), IF('Data PCB'!AD32=\"<LOD\",'Data PCB'!AD$38, \"ERROR\")))","v":""},{"$f":"IF('Data PCB'!AE32=\"\",\"\",IF(ISNUMBER('Data PCB'!AE32)=TRUE, IF('Data PCB'!AE32<'Data PCB'!AE$38, \"ERROR\", 'Data PCB'!AE32), IF('Data PCB'!AE32=\"<LOD\",'Data PCB'!AE$38, \"ERROR\")))","v":""},{"$f":"IF('Data PCB'!AF32=\"\",\"\",IF(ISNUMBER('Data PCB'!AF32)=TRUE, IF('Data PCB'!AF32<'Data PCB'!AF$38, \"ERROR\", 'Data PCB'!AF32), IF('Data PCB'!AF32=\"<LOD\",'Data PCB'!AF$38, \"ERROR\")))","v":""},{"$f":"IF('Data PCB'!AG32=\"\",\"\",IF(ISNUMBER('Data PCB'!AG32)=TRUE, IF('Data PCB'!AG32<'Data PCB'!AG$38, \"ERROR\", 'Data PCB'!AG32), IF('Data PCB'!AG32=\"<LOD\",'Data PCB'!AG$38, \"ERROR\")))","v":""},{"$f":"IF('Data PCB'!AH32=\"\",\"\",IF(ISNUMBER('Data PCB'!AH32)=TRUE, IF('Data PCB'!AH32<'Data PCB'!AH$38, \"ERROR\", 'Data PCB'!AH32), IF('Data PCB'!AH32=\"<LOD\",'Data PCB'!AH$38, \"ERROR\")))","v":""},{"$f":"IF('Data PCB'!AI32=\"\",\"\",IF(ISNUMBER('Data PCB'!AI32)=TRUE, IF('Data PCB'!AI32<'Data PCB'!AI$38, \"ERROR\", 'Data PCB'!AI32), IF('Data PCB'!AI32=\"<LOD\",'Data PCB'!AI$38, \"ERROR\")))","v":""},"",""]
[null,null,null,null,null,null,null,{"$f":"IF('Data PCB'!H33=\"\",\"\",'Data PCB'!H33)","v":""},{"$f":"IF('Data PCB'!I33=\"\",\"\",'Data PCB'!I33)","v":""},{"$f":"IFERROR(IF(K34=\"\",\"\",(IF(VLOOKUP(K34,'Gwybodaeth ymgeiswyr'!$K$8:$L$37,2,0)=\"y\",\"y\",\"\"))),\"Manual entry required\")","v":""},{"$f":"IF('Data PCB'!J33=\"\",\"\",'Data PCB'!J33)","v":""},{"$f":"IF('Data PCB'!K33=\"\",\"\",IF(ISNUMBER('Data PCB'!K33)=TRUE, IF('Data PCB'!K33<'Data PCB'!K$38, \"ERROR\", 'Data PCB'!K33), IF('Data PCB'!K33=\"<LOD\",'Data PCB'!K$38, \"ERROR\")))","v":""},{"$f":"IF('Data PCB'!L33=\"\",\"\",IF(ISNUMBER('Data PCB'!L33)=TRUE, IF('Data PCB'!L33<'Data PCB'!L$38, \"ERROR\", 'Data PCB'!L33), IF('Data PCB'!L33=\"<LOD\",'Data PCB'!L$38, \"ERROR\")))","v":""},{"$f":"IF('Data PCB'!M33=\"\",\"\",IF(ISNUMBER('Data PCB'!M33)=TRUE, IF('Data PCB'!M33<'Data PCB'!M$38, \"ERROR\", 'Data PCB'!M33), IF('Data PCB'!M33=\"<LOD\",'Data PCB'!M$38, \"ERROR\")))","v":""},{"$f":"IF('Data PCB'!N33=\"\",\"\",IF(ISNUMBER('Data PCB'!N33)=TRUE, IF('Data PCB'!N33<'Data PCB'!N$38, \"ERROR\", 'Data PCB'!N33), IF('Data PCB'!N33=\"<LOD\",'Data PCB'!N$38, \"ERROR\")))","v":""},{"$f":"IF('Data PCB'!O33=\"\",\"\",IF(ISNUMBER('Data PCB'!O33)=TRUE, IF('Data PCB'!O33<'Data PCB'!O$38, \"ERROR\", 'Data PCB'!O33), IF('Data PCB'!O33=\"<LOD\",'Data PCB'!O$38, \"ERROR\")))","v":""},{"$f":"IF('Data PCB'!P33=\"\",\"\",IF(ISNUMBER('Data PCB'!P33)=TRUE, IF('Data PCB'!P33<'Data PCB'!P$38, \"ERROR\", 'Data PCB'!P33), IF('Data PCB'!P33=\"<LOD\",'Data PCB'!P$38, \"ERROR\")))","v":""},{"$f":"IF('Data PCB'!Q33=\"\",\"\",IF(ISNUMBER('Data PCB'!Q33)=TRUE, IF('Data PCB'!Q33<'Data PCB'!Q$38, \"ERROR\", 'Data PCB'!Q33), IF('Data PCB'!Q33=\"<LOD\",'Data PCB'!Q$38, \"ERROR\")))","v":""},{"$f":"IF('Data PCB'!R33=\"\",\"\",IF(ISNUMBER('Data PCB'!R33)=TRUE, IF('Data PCB'!R33<'Data PCB'!R$38, \"ERROR\", 'Data PCB'!R33), IF('Data PCB'!R33=\"<LOD\",'Data PCB'!R$38, \"ERROR\")))","v":""},{"$f":"IF('Data PCB'!S33=\"\",\"\",IF(ISNUMBER('Data PCB'!S33)=TRUE, IF('Data PCB'!S33<'Data PCB'!S$38, \"ERROR\", 'Data PCB'!S33), IF('Data PCB'!S33=\"<LOD\",'Data PCB'!S$38, \"ERROR\")))","v":""},{"$f":"IF('Data PCB'!T33=\"\",\"\",IF(ISNUMBER('Data PCB'!T33)=TRUE, IF('Data PCB'!T33<'Data PCB'!T$38, \"ERROR\", 'Data PCB'!T33), IF('Data PCB'!T33=\"<LOD\",'Data PCB'!T$38, \"ERROR\")))","v":""},{"$f":"IF('Data PCB'!U33=\"\",\"\",IF(ISNUMBER('Data PCB'!U33)=TRUE, IF('Data PCB'!U33<'Data PCB'!U$38, \"ERROR\", 'Data PCB'!U33), IF('Data PCB'!U33=\"<LOD\",'Data PCB'!U$38, \"ERROR\")))","v":""},{"$f":"IF('Data PCB'!V33=\"\",\"\",IF(ISNUMBER('Data PCB'!V33)=TRUE, IF('Data PCB'!V33<'Data PCB'!V$38, \"ERROR\", 'Data PCB'!V33), IF('Data PCB'!V33=\"<LOD\",'Data PCB'!V$38, \"ERROR\")))","v":""},{"$f":"IF('Data PCB'!W33=\"\",\"\",IF(ISNUMBER('Data PCB'!W33)=TRUE, IF('Data PCB'!W33<'Data PCB'!W$38, \"ERROR\", 'Data PCB'!W33), IF('Data PCB'!W33=\"<LOD\",'Data PCB'!W$38, \"ERROR\")))","v":""},{"$f":"IF('Data PCB'!X33=\"\",\"\",IF(ISNUMBER('Data PCB'!X33)=TRUE, IF('Data PCB'!X33<'Data PCB'!X$38, \"ERROR\", 'Data PCB'!X33), IF('Data PCB'!X33=\"<LOD\",'Data PCB'!X$38, \"ERROR\")))","v":""},{"$f":"IF('Data PCB'!Y33=\"\",\"\",IF(ISNUMBER('Data PCB'!Y33)=TRUE, IF('Data PCB'!Y33<'Data PCB'!Y$38, \"ERROR\", 'Data PCB'!Y33), IF('Data PCB'!Y33=\"<LOD\",'Data PCB'!Y$38, \"ERROR\")))","v":""},{"$f":"IF('Data PCB'!Z33=\"\",\"\",IF(ISNUMBER('Data PCB'!Z33)=TRUE, IF('Data PCB'!Z33<'Data PCB'!Z$38, \"ERROR\", 'Data PCB'!Z33), IF('Data PCB'!Z33=\"<LOD\",'Data PCB'!Z$38, \"ERROR\")))","v":""},{"$f":"IF('Data PCB'!AA33=\"\",\"\",IF(ISNUMBER('Data PCB'!AA33)=TRUE, IF('Data PCB'!AA33<'Data PCB'!AA$38, \"ERROR\", 'Data PCB'!AA33), IF('Data PCB'!AA33=\"<LOD\",'Data PCB'!AA$38, \"ERROR\")))","v":""},{"$f":"IF('Data PCB'!AB33=\"\",\"\",IF(ISNUMBER('Data PCB'!AB33)=TRUE, IF('Data PCB'!AB33<'Data PCB'!AB$38, \"ERROR\", 'Data PCB'!AB33), IF('Data PCB'!AB33=\"<LOD\",'Data PCB'!AB$38, \"ERROR\")))","v":""},{"$f":"IF('Data PCB'!AC33=\"\",\"\",IF(ISNUMBER('Data PCB'!AC33)=TRUE, IF('Data PCB'!AC33<'Data PCB'!AC$38, \"ERROR\", 'Data PCB'!AC33), IF('Data PCB'!AC33=\"<LOD\",'Data PCB'!AC$38, \"ERROR\")))","v":""},{"$f":"IF('Data PCB'!AD33=\"\",\"\",IF(ISNUMBER('Data PCB'!AD33)=TRUE, IF('Data PCB'!AD33<'Data PCB'!AD$38, \"ERROR\", 'Data PCB'!AD33), IF('Data PCB'!AD33=\"<LOD\",'Data PCB'!AD$38, \"ERROR\")))","v":""},{"$f":"IF('Data PCB'!AE33=\"\",\"\",IF(ISNUMBER('Data PCB'!AE33)=TRUE, IF('Data PCB'!AE33<'Data PCB'!AE$38, \"ERROR\", 'Data PCB'!AE33), IF('Data PCB'!AE33=\"<LOD\",'Data PCB'!AE$38, \"ERROR\")))","v":""},{"$f":"IF('Data PCB'!AF33=\"\",\"\",IF(ISNUMBER('Data PCB'!AF33)=TRUE, IF('Data PCB'!AF33<'Data PCB'!AF$38, \"ERROR\", 'Data PCB'!AF33), IF('Data PCB'!AF33=\"<LOD\",'Data PCB'!AF$38, \"ERROR\")))","v":""},{"$f":"IF('Data PCB'!AG33=\"\",\"\",IF(ISNUMBER('Data PCB'!AG33)=TRUE, IF('Data PCB'!AG33<'Data PCB'!AG$38, \"ERROR\", 'Data PCB'!AG33), IF('Data PCB'!AG33=\"<LOD\",'Data PCB'!AG$38, \"ERROR\")))","v":""},{"$f":"IF('Data PCB'!AH33=\"\",\"\",IF(ISNUMBER('Data PCB'!AH33)=TRUE, IF('Data PCB'!AH33<'Data PCB'!AH$38, \"ERROR\", 'Data PCB'!AH33), IF('Data PCB'!AH33=\"<LOD\",'Data PCB'!AH$38, \"ERROR\")))","v":""},{"$f":"IF('Data PCB'!AI33=\"\",\"\",IF(ISNUMBER('Data PCB'!AI33)=TRUE, IF('Data PCB'!AI33<'Data PCB'!AI$38, \"ERROR\", 'Data PCB'!AI33), IF('Data PCB'!AI33=\"<LOD\",'Data PCB'!AI$38, \"ERROR\")))","v":""},"",""]
[null,null,null,null,null,null,null,{"$f":"IF('Data PCB'!H34=\"\",\"\",'Data PCB'!H34)","v":""},{"$f":"IF('Data PCB'!I34=\"\",\"\",'Data PCB'!I34)","v":""},{"$f":"IFERROR(IF(K35=\"\",\"\",(IF(VLOOKUP(K35,'Gwybodaeth ymgeiswyr'!$K$8:$L$37,2,0)=\"y\",\"y\",\"\"))),\"Manual entry required\")","v":""},{"$f":"IF('Data PCB'!J34=\"\",\"\",'Data PCB'!J34)","v":""},{"$f":"IF('Data PCB'!K34=\"\",\"\",IF(ISNUMBER('Data PCB'!K34)=TRUE, IF('Data PCB'!K34<'Data PCB'!K$38, \"ERROR\", 'Data PCB'!K34), IF('Data PCB'!K34=\"<LOD\",'Data PCB'!K$38, \"ERROR\")))","v":""},{"$f":"IF('Data PCB'!L34=\"\",\"\",IF(ISNUMBER('Data PCB'!L34)=TRUE, IF('Data PCB'!L34<'Data PCB'!L$38, \"ERROR\", 'Data PCB'!L34), IF('Data PCB'!L34=\"<LOD\",'Data PCB'!L$38, \"ERROR\")))","v":""},{"$f":"IF('Data PCB'!M34=\"\",\"\",IF(ISNUMBER('Data PCB'!M34)=TRUE, IF('Data PCB'!M34<'Data PCB'!M$38, \"ERROR\", 'Data PCB'!M34), IF('Data PCB'!M34=\"<LOD\",'Data PCB'!M$38, \"ERROR\")))","v":""},{"$f":"IF('Data PCB'!N34=\"\",\"\",IF(ISNUMBER('Data PCB'!N34)=TRUE, IF('Data PCB'!N34<'Data PCB'!N$38, \"ERROR\", 'Data PCB'!N34), IF('Data PCB'!N34=\"<LOD\",'Data PCB'!N$38, \"ERROR\")))","v":""},{"$f":"IF('Data PCB'!O34=\"\",\"\",IF(ISNUMBER('Data PCB'!O34)=TRUE, IF('Data PCB'!O34<'Data PCB'!O$38, \"ERROR\", 'Data PCB'!O34), IF('Data PCB'!O34=\"<LOD\",'Data PCB'!O$38, \"ERROR\")))","v":""},{"$f":"IF('Data PCB'!P34=\"\",\"\",IF(ISNUMBER('Data PCB'!P34)=TRUE, IF('Data PCB'!P34<'Data PCB'!P$38, \"ERROR\", 'Data PCB'!P34), IF('Data PCB'!P34=\"<LOD\",'Data PCB'!P$38, \"ERROR\")))","v":""},{"$f":"IF('Data PCB'!Q34=\"\",\"\",IF(ISNUMBER('Data PCB'!Q34)=TRUE, IF('Data PCB'!Q34<'Data PCB'!Q$38, \"ERROR\", 'Data PCB'!Q34), IF('Data PCB'!Q34=\"<LOD\",'Data PCB'!Q$38, \"ERROR\")))","v":""},{"$f":"IF('Data PCB'!R34=\"\",\"\",IF(ISNUMBER('Data PCB'!R34)=TRUE, IF('Data PCB'!R34<'Data PCB'!R$38, \"ERROR\", 'Data PCB'!R34), IF('Data PCB'!R34=\"<LOD\",'Data PCB'!R$38, \"ERROR\")))","v":""},{"$f":"IF('Data PCB'!S34=\"\",\"\",IF(ISNUMBER('Data PCB'!S34)=TRUE, IF('Data PCB'!S34<'Data PCB'!S$38, \"ERROR\", 'Data PCB'!S34), IF('Data PCB'!S34=\"<LOD\",'Data PCB'!S$38, \"ERROR\")))","v":""},{"$f":"IF('Data PCB'!T34=\"\",\"\",IF(ISNUMBER('Data PCB'!T34)=TRUE, IF('Data PCB'!T34<'Data PCB'!T$38, \"ERROR\", 'Data PCB'!T34), IF('Data PCB'!T34=\"<LOD\",'Data PCB'!T$38, \"ERROR\")))","v":""},{"$f":"IF('Data PCB'!U34=\"\",\"\",IF(ISNUMBER('Data PCB'!U34)=TRUE, IF('Data PCB'!U34<'Data PCB'!U$38, \"ERROR\", 'Data PCB'!U34), IF('Data PCB'!U34=\"<LOD\",'Data PCB'!U$38, \"ERROR\")))","v":""},{"$f":"IF('Data PCB'!V34=\"\",\"\",IF(ISNUMBER('Data PCB'!V34)=TRUE, IF('Data PCB'!V34<'Data PCB'!V$38, \"ERROR\", 'Data PCB'!V34), IF('Data PCB'!V34=\"<LOD\",'Data PCB'!V$38, \"ERROR\")))","v":""},{"$f":"IF('Data PCB'!W34=\"\",\"\",IF(ISNUMBER('Data PCB'!W34)=TRUE, IF('Data PCB'!W34<'Data PCB'!W$38, \"ERROR\", 'Data PCB'!W34), IF('Data PCB'!W34=\"<LOD\",'Data PCB'!W$38, \"ERROR\")))","v":""},{"$f":"IF('Data PCB'!X34=\"\",\"\",IF(ISNUMBER('Data PCB'!X34)=TRUE, IF('Data PCB'!X34<'Data PCB'!X$38, \"ERROR\", 'Data PCB'!X34), IF('Data PCB'!X34=\"<LOD\",'Data PCB'!X$38, \"ERROR\")))","v":""},{"$f":"IF('Data PCB'!Y34=\"\",\"\",IF(ISNUMBER('Data PCB'!Y34)=TRUE, IF('Data PCB'!Y34<'Data PCB'!Y$38, \"ERROR\", 'Data PCB'!Y34), IF('Data PCB'!Y34=\"<LOD\",'Data PCB'!Y$38, \"ERROR\")))","v":""},{"$f":"IF('Data PCB'!Z34=\"\",\"\",IF(ISNUMBER('Data PCB'!Z34)=TRUE, IF('Data PCB'!Z34<'Data PCB'!Z$38, \"ERROR\", 'Data PCB'!Z34), IF('Data PCB'!Z34=\"<LOD\",'Data PCB'!Z$38, \"ERROR\")))","v":""},{"$f":"IF('Data PCB'!AA34=\"\",\"\",IF(ISNUMBER('Data PCB'!AA34)=TRUE, IF('Data PCB'!AA34<'Data PCB'!AA$38, \"ERROR\", 'Data PCB'!AA34), IF('Data PCB'!AA34=\"<LOD\",'Data PCB'!AA$38, \"ERROR\")))","v":""},{"$f":"IF('Data PCB'!AB34=\"\",\"\",IF(ISNUMBER('Data PCB'!AB34)=TRUE, IF('Data PCB'!AB34<'Data PCB'!AB$38, \"ERROR\", 'Data PCB'!AB34), IF('Data PCB'!AB34=\"<LOD\",'Data PCB'!AB$38, \"ERROR\")))","v":""},{"$f":"IF('Data PCB'!AC34=\"\",\"\",IF(ISNUMBER('Data PCB'!AC34)=TRUE, IF('Data PCB'!AC34<'Data PCB'!AC$38, \"ERROR\", 'Data PCB'!AC34), IF('Data PCB'!AC34=\"<LOD\",'Data PCB'!AC$38, \"ERROR\")))","v":""},{"$f":"IF('Data PCB'!AD34=\"\",\"\",IF(ISNUMBER('Data PCB'!AD34)=TRUE, IF('Data PCB'!AD34<'Data PCB'!AD$38, \"ERROR\", 'Data PCB'!AD34), IF('Data PCB'!AD34=\"<LOD\",'Data PCB'!AD$38, \"ERROR\")))","v":""},{"$f":"IF('Data PCB'!AE34=\"\",\"\",IF(ISNUMBER('Data PCB'!AE34)=TRUE, IF('Data PCB'!AE34<'Data PCB'!AE$38, \"ERROR\", 'Data PCB'!AE34), IF('Data PCB'!AE34=\"<LOD\",'Data PCB'!AE$38, \"ERROR\")))","v":""},{"$f":"IF('Data PCB'!AF34=\"\",\"\",IF(ISNUMBER('Data PCB'!AF34)=TRUE, IF('Data PCB'!AF34<'Data PCB'!AF$38, \"ERROR\", 'Data PCB'!AF34), IF('Data PCB'!AF34=\"<LOD\",'Data PCB'!AF$38, \"ERROR\")))","v":""},{"$f":"IF('Data PCB'!AG34=\"\",\"\",IF(ISNUMBER('Data PCB'!AG34)=TRUE, IF('Data PCB'!AG34<'Data PCB'!AG$38, \"ERROR\", 'Data PCB'!AG34), IF('Data PCB'!AG34=\"<LOD\",'Data PCB'!AG$38, \"ERROR\")))","v":""},{"$f":"IF('Data PCB'!AH34=\"\",\"\",IF(ISNUMBER('Data PCB'!AH34)=TRUE, IF('Data PCB'!AH34<'Data PCB'!AH$38, \"ERROR\", 'Data PCB'!AH34), IF('Data PCB'!AH34=\"<LOD\",'Data PCB'!AH$38, \"ERROR\")))","v":""},{"$f":"IF('Data PCB'!AI34=\"\",\"\",IF(ISNUMBER('Data PCB'!AI34)=TRUE, IF('Data PCB'!AI34<'Data PCB'!AI$38, \"ERROR\", 'Data PCB'!AI34), IF('Data PCB'!AI34=\"<LOD\",'Data PCB'!AI$38, \"ERROR\")))","v":""},"",""]
[null,null,null,null,null,null,null,{"$f":"IF('Data PCB'!H35=\"\",\"\",'Data PCB'!H35)","v":""},{"$f":"IF('Data PCB'!I35=\"\",\"\",'Data PCB'!I35)","v":""},{"$f":"IFERROR(IF(K36=\"\",\"\",(IF(VLOOKUP(K36,'Gwybodaeth ymgeiswyr'!$K$8:$L$37,2,0)=\"y\",\"y\",\"\"))),\"Manual entry required\")","v":""},{"$f":"IF('Data PCB'!J35=\"\",\"\",'Data PCB'!J35)","v":""},{"$f":"IF('Data PCB'!K35=\"\",\"\",IF(ISNUMBER('Data PCB'!K35)=TRUE, IF('Data PCB'!K35<'Data PCB'!K$38, \"ERROR\", 'Data PCB'!K35), IF('Data PCB'!K35=\"<LOD\",'Data PCB'!K$38, \"ERROR\")))","v":""},{"$f":"IF('Data PCB'!L35=\"\",\"\",IF(ISNUMBER('Data PCB'!L35)=TRUE, IF('Data PCB'!L35<'Data PCB'!L$38, \"ERROR\", 'Data PCB'!L35), IF('Data PCB'!L35=\"<LOD\",'Data PCB'!L$38, \"ERROR\")))","v":""},{"$f":"IF('Data PCB'!M35=\"\",\"\",IF(ISNUMBER('Data PCB'!M35)=TRUE, IF('Data PCB'!M35<'Data PCB'!M$38, \"ERROR\", 'Data PCB'!M35), IF('Data PCB'!M35=\"<LOD\",'Data PCB'!M$38, \"ERROR\")))","v":""},{"$f":"IF('Data PCB'!N35=\"\",\"\",IF(ISNUMBER('Data PCB'!N35)=TRUE, IF('Data PCB'!N35<'Data PCB'!N$38, \"ERROR\", 'Data PCB'!N35), IF('Data PCB'!N35=\"<LOD\",'Data PCB'!N$38, \"ERROR\")))","v":""},{"$f":"IF('Data PCB'!O35=\"\",\"\",IF(ISNUMBER('Data PCB'!O35)=TRUE, IF('Data PCB'!O35<'Data PCB'!O$38, \"ERROR\", 'Data PCB'!O35), IF('Data PCB'!O35=\"<LOD\",'Data PCB'!O$38, \"ERROR\")))","v":""},{"$f":"IF('Data PCB'!P35=\"\",\"\",IF(ISNUMBER('Data PCB'!P35)=TRUE, IF('Data PCB'!P35<'Data PCB'!P$38, \"ERROR\", 'Data PCB'!P35), IF('Data PCB'!P35=\"<LOD\",'Data PCB'!P$38, \"ERROR\")))","v":""},{"$f":"IF('Data PCB'!Q35=\"\",\"\",IF(ISNUMBER('Data PCB'!Q35)=TRUE, IF('Data PCB'!Q35<'Data PCB'!Q$38, \"ERROR\", 'Data PCB'!Q35), IF('Data PCB'!Q35=\"<LOD\",'Data PCB'!Q$38, \"ERROR\")))","v":""},{"$f":"IF('Data PCB'!R35=\"\",\"\",IF(ISNUMBER('Data PCB'!R35)=TRUE, IF('Data PCB'!R35<'Data PCB'!R$38, \"ERROR\", 'Data PCB'!R35), IF('Data PCB'!R35=\"<LOD\",'Data PCB'!R$38, \"ERROR\")))","v":""},{"$f":"IF('Data PCB'!S35=\"\",\"\",IF(ISNUMBER('Data PCB'!S35)=TRUE, IF('Data PCB'!S35<'Data PCB'!S$38, \"ERROR\", 'Data PCB'!S35), IF('Data PCB'!S35=\"<LOD\",'Data PCB'!S$38, \"ERROR\")))","v":""},{"$f":"IF('Data PCB'!T35=\"\",\"\",IF(ISNUMBER('Data PCB'!T35)=TRUE, IF('Data PCB'!T35<'Data PCB'!T$38, \"ERROR\", 'Data PCB'!T35), IF('Data PCB'!T35=\"<LOD\",'Data PCB'!T$38, \"ERROR\")))","v":""},{"$f":"IF('Data PCB'!U35=\"\",\"\",IF(ISNUMBER('Data PCB'!U35)=TRUE, IF('Data PCB'!U35<'Data PCB'!U$38, \"ERROR\", 'Data PCB'!U35), IF('Data PCB'!U35=\"<LOD\",'Data PCB'!U$38, \"ERROR\")))","v":""},{"$f":"IF('Data PCB'!V35=\"\",\"\",IF(ISNUMBER('Data PCB'!V35)=TRUE, IF('Data PCB'!V35<'Data PCB'!V$38, \"ERROR\", 'Data PCB'!V35), IF('Data PCB'!V35=\"<LOD\",'Data PCB'!V$38, \"ERROR\")))","v":""},{"$f":"IF('Data PCB'!W35=\"\",\"\",IF(ISNUMBER('Data PCB'!W35)=TRUE, IF('Data PCB'!W35<'Data PCB'!W$38, \"ERROR\", 'Data PCB'!W35), IF('Data PCB'!W35=\"<LOD\",'Data PCB'!W$38, \"ERROR\")))","v":""},{"$f":"IF('Data PCB'!X35=\"\",\"\",IF(ISNUMBER('Data PCB'!X35)=TRUE, IF('Data PCB'!X35<'Data PCB'!X$38, \"ERROR\", 'Data PCB'!X35), IF('Data PCB'!X35=\"<LOD\",'Data PCB'!X$38, \"ERROR\")))","v":""},{"$f":"IF('Data PCB'!Y35=\"\",\"\",IF(ISNUMBER('Data PCB'!Y35)=TRUE, IF('Data PCB'!Y35<'Data PCB'!Y$38, \"ERROR\", 'Data PCB'!Y35), IF('Data PCB'!Y35=\"<LOD\",'Data PCB'!Y$38, \"ERROR\")))","v":""},{"$f":"IF('Data PCB'!Z35=\"\",\"\",IF(ISNUMBER('Data PCB'!Z35)=TRUE, IF('Data PCB'!Z35<'Data PCB'!Z$38, \"ERROR\", 'Data PCB'!Z35), IF('Data PCB'!Z35=\"<LOD\",'Data PCB'!Z$38, \"ERROR\")))","v":""},{"$f":"IF('Data PCB'!AA35=\"\",\"\",IF(ISNUMBER('Data PCB'!AA35)=TRUE, IF('Data PCB'!AA35<'Data PCB'!AA$38, \"ERROR\", 'Data PCB'!AA35), IF('Data PCB'!AA35=\"<LOD\",'Data PCB'!AA$38, \"ERROR\")))","v":""},{"$f":"IF('Data PCB'!AB35=\"\",\"\",IF(ISNUMBER('Data PCB'!AB35)=TRUE, IF('Data PCB'!AB35<'Data PCB'!AB$38, \"ERROR\", 'Data PCB'!AB35), IF('Data PCB'!AB35=\"<LOD\",'Data PCB'!AB$38, \"ERROR\")))","v":""},{"$f":"IF('Data PCB'!AC35=\"\",\"\",IF(ISNUMBER('Data PCB'!AC35)=TRUE, IF('Data PCB'!AC35<'Data PCB'!AC$38, \"ERROR\", 'Data PCB'!AC35), IF('Data PCB'!AC35=\"<LOD\",'Data PCB'!AC$38, \"ERROR\")))","v":""},{"$f":"IF('Data PCB'!AD35=\"\",\"\",IF(ISNUMBER('Data PCB'!AD35)=TRUE, IF('Data PCB'!AD35<'Data PCB'!AD$38, \"ERROR\", 'Data PCB'!AD35), IF('Data PCB'!AD35=\"<LOD\",'Data PCB'!AD$38, \"ERROR\")))","v":""},{"$f":"IF('Data PCB'!AE35=\"\",\"\",IF(ISNUMBER('Data PCB'!AE35)=TRUE, IF('Data PCB'!AE35<'Data PCB'!AE$38, \"ERROR\", 'Data PCB'!AE35), IF('Data PCB'!AE35=\"<LOD\",'Data PCB'!AE$38, \"ERROR\")))","v":""},{"$f":"IF('Data PCB'!AF35=\"\",\"\",IF(ISNUMBER('Data PCB'!AF35)=TRUE, IF('Data PCB'!AF35<'Data PCB'!AF$38, \"ERROR\", 'Data PCB'!AF35), IF('Data PCB'!AF35=\"<LOD\",'Data PCB'!AF$38, \"ERROR\")))","v":""},{"$f":"IF('Data PCB'!AG35=\"\",\"\",IF(ISNUMBER('Data PCB'!AG35)=TRUE, IF('Data PCB'!AG35<'Data PCB'!AG$38, \"ERROR\", 'Data PCB'!AG35), IF('Data PCB'!AG35=\"<LOD\",'Data PCB'!AG$38, \"ERROR\")))","v":""},{"$f":"IF('Data PCB'!AH35=\"\",\"\",IF(ISNUMBER('Data PCB'!AH35)=TRUE, IF('Data PCB'!AH35<'Data PCB'!AH$38, \"ERROR\", 'Data PCB'!AH35), IF('Data PCB'!AH35=\"<LOD\",'Data PCB'!AH$38, \"ERROR\")))","v":""},{"$f":"IF('Data PCB'!AI35=\"\",\"\",IF(ISNUMBER('Data PCB'!AI35)=TRUE, IF('Data PCB'!AI35<'Data PCB'!AI$38, \"ERROR\", 'Data PCB'!AI35), IF('Data PCB'!AI35=\"<LOD\",'Data PCB'!AI$38, \"ERROR\")))","v":""},"",""]
[null,null,null,null,null,null,null,{"$f":"IF('Data PCB'!H36=\"\",\"\",'Data PCB'!H36)","v":""},{"$f":"IF('Data PCB'!I36=\"\",\"\",'Data PCB'!I36)","v":""},{"$f":"IFERROR(IF(K37=\"\",\"\",(IF(VLOOKUP(K37,'Gwybodaeth ymgeiswyr'!$K$8:$L$37,2,0)=\"y\",\"y\",\"\"))),\"Manual entry required\")","v":""},{"$f":"IF('Data PCB'!J36=\"\",\"\",'Data PCB'!J36)","v":""},{"$f":"IF('Data PCB'!K36=\"\",\"\",IF(ISNUMBER('Data PCB'!K36)=TRUE, IF('Data PCB'!K36<'Data PCB'!K$38, \"ERROR\", 'Data PCB'!K36), IF('Data PCB'!K36=\"<LOD\",'Data PCB'!K$38, \"ERROR\")))","v":""},{"$f":"IF('Data PCB'!L36=\"\",\"\",IF(ISNUMBER('Data PCB'!L36)=TRUE, IF('Data PCB'!L36<'Data PCB'!L$38, \"ERROR\", 'Data PCB'!L36), IF('Data PCB'!L36=\"<LOD\",'Data PCB'!L$38, \"ERROR\")))","v":""},{"$f":"IF('Data PCB'!M36=\"\",\"\",IF(ISNUMBER('Data PCB'!M36)=TRUE, IF('Data PCB'!M36<'Data PCB'!M$38, \"ERROR\", 'Data PCB'!M36), IF('Data PCB'!M36=\"<LOD\",'Data PCB'!M$38, \"ERROR\")))","v":""},{"$f":"IF('Data PCB'!N36=\"\",\"\",IF(ISNUMBER('Data PCB'!N36)=TRUE, IF('Data PCB'!N36<'Data PCB'!N$38, \"ERROR\", 'Data PCB'!N36), IF('Data PCB'!N36=\"<LOD\",'Data PCB'!N$38, \"ERROR\")))","v":""},{"$f":"IF('Data PCB'!O36=\"\",\"\",IF(ISNUMBER('Data PCB'!O36)=TRUE, IF('Data PCB'!O36<'Data PCB'!O$38, \"ERROR\", 'Data PCB'!O36), IF('Data PCB'!O36=\"<LOD\",'Data PCB'!O$38, \"ERROR\")))","v":""},{"$f":"IF('Data PCB'!P36=\"\",\"\",IF(ISNUMBER('Data PCB'!P36)=TRUE, IF('Data PCB'!P36<'Data PCB'!P$38, \"ERROR\", 'Data PCB'!P36), IF('Data PCB'!P36=\"<LOD\",'Data PCB'!P$38, \"ERROR\")))","v":""},{"$f":"IF('Data PCB'!Q36=\"\",\"\",IF(ISNUMBER('Data PCB'!Q36)=TRUE, IF('Data PCB'!Q36<'Data PCB'!Q$38, \"ERROR\", 'Data PCB'!Q36), IF('Data PCB'!Q36=\"<LOD\",'Data PCB'!Q$38, \"ERROR\")))","v":""},{"$f":"IF('Data PCB'!R36=\"\",\"\",IF(ISNUMBER('Data PCB'!R36)=TRUE, IF('Data PCB'!R36<'Data PCB'!R$38, \"ERROR\", 'Data PCB'!R36), IF('Data PCB'!R36=\"<LOD\",'Data PCB'!R$38, \"ERROR\")))","v":""},{"$f":"IF('Data PCB'!S36=\"\",\"\",IF(ISNUMBER('Data PCB'!S36)=TRUE, IF('Data PCB'!S36<'Data PCB'!S$38, \"ERROR\", 'Data PCB'!S36), IF('Data PCB'!S36=\"<LOD\",'Data PCB'!S$38, \"ERROR\")))","v":""},{"$f":"IF('Data PCB'!T36=\"\",\"\",IF(ISNUMBER('Data PCB'!T36)=TRUE, IF('Data PCB'!T36<'Data PCB'!T$38, \"ERROR\", 'Data PCB'!T36), IF('Data PCB'!T36=\"<LOD\",'Data PCB'!T$38, \"ERROR\")))","v":""},{"$f":"IF('Data PCB'!U36=\"\",\"\",IF(ISNUMBER('Data PCB'!U36)=TRUE, IF('Data PCB'!U36<'Data PCB'!U$38, \"ERROR\", 'Data PCB'!U36), IF('Data PCB'!U36=\"<LOD\",'Data PCB'!U$38, \"ERROR\")))","v":""},{"$f":"IF('Data PCB'!V36=\"\",\"\",IF(ISNUMBER('Data PCB'!V36)=TRUE, IF('Data PCB'!V36<'Data PCB'!V$38, \"ERROR\", 'Data PCB'!V36), IF('Data PCB'!V36=\"<LOD\",'Data PCB'!V$38, \"ERROR\")))","v":""},{"$f":"IF('Data PCB'!W36=\"\",\"\",IF(ISNUMBER('Data PCB'!W36)=TRUE, IF('Data PCB'!W36<'Data PCB'!W$38, \"ERROR\", 'Data PCB'!W36), IF('Data PCB'!W36=\"<LOD\",'Data PCB'!W$38, \"ERROR\")))","v":""},{"$f":"IF('Data PCB'!X36=\"\",\"\",IF(ISNUMBER('Data PCB'!X36)=TRUE, IF('Data PCB'!X36<'Data PCB'!X$38, \"ERROR\", 'Data PCB'!X36), IF('Data PCB'!X36=\"<LOD\",'Data PCB'!X$38, \"ERROR\")))","v":""},{"$f":"IF('Data PCB'!Y36=\"\",\"\",IF(ISNUMBER('Data PCB'!Y36)=TRUE, IF('Data PCB'!Y36<'Data PCB'!Y$38, \"ERROR\", 'Data PCB'!Y36), IF('Data PCB'!Y36=\"<LOD\",'Data PCB'!Y$38, \"ERROR\")))","v":""},{"$f":"IF('Data PCB'!Z36=\"\",\"\",IF(ISNUMBER('Data PCB'!Z36)=TRUE, IF('Data PCB'!Z36<'Data PCB'!Z$38, \"ERROR\", 'Data PCB'!Z36), IF('Data PCB'!Z36=\"<LOD\",'Data PCB'!Z$38, \"ERROR\")))","v":""},{"$f":"IF('Data PCB'!AA36=\"\",\"\",IF(ISNUMBER('Data PCB'!AA36)=TRUE, IF('Data PCB'!AA36<'Data PCB'!AA$38, \"ERROR\", 'Data PCB'!AA36), IF('Data PCB'!AA36=\"<LOD\",'Data PCB'!AA$38, \"ERROR\")))","v":""},{"$f":"IF('Data PCB'!AB36=\"\",\"\",IF(ISNUMBER('Data PCB'!AB36)=TRUE, IF('Data PCB'!AB36<'Data PCB'!AB$38, \"ERROR\", 'Data PCB'!AB36), IF('Data PCB'!AB36=\"<LOD\",'Data PCB'!AB$38, \"ERROR\")))","v":""},{"$f":"IF('Data PCB'!AC36=\"\",\"\",IF(ISNUMBER('Data PCB'!AC36)=TRUE, IF('Data PCB'!AC36<'Data PCB'!AC$38, \"ERROR\", 'Data PCB'!AC36), IF('Data PCB'!AC36=\"<LOD\",'Data PCB'!AC$38, \"ERROR\")))","v":""},{"$f":"IF('Data PCB'!AD36=\"\",\"\",IF(ISNUMBER('Data PCB'!AD36)=TRUE, IF('Data PCB'!AD36<'Data PCB'!AD$38, \"ERROR\", 'Data PCB'!AD36), IF('Data PCB'!AD36=\"<LOD\",'Data PCB'!AD$38, \"ERROR\")))","v":""},{"$f":"IF('Data PCB'!AE36=\"\",\"\",IF(ISNUMBER('Data PCB'!AE36)=TRUE, IF('Data PCB'!AE36<'Data PCB'!AE$38, \"ERROR\", 'Data PCB'!AE36), IF('Data PCB'!AE36=\"<LOD\",'Data PCB'!AE$38, \"ERROR\")))","v":""},{"$f":"IF('Data PCB'!AF36=\"\",\"\",IF(ISNUMBER('Data PCB'!AF36)=TRUE, IF('Data PCB'!AF36<'Data PCB'!AF$38, \"ERROR\", 'Data PCB'!AF36), IF('Data PCB'!AF36=\"<LOD\",'Data PCB'!AF$38, \"ERROR\")))","v":""},{"$f":"IF('Data PCB'!AG36=\"\",\"\",IF(ISNUMBER('Data PCB'!AG36)=TRUE, IF('Data PCB'!AG36<'Data PCB'!AG$38, \"ERROR\", 'Data PCB'!AG36), IF('Data PCB'!AG36=\"<LOD\",'Data PCB'!AG$38, \"ERROR\")))","v":""},{"$f":"IF('Data PCB'!AH36=\"\",\"\",IF(ISNUMBER('Data PCB'!AH36)=TRUE, IF('Data PCB'!AH36<'Data PCB'!AH$38, \"ERROR\", 'Data PCB'!AH36), IF('Data PCB'!AH36=\"<LOD\",'Data PCB'!AH$38, \"ERROR\")))","v":""},{"$f":"IF('Data PCB'!AI36=\"\",\"\",IF(ISNUMBER('Data PCB'!AI36)=TRUE, IF('Data PCB'!AI36<'Data PCB'!AI$38, \"ERROR\", 'Data PCB'!AI36), IF('Data PCB'!AI36=\"<LOD\",'Data PCB'!AI$38, \"ERROR\")))","v":""},"",""]
[null,null,null,null,null,null,null,{"$f":"IF('Data PCB'!H37=\"\",\"\",'Data PCB'!H37)","v":""},{"$f":"IF('Data PCB'!I37=\"\",\"\",'Data PCB'!I37)","v":""},{"$f":"IFERROR(IF(K38=\"\",\"\",(IF(VLOOKUP(K38,'Gwybodaeth ymgeiswyr'!$K$8:$L$37,2,0)=\"y\",\"y\",\"\"))),\"Manual entry required\")","v":""},{"$f":"IF('Data PCB'!J37=\"\",\"\",'Data PCB'!J37)","v":""},{"$f":"IF('Data PCB'!K37=\"\",\"\",IF(ISNUMBER('Data PCB'!K37)=TRUE, IF('Data PCB'!K37<'Data PCB'!K$38, \"ERROR\", 'Data PCB'!K37), IF('Data PCB'!K37=\"<LOD\",'Data PCB'!K$38, \"ERROR\")))","v":""},{"$f":"IF('Data PCB'!L37=\"\",\"\",IF(ISNUMBER('Data PCB'!L37)=TRUE, IF('Data PCB'!L37<'Data PCB'!L$38, \"ERROR\", 'Data PCB'!L37), IF('Data PCB'!L37=\"<LOD\",'Data PCB'!L$38, \"ERROR\")))","v":""},{"$f":"IF('Data PCB'!M37=\"\",\"\",IF(ISNUMBER('Data PCB'!M37)=TRUE, IF('Data PCB'!M37<'Data PCB'!M$38, \"ERROR\", 'Data PCB'!M37), IF('Data PCB'!M37=\"<LOD\",'Data PCB'!M$38, \"ERROR\")))","v":""},{"$f":"IF('Data PCB'!N37=\"\",\"\",IF(ISNUMBER('Data PCB'!N37)=TRUE, IF('Data PCB'!N37<'Data PCB'!N$38, \"ERROR\", 'Data PCB'!N37), IF('Data PCB'!N37=\"<LOD\",'Data PCB'!N$38, \"ERROR\")))","v":""},{"$f":"IF('Data PCB'!O37=\"\",\"\",IF(ISNUMBER('Data PCB'!O37)=TRUE, IF('Data PCB'!O37<'Data PCB'!O$38, \"ERROR\", 'Data PCB'!O37), IF('Data PCB'!O37=\"<LOD\",'Data PCB'!O$38, \"ERROR\")))","v":""},{"$f":"IF('Data PCB'!P37=\"\",\"\",IF(ISNUMBER('Data PCB'!P37)=TRUE, IF('Data PCB'!P37<'Data PCB'!P$38, \"ERROR\", 'Data PCB'!P37), IF('Data PCB'!P37=\"<LOD\",'Data PCB'!P$38, \"ERROR\")))","v":""},{"$f":"IF('Data PCB'!Q37=\"\",\"\",IF(ISNUMBER('Data PCB'!Q37)=TRUE, IF('Data PCB'!Q37<'Data PCB'!Q$38, \"ERROR\", 'Data PCB'!Q37), IF('Data PCB'!Q37=\"<LOD\",'Data PCB'!Q$38, \"ERROR\")))","v":""},{"$f":"IF('Data PCB'!R37=\"\",\"\",IF(ISNUMBER('Data PCB'!R37)=TRUE, IF('Data PCB'!R37<'Data PCB'!R$38, \"ERROR\", 'Data PCB'!R37), IF('Data PCB'!R37=\"<LOD\",'Data PCB'!R$38, \"ERROR\")))","v":""},{"$f":"IF('Data PCB'!S37=\"\",\"\",IF(ISNUMBER('Data PCB'!S37)=TRUE, IF('Data PCB'!S37<'Data PCB'!S$38, \"ERROR\", 'Data PCB'!S37), IF('Data PCB'!S37=\"<LOD\",'Data PCB'!S$38, \"ERROR\")))","v":""},{"$f":"IF('Data PCB'!T37=\"\",\"\",IF(ISNUMBER('Data PCB'!T37)=TRUE, IF('Data PCB'!T37<'Data PCB'!T$38, \"ERROR\", 'Data PCB'!T37), IF('Data PCB'!T37=\"<LOD\",'Data PCB'!T$38, \"ERROR\")))","v":""},{"$f":"IF('Data PCB'!U37=\"\",\"\",IF(ISNUMBER('Data PCB'!U37)=TRUE, IF('Data PCB'!U37<'Data PCB'!U$38, \"ERROR\", 'Data PCB'!U37), IF('Data PCB'!U37=\"<LOD\",'Data PCB'!U$38, \"ERROR\")))","v":""},{"$f":"IF('Data PCB'!V37=\"\",\"\",IF(ISNUMBER('Data PCB'!V37)=TRUE, IF('Data PCB'!V37<'Data PCB'!V$38, \"ERROR\", 'Data PCB'!V37), IF('Data PCB'!V37=\"<LOD\",'Data PCB'!V$38, \"ERROR\")))","v":""},{"$f":"IF('Data PCB'!W37=\"\",\"\",IF(ISNUMBER('Data PCB'!W37)=TRUE, IF('Data PCB'!W37<'Data PCB'!W$38, \"ERROR\", 'Data PCB'!W37), IF('Data PCB'!W37=\"<LOD\",'Data PCB'!W$38, \"ERROR\")))","v":""},{"$f":"IF('Data PCB'!X37=\"\",\"\",IF(ISNUMBER('Data PCB'!X37)=TRUE, IF('Data PCB'!X37<'Data PCB'!X$38, \"ERROR\", 'Data PCB'!X37), IF('Data PCB'!X37=\"<LOD\",'Data PCB'!X$38, \"ERROR\")))","v":""},{"$f":"IF('Data PCB'!Y37=\"\",\"\",IF(ISNUMBER('Data PCB'!Y37)=TRUE, IF('Data PCB'!Y37<'Data PCB'!Y$38, \"ERROR\", 'Data PCB'!Y37), IF('Data PCB'!Y37=\"<LOD\",'Data PCB'!Y$38, \"ERROR\")))","v":""},{"$f":"IF('Data PCB'!Z37=\"\",\"\",IF(ISNUMBER('Data PCB'!Z37)=TRUE, IF('Data PCB'!Z37<'Data PCB'!Z$38, \"ERROR\", 'Data PCB'!Z37), IF('Data PCB'!Z37=\"<LOD\",'Data PCB'!Z$38, \"ERROR\")))","v":""},{"$f":"IF('Data PCB'!AA37=\"\",\"\",IF(ISNUMBER('Data PCB'!AA37)=TRUE, IF('Data PCB'!AA37<'Data PCB'!AA$38, \"ERROR\", 'Data PCB'!AA37), IF('Data PCB'!AA37=\"<LOD\",'Data PCB'!AA$38, \"ERROR\")))","v":""},{"$f":"IF('Data PCB'!AB37=\"\",\"\",IF(ISNUMBER('Data PCB'!AB37)=TRUE, IF('Data PCB'!AB37<'Data PCB'!AB$38, \"ERROR\", 'Data PCB'!AB37), IF('Data PCB'!AB37=\"<LOD\",'Data PCB'!AB$38, \"ERROR\")))","v":""},{"$f":"IF('Data PCB'!AC37=\"\",\"\",IF(ISNUMBER('Data PCB'!AC37)=TRUE, IF('Data PCB'!AC37<'Data PCB'!AC$38, \"ERROR\", 'Data PCB'!AC37), IF('Data PCB'!AC37=\"<LOD\",'Data PCB'!AC$38, \"ERROR\")))","v":""},{"$f":"IF('Data PCB'!AD37=\"\",\"\",IF(ISNUMBER('Data PCB'!AD37)=TRUE, IF('Data PCB'!AD37<'Data PCB'!AD$38, \"ERROR\", 'Data PCB'!AD37), IF('Data PCB'!AD37=\"<LOD\",'Data PCB'!AD$38, \"ERROR\")))","v":""},{"$f":"IF('Data PCB'!AE37=\"\",\"\",IF(ISNUMBER('Data PCB'!AE37)=TRUE, IF('Data PCB'!AE37<'Data PCB'!AE$38, \"ERROR\", 'Data PCB'!AE37), IF('Data PCB'!AE37=\"<LOD\",'Data PCB'!AE$38, \"ERROR\")))","v":""},{"$f":"IF('Data PCB'!AF37=\"\",\"\",IF(ISNUMBER('Data PCB'!AF37)=TRUE, IF('Data PCB'!AF37<'Data PCB'!AF$38, \"ERROR\", 'Data PCB'!AF37), IF('Data PCB'!AF37=\"<LOD\",'Data PCB'!AF$38, \"ERROR\")))","v":""},{"$f":"IF('Data PCB'!AG37=\"\",\"\",IF(ISNUMBER('Data PCB'!AG37)=TRUE, IF('Data PCB'!AG37<'Data PCB'!AG$38, \"ERROR\", 'Data PCB'!AG37), IF('Data PCB'!AG37=\"<LOD\",'Data PCB'!AG$38, \"ERROR\")))","v":""},{"$f":"IF('Data PCB'!AH37=\"\",\"\",IF(ISNUMBER('Data PCB'!AH37)=TRUE, IF('Data PCB'!AH37<'Data PCB'!AH$38, \"ERROR\", 'Data PCB'!AH37), IF('Data PCB'!AH37=\"<LOD\",'Data PCB'!AH$38, \"ERROR\")))","v":""},{"$f":"IF('Data PCB'!AI37=\"\",\"\",IF(ISNUMBER('Data PCB'!AI37)=TRUE, IF('Data PCB'!AI37<'Data PCB'!AI$38, \"ERROR\", 'Data PCB'!AI37), IF('Data PCB'!AI37=\"<LOD\",'Data PCB'!AI$38, \"ERROR\")))","v":""},"",""]
[null,null,null,null,null,null,null,null,null,"Averages:",null,{"$f":"IF(COUNT(L9:L38)<1,\"\", AVERAGE(L9:L38))","v":""},"","","","","","","","","","","","","","","","","","","","","","","","","",""]
[]
[null,null,null,null,null,null,null,null,null,null,"Action level 1:  ",null,null,null,null,null,null,null,null,null,null,null,null,null,null,null,null,null,null,null,null,null,null,null,null,null,0.01,0.02]
[null,null,null,null,null,null,null,null,null,null,"Action level 2:  ",null,null,null,null,null,null,null,null,null,null,null,null,null,null,null,null,null,null,null,null,null,null,null,null,null,null,0.2]
[]
[]
[]
[null,null,null,null,null,null,null,"Transformation to wet weight (mg/kg)"]
[]
[null,null,null,null,null,null,null,"Laboratory sample number","Dredge Area","Excluded (y if yes)","Sample ID(s)","PCBs as mg/kg wet weight",null,null,null,null,null,null,null,null,null,null,null,null,null,null,null,null,null,null,null,null,null,null,null,null,"ICES 7","Total 25 congeners"]
[null,null,null,null,null,null,null,null,null,null,null,"2,2',4,5,5'-Pentachlorobiphenyl","2,3,3',4,4'-Pentachlorobiphenyl","2,3,3',4',6-Pentachlorobiphenyl","2,3',4,4',5-Pentachlorobiphenyl","2,2',3,3',4,4'-Hexachlorobiphenyl","2,2',3,4,4',5'-Hexachlorobiphenyl","2,2',3,4,5,5'-Hexachlorobiphenyl","2,2',3,4',5',6-Hexachlorobiphenyl","2,2',3,5,5',6-Hexachlorobiphenyl","2,2',4,4',5,5'-Hexachlorobiphenyl","2,3,3',4,4',5-Hexachlorobiphenyl","2,3,3',4,4',6-Hexachlorobiphenyl","2,2',3,3',4,4',5-Heptachlorobiphenyl","2,2',5- Trichlorobiphenyl","2,2',3,4,4',5,5'-Heptachlorobiphenyl","2,2',3,4,4',5',6-Heptachlorobiphenyl","2,2',3,4',5,5',6-Heptachlorobiphenyl","2,2',3,3',4,4',5,5'-Octachlorobiphenyl","2,4,4'-Trichlorobiphenyl","2,4',5-Trichlorobiphenyl","2,2',3,5'-Tetrachlorobiphenyl","2,2',4,4'-Tetrachlorobiphenyl","2,2',4,5'-Tetrachlorobiphenyl","2,2',5,5'-Tetrachlorobiphenyl","2,3',4,4'-Tetrachlorobiphenyl"]
[null,null,null,null,null,null,null,null,null,null,null,"CB101","CB105","CB110","CB118","CB128","CB138","CB141","CB149","CB151","CB153","CB156","CB158","CB170","CB18","CB180","CB183","CB187","CB194","CB28","CB31","CB44","CB47","CB49","CB52","CB66"]
[null,null,null,null,null,null,null,{"$f":"IF(H9=\"\",\"\",H9)","v":""},"","","",{"$f":"IF(L9=\"\",\"\",(('Data Ffisegol'!$M9/100)*L9))","v":""},{"$f":"IF(M9=\"\",\"\",(('Data Ffisegol'!$M9/100)*M9))","v":""},{"$f":"IF(N9=\"\",\"\",(('Data Ffisegol'!$M9/100)*N9))","v":""},{"$f":"IF(O9=\"\",\"\",(('Data Ffisegol'!$M9/100)*O9))","v":""},{"$f":"IF(P9=\"\",\"\",(('Data Ffisegol'!$M9/100)*P9))","v":""},{"$f":"IF(Q9=\"\",\"\",(('Data Ffisegol'!$M9/100)*Q9))","v":""},{"$f":"IF(R9=\"\",\"\",(('Data Ffisegol'!$M9/100)*R9))","v":""},{"$f":"IF(S9=\"\",\"\",(('Data Ffisegol'!$M9/100)*S9))","v":""},{"$f":"IF(T9=\"\",\"\",(('Data Ffisegol'!$M9/100)*T9))","v":""},{"$f":"IF(U9=\"\",\"\",(('Data Ffisegol'!$M9/100)*U9))","v":""},{"$f":"IF(V9=\"\",\"\",(('Data Ffisegol'!$M9/100)*V9))","v":""},{"$f":"IF(W9=\"\",\"\",(('Data Ffisegol'!$M9/100)*W9))","v":""},{"$f":"IF(X9=\"\",\"\",(('Data Ffisegol'!$M9/100)*X9))","v":""},{"$f":"IF(Y9=\"\",\"\",(('Data Ffisegol'!$M9/100)*Y9))","v":""},{"$f":"IF(Z9=\"\",\"\",(('Data Ffisegol'!$M9/100)*Z9))","v":""},{"$f":"IF(AA9=\"\",\"\",(('Data Ffisegol'!$M9/100)*AA9))","v":""},{"$f":"IF(AB9=\"\",\"\",(('Data Ffisegol'!$M9/100)*AB9))","v":""},{"$f":"IF(AC9=\"\",\"\",(('Data Ffisegol'!$M9/100)*AC9))","v":""},{"$f":"IF(AD9=\"\",\"\",(('Data Ffisegol'!$M9/100)*AD9))","v":""},{"$f":"IF(AE9=\"\",\"\",(('Data Ffisegol'!$M9/100)*AE9))","v":""},{"$f":"IF(AF9=\"\",\"\",(('Data Ffisegol'!$M9/100)*AF9))","v":""},{"$f":"IF(AG9=\"\",\"\",(('Data Ffisegol'!$M9/100)*AG9))","v":""},{"$f":"IF(AH9=\"\",\"\",(('Data Ffisegol'!$M9/100)*AH9))","v":""},{"$f":"IF(AI9=\"\",\"\",(('Data Ffisegol'!$M9/100)*AI9))","v":""},{"$f":"IF(AJ9=\"\",\"\",(('Data Ffisegol'!$M9/100)*AJ9))","v":""},{"$f":"IF(AK9=\"\",\"\",(('Data Ffisegol'!$M9/100)*AK9))","v":""},{"$f":"IF(AL9=\"\",\"\",(('Data Ffisegol'!$M9/100)*AL9))","v":""}]
[null,null,null,null,null,null,null,"","","","",{"$f":"IF(L10=\"\",\"\",(('Data Ffisegol'!$M10/100)*L10))","v":""},{"$f":"IF(M10=\"\",\"\",(('Data Ffisegol'!$M10/100)*M10))","v":""},{"$f":"IF(N10=\"\",\"\",(('Data Ffisegol'!$M10/100)*N10))","v":""},{"$f":"IF(O10=\"\",\"\",(('Data Ffisegol'!$M10/100)*O10))","v":""},{"$f":"IF(P10=\"\",\"\",(('Data Ffisegol'!$M10/100)*P10))","v":""},{"$f":"IF(Q10=\"\",\"\",(('Data Ffisegol'!$M10/100)*Q10))","v":""},{"$f":"IF(R10=\"\",\"\",(('Data Ffisegol'!$M10/100)*R10))","v":""},{"$f":"IF(S10=\"\",\"\",(('Data Ffisegol'!$M10/100)*S10))","v":""},{"$f":"IF(T10=\"\",\"\",(('Data Ffisegol'!$M10/100)*T10))","v":""},{"$f":"IF(U10=\"\",\"\",(('Data Ffisegol'!$M10/100)*U10))","v":""},{"$f":"IF(V10=\"\",\"\",(('Data Ffisegol'!$M10/100)*V10))","v":""},{"$f":"IF(W10=\"\",\"\",(('Data Ffisegol'!$M10/100)*W10))","v":""},{"$f":"IF(X10=\"\",\"\",(('Data Ffisegol'!$M10/100)*X10))","v":""},{"$f":"IF(Y10=\"\",\"\",(('Data Ffisegol'!$M10/100)*Y10))","v":""},{"$f":"IF(Z10=\"\",\"\",(('Data Ffisegol'!$M10/100)*Z10))","v":""},{"$f":"IF(AA10=\"\",\"\",(('Data Ffisegol'!$M10/100)*AA10))","v":""},{"$f":"IF(AB10=\"\",\"\",(('Data Ffisegol'!$M10/100)*AB10))","v":""},{"$f":"IF(AC10=\"\",\"\",(('Data Ffisegol'!$M10/100)*AC10))","v":""},{"$f":"IF(AD10=\"\",\"\",(('Data Ffisegol'!$M10/100)*AD10))","v":""},{"$f":"IF(AE10=\"\",\"\",(('Data Ffisegol'!$M10/100)*AE10))","v":""},{"$f":"IF(AF10=\"\",\"\",(('Data Ffisegol'!$M10/100)*AF10))","v":""},{"$f":"IF(AG10=\"\",\"\",(('Data Ffisegol'!$M10/100)*AG10))","v":""},{"$f":"IF(AH10=\"\",\"\",(('Data Ffisegol'!$M10/100)*AH10))","v":""},{"$f":"IF(AI10=\"\",\"\",(('Data Ffisegol'!$M10/100)*AI10))","v":""},{"$f":"IF(AJ10=\"\",\"\",(('Data Ffisegol'!$M10/100)*AJ10))","v":""},{"$f":"IF(AK10=\"\",\"\",(('Data Ffisegol'!$M10/100)*AK10))","v":""},{"$f":"IF(AL10=\"\",\"\",(('Data Ffisegol'!$M10/100)*AL10))","v":""}]
[null,null,null,null,null,null,null,"","","","",{"$f":"IF(L11=\"\",\"\",(('Data Ffisegol'!$M11/100)*L11))","v":""},{"$f":"IF(M11=\"\",\"\",(('Data Ffisegol'!$M11/100)*M11))","v":""},{"$f":"IF(N11=\"\",\"\",(('Data Ffisegol'!$M11/100)*N11))","v":""},{"$f":"IF(O11=\"\",\"\",(('Data Ffisegol'!$M11/100)*O11))","v":""},{"$f":"IF(P11=\"\",\"\",(('Data Ffisegol'!$M11/100)*P11))","v":""},{"$f":"IF(Q11=\"\",\"\",(('Data Ffisegol'!$M11/100)*Q11))","v":""},{"$f":"IF(R11=\"\",\"\",(('Data Ffisegol'!$M11/100)*R11))","v":""},{"$f":"IF(S11=\"\",\"\",(('Data Ffisegol'!$M11/100)*S11))","v":""},{"$f":"IF(T11=\"\",\"\",(('Data Ffisegol'!$M11/100)*T11))","v":""},{"$f":"IF(U11=\"\",\"\",(('Data Ffisegol'!$M11/100)*U11))","v":""},{"$f":"IF(V11=\"\",\"\",(('Data Ffisegol'!$M11/100)*V11))","v":""},{"$f":"IF(W11=\"\",\"\",(('Data Ffisegol'!$M11/100)*W11))","v":""},{"$f":"IF(X11=\"\",\"\",(('Data Ffisegol'!$M11/100)*X11))","v":""},{"$f":"IF(Y11=\"\",\"\",(('Data Ffisegol'!$M11/100)*Y11))","v":""},{"$f":"IF(Z11=\"\",\"\",(('Data Ffisegol'!$M11/100)*Z11))","v":""},{"$f":"IF(AA11=\"\",\"\",(('Data Ffisegol'!$M11/100)*AA11))","v":""},{"$f":"IF(AB11=\"\",\"\",(('Data Ffisegol'!$M11/100)*AB11))","v":""},{"$f":"IF(AC11=\"\",\"\",(('Data Ffisegol'!$M11/100)*AC11))","v":""},{"$f":"IF(AD11=\"\",\"\",(('Data Ffisegol'!$M11/100)*AD11))","v":""},{"$f":"IF(AE11=\"\",\"\",(('Data Ffisegol'!$M11/100)*AE11))","v":""},{"$f":"IF(AF11=\"\",\"\",(('Data Ffisegol'!$M11/100)*AF11))","v":""},{"$f":"IF(AG11=\"\",\"\",(('Data Ffisegol'!$M11/100)*AG11))","v":""},{"$f":"IF(AH11=\"\",\"\",(('Data Ffisegol'!$M11/100)*AH11))","v":""},{"$f":"IF(AI11=\"\",\"\",(('Data Ffisegol'!$M11/100)*AI11))","v":""},{"$f":"IF(AJ11=\"\",\"\",(('Data Ffisegol'!$M11/100)*AJ11))","v":""},{"$f":"IF(AK11=\"\",\"\",(('Data Ffisegol'!$M11/100)*AK11))","v":""},{"$f":"IF(AL11=\"\",\"\",(('Data Ffisegol'!$M11/100)*AL11))","v":""}]
[null,null,null,null,null,null,null,"","","","",{"$f":"IF(L12=\"\",\"\",(('Data Ffisegol'!$M12/100)*L12))","v":""},{"$f":"IF(M12=\"\",\"\",(('Data Ffisegol'!$M12/100)*M12))","v":""},{"$f":"IF(N12=\"\",\"\",(('Data Ffisegol'!$M12/100)*N12))","v":""},{"$f":"IF(O12=\"\",\"\",(('Data Ffisegol'!$M12/100)*O12))","v":""},{"$f":"IF(P12=\"\",\"\",(('Data Ffisegol'!$M12/100)*P12))","v":""},{"$f":"IF(Q12=\"\",\"\",(('Data Ffisegol'!$M12/100)*Q12))","v":""},{"$f":"IF(R12=\"\",\"\",(('Data Ffisegol'!$M12/100)*R12))","v":""},{"$f":"IF(S12=\"\",\"\",(('Data Ffisegol'!$M12/100)*S12))","v":""},{"$f":"IF(T12=\"\",\"\",(('Data Ffisegol'!$M12/100)*T12))","v":""},{"$f":"IF(U12=\"\",\"\",(('Data Ffisegol'!$M12/100)*U12))","v":""},{"$f":"IF(V12=\"\",\"\",(('Data Ffisegol'!$M12/100)*V12))","v":""},{"$f":"IF(W12=\"\",\"\",(('Data Ffisegol'!$M12/100)*W12))","v":""},{"$f":"IF(X12=\"\",\"\",(('Data Ffisegol'!$M12/100)*X12))","v":""},{"$f":"IF(Y12=\"\",\"\",(('Data Ffisegol'!$M12/100)*Y12))","v":""},{"$f":"IF(Z12=\"\",\"\",(('Data Ffisegol'!$M12/100)*Z12))","v":""},{"$f":"IF(AA12=\"\",\"\",(('Data Ffisegol'!$M12/100)*AA12))","v":""},{"$f":"IF(AB12=\"\",\"\",(('Data Ffisegol'!$M12/100)*AB12))","v":""},{"$f":"IF(AC12=\"\",\"\",(('Data Ffisegol'!$M12/100)*AC12))","v":""},{"$f":"IF(AD12=\"\",\"\",(('Data Ffisegol'!$M12/100)*AD12))","v":""},{"$f":"IF(AE12=\"\",\"\",(('Data Ffisegol'!$M12/100)*AE12))","v":""},{"$f":"IF(AF12=\"\",\"\",(('Data Ffisegol'!$M12/100)*AF12))","v":""},{"$f":"IF(AG12=\"\",\"\",(('Data Ffisegol'!$M12/100)*AG12))","v":""},{"$f":"IF(AH12=\"\",\"\",(('Data Ffisegol'!$M12/100)*AH12))","v":""},{"$f":"IF(AI12=\"\",\"\",(('Data Ffisegol'!$M12/100)*AI12))","v":""},{"$f":"IF(AJ12=\"\",\"\",(('Data Ffisegol'!$M12/100)*AJ12))","v":""},{"$f":"IF(AK12=\"\",\"\",(('Data Ffisegol'!$M12/100)*AK12))","v":""},{"$f":"IF(AL12=\"\",\"\",(('Data Ffisegol'!$M12/100)*AL12))","v":""}]
[null,null,null,null,null,null,null,"","","","",{"$f":"IF(L13=\"\",\"\",(('Data Ffisegol'!$M13/100)*L13))","v":""},{"$f":"IF(M13=\"\",\"\",(('Data Ffisegol'!$M13/100)*M13))","v":""},{"$f":"IF(N13=\"\",\"\",(('Data Ffisegol'!$M13/100)*N13))","v":""},{"$f":"IF(O13=\"\",\"\",(('Data Ffisegol'!$M13/100)*O13))","v":""},{"$f":"IF(P13=\"\",\"\",(('Data Ffisegol'!$M13/100)*P13))","v":""},{"$f":"IF(Q13=\"\",\"\",(('Data Ffisegol'!$M13/100)*Q13))","v":""},{"$f":"IF(R13=\"\",\"\",(('Data Ffisegol'!$M13/100)*R13))","v":""},{"$f":"IF(S13=\"\",\"\",(('Data Ffisegol'!$M13/100)*S13))","v":""},{"$f":"IF(T13=\"\",\"\",(('Data Ffisegol'!$M13/100)*T13))","v":""},{"$f":"IF(U13=\"\",\"\",(('Data Ffisegol'!$M13/100)*U13))","v":""},{"$f":"IF(V13=\"\",\"\",(('Data Ffisegol'!$M13/100)*V13))","v":""},{"$f":"IF(W13=\"\",\"\",(('Data Ffisegol'!$M13/100)*W13))","v":""},{"$f":"IF(X13=\"\",\"\",(('Data Ffisegol'!$M13/100)*X13))","v":""},{"$f":"IF(Y13=\"\",\"\",(('Data Ffisegol'!$M13/100)*Y13))","v":""},{"$f":"IF(Z13=\"\",\"\",(('Data Ffisegol'!$M13/100)*Z13))","v":""},{"$f":"IF(AA13=\"\",\"\",(('Data Ffisegol'!$M13/100)*AA13))","v":""},{"$f":"IF(AB13=\"\",\"\",(('Data Ffisegol'!$M13/100)*AB13))","v":""},{"$f":"IF(AC13=\"\",\"\",(('Data Ffisegol'!$M13/100)*AC13))","v":""},{"$f":"IF(AD13=\"\",\"\",(('Data Ffisegol'!$M13/100)*AD13))","v":""},{"$f":"IF(AE13=\"\",\"\",(('Data Ffisegol'!$M13/100)*AE13))","v":""},{"$f":"IF(AF13=\"\",\"\",(('Data Ffisegol'!$M13/100)*AF13))","v":""},{"$f":"IF(AG13=\"\",\"\",(('Data Ffisegol'!$M13/100)*AG13))","v":""},{"$f":"IF(AH13=\"\",\"\",(('Data Ffisegol'!$M13/100)*AH13))","v":""},{"$f":"IF(AI13=\"\",\"\",(('Data Ffisegol'!$M13/100)*AI13))","v":""},{"$f":"IF(AJ13=\"\",\"\",(('Data Ffisegol'!$M13/100)*AJ13))","v":""},{"$f":"IF(AK13=\"\",\"\",(('Data Ffisegol'!$M13/100)*AK13))","v":""},{"$f":"IF(AL13=\"\",\"\",(('Data Ffisegol'!$M13/100)*AL13))","v":""}]
[null,null,null,null,null,null,null,"","","","",{"$f":"IF(L14=\"\",\"\",(('Data Ffisegol'!$M14/100)*L14))","v":""},{"$f":"IF(M14=\"\",\"\",(('Data Ffisegol'!$M14/100)*M14))","v":""},{"$f":"IF(N14=\"\",\"\",(('Data Ffisegol'!$M14/100)*N14))","v":""},{"$f":"IF(O14=\"\",\"\",(('Data Ffisegol'!$M14/100)*O14))","v":""},{"$f":"IF(P14=\"\",\"\",(('Data Ffisegol'!$M14/100)*P14))","v":""},{"$f":"IF(Q14=\"\",\"\",(('Data Ffisegol'!$M14/100)*Q14))","v":""},{"$f":"IF(R14=\"\",\"\",(('Data Ffisegol'!$M14/100)*R14))","v":""},{"$f":"IF(S14=\"\",\"\",(('Data Ffisegol'!$M14/100)*S14))","v":""},{"$f":"IF(T14=\"\",\"\",(('Data Ffisegol'!$M14/100)*T14))","v":""},{"$f":"IF(U14=\"\",\"\",(('Data Ffisegol'!$M14/100)*U14))","v":""},{"$f":"IF(V14=\"\",\"\",(('Data Ffisegol'!$M14/100)*V14))","v":""},{"$f":"IF(W14=\"\",\"\",(('Data Ffisegol'!$M14/100)*W14))","v":""},{"$f":"IF(X14=\"\",\"\",(('Data Ffisegol'!$M14/100)*X14))","v":""},{"$f":"IF(Y14=\"\",\"\",(('Data Ffisegol'!$M14/100)*Y14))","v":""},{"$f":"IF(Z14=\"\",\"\",(('Data Ffisegol'!$M14/100)*Z14))","v":""},{"$f":"IF(AA14=\"\",\"\",(('Data Ffisegol'!$M14/100)*AA14))","v":""},{"$f":"IF(AB14=\"\",\"\",(('Data Ffisegol'!$M14/100)*AB14))","v":""},{"$f":"IF(AC14=\"\",\"\",(('Data Ffisegol'!$M14/100)*AC14))","v":""},{"$f":"IF(AD14=\"\",\"\",(('Data Ffisegol'!$M14/100)*AD14))","v":""},{"$f":"IF(AE14=\"\",\"\",(('Data Ffisegol'!$M14/100)*AE14))","v":""},{"$f":"IF(AF14=\"\",\"\",(('Data Ffisegol'!$M14/100)*AF14))","v":""},{"$f":"IF(AG14=\"\",\"\",(('Data Ffisegol'!$M14/100)*AG14))","v":""},{"$f":"IF(AH14=\"\",\"\",(('Data Ffisegol'!$M14/100)*AH14))","v":""},{"$f":"IF(AI14=\"\",\"\",(('Data Ffisegol'!$M14/100)*AI14))","v":""},{"$f":"IF(AJ14=\"\",\"\",(('Data Ffisegol'!$M14/100)*AJ14))","v":""},{"$f":"IF(AK14=\"\",\"\",(('Data Ffisegol'!$M14/100)*AK14))","v":""},{"$f":"IF(AL14=\"\",\"\",(('Data Ffisegol'!$M14/100)*AL14))","v":""}]
[null,null,null,null,null,null,null,"","","","",{"$f":"IF(L15=\"\",\"\",(('Data Ffisegol'!$M15/100)*L15))","v":""},{"$f":"IF(M15=\"\",\"\",(('Data Ffisegol'!$M15/100)*M15))","v":""},{"$f":"IF(N15=\"\",\"\",(('Data Ffisegol'!$M15/100)*N15))","v":""},{"$f":"IF(O15=\"\",\"\",(('Data Ffisegol'!$M15/100)*O15))","v":""},{"$f":"IF(P15=\"\",\"\",(('Data Ffisegol'!$M15/100)*P15))","v":""},{"$f":"IF(Q15=\"\",\"\",(('Data Ffisegol'!$M15/100)*Q15))","v":""},{"$f":"IF(R15=\"\",\"\",(('Data Ffisegol'!$M15/100)*R15))","v":""},{"$f":"IF(S15=\"\",\"\",(('Data Ffisegol'!$M15/100)*S15))","v":""},{"$f":"IF(T15=\"\",\"\",(('Data Ffisegol'!$M15/100)*T15))","v":""},{"$f":"IF(U15=\"\",\"\",(('Data Ffisegol'!$M15/100)*U15))","v":""},{"$f":"IF(V15=\"\",\"\",(('Data Ffisegol'!$M15/100)*V15))","v":""},{"$f":"IF(W15=\"\",\"\",(('Data Ffisegol'!$M15/100)*W15))","v":""},{"$f":"IF(X15=\"\",\"\",(('Data Ffisegol'!$M15/100)*X15))","v":""},{"$f":"IF(Y15=\"\",\"\",(('Data Ffisegol'!$M15/100)*Y15))","v":""},{"$f":"IF(Z15=\"\",\"\",(('Data Ffisegol'!$M15/100)*Z15))","v":""},{"$f":"IF(AA15=\"\",\"\",(('Data Ffisegol'!$M15/100)*AA15))","v":""},{"$f":"IF(AB15=\"\",\"\",(('Data Ffisegol'!$M15/100)*AB15))","v":""},{"$f":"IF(AC15=\"\",\"\",(('Data Ffisegol'!$M15/100)*AC15))","v":""},{"$f":"IF(AD15=\"\",\"\",(('Data Ffisegol'!$M15/100)*AD15))","v":""},{"$f":"IF(AE15=\"\",\"\",(('Data Ffisegol'!$M15/100)*AE15))","v":""},{"$f":"IF(AF15=\"\",\"\",(('Data Ffisegol'!$M15/100)*AF15))","v":""},{"$f":"IF(AG15=\"\",\"\",(('Data Ffisegol'!$M15/100)*AG15))","v":""},{"$f":"IF(AH15=\"\",\"\",(('Data Ffisegol'!$M15/100)*AH15))","v":""},{"$f":"IF(AI15=\"\",\"\",(('Data Ffisegol'!$M15/100)*AI15))","v":""},{"$f":"IF(AJ15=\"\",\"\",(('Data Ffisegol'!$M15/100)*AJ15))","v":""},{"$f":"IF(AK15=\"\",\"\",(('Data Ffisegol'!$M15/100)*AK15))","v":""},{"$f":"IF(AL15=\"\",\"\",(('Data Ffisegol'!$M15/100)*AL15))","v":""}]
[null,null,null,null,null,null,null,"","","","",{"$f":"IF(L16=\"\",\"\",(('Data Ffisegol'!$M16/100)*L16))","v":""},{"$f":"IF(M16=\"\",\"\",(('Data Ffisegol'!$M16/100)*M16))","v":""},{"$f":"IF(N16=\"\",\"\",(('Data Ffisegol'!$M16/100)*N16))","v":""},{"$f":"IF(O16=\"\",\"\",(('Data Ffisegol'!$M16/100)*O16))","v":""},{"$f":"IF(P16=\"\",\"\",(('Data Ffisegol'!$M16/100)*P16))","v":""},{"$f":"IF(Q16=\"\",\"\",(('Data Ffisegol'!$M16/100)*Q16))","v":""},{"$f":"IF(R16=\"\",\"\",(('Data Ffisegol'!$M16/100)*R16))","v":""},{"$f":"IF(S16=\"\",\"\",(('Data Ffisegol'!$M16/100)*S16))","v":""},{"$f":"IF(T16=\"\",\"\",(('Data Ffisegol'!$M16/100)*T16))","v":""},{"$f":"IF(U16=\"\",\"\",(('Data Ffisegol'!$M16/100)*U16))","v":""},{"$f":"IF(V16=\"\",\"\",(('Data Ffisegol'!$M16/100)*V16))","v":""},{"$f":"IF(W16=\"\",\"\",(('Data Ffisegol'!$M16/100)*W16))","v":""},{"$f":"IF(X16=\"\",\"\",(('Data Ffisegol'!$M16/100)*X16))","v":""},{"$f":"IF(Y16=\"\",\"\",(('Data Ffisegol'!$M16/100)*Y16))","v":""},{"$f":"IF(Z16=\"\",\"\",(('Data Ffisegol'!$M16/100)*Z16))","v":""},{"$f":"IF(AA16=\"\",\"\",(('Data Ffisegol'!$M16/100)*AA16))","v":""},{"$f":"IF(AB16=\"\",\"\",(('Data Ffisegol'!$M16/100)*AB16))","v":""},{"$f":"IF(AC16=\"\",\"\",(('Data Ffisegol'!$M16/100)*AC16))","v":""},{"$f":"IF(AD16=\"\",\"\",(('Data Ffisegol'!$M16/100)*AD16))","v":""},{"$f":"IF(AE16=\"\",\"\",(('Data Ffisegol'!$M16/100)*AE16))","v":""},{"$f":"IF(AF16=\"\",\"\",(('Data Ffisegol'!$M16/100)*AF16))","v":""},{"$f":"IF(AG16=\"\",\"\",(('Data Ffisegol'!$M16/100)*AG16))","v":""},{"$f":"IF(AH16=\"\",\"\",(('Data Ffisegol'!$M16/100)*AH16))","v":""},{"$f":"IF(AI16=\"\",\"\",(('Data Ffisegol'!$M16/100)*AI16))","v":""},{"$f":"IF(AJ16=\"\",\"\",(('Data Ffisegol'!$M16/100)*AJ16))","v":""},{"$f":"IF(AK16=\"\",\"\",(('Data Ffisegol'!$M16/100)*AK16))","v":""},{"$f":"IF(AL16=\"\",\"\",(('Data Ffisegol'!$M16/100)*AL16))","v":""}]
[null,null,null,null,null,null,null,"","","","",{"$f":"IF(L17=\"\",\"\",(('Data Ffisegol'!$M17/100)*L17))","v":""},{"$f":"IF(M17=\"\",\"\",(('Data Ffisegol'!$M17/100)*M17))","v":""},{"$f":"IF(N17=\"\",\"\",(('Data Ffisegol'!$M17/100)*N17))","v":""},{"$f":"IF(O17=\"\",\"\",(('Data Ffisegol'!$M17/100)*O17))","v":""},{"$f":"IF(P17=\"\",\"\",(('Data Ffisegol'!$M17/100)*P17))","v":""},{"$f":"IF(Q17=\"\",\"\",(('Data Ffisegol'!$M17/100)*Q17))","v":""},{"$f":"IF(R17=\"\",\"\",(('Data Ffisegol'!$M17/100)*R17))","v":""},{"$f":"IF(S17=\"\",\"\",(('Data Ffisegol'!$M17/100)*S17))","v":""},{"$f":"IF(T17=\"\",\"\",(('Data Ffisegol'!$M17/100)*T17))","v":""},{"$f":"IF(U17=\"\",\"\",(('Data Ffisegol'!$M17/100)*U17))","v":""},{"$f":"IF(V17=\"\",\"\",(('Data Ffisegol'!$M17/100)*V17))","v":""},{"$f":"IF(W17=\"\",\"\",(('Data Ffisegol'!$M17/100)*W17))","v":""},{"$f":"IF(X17=\"\",\"\",(('Data Ffisegol'!$M17/100)*X17))","v":""},{"$f":"IF(Y17=\"\",\"\",(('Data Ffisegol'!$M17/100)*Y17))","v":""},{"$f":"IF(Z17=\"\",\"\",(('Data Ffisegol'!$M17/100)*Z17))","v":""},{"$f":"IF(AA17=\"\",\"\",(('Data Ffisegol'!$M17/100)*AA17))","v":""},{"$f":"IF(AB17=\"\",\"\",(('Data Ffisegol'!$M17/100)*AB17))","v":""},{"$f":"IF(AC17=\"\",\"\",(('Data Ffisegol'!$M17/100)*AC17))","v":""},{"$f":"IF(AD17=\"\",\"\",(('Data Ffisegol'!$M17/100)*AD17))","v":""},{"$f":"IF(AE17=\"\",\"\",(('Data Ffisegol'!$M17/100)*AE17))","v":""},{"$f":"IF(AF17=\"\",\"\",(('Data Ffisegol'!$M17/100)*AF17))","v":""},{"$f":"IF(AG17=\"\",\"\",(('Data Ffisegol'!$M17/100)*AG17))","v":""},{"$f":"IF(AH17=\"\",\"\",(('Data Ffisegol'!$M17/100)*AH17))","v":""},{"$f":"IF(AI17=\"\",\"\",(('Data Ffisegol'!$M17/100)*AI17))","v":""},{"$f":"IF(AJ17=\"\",\"\",(('Data Ffisegol'!$M17/100)*AJ17))","v":""},{"$f":"IF(AK17=\"\",\"\",(('Data Ffisegol'!$M17/100)*AK17))","v":""},{"$f":"IF(AL17=\"\",\"\",(('Data Ffisegol'!$M17/100)*AL17))","v":""}]
[null,null,null,null,null,null,null,"","","","",{"$f":"IF(L18=\"\",\"\",(('Data Ffisegol'!$M18/100)*L18))","v":""},{"$f":"IF(M18=\"\",\"\",(('Data Ffisegol'!$M18/100)*M18))","v":""},{"$f":"IF(N18=\"\",\"\",(('Data Ffisegol'!$M18/100)*N18))","v":""},{"$f":"IF(O18=\"\",\"\",(('Data Ffisegol'!$M18/100)*O18))","v":""},{"$f":"IF(P18=\"\",\"\",(('Data Ffisegol'!$M18/100)*P18))","v":""},{"$f":"IF(Q18=\"\",\"\",(('Data Ffisegol'!$M18/100)*Q18))","v":""},{"$f":"IF(R18=\"\",\"\",(('Data Ffisegol'!$M18/100)*R18))","v":""},{"$f":"IF(S18=\"\",\"\",(('Data Ffisegol'!$M18/100)*S18))","v":""},{"$f":"IF(T18=\"\",\"\",(('Data Ffisegol'!$M18/100)*T18))","v":""},{"$f":"IF(U18=\"\",\"\",(('Data Ffisegol'!$M18/100)*U18))","v":""},{"$f":"IF(V18=\"\",\"\",(('Data Ffisegol'!$M18/100)*V18))","v":""},{"$f":"IF(W18=\"\",\"\",(('Data Ffisegol'!$M18/100)*W18))","v":""},{"$f":"IF(X18=\"\",\"\",(('Data Ffisegol'!$M18/100)*X18))","v":""},{"$f":"IF(Y18=\"\",\"\",(('Data Ffisegol'!$M18/100)*Y18))","v":""},{"$f":"IF(Z18=\"\",\"\",(('Data Ffisegol'!$M18/100)*Z18))","v":""},{"$f":"IF(AA18=\"\",\"\",(('Data Ffisegol'!$M18/100)*AA18))","v":""},{"$f":"IF(AB18=\"\",\"\",(('Data Ffisegol'!$M18/100)*AB18))","v":""},{"$f":"IF(AC18=\"\",\"\",(('Data Ffisegol'!$M18/100)*AC18))","v":""},{"$f":"IF(AD18=\"\",\"\",(('Data Ffisegol'!$M18/100)*AD18))","v":""},{"$f":"IF(AE18=\"\",\"\",(('Data Ffisegol'!$M18/100)*AE18))","v":""},{"$f":"IF(AF18=\"\",\"\",(('Data Ffisegol'!$M18/100)*AF18))","v":""},{"$f":"IF(AG18=\"\",\"\",(('Data Ffisegol'!$M18/100)*AG18))","v":""},{"$f":"IF(AH18=\"\",\"\",(('Data Ffisegol'!$M18/100)*AH18))","v":""},{"$f":"IF(AI18=\"\",\"\",(('Data Ffisegol'!$M18/100)*AI18))","v":""},{"$f":"IF(AJ18=\"\",\"\",(('Data Ffisegol'!$M18/100)*AJ18))","v":""},{"$f":"IF(AK18=\"\",\"\",(('Data Ffisegol'!$M18/100)*AK18))","v":""},{"$f":"IF(AL18=\"\",\"\",(('Data Ffisegol'!$M18/100)*AL18))","v":""}]
[null,null,null,null,null,null,null,{"$f":"IF(H19=\"\",\"\",H19)","v":""},"","","",{"$f":"IF(L19=\"\",\"\",(('Data Ffisegol'!$M19/100)*L19))","v":""},{"$f":"IF(M19=\"\",\"\",(('Data Ffisegol'!$M19/100)*M19))","v":""},{"$f":"IF(N19=\"\",\"\",(('Data Ffisegol'!$M19/100)*N19))","v":""},{"$f":"IF(O19=\"\",\"\",(('Data Ffisegol'!$M19/100)*O19))","v":""},{"$f":"IF(P19=\"\",\"\",(('Data Ffisegol'!$M19/100)*P19))","v":""},{"$f":"IF(Q19=\"\",\"\",(('Data Ffisegol'!$M19/100)*Q19))","v":""},{"$f":"IF(R19=\"\",\"\",(('Data Ffisegol'!$M19/100)*R19))","v":""},{"$f":"IF(S19=\"\",\"\",(('Data Ffisegol'!$M19/100)*S19))","v":""},{"$f":"IF(T19=\"\",\"\",(('Data Ffisegol'!$M19/100)*T19))","v":""},{"$f":"IF(U19=\"\",\"\",(('Data Ffisegol'!$M19/100)*U19))","v":""},{"$f":"IF(V19=\"\",\"\",(('Data Ffisegol'!$M19/100)*V19))","v":""},{"$f":"IF(W19=\"\",\"\",(('Data Ffisegol'!$M19/100)*W19))","v":""},{"$f":"IF(X19=\"\",\"\",(('Data Ffisegol'!$M19/100)*X19))","v":""},{"$f":"IF(Y19=\"\",\"\",(('Data Ffisegol'!$M19/100)*Y19))","v":""},{"$f":"IF(Z19=\"\",\"\",(('Data Ffisegol'!$M19/100)*Z19))","v":""},{"$f":"IF(AA19=\"\",\"\",(('Data Ffisegol'!$M19/100)*AA19))","v":""},{"$f":"IF(AB19=\"\",\"\",(('Data Ffisegol'!$M19/100)*AB19))","v":""},{"$f":"IF(AC19=\"\",\"\",(('Data Ffisegol'!$M19/100)*AC19))","v":""},{"$f":"IF(AD19=\"\",\"\",(('Data Ffisegol'!$M19/100)*AD19))","v":""},{"$f":"IF(AE19=\"\",\"\",(('Data Ffisegol'!$M19/100)*AE19))","v":""},{"$f":"IF(AF19=\"\",\"\",(('Data Ffisegol'!$M19/100)*AF19))","v":""},{"$f":"IF(AG19=\"\",\"\",(('Data Ffisegol'!$M19/100)*AG19))","v":""},{"$f":"IF(AH19=\"\",\"\",(('Data Ffisegol'!$M19/100)*AH19))","v":""},{"$f":"IF(AI19=\"\",\"\",(('Data Ffisegol'!$M19/100)*AI19))","v":""},{"$f":"IF(AJ19=\"\",\"\",(('Data Ffisegol'!$M19/100)*AJ19))","v":""},{"$f":"IF(AK19=\"\",\"\",(('Data Ffisegol'!$M19/100)*AK19))","v":""},{"$f":"IF(AL19=\"\",\"\",(('Data Ffisegol'!$M19/100)*AL19))","v":""}]
[null,null,null,null,null,null,null,"","","","",{"$f":"IF(L20=\"\",\"\",(('Data Ffisegol'!$M20/100)*L20))","v":""},{"$f":"IF(M20=\"\",\"\",(('Data Ffisegol'!$M20/100)*M20))","v":""},{"$f":"IF(N20=\"\",\"\",(('Data Ffisegol'!$M20/100)*N20))","v":""},{"$f":"IF(O20=\"\",\"\",(('Data Ffisegol'!$M20/100)*O20))","v":""},{"$f":"IF(P20=\"\",\"\",(('Data Ffisegol'!$M20/100)*P20))","v":""},{"$f":"IF(Q20=\"\",\"\",(('Data Ffisegol'!$M20/100)*Q20))","v":""},{"$f":"IF(R20=\"\",\"\",(('Data Ffisegol'!$M20/100)*R20))","v":""},{"$f":"IF(S20=\"\",\"\",(('Data Ffisegol'!$M20/100)*S20))","v":""},{"$f":"IF(T20=\"\",\"\",(('Data Ffisegol'!$M20/100)*T20))","v":""},{"$f":"IF(U20=\"\",\"\",(('Data Ffisegol'!$M20/100)*U20))","v":""},{"$f":"IF(V20=\"\",\"\",(('Data Ffisegol'!$M20/100)*V20))","v":""},{"$f":"IF(W20=\"\",\"\",(('Data Ffisegol'!$M20/100)*W20))","v":""},{"$f":"IF(X20=\"\",\"\",(('Data Ffisegol'!$M20/100)*X20))","v":""},{"$f":"IF(Y20=\"\",\"\",(('Data Ffisegol'!$M20/100)*Y20))","v":""},{"$f":"IF(Z20=\"\",\"\",(('Data Ffisegol'!$M20/100)*Z20))","v":""},{"$f":"IF(AA20=\"\",\"\",(('Data Ffisegol'!$M20/100)*AA20))","v":""},{"$f":"IF(AB20=\"\",\"\",(('Data Ffisegol'!$M20/100)*AB20))","v":""},{"$f":"IF(AC20=\"\",\"\",(('Data Ffisegol'!$M20/100)*AC20))","v":""},{"$f":"IF(AD20=\"\",\"\",(('Data Ffisegol'!$M20/100)*AD20))","v":""},{"$f":"IF(AE20=\"\",\"\",(('Data Ffisegol'!$M20/100)*AE20))","v":""},{"$f":"IF(AF20=\"\",\"\",(('Data Ffisegol'!$M20/100)*AF20))","v":""},{"$f":"IF(AG20=\"\",\"\",(('Data Ffisegol'!$M20/100)*AG20))","v":""},{"$f":"IF(AH20=\"\",\"\",(('Data Ffisegol'!$M20/100)*AH20))","v":""},{"$f":"IF(AI20=\"\",\"\",(('Data Ffisegol'!$M20/100)*AI20))","v":""},{"$f":"IF(AJ20=\"\",\"\",(('Data Ffisegol'!$M20/100)*AJ20))","v":""},{"$f":"IF(AK20=\"\",\"\",(('Data Ffisegol'!$M20/100)*AK20))","v":""},{"$f":"IF(AL20=\"\",\"\",(('Data Ffisegol'!$M20/100)*AL20))","v":""}]
[null,null,null,null,null,null,null,"","","","",{"$f":"IF(L21=\"\",\"\",(('Data Ffisegol'!$M21/100)*L21))","v":""},{"$f":"IF(M21=\"\",\"\",(('Data Ffisegol'!$M21/100)*M21))","v":""},{"$f":"IF(N21=\"\",\"\",(('Data Ffisegol'!$M21/100)*N21))","v":""},{"$f":"IF(O21=\"\",\"\",(('Data Ffisegol'!$M21/100)*O21))","v":""},{"$f":"IF(P21=\"\",\"\",(('Data Ffisegol'!$M21/100)*P21))","v":""},{"$f":"IF(Q21=\"\",\"\",(('Data Ffisegol'!$M21/100)*Q21))","v":""},{"$f":"IF(R21=\"\",\"\",(('Data Ffisegol'!$M21/100)*R21))","v":""},{"$f":"IF(S21=\"\",\"\",(('Data Ffisegol'!$M21/100)*S21))","v":""},{"$f":"IF(T21=\"\",\"\",(('Data Ffisegol'!$M21/100)*T21))","v":""},{"$f":"IF(U21=\"\",\"\",(('Data Ffisegol'!$M21/100)*U21))","v":""},{"$f":"IF(V21=\"\",\"\",(('Data Ffisegol'!$M21/100)*V21))","v":""},{"$f":"IF(W21=\"\",\"\",(('Data Ffisegol'!$M21/100)*W21))","v":""},{"$f":"IF(X21=\"\",\"\",(('Data Ffisegol'!$M21/100)*X21))","v":""},{"$f":"IF(Y21=\"\",\"\",(('Data Ffisegol'!$M21/100)*Y21))","v":""},{"$f":"IF(Z21=\"\",\"\",(('Data Ffisegol'!$M21/100)*Z21))","v":""},{"$f":"IF(AA21=\"\",\"\",(('Data Ffisegol'!$M21/100)*AA21))","v":""},{"$f":"IF(AB21=\"\",\"\",(('Data Ffisegol'!$M21/100)*AB21))","v":""},{"$f":"IF(AC21=\"\",\"\",(('Data Ffisegol'!$M21/100)*AC21))","v":""},{"$f":"IF(AD21=\"\",\"\",(('Data Ffisegol'!$M21/100)*AD21))","v":""},{"$f":"IF(AE21=\"\",\"\",(('Data Ffisegol'!$M21/100)*AE21))","v":""},{"$f":"IF(AF21=\"\",\"\",(('Data Ffisegol'!$M21/100)*AF21))","v":""},{"$f":"IF(AG21=\"\",\"\",(('Data Ffisegol'!$M21/100)*AG21))","v":""},{"$f":"IF(AH21=\"\",\"\",(('Data Ffisegol'!$M21/100)*AH21))","v":""},{"$f":"IF(AI21=\"\",\"\",(('Data Ffisegol'!$M21/100)*AI21))","v":""},{"$f":"IF(AJ21=\"\",\"\",(('Data Ffisegol'!$M21/100)*AJ21))","v":""},{"$f":"IF(AK21=\"\",\"\",(('Data Ffisegol'!$M21/100)*AK21))","v":""},{"$f":"IF(AL21=\"\",\"\",(('Data Ffisegol'!$M21/100)*AL21))","v":""}]
[null,null,null,null,null,null,null,"","","","",{"$f":"IF(L22=\"\",\"\",(('Data Ffisegol'!$M22/100)*L22))","v":""},{"$f":"IF(M22=\"\",\"\",(('Data Ffisegol'!$M22/100)*M22))","v":""},{"$f":"IF(N22=\"\",\"\",(('Data Ffisegol'!$M22/100)*N22))","v":""},{"$f":"IF(O22=\"\",\"\",(('Data Ffisegol'!$M22/100)*O22))","v":""},{"$f":"IF(P22=\"\",\"\",(('Data Ffisegol'!$M22/100)*P22))","v":""},{"$f":"IF(Q22=\"\",\"\",(('Data Ffisegol'!$M22/100)*Q22))","v":""},{"$f":"IF(R22=\"\",\"\",(('Data Ffisegol'!$M22/100)*R22))","v":""},{"$f":"IF(S22=\"\",\"\",(('Data Ffisegol'!$M22/100)*S22))","v":""},{"$f":"IF(T22=\"\",\"\",(('Data Ffisegol'!$M22/100)*T22))","v":""},{"$f":"IF(U22=\"\",\"\",(('Data Ffisegol'!$M22/100)*U22))","v":""},{"$f":"IF(V22=\"\",\"\",(('Data Ffisegol'!$M22/100)*V22))","v":""},{"$f":"IF(W22=\"\",\"\",(('Data Ffisegol'!$M22/100)*W22))","v":""},{"$f":"IF(X22=\"\",\"\",(('Data Ffisegol'!$M22/100)*X22))","v":""},{"$f":"IF(Y22=\"\",\"\",(('Data Ffisegol'!$M22/100)*Y22))","v":""},{"$f":"IF(Z22=\"\",\"\",(('Data Ffisegol'!$M22/100)*Z22))","v":""},{"$f":"IF(AA22=\"\",\"\",(('Data Ffisegol'!$M22/100)*AA22))","v":""},{"$f":"IF(AB22=\"\",\"\",(('Data Ffisegol'!$M22/100)*AB22))","v":""},{"$f":"IF(AC22=\"\",\"\",(('Data Ffisegol'!$M22/100)*AC22))","v":""},{"$f":"IF(AD22=\"\",\"\",(('Data Ffisegol'!$M22/100)*AD22))","v":""},{"$f":"IF(AE22=\"\",\"\",(('Data Ffisegol'!$M22/100)*AE22))","v":""},{"$f":"IF(AF22=\"\",\"\",(('Data Ffisegol'!$M22/100)*AF22))","v":""},{"$f":"IF(AG22=\"\",\"\",(('Data Ffisegol'!$M22/100)*AG22))","v":""},{"$f":"IF(AH22=\"\",\"\",(('Data Ffisegol'!$M22/100)*AH22))","v":""},{"$f":"IF(AI22=\"\",\"\",(('Data Ffisegol'!$M22/100)*AI22))","v":""},{"$f":"IF(AJ22=\"\",\"\",(('Data Ffisegol'!$M22/100)*AJ22))","v":""},{"$f":"IF(AK22=\"\",\"\",(('Data Ffisegol'!$M22/100)*AK22))","v":""},{"$f":"IF(AL22=\"\",\"\",(('Data Ffisegol'!$M22/100)*AL22))","v":""}]
[null,null,null,null,null,null,null,"","","","",{"$f":"IF(L23=\"\",\"\",(('Data Ffisegol'!$M23/100)*L23))","v":""},{"$f":"IF(M23=\"\",\"\",(('Data Ffisegol'!$M23/100)*M23))","v":""},{"$f":"IF(N23=\"\",\"\",(('Data Ffisegol'!$M23/100)*N23))","v":""},{"$f":"IF(O23=\"\",\"\",(('Data Ffisegol'!$M23/100)*O23))","v":""},{"$f":"IF(P23=\"\",\"\",(('Data Ffisegol'!$M23/100)*P23))","v":""},{"$f":"IF(Q23=\"\",\"\",(('Data Ffisegol'!$M23/100)*Q23))","v":""},{"$f":"IF(R23=\"\",\"\",(('Data Ffisegol'!$M23/100)*R23))","v":""},{"$f":"IF(S23=\"\",\"\",(('Data Ffisegol'!$M23/100)*S23))","v":""},{"$f":"IF(T23=\"\",\"\",(('Data Ffisegol'!$M23/100)*T23))","v":""},{"$f":"IF(U23=\"\",\"\",(('Data Ffisegol'!$M23/100)*U23))","v":""},{"$f":"IF(V23=\"\",\"\",(('Data Ffisegol'!$M23/100)*V23))","v":""},{"$f":"IF(W23=\"\",\"\",(('Data Ffisegol'!$M23/100)*W23))","v":""},{"$f":"IF(X23=\"\",\"\",(('Data Ffisegol'!$M23/100)*X23))","v":""},{"$f":"IF(Y23=\"\",\"\",(('Data Ffisegol'!$M23/100)*Y23))","v":""},{"$f":"IF(Z23=\"\",\"\",(('Data Ffisegol'!$M23/100)*Z23))","v":""},{"$f":"IF(AA23=\"\",\"\",(('Data Ffisegol'!$M23/100)*AA23))","v":""},{"$f":"IF(AB23=\"\",\"\",(('Data Ffisegol'!$M23/100)*AB23))","v":""},{"$f":"IF(AC23=\"\",\"\",(('Data Ffisegol'!$M23/100)*AC23))","v":""},{"$f":"IF(AD23=\"\",\"\",(('Data Ffisegol'!$M23/100)*AD23))","v":""},{"$f":"IF(AE23=\"\",\"\",(('Data Ffisegol'!$M23/100)*AE23))","v":""},{"$f":"IF(AF23=\"\",\"\",(('Data Ffisegol'!$M23/100)*AF23))","v":""},{"$f":"IF(AG23=\"\",\"\",(('Data Ffisegol'!$M23/100)*AG23))","v":""},{"$f":"IF(AH23=\"\",\"\",(('Data Ffisegol'!$M23/100)*AH23))","v":""},{"$f":"IF(AI23=\"\",\"\",(('Data Ffisegol'!$M23/100)*AI23))","v":""},{"$f":"IF(AJ23=\"\",\"\",(('Data Ffisegol'!$M23/100)*AJ23))","v":""},{"$f":"IF(AK23=\"\",\"\",(('Data Ffisegol'!$M23/100)*AK23))","v":""},{"$f":"IF(AL23=\"\",\"\",(('Data Ffisegol'!$M23/100)*AL23))","v":""}]
[null,null,null,null,null,null,null,"","","","",{"$f":"IF(L24=\"\",\"\",(('Data Ffisegol'!$M24/100)*L24))","v":""},{"$f":"IF(M24=\"\",\"\",(('Data Ffisegol'!$M24/100)*M24))","v":""},{"$f":"IF(N24=\"\",\"\",(('Data Ffisegol'!$M24/100)*N24))","v":""},{"$f":"IF(O24=\"\",\"\",(('Data Ffisegol'!$M24/100)*O24))","v":""},{"$f":"IF(P24=\"\",\"\",(('Data Ffisegol'!$M24/100)*P24))","v":""},{"$f":"IF(Q24=\"\",\"\",(('Data Ffisegol'!$M24/100)*Q24))","v":""},{"$f":"IF(R24=\"\",\"\",(('Data Ffisegol'!$M24/100)*R24))","v":""},{"$f":"IF(S24=\"\",\"\",(('Data Ffisegol'!$M24/100)*S24))","v":""},{"$f":"IF(T24=\"\",\"\",(('Data Ffisegol'!$M24/100)*T24))","v":""},{"$f":"IF(U24=\"\",\"\",(('Data Ffisegol'!$M24/100)*U24))","v":""},{"$f":"IF(V24=\"\",\"\",(('Data Ffisegol'!$M24/100)*V24))","v":""},{"$f":"IF(W24=\"\",\"\",(('Data Ffisegol'!$M24/100)*W24))","v":""},{"$f":"IF(X24=\"\",\"\",(('Data Ffisegol'!$M24/100)*X24))","v":""},{"$f":"IF(Y24=\"\",\"\",(('Data Ffisegol'!$M24/100)*Y24))","v":""},{"$f":"IF(Z24=\"\",\"\",(('Data Ffisegol'!$M24/100)*Z24))","v":""},{"$f":"IF(AA24=\"\",\"\",(('Data Ffisegol'!$M24/100)*AA24))","v":""},{"$f":"IF(AB24=\"\",\"\",(('Data Ffisegol'!$M24/100)*AB24))","v":""},{"$f":"IF(AC24=\"\",\"\",(('Data Ffisegol'!$M24/100)*AC24))","v":""},{"$f":"IF(AD24=\"\",\"\",(('Data Ffisegol'!$M24/100)*AD24))","v":""},{"$f":"IF(AE24=\"\",\"\",(('Data Ffisegol'!$M24/100)*AE24))","v":""},{"$f":"IF(AF24=\"\",\"\",(('Data Ffisegol'!$M24/100)*AF24))","v":""},{"$f":"IF(AG24=\"\",\"\",(('Data Ffisegol'!$M24/100)*AG24))","v":""},{"$f":"IF(AH24=\"\",\"\",(('Data Ffisegol'!$M24/100)*AH24))","v":""},{"$f":"IF(AI24=\"\",\"\",(('Data Ffisegol'!$M24/100)*AI24))","v":""},{"$f":"IF(AJ24=\"\",\"\",(('Data Ffisegol'!$M24/100)*AJ24))","v":""},{"$f":"IF(AK24=\"\",\"\",(('Data Ffisegol'!$M24/100)*AK24))","v":""},{"$f":"IF(AL24=\"\",\"\",(('Data Ffisegol'!$M24/100)*AL24))","v":""}]
[null,null,null,null,null,null,null,"","","","",{"$f":"IF(L25=\"\",\"\",(('Data Ffisegol'!$M25/100)*L25))","v":""},{"$f":"IF(M25=\"\",\"\",(('Data Ffisegol'!$M25/100)*M25))","v":""},{"$f":"IF(N25=\"\",\"\",(('Data Ffisegol'!$M25/100)*N25))","v":""},{"$f":"IF(O25=\"\",\"\",(('Data Ffisegol'!$M25/100)*O25))","v":""},{"$f":"IF(P25=\"\",\"\",(('Data Ffisegol'!$M25/100)*P25))","v":""},{"$f":"IF(Q25=\"\",\"\",(('Data Ffisegol'!$M25/100)*Q25))","v":""},{"$f":"IF(R25=\"\",\"\",(('Data Ffisegol'!$M25/100)*R25))","v":""},{"$f":"IF(S25=\"\",\"\",(('Data Ffisegol'!$M25/100)*S25))","v":""},{"$f":"IF(T25=\"\",\"\",(('Data Ffisegol'!$M25/100)*T25))","v":""},{"$f":"IF(U25=\"\",\"\",(('Data Ffisegol'!$M25/100)*U25))","v":""},{"$f":"IF(V25=\"\",\"\",(('Data Ffisegol'!$M25/100)*V25))","v":""},{"$f":"IF(W25=\"\",\"\",(('Data Ffisegol'!$M25/100)*W25))","v":""},{"$f":"IF(X25=\"\",\"\",(('Data Ffisegol'!$M25/100)*X25))","v":""},{"$f":"IF(Y25=\"\",\"\",(('Data Ffisegol'!$M25/100)*Y25))","v":""},{"$f":"IF(Z25=\"\",\"\",(('Data Ffisegol'!$M25/100)*Z25))","v":""},{"$f":"IF(AA25=\"\",\"\",(('Data Ffisegol'!$M25/100)*AA25))","v":""},{"$f":"IF(AB25=\"\",\"\",(('Data Ffisegol'!$M25/100)*AB25))","v":""},{"$f":"IF(AC25=\"\",\"\",(('Data Ffisegol'!$M25/100)*AC25))","v":""},{"$f":"IF(AD25=\"\",\"\",(('Data Ffisegol'!$M25/100)*AD25))","v":""},{"$f":"IF(AE25=\"\",\"\",(('Data Ffisegol'!$M25/100)*AE25))","v":""},{"$f":"IF(AF25=\"\",\"\",(('Data Ffisegol'!$M25/100)*AF25))","v":""},{"$f":"IF(AG25=\"\",\"\",(('Data Ffisegol'!$M25/100)*AG25))","v":""},{"$f":"IF(AH25=\"\",\"\",(('Data Ffisegol'!$M25/100)*AH25))","v":""},{"$f":"IF(AI25=\"\",\"\",(('Data Ffisegol'!$M25/100)*AI25))","v":""},{"$f":"IF(AJ25=\"\",\"\",(('Data Ffisegol'!$M25/100)*AJ25))","v":""},{"$f":"IF(AK25=\"\",\"\",(('Data Ffisegol'!$M25/100)*AK25))","v":""},{"$f":"IF(AL25=\"\",\"\",(('Data Ffisegol'!$M25/100)*AL25))","v":""}]
[null,null,null,null,null,null,null,"","","","",{"$f":"IF(L26=\"\",\"\",(('Data Ffisegol'!$M26/100)*L26))","v":""},{"$f":"IF(M26=\"\",\"\",(('Data Ffisegol'!$M26/100)*M26))","v":""},{"$f":"IF(N26=\"\",\"\",(('Data Ffisegol'!$M26/100)*N26))","v":""},{"$f":"IF(O26=\"\",\"\",(('Data Ffisegol'!$M26/100)*O26))","v":""},{"$f":"IF(P26=\"\",\"\",(('Data Ffisegol'!$M26/100)*P26))","v":""},{"$f":"IF(Q26=\"\",\"\",(('Data Ffisegol'!$M26/100)*Q26))","v":""},{"$f":"IF(R26=\"\",\"\",(('Data Ffisegol'!$M26/100)*R26))","v":""},{"$f":"IF(S26=\"\",\"\",(('Data Ffisegol'!$M26/100)*S26))","v":""},{"$f":"IF(T26=\"\",\"\",(('Data Ffisegol'!$M26/100)*T26))","v":""},{"$f":"IF(U26=\"\",\"\",(('Data Ffisegol'!$M26/100)*U26))","v":""},{"$f":"IF(V26=\"\",\"\",(('Data Ffisegol'!$M26/100)*V26))","v":""},{"$f":"IF(W26=\"\",\"\",(('Data Ffisegol'!$M26/100)*W26))","v":""},{"$f":"IF(X26=\"\",\"\",(('Data Ffisegol'!$M26/100)*X26))","v":""},{"$f":"IF(Y26=\"\",\"\",(('Data Ffisegol'!$M26/100)*Y26))","v":""},{"$f":"IF(Z26=\"\",\"\",(('Data Ffisegol'!$M26/100)*Z26))","v":""},{"$f":"IF(AA26=\"\",\"\",(('Data Ffisegol'!$M26/100)*AA26))","v":""},{"$f":"IF(AB26=\"\",\"\",(('Data Ffisegol'!$M26/100)*AB26))","v":""},{"$f":"IF(AC26=\"\",\"\",(('Data Ffisegol'!$M26/100)*AC26))","v":""},{"$f":"IF(AD26=\"\",\"\",(('Data Ffisegol'!$M26/100)*AD26))","v":""},{"$f":"IF(AE26=\"\",\"\",(('Data Ffisegol'!$M26/100)*AE26))","v":""},{"$f":"IF(AF26=\"\",\"\",(('Data Ffisegol'!$M26/100)*AF26))","v":""},{"$f":"IF(AG26=\"\",\"\",(('Data Ffisegol'!$M26/100)*AG26))","v":""},{"$f":"IF(AH26=\"\",\"\",(('Data Ffisegol'!$M26/100)*AH26))","v":""},{"$f":"IF(AI26=\"\",\"\",(('Data Ffisegol'!$M26/100)*AI26))","v":""},{"$f":"IF(AJ26=\"\",\"\",(('Data Ffisegol'!$M26/100)*AJ26))","v":""},{"$f":"IF(AK26=\"\",\"\",(('Data Ffisegol'!$M26/100)*AK26))","v":""},{"$f":"IF(AL26=\"\",\"\",(('Data Ffisegol'!$M26/100)*AL26))","v":""}]
[null,null,null,null,null,null,null,"","","","",{"$f":"IF(L27=\"\",\"\",(('Data Ffisegol'!$M27/100)*L27))","v":""},{"$f":"IF(M27=\"\",\"\",(('Data Ffisegol'!$M27/100)*M27))","v":""},{"$f":"IF(N27=\"\",\"\",(('Data Ffisegol'!$M27/100)*N27))","v":""},{"$f":"IF(O27=\"\",\"\",(('Data Ffisegol'!$M27/100)*O27))","v":""},{"$f":"IF(P27=\"\",\"\",(('Data Ffisegol'!$M27/100)*P27))","v":""},{"$f":"IF(Q27=\"\",\"\",(('Data Ffisegol'!$M27/100)*Q27))","v":""},{"$f":"IF(R27=\"\",\"\",(('Data Ffisegol'!$M27/100)*R27))","v":""},{"$f":"IF(S27=\"\",\"\",(('Data Ffisegol'!$M27/100)*S27))","v":""},{"$f":"IF(T27=\"\",\"\",(('Data Ffisegol'!$M27/100)*T27))","v":""},{"$f":"IF(U27=\"\",\"\",(('Data Ffisegol'!$M27/100)*U27))","v":""},{"$f":"IF(V27=\"\",\"\",(('Data Ffisegol'!$M27/100)*V27))","v":""},{"$f":"IF(W27=\"\",\"\",(('Data Ffisegol'!$M27/100)*W27))","v":""},{"$f":"IF(X27=\"\",\"\",(('Data Ffisegol'!$M27/100)*X27))","v":""},{"$f":"IF(Y27=\"\",\"\",(('Data Ffisegol'!$M27/100)*Y27))","v":""},{"$f":"IF(Z27=\"\",\"\",(('Data Ffisegol'!$M27/100)*Z27))","v":""},{"$f":"IF(AA27=\"\",\"\",(('Data Ffisegol'!$M27/100)*AA27))","v":""},{"$f":"IF(AB27=\"\",\"\",(('Data Ffisegol'!$M27/100)*AB27))","v":""},{"$f":"IF(AC27=\"\",\"\",(('Data Ffisegol'!$M27/100)*AC27))","v":""},{"$f":"IF(AD27=\"\",\"\",(('Data Ffisegol'!$M27/100)*AD27))","v":""},{"$f":"IF(AE27=\"\",\"\",(('Data Ffisegol'!$M27/100)*AE27))","v":""},{"$f":"IF(AF27=\"\",\"\",(('Data Ffisegol'!$M27/100)*AF27))","v":""},{"$f":"IF(AG27=\"\",\"\",(('Data Ffisegol'!$M27/100)*AG27))","v":""},{"$f":"IF(AH27=\"\",\"\",(('Data Ffisegol'!$M27/100)*AH27))","v":""},{"$f":"IF(AI27=\"\",\"\",(('Data Ffisegol'!$M27/100)*AI27))","v":""},{"$f":"IF(AJ27=\"\",\"\",(('Data Ffisegol'!$M27/100)*AJ27))","v":""},{"$f":"IF(AK27=\"\",\"\",(('Data Ffisegol'!$M27/100)*AK27))","v":""},{"$f":"IF(AL27=\"\",\"\",(('Data Ffisegol'!$M27/100)*AL27))","v":""}]
[null,null,null,null,null,null,null,"","","","",{"$f":"IF(L28=\"\",\"\",(('Data Ffisegol'!$M28/100)*L28))","v":""},{"$f":"IF(M28=\"\",\"\",(('Data Ffisegol'!$M28/100)*M28))","v":""},{"$f":"IF(N28=\"\",\"\",(('Data Ffisegol'!$M28/100)*N28))","v":""},{"$f":"IF(O28=\"\",\"\",(('Data Ffisegol'!$M28/100)*O28))","v":""},{"$f":"IF(P28=\"\",\"\",(('Data Ffisegol'!$M28/100)*P28))","v":""},{"$f":"IF(Q28=\"\",\"\",(('Data Ffisegol'!$M28/100)*Q28))","v":""},{"$f":"IF(R28=\"\",\"\",(('Data Ffisegol'!$M28/100)*R28))","v":""},{"$f":"IF(S28=\"\",\"\",(('Data Ffisegol'!$M28/100)*S28))","v":""},{"$f":"IF(T28=\"\",\"\",(('Data Ffisegol'!$M28/100)*T28))","v":""},{"$f":"IF(U28=\"\",\"\",(('Data Ffisegol'!$M28/100)*U28))","v":""},{"$f":"IF(V28=\"\",\"\",(('Data Ffisegol'!$M28/100)*V28))","v":""},{"$f":"IF(W28=\"\",\"\",(('Data Ffisegol'!$M28/100)*W28))","v":""},{"$f":"IF(X28=\"\",\"\",(('Data Ffisegol'!$M28/100)*X28))","v":""},{"$f":"IF(Y28=\"\",\"\",(('Data Ffisegol'!$M28/100)*Y28))","v":""},{"$f":"IF(Z28=\"\",\"\",(('Data Ffisegol'!$M28/100)*Z28))","v":""},{"$f":"IF(AA28=\"\",\"\",(('Data Ffisegol'!$M28/100)*AA28))","v":""},{"$f":"IF(AB28=\"\",\"\",(('Data Ffisegol'!$M28/100)*AB28))","v":""},{"$f":"IF(AC28=\"\",\"\",(('Data Ffisegol'!$M28/100)*AC28))","v":""},{"$f":"IF(AD28=\"\",\"\",(('Data Ffisegol'!$M28/100)*AD28))","v":""},{"$f":"IF(AE28=\"\",\"\",(('Data Ffisegol'!$M28/100)*AE28))","v":""},{"$f":"IF(AF28=\"\",\"\",(('Data Ffisegol'!$M28/100)*AF28))","v":""},{"$f":"IF(AG28=\"\",\"\",(('Data Ffisegol'!$M28/100)*AG28))","v":""},{"$f":"IF(AH28=\"\",\"\",(('Data Ffisegol'!$M28/100)*AH28))","v":""},{"$f":"IF(AI28=\"\",\"\",(('Data Ffisegol'!$M28/100)*AI28))","v":""},{"$f":"IF(AJ28=\"\",\"\",(('Data Ffisegol'!$M28/100)*AJ28))","v":""},{"$f":"IF(AK28=\"\",\"\",(('Data Ffisegol'!$M28/100)*AK28))","v":""},{"$f":"IF(AL28=\"\",\"\",(('Data Ffisegol'!$M28/100)*AL28))","v":""}]
[null,null,null,null,null,null,null,{"$f":"IF(H29=\"\",\"\",H29)","v":""},"","","",{"$f":"IF(L29=\"\",\"\",(('Data Ffisegol'!$M29/100)*L29))","v":""},{"$f":"IF(M29=\"\",\"\",(('Data Ffisegol'!$M29/100)*M29))","v":""},{"$f":"IF(N29=\"\",\"\",(('Data Ffisegol'!$M29/100)*N29))","v":""},{"$f":"IF(O29=\"\",\"\",(('Data Ffisegol'!$M29/100)*O29))","v":""},{"$f":"IF(P29=\"\",\"\",(('Data Ffisegol'!$M29/100)*P29))","v":""},{"$f":"IF(Q29=\"\",\"\",(('Data Ffisegol'!$M29/100)*Q29))","v":""},{"$f":"IF(R29=\"\",\"\",(('Data Ffisegol'!$M29/100)*R29))","v":""},{"$f":"IF(S29=\"\",\"\",(('Data Ffisegol'!$M29/100)*S29))","v":""},{"$f":"IF(T29=\"\",\"\",(('Data Ffisegol'!$M29/100)*T29))","v":""},{"$f":"IF(U29=\"\",\"\",(('Data Ffisegol'!$M29/100)*U29))","v":""},{"$f":"IF(V29=\"\",\"\",(('Data Ffisegol'!$M29/100)*V29))","v":""},{"$f":"IF(W29=\"\",\"\",(('Data Ffisegol'!$M29/100)*W29))","v":""},{"$f":"IF(X29=\"\",\"\",(('Data Ffisegol'!$M29/100)*X29))","v":""},{"$f":"IF(Y29=\"\",\"\",(('Data Ffisegol'!$M29/100)*Y29))","v":""},{"$f":"IF(Z29=\"\",\"\",(('Data Ffisegol'!$M29/100)*Z29))","v":""},{"$f":"IF(AA29=\"\",\"\",(('Data Ffisegol'!$M29/100)*AA29))","v":""},{"$f":"IF(AB29=\"\",\"\",(('Data Ffisegol'!$M29/100)*AB29))","v":""},{"$f":"IF(AC29=\"\",\"\",(('Data Ffisegol'!$M29/100)*AC29))","v":""},{"$f":"IF(AD29=\"\",\"\",(('Data Ffisegol'!$M29/100)*AD29))","v":""},{"$f":"IF(AE29=\"\",\"\",(('Data Ffisegol'!$M29/100)*AE29))","v":""},{"$f":"IF(AF29=\"\",\"\",(('Data Ffisegol'!$M29/100)*AF29))","v":""},{"$f":"IF(AG29=\"\",\"\",(('Data Ffisegol'!$M29/100)*AG29))","v":""},{"$f":"IF(AH29=\"\",\"\",(('Data Ffisegol'!$M29/100)*AH29))","v":""},{"$f":"IF(AI29=\"\",\"\",(('Data Ffisegol'!$M29/100)*AI29))","v":""},{"$f":"IF(AJ29=\"\",\"\",(('Data Ffisegol'!$M29/100)*AJ29))","v":""},{"$f":"IF(AK29=\"\",\"\",(('Data Ffisegol'!$M29/100)*AK29))","v":""},{"$f":"IF(AL29=\"\",\"\",(('Data Ffisegol'!$M29/100)*AL29))","v":""}]
[null,null,null,null,null,null,null,"","","","",{"$f":"IF(L30=\"\",\"\",(('Data Ffisegol'!$M30/100)*L30))","v":""},{"$f":"IF(M30=\"\",\"\",(('Data Ffisegol'!$M30/100)*M30))","v":""},{"$f":"IF(N30=\"\",\"\",(('Data Ffisegol'!$M30/100)*N30))","v":""},{"$f":"IF(O30=\"\",\"\",(('Data Ffisegol'!$M30/100)*O30))","v":""},{"$f":"IF(P30=\"\",\"\",(('Data Ffisegol'!$M30/100)*P30))","v":""},{"$f":"IF(Q30=\"\",\"\",(('Data Ffisegol'!$M30/100)*Q30))","v":""},{"$f":"IF(R30=\"\",\"\",(('Data Ffisegol'!$M30/100)*R30))","v":""},{"$f":"IF(S30=\"\",\"\",(('Data Ffisegol'!$M30/100)*S30))","v":""},{"$f":"IF(T30=\"\",\"\",(('Data Ffisegol'!$M30/100)*T30))","v":""},{"$f":"IF(U30=\"\",\"\",(('Data Ffisegol'!$M30/100)*U30))","v":""},{"$f":"IF(V30=\"\",\"\",(('Data Ffisegol'!$M30/100)*V30))","v":""},{"$f":"IF(W30=\"\",\"\",(('Data Ffisegol'!$M30/100)*W30))","v":""},{"$f":"IF(X30=\"\",\"\",(('Data Ffisegol'!$M30/100)*X30))","v":""},{"$f":"IF(Y30=\"\",\"\",(('Data Ffisegol'!$M30/100)*Y30))","v":""},{"$f":"IF(Z30=\"\",\"\",(('Data Ffisegol'!$M30/100)*Z30))","v":""},{"$f":"IF(AA30=\"\",\"\",(('Data Ffisegol'!$M30/100)*AA30))","v":""},{"$f":"IF(AB30=\"\",\"\",(('Data Ffisegol'!$M30/100)*AB30))","v":""},{"$f":"IF(AC30=\"\",\"\",(('Data Ffisegol'!$M30/100)*AC30))","v":""},{"$f":"IF(AD30=\"\",\"\",(('Data Ffisegol'!$M30/100)*AD30))","v":""},{"$f":"IF(AE30=\"\",\"\",(('Data Ffisegol'!$M30/100)*AE30))","v":""},{"$f":"IF(AF30=\"\",\"\",(('Data Ffisegol'!$M30/100)*AF30))","v":""},{"$f":"IF(AG30=\"\",\"\",(('Data Ffisegol'!$M30/100)*AG30))","v":""},{"$f":"IF(AH30=\"\",\"\",(('Data Ffisegol'!$M30/100)*AH30))","v":""},{"$f":"IF(AI30=\"\",\"\",(('Data Ffisegol'!$M30/100)*AI30))","v":""},{"$f":"IF(AJ30=\"\",\"\",(('Data Ffisegol'!$M30/100)*AJ30))","v":""},{"$f":"IF(AK30=\"\",\"\",(('Data Ffisegol'!$M30/100)*AK30))","v":""},{"$f":"IF(AL30=\"\",\"\",(('Data Ffisegol'!$M30/100)*AL30))","v":""}]
[null,null,null,null,null,null,null,"","","","",{"$f":"IF(L31=\"\",\"\",(('Data Ffisegol'!$M31/100)*L31))","v":""},{"$f":"IF(M31=\"\",\"\",(('Data Ffisegol'!$M31/100)*M31))","v":""},{"$f":"IF(N31=\"\",\"\",(('Data Ffisegol'!$M31/100)*N31))","v":""},{"$f":"IF(O31=\"\",\"\",(('Data Ffisegol'!$M31/100)*O31))","v":""},{"$f":"IF(P31=\"\",\"\",(('Data Ffisegol'!$M31/100)*P31))","v":""},{"$f":"IF(Q31=\"\",\"\",(('Data Ffisegol'!$M31/100)*Q31))","v":""},{"$f":"IF(R31=\"\",\"\",(('Data Ffisegol'!$M31/100)*R31))","v":""},{"$f":"IF(S31=\"\",\"\",(('Data Ffisegol'!$M31/100)*S31))","v":""},{"$f":"IF(T31=\"\",\"\",(('Data Ffisegol'!$M31/100)*T31))","v":""},{"$f":"IF(U31=\"\",\"\",(('Data Ffisegol'!$M31/100)*U31))","v":""},{"$f":"IF(V31=\"\",\"\",(('Data Ffisegol'!$M31/100)*V31))","v":""},{"$f":"IF(W31=\"\",\"\",(('Data Ffisegol'!$M31/100)*W31))","v":""},{"$f":"IF(X31=\"\",\"\",(('Data Ffisegol'!$M31/100)*X31))","v":""},{"$f":"IF(Y31=\"\",\"\",(('Data Ffisegol'!$M31/100)*Y31))","v":""},{"$f":"IF(Z31=\"\",\"\",(('Data Ffisegol'!$M31/100)*Z31))","v":""},{"$f":"IF(AA31=\"\",\"\",(('Data Ffisegol'!$M31/100)*AA31))","v":""},{"$f":"IF(AB31=\"\",\"\",(('Data Ffisegol'!$M31/100)*AB31))","v":""},{"$f":"IF(AC31=\"\",\"\",(('Data Ffisegol'!$M31/100)*AC31))","v":""},{"$f":"IF(AD31=\"\",\"\",(('Data Ffisegol'!$M31/100)*AD31))","v":""},{"$f":"IF(AE31=\"\",\"\",(('Data Ffisegol'!$M31/100)*AE31))","v":""},{"$f":"IF(AF31=\"\",\"\",(('Data Ffisegol'!$M31/100)*AF31))","v":""},{"$f":"IF(AG31=\"\",\"\",(('Data Ffisegol'!$M31/100)*AG31))","v":""},{"$f":"IF(AH31=\"\",\"\",(('Data Ffisegol'!$M31/100)*AH31))","v":""},{"$f":"IF(AI31=\"\",\"\",(('Data Ffisegol'!$M31/100)*AI31))","v":""},{"$f":"IF(AJ31=\"\",\"\",(('Data Ffisegol'!$M31/100)*AJ31))","v":""},{"$f":"IF(AK31=\"\",\"\",(('Data Ffisegol'!$M31/100)*AK31))","v":""},{"$f":"IF(AL31=\"\",\"\",(('Data Ffisegol'!$M31/100)*AL31))","v":""}]
[null,null,null,null,null,null,null,"","","","",{"$f":"IF(L32=\"\",\"\",(('Data Ffisegol'!$M32/100)*L32))","v":""},{"$f":"IF(M32=\"\",\"\",(('Data Ffisegol'!$M32/100)*M32))","v":""},{"$f":"IF(N32=\"\",\"\",(('Data Ffisegol'!$M32/100)*N32))","v":""},{"$f":"IF(O32=\"\",\"\",(('Data Ffisegol'!$M32/100)*O32))","v":""},{"$f":"IF(P32=\"\",\"\",(('Data Ffisegol'!$M32/100)*P32))","v":""},{"$f":"IF(Q32=\"\",\"\",(('Data Ffisegol'!$M32/100)*Q32))","v":""},{"$f":"IF(R32=\"\",\"\",(('Data Ffisegol'!$M32/100)*R32))","v":""},{"$f":"IF(S32=\"\",\"\",(('Data Ffisegol'!$M32/100)*S32))","v":""},{"$f":"IF(T32=\"\",\"\",(('Data Ffisegol'!$M32/100)*T32))","v":""},{"$f":"IF(U32=\"\",\"\",(('Data Ffisegol'!$M32/100)*U32))","v":""},{"$f":"IF(V32=\"\",\"\",(('Data Ffisegol'!$M32/100)*V32))","v":""},{"$f":"IF(W32=\"\",\"\",(('Data Ffisegol'!$M32/100)*W32))","v":""},{"$f":"IF(X32=\"\",\"\",(('Data Ffisegol'!$M32/100)*X32))","v":""},{"$f":"IF(Y32=\"\",\"\",(('Data Ffisegol'!$M32/100)*Y32))","v":""},{"$f":"IF(Z32=\"\",\"\",(('Data Ffisegol'!$M32/100)*Z32))","v":""},{"$f":"IF(AA32=\"\",\"\",(('Data Ffisegol'!$M32/100)*AA32))","v":""},{"$f":"IF(AB32=\"\",\"\",(('Data Ffisegol'!$M32/100)*AB32))","v":""},{"$f":"IF(AC32=\"\",\"\",(('Data Ffisegol'!$M32/100)*AC32))","v":""},{"$f":"IF(AD32=\"\",\"\",(('Data Ffisegol'!$M32/100)*AD32))","v":""},{"$f":"IF(AE32=\"\",\"\",(('Data Ffisegol'!$M32/100)*AE32))","v":""},{"$f":"IF(AF32=\"\",\"\",(('Data Ffisegol'!$M32/100)*AF32))","v":""},{"$f":"IF(AG32=\"\",\"\",(('Data Ffisegol'!$M32/100)*AG32))","v":""},{"$f":"IF(AH32=\"\",\"\",(('Data Ffisegol'!$M32/100)*AH32))","v":""},{"$f":"IF(AI32=\"\",\"\",(('Data Ffisegol'!$M32/100)*AI32))","v":""},{"$f":"IF(AJ32=\"\",\"\",(('Data Ffisegol'!$M32/100)*AJ32))","v":""},{"$f":"IF(AK32=\"\",\"\",(('Data Ffisegol'!$M32/100)*AK32))","v":""},{"$f":"IF(AL32=\"\",\"\",(('Data Ffisegol'!$M32/100)*AL32))","v":""}]
[null,null,null,null,null,null,null,"","","","",{"$f":"IF(L33=\"\",\"\",(('Data Ffisegol'!$M33/100)*L33))","v":""},{"$f":"IF(M33=\"\",\"\",(('Data Ffisegol'!$M33/100)*M33))","v":""},{"$f":"IF(N33=\"\",\"\",(('Data Ffisegol'!$M33/100)*N33))","v":""},{"$f":"IF(O33=\"\",\"\",(('Data Ffisegol'!$M33/100)*O33))","v":""},{"$f":"IF(P33=\"\",\"\",(('Data Ffisegol'!$M33/100)*P33))","v":""},{"$f":"IF(Q33=\"\",\"\",(('Data Ffisegol'!$M33/100)*Q33))","v":""},{"$f":"IF(R33=\"\",\"\",(('Data Ffisegol'!$M33/100)*R33))","v":""},{"$f":"IF(S33=\"\",\"\",(('Data Ffisegol'!$M33/100)*S33))","v":""},{"$f":"IF(T33=\"\",\"\",(('Data Ffisegol'!$M33/100)*T33))","v":""},{"$f":"IF(U33=\"\",\"\",(('Data Ffisegol'!$M33/100)*U33))","v":""},{"$f":"IF(V33=\"\",\"\",(('Data Ffisegol'!$M33/100)*V33))","v":""},{"$f":"IF(W33=\"\",\"\",(('Data Ffisegol'!$M33/100)*W33))","v":""},{"$f":"IF(X33=\"\",\"\",(('Data Ffisegol'!$M33/100)*X33))","v":""},{"$f":"IF(Y33=\"\",\"\",(('Data Ffisegol'!$M33/100)*Y33))","v":""},{"$f":"IF(Z33=\"\",\"\",(('Data Ffisegol'!$M33/100)*Z33))","v":""},{"$f":"IF(AA33=\"\",\"\",(('Data Ffisegol'!$M33/100)*AA33))","v":""},{"$f":"IF(AB33=\"\",\"\",(('Data Ffisegol'!$M33/100)*AB33))","v":""},{"$f":"IF(AC33=\"\",\"\",(('Data Ffisegol'!$M33/100)*AC33))","v":""},{"$f":"IF(AD33=\"\",\"\",(('Data Ffisegol'!$M33/100)*AD33))","v":""},{"$f":"IF(AE33=\"\",\"\",(('Data Ffisegol'!$M33/100)*AE33))","v":""},{"$f":"IF(AF33=\"\",\"\",(('Data Ffisegol'!$M33/100)*AF33))","v":""},{"$f":"IF(AG33=\"\",\"\",(('Data Ffisegol'!$M33/100)*AG33))","v":""},{"$f":"IF(AH33=\"\",\"\",(('Data Ffisegol'!$M33/100)*AH33))","v":""},{"$f":"IF(AI33=\"\",\"\",(('Data Ffisegol'!$M33/100)*AI33))","v":""},{"$f":"IF(AJ33=\"\",\"\",(('Data Ffisegol'!$M33/100)*AJ33))","v":""},{"$f":"IF(AK33=\"\",\"\",(('Data Ffisegol'!$M33/100)*AK33))","v":""},{"$f":"IF(AL33=\"\",\"\",(('Data Ffisegol'!$M33/100)*AL33))","v":""}]
[null,null,null,null,null,null,null,"","","","",{"$f":"IF(L34=\"\",\"\",(('Data Ffisegol'!$M34/100)*L34))","v":""},{"$f":"IF(M34=\"\",\"\",(('Data Ffisegol'!$M34/100)*M34))","v":""},{"$f":"IF(N34=\"\",\"\",(('Data Ffisegol'!$M34/100)*N34))","v":""},{"$f":"IF(O34=\"\",\"\",(('Data Ffisegol'!$M34/100)*O34))","v":""},{"$f":"IF(P34=\"\",\"\",(('Data Ffisegol'!$M34/100)*P34))","v":""},{"$f":"IF(Q34=\"\",\"\",(('Data Ffisegol'!$M34/100)*Q34))","v":""},{"$f":"IF(R34=\"\",\"\",(('Data Ffisegol'!$M34/100)*R34))","v":""},{"$f":"IF(S34=\"\",\"\",(('Data Ffisegol'!$M34/100)*S34))","v":""},{"$f":"IF(T34=\"\",\"\",(('Data Ffisegol'!$M34/100)*T34))","v":""},{"$f":"IF(U34=\"\",\"\",(('Data Ffisegol'!$M34/100)*U34))","v":""},{"$f":"IF(V34=\"\",\"\",(('Data Ffisegol'!$M34/100)*V34))","v":""},{"$f":"IF(W34=\"\",\"\",(('Data Ffisegol'!$M34/100)*W34))","v":""},{"$f":"IF(X34=\"\",\"\",(('Data Ffisegol'!$M34/100)*X34))","v":""},{"$f":"IF(Y34=\"\",\"\",(('Data Ffisegol'!$M34/100)*Y34))","v":""},{"$f":"IF(Z34=\"\",\"\",(('Data Ffisegol'!$M34/100)*Z34))","v":""},{"$f":"IF(AA34=\"\",\"\",(('Data Ffisegol'!$M34/100)*AA34))","v":""},{"$f":"IF(AB34=\"\",\"\",(('Data Ffisegol'!$M34/100)*AB34))","v":""},{"$f":"IF(AC34=\"\",\"\",(('Data Ffisegol'!$M34/100)*AC34))","v":""},{"$f":"IF(AD34=\"\",\"\",(('Data Ffisegol'!$M34/100)*AD34))","v":""},{"$f":"IF(AE34=\"\",\"\",(('Data Ffisegol'!$M34/100)*AE34))","v":""},{"$f":"IF(AF34=\"\",\"\",(('Data Ffisegol'!$M34/100)*AF34))","v":""},{"$f":"IF(AG34=\"\",\"\",(('Data Ffisegol'!$M34/100)*AG34))","v":""},{"$f":"IF(AH34=\"\",\"\",(('Data Ffisegol'!$M34/100)*AH34))","v":""},{"$f":"IF(AI34=\"\",\"\",(('Data Ffisegol'!$M34/100)*AI34))","v":""},{"$f":"IF(AJ34=\"\",\"\",(('Data Ffisegol'!$M34/100)*AJ34))","v":""},{"$f":"IF(AK34=\"\",\"\",(('Data Ffisegol'!$M34/100)*AK34))","v":""},{"$f":"IF(AL34=\"\",\"\",(('Data Ffisegol'!$M34/100)*AL34))","v":""}]
[null,null,null,null,null,null,null,"","","","",{"$f":"IF(L35=\"\",\"\",(('Data Ffisegol'!$M35/100)*L35))","v":""},{"$f":"IF(M35=\"\",\"\",(('Data Ffisegol'!$M35/100)*M35))","v":""},{"$f":"IF(N35=\"\",\"\",(('Data Ffisegol'!$M35/100)*N35))","v":""},{"$f":"IF(O35=\"\",\"\",(('Data Ffisegol'!$M35/100)*O35))","v":""},{"$f":"IF(P35=\"\",\"\",(('Data Ffisegol'!$M35/100)*P35))","v":""},{"$f":"IF(Q35=\"\",\"\",(('Data Ffisegol'!$M35/100)*Q35))","v":""},{"$f":"IF(R35=\"\",\"\",(('Data Ffisegol'!$M35/100)*R35))","v":""},{"$f":"IF(S35=\"\",\"\",(('Data Ffisegol'!$M35/100)*S35))","v":""},{"$f":"IF(T35=\"\",\"\",(('Data Ffisegol'!$M35/100)*T35))","v":""},{"$f":"IF(U35=\"\",\"\",(('Data Ffisegol'!$M35/100)*U35))","v":""},{"$f":"IF(V35=\"\",\"\",(('Data Ffisegol'!$M35/100)*V35))","v":""},{"$f":"IF(W35=\"\",\"\",(('Data Ffisegol'!$M35/100)*W35))","v":""},{"$f":"IF(X35=\"\",\"\",(('Data Ffisegol'!$M35/100)*X35))","v":""},{"$f":"IF(Y35=\"\",\"\",(('Data Ffisegol'!$M35/100)*Y35))","v":""},{"$f":"IF(Z35=\"\",\"\",(('Data Ffisegol'!$M35/100)*Z35))","v":""},{"$f":"IF(AA35=\"\",\"\",(('Data Ffisegol'!$M35/100)*AA35))","v":""},{"$f":"IF(AB35=\"\",\"\",(('Data Ffisegol'!$M35/100)*AB35))","v":""},{"$f":"IF(AC35=\"\",\"\",(('Data Ffisegol'!$M35/100)*AC35))","v":""},{"$f":"IF(AD35=\"\",\"\",(('Data Ffisegol'!$M35/100)*AD35))","v":""},{"$f":"IF(AE35=\"\",\"\",(('Data Ffisegol'!$M35/100)*AE35))","v":""},{"$f":"IF(AF35=\"\",\"\",(('Data Ffisegol'!$M35/100)*AF35))","v":""},{"$f":"IF(AG35=\"\",\"\",(('Data Ffisegol'!$M35/100)*AG35))","v":""},{"$f":"IF(AH35=\"\",\"\",(('Data Ffisegol'!$M35/100)*AH35))","v":""},{"$f":"IF(AI35=\"\",\"\",(('Data Ffisegol'!$M35/100)*AI35))","v":""},{"$f":"IF(AJ35=\"\",\"\",(('Data Ffisegol'!$M35/100)*AJ35))","v":""},{"$f":"IF(AK35=\"\",\"\",(('Data Ffisegol'!$M35/100)*AK35))","v":""},{"$f":"IF(AL35=\"\",\"\",(('Data Ffisegol'!$M35/100)*AL35))","v":""}]
[null,null,null,null,null,null,null,"","","","",{"$f":"IF(L36=\"\",\"\",(('Data Ffisegol'!$M36/100)*L36))","v":""},{"$f":"IF(M36=\"\",\"\",(('Data Ffisegol'!$M36/100)*M36))","v":""},{"$f":"IF(N36=\"\",\"\",(('Data Ffisegol'!$M36/100)*N36))","v":""},{"$f":"IF(O36=\"\",\"\",(('Data Ffisegol'!$M36/100)*O36))","v":""},{"$f":"IF(P36=\"\",\"\",(('Data Ffisegol'!$M36/100)*P36))","v":""},{"$f":"IF(Q36=\"\",\"\",(('Data Ffisegol'!$M36/100)*Q36))","v":""},{"$f":"IF(R36=\"\",\"\",(('Data Ffisegol'!$M36/100)*R36))","v":""},{"$f":"IF(S36=\"\",\"\",(('Data Ffisegol'!$M36/100)*S36))","v":""},{"$f":"IF(T36=\"\",\"\",(('Data Ffisegol'!$M36/100)*T36))","v":""},{"$f":"IF(U36=\"\",\"\",(('Data Ffisegol'!$M36/100)*U36))","v":""},{"$f":"IF(V36=\"\",\"\",(('Data Ffisegol'!$M36/100)*V36))","v":""},{"$f":"IF(W36=\"\",\"\",(('Data Ffisegol'!$M36/100)*W36))","v":""},{"$f":"IF(X36=\"\",\"\",(('Data Ffisegol'!$M36/100)*X36))","v":""},{"$f":"IF(Y36=\"\",\"\",(('Data Ffisegol'!$M36/100)*Y36))","v":""},{"$f":"IF(Z36=\"\",\"\",(('Data Ffisegol'!$M36/100)*Z36))","v":""},{"$f":"IF(AA36=\"\",\"\",(('Data Ffisegol'!$M36/100)*AA36))","v":""},{"$f":"IF(AB36=\"\",\"\",(('Data Ffisegol'!$M36/100)*AB36))","v":""},{"$f":"IF(AC36=\"\",\"\",(('Data Ffisegol'!$M36/100)*AC36))","v":""},{"$f":"IF(AD36=\"\",\"\",(('Data Ffisegol'!$M36/100)*AD36))","v":""},{"$f":"IF(AE36=\"\",\"\",(('Data Ffisegol'!$M36/100)*AE36))","v":""},{"$f":"IF(AF36=\"\",\"\",(('Data Ffisegol'!$M36/100)*AF36))","v":""},{"$f":"IF(AG36=\"\",\"\",(('Data Ffisegol'!$M36/100)*AG36))","v":""},{"$f":"IF(AH36=\"\",\"\",(('Data Ffisegol'!$M36/100)*AH36))","v":""},{"$f":"IF(AI36=\"\",\"\",(('Data Ffisegol'!$M36/100)*AI36))","v":""},{"$f":"IF(AJ36=\"\",\"\",(('Data Ffisegol'!$M36/100)*AJ36))","v":""},{"$f":"IF(AK36=\"\",\"\",(('Data Ffisegol'!$M36/100)*AK36))","v":""},{"$f":"IF(AL36=\"\",\"\",(('Data Ffisegol'!$M36/100)*AL36))","v":""}]
[null,null,null,null,null,null,null,"","","","",{"$f":"IF(L37=\"\",\"\",(('Data Ffisegol'!$M37/100)*L37))","v":""},{"$f":"IF(M37=\"\",\"\",(('Data Ffisegol'!$M37/100)*M37))","v":""},{"$f":"IF(N37=\"\",\"\",(('Data Ffisegol'!$M37/100)*N37))","v":""},{"$f":"IF(O37=\"\",\"\",(('Data Ffisegol'!$M37/100)*O37))","v":""},{"$f":"IF(P37=\"\",\"\",(('Data Ffisegol'!$M37/100)*P37))","v":""},{"$f":"IF(Q37=\"\",\"\",(('Data Ffisegol'!$M37/100)*Q37))","v":""},{"$f":"IF(R37=\"\",\"\",(('Data Ffisegol'!$M37/100)*R37))","v":""},{"$f":"IF(S37=\"\",\"\",(('Data Ffisegol'!$M37/100)*S37))","v":""},{"$f":"IF(T37=\"\",\"\",(('Data Ffisegol'!$M37/100)*T37))","v":""},{"$f":"IF(U37=\"\",\"\",(('Data Ffisegol'!$M37/100)*U37))","v":""},{"$f":"IF(V37=\"\",\"\",(('Data Ffisegol'!$M37/100)*V37))","v":""},{"$f":"IF(W37=\"\",\"\",(('Data Ffisegol'!$M37/100)*W37))","v":""},{"$f":"IF(X37=\"\",\"\",(('Data Ffisegol'!$M37/100)*X37))","v":""},{"$f":"IF(Y37=\"\",\"\",(('Data Ffisegol'!$M37/100)*Y37))","v":""},{"$f":"IF(Z37=\"\",\"\",(('Data Ffisegol'!$M37/100)*Z37))","v":""},{"$f":"IF(AA37=\"\",\"\",(('Data Ffisegol'!$M37/100)*AA37))","v":""},{"$f":"IF(AB37=\"\",\"\",(('Data Ffisegol'!$M37/100)*AB37))","v":""},{"$f":"IF(AC37=\"\",\"\",(('Data Ffisegol'!$M37/100)*AC37))","v":""},{"$f":"IF(AD37=\"\",\"\",(('Data Ffisegol'!$M37/100)*AD37))","v":""},{"$f":"IF(AE37=\"\",\"\",(('Data Ffisegol'!$M37/100)*AE37))","v":""},{"$f":"IF(AF37=\"\",\"\",(('Data Ffisegol'!$M37/100)*AF37))","v":""},{"$f":"IF(AG37=\"\",\"\",(('Data Ffisegol'!$M37/100)*AG37))","v":""},{"$f":"IF(AH37=\"\",\"\",(('Data Ffisegol'!$M37/100)*AH37))","v":""},{"$f":"IF(AI37=\"\",\"\",(('Data Ffisegol'!$M37/100)*AI37))","v":""},{"$f":"IF(AJ37=\"\",\"\",(('Data Ffisegol'!$M37/100)*AJ37))","v":""},{"$f":"IF(AK37=\"\",\"\",(('Data Ffisegol'!$M37/100)*AK37))","v":""},{"$f":"IF(AL37=\"\",\"\",(('Data Ffisegol'!$M37/100)*AL37))","v":""}]
[null,null,null,null,null,null,null,"","","","",{"$f":"IF(L38=\"\",\"\",(('Data Ffisegol'!$M38/100)*L38))","v":""},{"$f":"IF(M38=\"\",\"\",(('Data Ffisegol'!$M38/100)*M38))","v":""},{"$f":"IF(N38=\"\",\"\",(('Data Ffisegol'!$M38/100)*N38))","v":""},{"$f":"IF(O38=\"\",\"\",(('Data Ffisegol'!$M38/100)*O38))","v":""},{"$f":"IF(P38=\"\",\"\",(('Data Ffisegol'!$M38/100)*P38))","v":""},{"$f":"IF(Q38=\"\",\"\",(('Data Ffisegol'!$M38/100)*Q38))","v":""},{"$f":"IF(R38=\"\",\"\",(('Data Ffisegol'!$M38/100)*R38))","v":""},{"$f":"IF(S38=\"\",\"\",(('Data Ffisegol'!$M38/100)*S38))","v":""},{"$f":"IF(T38=\"\",\"\",(('Data Ffisegol'!$M38/100)*T38))","v":""},{"$f":"IF(U38=\"\",\"\",(('Data Ffisegol'!$M38/100)*U38))","v":""},{"$f":"IF(V38=\"\",\"\",(('Data Ffisegol'!$M38/100)*V38))","v":""},{"$f":"IF(W38=\"\",\"\",(('Data Ffisegol'!$M38/100)*W38))","v":""},{"$f":"IF(X38=\"\",\"\",(('Data Ffisegol'!$M38/100)*X38))","v":""},{"$f":"IF(Y38=\"\",\"\",(('Data Ffisegol'!$M38/100)*Y38))","v":""},{"$f":"IF(Z38=\"\",\"\",(('Data Ffisegol'!$M38/100)*Z38))","v":""},{"$f":"IF(AA38=\"\",\"\",(('Data Ffisegol'!$M38/100)*AA38))","v":""},{"$f":"IF(AB38=\"\",\"\",(('Data Ffisegol'!$M38/100)*AB38))","v":""},{"$f":"IF(AC38=\"\",\"\",(('Data Ffisegol'!$M38/100)*AC38))","v":""},{"$f":"IF(AD38=\"\",\"\",(('Data Ffisegol'!$M38/100)*AD38))","v":""},{"$f":"IF(AE38=\"\",\"\",(('Data Ffisegol'!$M38/100)*AE38))","v":""},{"$f":"IF(AF38=\"\",\"\",(('Data Ffisegol'!$M38/100)*AF38))","v":""},{"$f":"IF(AG38=\"\",\"\",(('Data Ffisegol'!$M38/100)*AG38))","v":""},{"$f":"IF(AH38=\"\",\"\",(('Data Ffisegol'!$M38/100)*AH38))","v":""},{"$f":"IF(AI38=\"\",\"\",(('Data Ffisegol'!$M38/100)*AI38))","v":""},{"$f":"IF(AJ38=\"\",\"\",(('Data Ffisegol'!$M38/100)*AJ38))","v":""},{"$f":"IF(AK38=\"\",\"\",(('Data Ffisegol'!$M38/100)*AK38))","v":""},{"$f":"IF(AL38=\"\",\"\",(('Data Ffisegol'!$M38/100)*AL38))","v":""}]
[null,null,null,null,null,null,null,null,null,"Averages:",null,{"$f":"IF(COUNT(L51:L80)<1,\"\", AVERAGE(L51:L80))","v":""},"","","","","","","","","","","","","","","","","","","","","","","","","",""]
[]
[]
[]
[null,null,null,null,null,null,null,"Removal of excluded areas"]
[]
[null,null,null,null,null,null,null,"Laboratory sample number","Dredge Area","Excluded (y if yes)","Sample ID(s)","PCBs as mg/kg wet weight",null,null,null,null,null,null,null,null,null,null,null,null,null,null,null,null,null,null,null,null,null,null,null,null,"ICES 7","Total 25 congeners"]
[null,null,null,null,null,null,null,null,null,null,null,"2,2',4,5,5'-Pentachlorobiphenyl","2,3,3',4,4'-Pentachlorobiphenyl","2,3,3',4',6-Pentachlorobiphenyl","2,3',4,4',5-Pentachlorobiphenyl","2,2',3,3',4,4'-Hexachlorobiphenyl","2,2',3,4,4',5'-Hexachlorobiphenyl","2,2',3,4,5,5'-Hexachlorobiphenyl","2,2',3,4',5',6-Hexachlorobiphenyl","2,2',3,5,5',6-Hexachlorobiphenyl","2,2',4,4',5,5'-Hexachlorobiphenyl","2,3,3',4,4',5-Hexachlorobiphenyl","2,3,3',4,4',6-Hexachlorobiphenyl","2,2',3,3',4,4',5-Heptachlorobiphenyl","2,2',5- Trichlorobiphenyl","2,2',3,4,4',5,5'-Heptachlorobiphenyl","2,2',3,4,4',5',6-Heptachlorobiphenyl","2,2',3,4',5,5',6-Heptachlorobiphenyl","2,2',3,3',4,4',5,5'-Octachlorobiphenyl","2,4,4'-Trichlorobiphenyl","2,4',5-Trichlorobiphenyl","2,2',3,5'-Tetrachlorobiphenyl","2,2',4,4'-Tetrachlorobiphenyl","2,2',4,5'-Tetrachlorobiphenyl","2,2',5,5'-Tetrachlorobiphenyl","2,3',4,4'-Tetrachlorobiphenyl"]
[null,null,null,null,null,null,null,null,null,null,null,"CB101","CB105","CB110","CB118","CB128","CB138","CB141","CB149","CB151","CB153","CB156","CB158","CB170","CB18","CB180","CB183","CB187","CB194","CB28","CB31","CB44","CB47","CB49","CB52","CB66"]
[null,null,null,null,null,null,null,{"$f":"IF(H51=\"\",\"\",H51)","v":""},{"$f":"IF($J51=\"y\",\"\",I51)","v":""},"","",{"$f":"IF($J51=\"y\",\"\",L51)","v":""},{"$f":"IF($J51=\"y\",\"\",M51)","v":""},"","","","","","","","","","","","","","","","","","","","","","","",{"$f":"IF($J51=\"y\",\"\",AK51)","v":""},{"$f":"IF($J51=\"y\",\"\",AL51)","v":""}]
[null,null,null,null,null,null,null,"","","","",{"$f":"IF($J52=\"y\",\"\",L52)","v":""},"","","","","","","","","","","","","","","","","","","","","","","","","",""]
[null,null,null,null,null,null,null,"","","","",{"$f":"IF($J53=\"y\",\"\",L53)","v":""},"","","","","","","","","","","","","","","","","","","","","","","","","",""]
[null,null,null,null,null,null,null,"","","","",{"$f":"IF($J54=\"y\",\"\",L54)","v":""},"","","","","","","","","","","","","","","","","","","","","","","","","",""]
[null,null,null,null,null,null,null,"","","","",{"$f":"IF($J55=\"y\",\"\",L55)","v":""},"","","","","","","","","","","","","","","","","","","","","","","","","",""]
[null,null,null,null,null,null,null,"","","","",{"$f":"IF($J56=\"y\",\"\",L56)","v":""},"","","","","","","","","","","","","","","","","","","","","","","","","",""]
[null,null,null,null,null,null,null,"","","","",{"$f":"IF($J57=\"y\",\"\",L57)","v":""},"","","","","","","","","","","","","","","","","","","","","","","","","",""]
[null,null,null,null,null,null,null,"","","","",{"$f":"IF($J58=\"y\",\"\",L58)","v":""},"","","","","","","","","","","","","","","","","","","","","","","","","",""]
[null,null,null,null,null,null,null,"","","","",{"$f":"IF($J59=\"y\",\"\",L59)","v":""},"","","","","","","","","","","","","","","","","","","","","","","","","",""]
[null,null,null,null,null,null,null,"","","","",{"$f":"IF($J60=\"y\",\"\",L60)","v":""},"","","","","","","","","","","","","","","","","","","","","","","","","",""]
[null,null,null,null,null,null,null,{"$f":"IF(H61=\"\",\"\",H61)","v":""},"","","",{"$f":"IF($J61=\"y\",\"\",L61)","v":""},"","","","","","","","","","","","","","","","","","","","","","","","","",""]
[null,null,null,null,null,null,null,"","","","",{"$f":"IF($J62=\"y\",\"\",L62)","v":""},"","","","","","","","","","","","","","","","","","","","","","","","","",""]
[null,null,null,null,null,null,null,"","","","",{"$f":"IF($J63=\"y\",\"\",L63)","v":""},"","","","","","","","","","","","","","","","","","","","","","","","","",""]
[null,null,null,null,null,null,null,"","","","",{"$f":"IF($J64=\"y\",\"\",L64)","v":""},"","","","","","","","","","","","","","","","","","","","","","","","","",""]
[null,null,null,null,null,null,null,"","","","",{"$f":"IF($J65=\"y\",\"\",L65)","v":""},"","","","","","","","","","","","","","","","","","","","","","","","","",""]
[null,null,null,null,null,null,null,"","","","",{"$f":"IF($J66=\"y\",\"\",L66)","v":""},"","","","","","","","","","","","","","","","","","","","","","","","","",""]
[null,null,null,null,null,null,null,"","","","",{"$f":"IF($J67=\"y\",\"\",L67)","v":""},"","","","","","","","","","","","","","","","","","","","","","","","","",""]
[null,null,null,null,null,null,null,"","","","",{"$f":"IF($J68=\"y\",\"\",L68)","v":""},"","","","","","","","","","","","","","","","","","","","","","","","","",""]
[null,null,null,null,null,null,null,"","","","",{"$f":"IF($J69=\"y\",\"\",L69)","v":""},"","","","","","","","","","","","","","","","","","","","","","","","","",""]
[null,null,null,null,null,null,null,"","","","",{"$f":"IF($J70=\"y\",\"\",L70)","v":""},"","","","","","","","","","","","","","","","","","","","","","","","","",""]
[null,null,null,null,null,null,null,{"$f":"IF(H71=\"\",\"\",H71)","v":""},"","","",{"$f":"IF($J71=\"y\",\"\",L71)","v":""},"","","","","","","","","","","","","","","","","","","","","","","","","",""]
[null,null,null,null,null,null,null,"","","","",{"$f":"IF($J72=\"y\",\"\",L72)","v":""},"","","","","","","","","","","","","","","","","","","","","","","","","",""]
[null,null,null,null,null,null,null,"","","","",{"$f":"IF($J73=\"y\",\"\",L73)","v":""},"","","","","","","","","","","","","","","","","","","","","","","","","",""]
[null,null,null,null,null,null,null,"","","","",{"$f":"IF($J74=\"y\",\"\",L74)","v":""},"","","","","","","","","","","","","","","","","","","","","","","","","",""]
[null,null,null,null,null,null,null,"","","","",{"$f":"IF($J75=\"y\",\"\",L75)","v":""},"","","","","","","","","","","","","","","","","","","","","","","","","",""]
[null,null,null,null,null,null,null,"","","","",{"$f":"IF($J76=\"y\",\"\",L76)","v":""},"","","","","","","","","","","","","","","","","","","","","","","","","",""]
[null,null,null,null,null,null,null,"","","","",{"$f":"IF($J77=\"y\",\"\",L77)","v":""},"","","","","","","","","","","","","","","","","","","","","","","","","",""]
[null,null,null,null,null,null,null,"","","","",{"$f":"IF($J78=\"y\",\"\",L78)","v":""},"","","","","","","","","","","","","","","","","","","","","","","","","",""]
[null,null,null,null,null,null,null,"","","","",{"$f":"IF($J79=\"y\",\"\",L79)","v":""},"","","","","","","","","","","","","","","","","","","","","","","","","",""]
[null,null,null,null,null,null,null,"","","","",{"$f":"IF($J80=\"y\",\"\",L80)","v":""},"","","","","","","","","","","","","","","","","","","","","","","","","",""]
[null,null,null,null,null,null,null,null,null,"Averages:",null,{"$f":"IF(COUNT(L90:L119)<1,\"\", AVERAGE(L90:L119))","v":""},"","","","","","","","","","","","","","","","","","","","","","","","","",""]
[]
[]
[]
[null,null,null,null,null,null,null,"Force significant figures"]
[]
[null,null,null,null,null,null,null,"Laboratory sample number","Dredge Area","Excluded (y if yes)","Sample ID(s)","PCBs as mg/kg wet weight",null,null,null,null,null,null,null,null,null,null,null,null,null,null,null,null,null,null,null,null,null,null,null,null,"ICES 7","Total 25 congeners"]
[null,null,null,null,null,null,null,null,null,null,null,"2,2',4,5,5'-Pentachlorobiphenyl","2,3,3',4,4'-Pentachlorobiphenyl","2,3,3',4',6-Pentachlorobiphenyl","2,3',4,4',5-Pentachlorobiphenyl","2,2',3,3',4,4'-Hexachlorobiphenyl","2,2',3,4,4',5'-Hexachlorobiphenyl","2,2',3,4,5,5'-Hexachlorobiphenyl","2,2',3,4',5',6-Hexachlorobiphenyl","2,2',3,5,5',6-Hexachlorobiphenyl","2,2',4,4',5,5'-Hexachlorobiphenyl","2,3,3',4,4',5-Hexachlorobiphenyl","2,3,3',4,4',6-Hexachlorobiphenyl","2,2',3,3',4,4',5-Heptachlorobiphenyl","2,2',5- Trichlorobiphenyl","2,2',3,4,4',5,5'-Heptachlorobiphenyl","2,2',3,4,4',5',6-Heptachlorobiphenyl","2,2',3,4',5,5',6-Heptachlorobiphenyl","2,2',3,3',4,4',5,5'-Octachlorobiphenyl","2,4,4'-Trichlorobiphenyl","2,4',5-Trichlorobiphenyl","2,2',3,5'-Tetrachlorobiphenyl","2,2',4,4'-Tetrachlorobiphenyl","2,2',4,5'-Tetrachlorobiphenyl","2,2',5,5'-Tetrachlorobiphenyl","2,3',4,4'-Tetrachlorobiphenyl"]
[null,null,null,null,null,null,null,null,null,null,null,"CB101","CB105","CB110","CB118","CB128","CB138","CB141","CB149","CB151","CB153","CB156","CB158","CB170","CB18","CB180","CB183","CB187","CB194","CB28","CB31","CB44","CB47","CB49","CB52","CB66"]
[null,null,null,null,null,null,null,{"$f":"IF(H90=\"\",\"\",H90)","v":""},"","","",{"$f":"IF(L90=\"\",\"\",IF(L90=0,0,(ROUND(L90,3-1-INT(LOG10(ABS(L90)))))))","v":""},{"$f":"IF(M90=\"\",\"\",IF(M90=0,0,(ROUND(M90,3-1-INT(LOG10(ABS(M90)))))))","v":""},"","","","","","","","","","","","","","","","","","","","","","","","",""]
[null,null,null,null,null,null,null,{"$f":"IF(H91=\"\",\"\",H91)","v":""},"","","",{"$f":"IF(L91=\"\",\"\",IF(L91=0,0,(ROUND(L91,3-1-INT(LOG10(ABS(L91)))))))","v":""},"","","","","","","","","","","","","","","","","","","","","","","","","",""]
[null,null,null,null,null,null,null,{"$f":"IF(H92=\"\",\"\",H92)","v":""},"","","",{"$f":"IF(L92=\"\",\"\",IF(L92=0,0,(ROUND(L92,3-1-INT(LOG10(ABS(L92)))))))","v":""},"","","","","","","","","","","","","","","","","","","","","","","","","",""]
[null,null,null,null,null,null,null,{"$f":"IF(H93=\"\",\"\",H93)","v":""},"","","",{"$f":"IF(L93=\"\",\"\",IF(L93=0,0,(ROUND(L93,3-1-INT(LOG10(ABS(L93)))))))","v":""},"","","","","","","","","","","","","","","","","","","","","","","","","",""]
[null,null,null,null,null,null,null,{"$f":"IF(H94=\"\",\"\",H94)","v":""},"","","",{"$f":"IF(L94=\"\",\"\",IF(L94=0,0,(ROUND(L94,3-1-INT(LOG10(ABS(L94)))))))","v":""},"","","","","","","","","","","","","","","","","","","","","","","","","",""]
[null,null,null,null,null,null,null,{"$f":"IF(H95=\"\",\"\",H95)","v":""},"","","",{"$f":"IF(L95=\"\",\"\",IF(L95=0,0,(ROUND(L95,3-1-INT(LOG10(ABS(L95)))))))","v":""},"","","","","","","","","","","","","","","","","","","","","","","","","",""]
[null,null,null,null,null,null,null,{"$f":"IF(H96=\"\",\"\",H96)","v":""},"","","",{"$f":"IF(L96=\"\",\"\",IF(L96=0,0,(ROUND(L96,3-1-INT(LOG10(ABS(L96)))))))","v":""},"","","","","","","","","","","","","","","","","","","","","","","","","",""]
[null,null,null,null,null,null,null,{"$f":"IF(H97=\"\",\"\",H97)","v":""},"","","",{"$f":"IF(L97=\"\",\"\",IF(L97=0,0,(ROUND(L97,3-1-INT(LOG10(ABS(L97)))))))","v":""},"","","","","","","","","","","","","","","","","","","","","","","","","",""]
[null,null,null,null,null,null,null,{"$f":"IF(H98=\"\",\"\",H98)","v":""},"","","",{"$f":"IF(L98=\"\",\"\",IF(L98=0,0,(ROUND(L98,3-1-INT(LOG10(ABS(L98)))))))","v":""},"","","","","","","","","","","","","","","","","","","","","","","","","",""]
[null,null,null,null,null,null,null,{"$f":"IF(H99=\"\",\"\",H99)","v":""},"","","",{"$f":"IF(L99=\"\",\"\",IF(L99=0,0,(ROUND(L99,3-1-INT(LOG10(ABS(L99)))))))","v":""},"","","","","","","","","","","","","","","","","","","","","","","","","",""]
[null,null,null,null,null,null,null,{"$f":"IF(H100=\"\",\"\",H100)","v":""},"","","",{"$f":"IF(L100=\"\",\"\",IF(L100=0,0,(ROUND(L100,3-1-INT(LOG10(ABS(L100)))))))","v":""},"","","","","","","","","","","","","","","","","","","","","","","","","",""]
[null,null,null,null,null,null,null,{"$f":"IF(H101=\"\",\"\",H101)","v":""},"","","",{"$f":"IF(L101=\"\",\"\",IF(L101=0,0,(ROUND(L101,3-1-INT(LOG10(ABS(L101)))))))","v":""},"","","","","","","","","","","","","","","","","","","","","","","","","",""]
[null,null,null,null,null,null,null,{"$f":"IF(H102=\"\",\"\",H102)","v":""},"","","",{"$f":"IF(L102=\"\",\"\",IF(L102=0,0,(ROUND(L102,3-1-INT(LOG10(ABS(L102)))))))","v":""},"","","","","","","","","","","","","","","","","","","","","","","","","",""]
[null,null,null,null,null,null,null,{"$f":"IF(H103=\"\",\"\",H103)","v":""},"","","",{"$f":"IF(L103=\"\",\"\",IF(L103=0,0,(ROUND(L103,3-1-INT(LOG10(ABS(L103)))))))","v":""},"","","","","","","","","","","","","","","","","","","","","","","","","",""]
[null,null,null,null,null,null,null,{"$f":"IF(H104=\"\",\"\",H104)","v":""},"","","",{"$f":"IF(L104=\"\",\"\",IF(L104=0,0,(ROUND(L104,3-1-INT(LOG10(ABS(L104)))))))","v":""},"","","","","","","","","","","","","","","","","","","","","","","","","",""]
[null,null,null,null,null,null,null,{"$f":"IF(H105=\"\",\"\",H105)","v":""},"","","",{"$f":"IF(L105=\"\",\"\",IF(L105=0,0,(ROUND(L105,3-1-INT(LOG10(ABS(L105)))))))","v":""},"","","","","","","","","","","","","","","","","","","","","","","","","",""]
[null,null,null,null,null,null,null,{"$f":"IF(H106=\"\",\"\",H106)","v":""},"","","",{"$f":"IF(L106=\"\",\"\",IF(L106=0,0,(ROUND(L106,3-1-INT(LOG10(ABS(L106)))))))","v":""},"","","","","","","","","","","","","","","","","","","","","","","","","",""]
[null,null,null,null,null,null,null,{"$f":"IF(H107=\"\",\"\",H107)","v":""},"","","",{"$f":"IF(L107=\"\",\"\",IF(L107=0,0,(ROUND(L107,3-1-INT(LOG10(ABS(L107)))))))","v":""},"","","","","","","","","","","","","","","","","","","","","","","","","",""]
[null,null,null,null,null,null,null,{"$f":"IF(H108=\"\",\"\",H108)","v":""},"","","",{"$f":"IF(L108=\"\",\"\",IF(L108=0,0,(ROUND(L108,3-1-INT(LOG10(ABS(L108)))))))","v":""},"","","","","","","","","","","","","","","","","","","","","","","","","",""]
[null,null,null,null,null,null,null,{"$f":"IF(H109=\"\",\"\",H109)","v":""},"","","",{"$f":"IF(L109=\"\",\"\",IF(L109=0,0,(ROUND(L109,3-1-INT(LOG10(ABS(L109)))))))","v":""},"","","","","","","","","","","","","","","","","","","","","","","","","",""]
[null,null,null,null,null,null,null,{"$f":"IF(H110=\"\",\"\",H110)","v":""},"","","",{"$f":"IF(L110=\"\",\"\",IF(L110=0,0,(ROUND(L110,3-1-INT(LOG10(ABS(L110)))))))","v":""},"","","","","","","","","","","","","","","","","","","","","","","","","",""]
[null,null,null,null,null,null,null,{"$f":"IF(H111=\"\",\"\",H111)","v":""},"","","",{"$f":"IF(L111=\"\",\"\",IF(L111=0,0,(ROUND(L111,3-1-INT(LOG10(ABS(L111)))))))","v":""},"","","","","","","","","","","","","","","","","","","","","","","","","",""]
[null,null,null,null,null,null,null,{"$f":"IF(H112=\"\",\"\",H112)","v":""},"","","",{"$f":"IF(L112=\"\",\"\",IF(L112=0,0,(ROUND(L112,3-1-INT(LOG10(ABS(L112)))))))","v":""},"","","","","","","","","","","","","","","","","","","","","","","","","",""]
[null,null,null,null,null,null,null,{"$f":"IF(H113=\"\",\"\",H113)","v":""},"","","",{"$f":"IF(L113=\"\",\"\",IF(L113=0,0,(ROUND(L113,3-1-INT(LOG10(ABS(L113)))))))","v":""},"","","","","","","","","","","","","","","","","","","","","","","","","",""]
[null,null,null,null,null,null,null,{"$f":"IF(H114=\"\",\"\",H114)","v":""},"","","",{"$f":"IF(L114=\"\",\"\",IF(L114=0,0,(ROUND(L114,3-1-INT(LOG10(ABS(L114)))))))","v":""},"","","","","","","","","","","","","","","","","","","","","","","","","",""]
[null,null,null,null,null,null,null,{"$f":"IF(H115=\"\",\"\",H115)","v":""},"","","",{"$f":"IF(L115=\"\",\"\",IF(L115=0,0,(ROUND(L115,3-1-INT(LOG10(ABS(L115)))))))","v":""},"","","","","","","","","","","","","","","","","","","","","","","","","",""]
[null,null,null,null,null,null,null,{"$f":"IF(H116=\"\",\"\",H116)","v":""},"","","",{"$f":"IF(L116=\"\",\"\",IF(L116=0,0,(ROUND(L116,3-1-INT(LOG10(ABS(L116)))))))","v":""},"","","","","","","","","","","","","","","","","","","","","","","","","",""]
[null,null,null,null,null,null,null,{"$f":"IF(H117=\"\",\"\",H117)","v":""},"","","",{"$f":"IF(L117=\"\",\"\",IF(L117=0,0,(ROUND(L117,3-1-INT(LOG10(ABS(L117)))))))","v":""},"","","","","","","","","","","","","","","","","","","","","","","","","",""]
[null,null,null,null,null,null,null,{"$f":"IF(H118=\"\",\"\",H118)","v":""},"","","",{"$f":"IF(L118=\"\",\"\",IF(L118=0,0,(ROUND(L118,3-1-INT(LOG10(ABS(L118)))))))","v":""},"","","","","","","","","","","","","","","","","","","","","","","","","",""]
[null,null,null,null,null,null,null,{"$f":"IF(H119=\"\",\"\",H119)","v":""},"","","",{"$f":"IF(L119=\"\",\"\",IF(L119=0,0,(ROUND(L119,3-1-INT(LOG10(ABS(L119)))))))","v":""},"","","","","","","","","","","","","","","","","","","","","","","","","",""]
[null,null,null,null,null,null,null,null,null,"Averages:",null,{"$f":"IF(COUNT(L129:L158)<1,\"\", AVERAGE(L129:L158))","v":""},"","","","","","","","","","","","","","","","","","","","","","","","","",""]
[]
[]
[]
[null,null,null,null,null,null,null,"Average of dredge areas"]
[]
[null,null,null,null,null,null,null,null,null,null,"Dredge Area","PCBs as mg/kg wet weight",null,null,null,null,null,null,null,null,null,null,null,null,null,null,null,null,null,null,null,null,null,null,null,null,"ICES 7","Total 25 congeners"]
[null,null,null,null,null,null,null,null,null,null,null,"2,2',4,5,5'-Pentachlorobiphenyl","2,3,3',4,4'-Pentachlorobiphenyl","2,3,3',4',6-Pentachlorobiphenyl","2,3',4,4',5-Pentachlorobiphenyl","2,2',3,3',4,4'-Hexachlorobiphenyl","2,2',3,4,4',5'-Hexachlorobiphenyl","2,2',3,4,5,5'-Hexachlorobiphenyl","2,2',3,4',5',6-Hexachlorobiphenyl","2,2',3,5,5',6-Hexachlorobiphenyl","2,2',4,4',5,5'-Hexachlorobiphenyl","2,3,3',4,4',5-Hexachlorobiphenyl","2,3,3',4,4',6-Hexachlorobiphenyl","2,2',3,3',4,4',5-Heptachlorobiphenyl","2,2',5- Trichlorobiphenyl","2,2',3,4,4',5,5'-Heptachlorobiphenyl","2,2',3,4,4',5',6-Heptachlorobiphenyl","2,2',3,4',5,5',6-Heptachlorobiphenyl","2,2',3,3',4,4',5,5'-Octachlorobiphenyl","2,4,4'-Trichlorobiphenyl","2,4',5-Trichlorobiphenyl","2,2',3,5'-Tetrachlorobiphenyl","2,2',4,4'-Tetrachlorobiphenyl","2,2',4,5'-Tetrachlorobiphenyl","2,2',5,5'-Tetrachlorobiphenyl","2,3',4,4'-Tetrachlorobiphenyl"]
[null,null,null,null,null,null,null,null,null,null,null,"CB101","CB105","CB110","CB118","CB128","CB138","CB141","CB149","CB151","CB153","CB156","CB158","CB170","CB18","CB180","CB183","CB187","CB194","CB28","CB31","CB44","CB47","CB49","CB52","CB66"]
[null,null,null,null,null,null,null,null,null,null,"Area i",{"$f":"IF(COUNTIF($I$129:$I$158,\"Area i\")<1,\"\",AVERAGEIF($I$129:$I$158,\"Area i\",L$129:L$158))","v":""},{"$f":"IF(COUNTIF($I$129:$I$158,\"Area i\")<1,\"\",AVERAGEIF($I$129:$I$158,\"Area i\",M$129:M$158))","v":""},"","","","","","","","","","","","","","","","","","","","","","","","",""]
[null,null,null,null,null,null,null,null,null,null,"Area ii",{"$f":"IF(COUNTIF($I$129:$I$158,\"Area ii\")<1,\"\",AVERAGEIF($I$129:$I$158,\"Area ii\",L$129:L$158))","v":""},{"$f":"IF(COUNTIF($I$129:$I$158,\"Area ii\")<1,\"\",AVERAGEIF($I$129:$I$158,\"Area ii\",M$129:M$158))","v":""},"","","","","","","","","","","","","","","","","","","","","","","","",""]
[null,null,null,null,null,null,null,null,null,null,"Area iii",{"$f":"IF(COUNTIF($I$129:$I$158,\"Area iii\")<1,\"\",AVERAGEIF($I$129:$I$158,\"Area iii\",L$129:L$158))","v":""},{"$f":"IF(COUNTIF($I$129:$I$158,\"Area iii\")<1,\"\",AVERAGEIF($I$129:$I$158,\"Area iii\",M$129:M$158))","v":""},"","","","","","","","","","","","","","","","","","","","","","","","",""]
[null,null,null,null,null,null,null,null,null,null,"Area iv",{"$f":"IF(COUNTIF($I$129:$I$158,\"Area iv\")<1,\"\",AVERAGEIF($I$129:$I$158,\"Area iv\",L$129:L$158))","v":""},{"$f":"IF(COUNTIF($I$129:$I$158,\"Area iv\")<1,\"\",AVERAGEIF($I$129:$I$158,\"Area iv\",M$129:M$158))","v":""},"","","","","","","","","","","","","","","","","","","","","","","","",""]
[null,null,null,null,null,null,null,null,null,null,"Area v",{"$f":"IF(COUNTIF($I$129:$I$158,\"Area v\")<1,\"\",AVERAGEIF($I$129:$I$158,\"Area v\",L$129:L$158))","v":""},{"$f":"IF(COUNTIF($I$129:$I$158,\"Area v\")<1,\"\",AVERAGEIF($I$129:$I$158,\"Area v\",M$129:M$158))","v":""},"","","","","","","","","","","","","","","","","","","","","","","","",""]
[null,null,null,null,null,null,null,null,null,null,"Area vi",{"$f":"IF(COUNTIF($I$129:$I$158,\"Area vi\")<1,\"\",AVERAGEIF($I$129:$I$158,\"Area vi\",L$129:L$158))","v":""},{"$f":"IF(COUNTIF($I$129:$I$158,\"Area vi\")<1,\"\",AVERAGEIF($I$129:$I$158,\"Area vi\",M$129:M$158))","v":""},"","","","","","","","","","","","","","","","","","","","","","","","",""]
[null,null,null,null,null,null,null,null,null,null,"Averages:",{"$f":"IF(COUNT(L168:L173)<1,\"\", AVERAGE(L168:L173))","v":""},{"$f":"IF(COUNT(M168:M173)<1,\"\", AVERAGE(M168:M173))","v":""},"","","","","","","","","","","","","","","","","","","","","","","","",""]
[]
[]
[null,null,null,null,null,null,null,null,null,null,null,null,null,null,null," ",null,null,null,null,null,null,null,null,null,null,null,null," "]
[null,null,null,null,null,null,null,"PR weightings (dredge area averages multiplied by dredge area tonnage)"]
[]
[null,null,null,null,null,null,null,null,null,null,"Dredge Area","PCBs as mg/kg wet weight",null,null,null,null,null,null,null,null,null,null,null,null,null,null,null,null,null,null,null,null,null,null,null,null,"ICES 7","Total 25 congeners"]
[null,null,null,null,null,null,null,null,null,null,null,"2,2',4,5,5'-Pentachlorobiphenyl","2,3,3',4,4'-Pentachlorobiphenyl","2,3,3',4',6-Pentachlorobiphenyl","2,3',4,4',5-Pentachlorobiphenyl","2,2',3,3',4,4'-Hexachlorobiphenyl","2,2',3,4,4',5'-Hexachlorobiphenyl","2,2',3,4,5,5'-Hexachlorobiphenyl","2,2',3,4',5',6-Hexachlorobiphenyl","2,2',3,5,5',6-Hexachlorobiphenyl","2,2',4,4',5,5'-Hexachlorobiphenyl","2,3,3',4,4',5-Hexachlorobiphenyl","2,3,3',4,4',6-Hexachlorobiphenyl","2,2',3,3',4,4',5-Heptachlorobiphenyl","2,2',5- Trichlorobiphenyl","2,2',3,4,4',5,5'-Heptachlorobiphenyl","2,2',3,4,4',5',6-Heptachlorobiphenyl","2,2',3,4',5,5',6-Heptachlorobiphenyl","2,2',3,3',4,4',5,5'-Octachlorobiphenyl","2,4,4'-Trichlorobiphenyl","2,4',5-Trichlorobiphenyl","2,2',3,5'-Tetrachlorobiphenyl","2,2',4,4'-Tetrachlorobiphenyl","2,2',4,5'-Tetrachlorobiphenyl","2,2',5,5'-Tetrachlorobiphenyl","2,3',4,4'-Tetrachlorobiphenyl"]
[null,null,null,null,null,null,null,null,null,null,null,"CB101","CB105","CB110","CB118","CB128","CB138","CB141","CB149","CB151","CB153","CB156","CB158","CB170","CB18","CB180","CB183","CB187","CB194","CB28","CB31","CB44","CB47","CB49","CB52","CB66"]
[null,null,null,null,null,null,null,null,null,null,{"$f":"K168","v":"Area i"},{"$f":"IF(L168=\"\",\"\",L168*'PR details'!$G4)","v":""},{"$f":"IF(M168=\"\",\"\",M168*'PR details'!$G4)","v":""},{"$f":"IF(N168=\"\",\"\",N168*'PR details'!$G4)","v":""},{"$f":"IF(O168=\"\",\"\",O168*'PR details'!$G4)","v":""},{"$f":"IF(P168=\"\",\"\",P168*'PR details'!$G4)","v":""},{"$f":"IF(Q168=\"\",\"\",Q168*'PR details'!$G4)","v":""},{"$f":"IF(R168=\"\",\"\",R168*'PR details'!$G4)","v":""},{"$f":"IF(S168=\"\",\"\",S168*'PR details'!$G4)","v":""},{"$f":"IF(T168=\"\",\"\",T168*'PR details'!$G4)","v":""},{"$f":"IF(U168=\"\",\"\",U168*'PR details'!$G4)","v":""},{"$f":"IF(V168=\"\",\"\",V168*'PR details'!$G4)","v":""},{"$f":"IF(W168=\"\",\"\",W168*'PR details'!$G4)","v":""},{"$f":"IF(X168=\"\",\"\",X168*'PR details'!$G4)","v":""},{"$f":"IF(Y168=\"\",\"\",Y168*'PR details'!$G4)","v":""},{"$f":"IF(Z168=\"\",\"\",Z168*'PR details'!$G4)","v":""},{"$f":"IF(AA168=\"\",\"\",AA168*'PR details'!$G4)","v":""},{"$f":"IF(AB168=\"\",\"\",AB168*'PR details'!$G4)","v":""},{"$f":"IF(AC168=\"\",\"\",AC168*'PR details'!$G4)","v":""},{"$f":"IF(AD168=\"\",\"\",AD168*'PR details'!$G4)","v":""},{"$f":"IF(AE168=\"\",\"\",AE168*'PR details'!$G4)","v":""},{"$f":"IF(AF168=\"\",\"\",AF168*'PR details'!$G4)","v":""},{"$f":"IF(AG168=\"\",\"\",AG168*'PR details'!$G4)","v":""},{"$f":"IF(AH168=\"\",\"\",AH168*'PR details'!$G4)","v":""},{"$f":"IF(AI168=\"\",\"\",AI168*'PR details'!$G4)","v":""},{"$f":"IF(AJ168=\"\",\"\",AJ168*'PR details'!$G4)","v":""},{"$f":"IF(AK168=\"\",\"\",AK168*'PR details'!$G4)","v":""},{"$f":"IF(AL168=\"\",\"\",AL168*'PR details'!$G4)","v":""}]
[null,null,null,null,null,null,null,null,null,null,"Area ii",{"$f":"IF(L169=\"\",\"\",L169*'PR details'!$G5)","v":""},{"$f":"IF(M169=\"\",\"\",M169*'PR details'!$G5)","v":""},{"$f":"IF(N169=\"\",\"\",N169*'PR details'!$G5)","v":""},{"$f":"IF(O169=\"\",\"\",O169*'PR details'!$G5)","v":""},{"$f":"IF(P169=\"\",\"\",P169*'PR details'!$G5)","v":""},{"$f":"IF(Q169=\"\",\"\",Q169*'PR details'!$G5)","v":""},{"$f":"IF(R169=\"\",\"\",R169*'PR details'!$G5)","v":""},{"$f":"IF(S169=\"\",\"\",S169*'PR details'!$G5)","v":""},{"$f":"IF(T169=\"\",\"\",T169*'PR details'!$G5)","v":""},{"$f":"IF(U169=\"\",\"\",U169*'PR details'!$G5)","v":""},{"$f":"IF(V169=\"\",\"\",V169*'PR details'!$G5)","v":""},{"$f":"IF(W169=\"\",\"\",W169*'PR details'!$G5)","v":""},{"$f":"IF(X169=\"\",\"\",X169*'PR details'!$G5)","v":""},{"$f":"IF(Y169=\"\",\"\",Y169*'PR details'!$G5)","v":""},{"$f":"IF(Z169=\"\",\"\",Z169*'PR details'!$G5)","v":""},{"$f":"IF(AA169=\"\",\"\",AA169*'PR details'!$G5)","v":""},{"$f":"IF(AB169=\"\",\"\",AB169*'PR details'!$G5)","v":""},{"$f":"IF(AC169=\"\",\"\",AC169*'PR details'!$G5)","v":""},{"$f":"IF(AD169=\"\",\"\",AD169*'PR details'!$G5)","v":""},{"$f":"IF(AE169=\"\",\"\",AE169*'PR details'!$G5)","v":""},{"$f":"IF(AF169=\"\",\"\",AF169*'PR details'!$G5)","v":""},{"$f":"IF(AG169=\"\",\"\",AG169*'PR details'!$G5)","v":""},{"$f":"IF(AH169=\"\",\"\",AH169*'PR details'!$G5)","v":""},{"$f":"IF(AI169=\"\",\"\",AI169*'PR details'!$G5)","v":""},{"$f":"IF(AJ169=\"\",\"\",AJ169*'PR details'!$G5)","v":""},{"$f":"IF(AK169=\"\",\"\",AK169*'PR details'!$G5)","v":""},{"$f":"IF(AL169=\"\",\"\",AL169*'PR details'!$G5)","v":""}]
[null,null,null,null,null,null,null,null,null,null,"Area iii",{"$f":"IF(L170=\"\",\"\",L170*'PR details'!$G6)","v":""},{"$f":"IF(M170=\"\",\"\",M170*'PR details'!$G6)","v":""},{"$f":"IF(N170=\"\",\"\",N170*'PR details'!$G6)","v":""},{"$f":"IF(O170=\"\",\"\",O170*'PR details'!$G6)","v":""},{"$f":"IF(P170=\"\",\"\",P170*'PR details'!$G6)","v":""},{"$f":"IF(Q170=\"\",\"\",Q170*'PR details'!$G6)","v":""},{"$f":"IF(R170=\"\",\"\",R170*'PR details'!$G6)","v":""},{"$f":"IF(S170=\"\",\"\",S170*'PR details'!$G6)","v":""},{"$f":"IF(T170=\"\",\"\",T170*'PR details'!$G6)","v":""},{"$f":"IF(U170=\"\",\"\",U170*'PR details'!$G6)","v":""},{"$f":"IF(V170=\"\",\"\",V170*'PR details'!$G6)","v":""},{"$f":"IF(W170=\"\",\"\",W170*'PR details'!$G6)","v":""},{"$f":"IF(X170=\"\",\"\",X170*'PR details'!$G6)","v":""},{"$f":"IF(Y170=\"\",\"\",Y170*'PR details'!$G6)","v":""},{"$f":"IF(Z170=\"\",\"\",Z170*'PR details'!$G6)","v":""},{"$f":"IF(AA170=\"\",\"\",AA170*'PR details'!$G6)","v":""},{"$f":"IF(AB170=\"\",\"\",AB170*'PR details'!$G6)","v":""},{"$f":"IF(AC170=\"\",\"\",AC170*'PR details'!$G6)","v":""},{"$f":"IF(AD170=\"\",\"\",AD170*'PR details'!$G6)","v":""},{"$f":"IF(AE170=\"\",\"\",AE170*'PR details'!$G6)","v":""},{"$f":"IF(AF170=\"\",\"\",AF170*'PR details'!$G6)","v":""},{"$f":"IF(AG170=\"\",\"\",AG170*'PR details'!$G6)","v":""},{"$f":"IF(AH170=\"\",\"\",AH170*'PR details'!$G6)","v":""},{"$f":"IF(AI170=\"\",\"\",AI170*'PR details'!$G6)","v":""},{"$f":"IF(AJ170=\"\",\"\",AJ170*'PR details'!$G6)","v":""},{"$f":"IF(AK170=\"\",\"\",AK170*'PR details'!$G6)","v":""},{"$f":"IF(AL170=\"\",\"\",AL170*'PR details'!$G6)","v":""}]
[null,null,null,null,null,null,null,null,null,null,"Area iv",{"$f":"IF(L171=\"\",\"\",L171*'PR details'!$G7)","v":""},{"$f":"IF(M171=\"\",\"\",M171*'PR details'!$G7)","v":""},{"$f":"IF(N171=\"\",\"\",N171*'PR details'!$G7)","v":""},{"$f":"IF(O171=\"\",\"\",O171*'PR details'!$G7)","v":""},{"$f":"IF(P171=\"\",\"\",P171*'PR details'!$G7)","v":""},{"$f":"IF(Q171=\"\",\"\",Q171*'PR details'!$G7)","v":""},{"$f":"IF(R171=\"\",\"\",R171*'PR details'!$G7)","v":""},{"$f":"IF(S171=\"\",\"\",S171*'PR details'!$G7)","v":""},{"$f":"IF(T171=\"\",\"\",T171*'PR details'!$G7)","v":""},{"$f":"IF(U171=\"\",\"\",U171*'PR details'!$G7)","v":""},{"$f":"IF(V171=\"\",\"\",V171*'PR details'!$G7)","v":""},{"$f":"IF(W171=\"\",\"\",W171*'PR details'!$G7)","v":""},{"$f":"IF(X171=\"\",\"\",X171*'PR details'!$G7)","v":""},{"$f":"IF(Y171=\"\",\"\",Y171*'PR details'!$G7)","v":""},{"$f":"IF(Z171=\"\",\"\",Z171*'PR details'!$G7)","v":""},{"$f":"IF(AA171=\"\",\"\",AA171*'PR details'!$G7)","v":""},{"$f":"IF(AB171=\"\",\"\",AB171*'PR details'!$G7)","v":""},{"$f":"IF(AC171=\"\",\"\",AC171*'PR details'!$G7)","v":""},{"$f":"IF(AD171=\"\",\"\",AD171*'PR details'!$G7)","v":""},{"$f":"IF(AE171=\"\",\"\",AE171*'PR details'!$G7)","v":""},{"$f":"IF(AF171=\"\",\"\",AF171*'PR details'!$G7)","v":""},{"$f":"IF(AG171=\"\",\"\",AG171*'PR details'!$G7)","v":""},{"$f":"IF(AH171=\"\",\"\",AH171*'PR details'!$G7)","v":""},{"$f":"IF(AI171=\"\",\"\",AI171*'PR details'!$G7)","v":""},{"$f":"IF(AJ171=\"\",\"\",AJ171*'PR details'!$G7)","v":""},{"$f":"IF(AK171=\"\",\"\",AK171*'PR details'!$G7)","v":""},{"$f":"IF(AL171=\"\",\"\",AL171*'PR details'!$G7)","v":""}]
[null,null,null,null,null,null,null,null,null,null,"Area v",{"$f":"IF(L172=\"\",\"\",L172*'PR details'!$G8)","v":""},{"$f":"IF(M172=\"\",\"\",M172*'PR details'!$G8)","v":""},{"$f":"IF(N172=\"\",\"\",N172*'PR details'!$G8)","v":""},{"$f":"IF(O172=\"\",\"\",O172*'PR details'!$G8)","v":""},{"$f":"IF(P172=\"\",\"\",P172*'PR details'!$G8)","v":""},{"$f":"IF(Q172=\"\",\"\",Q172*'PR details'!$G8)","v":""},{"$f":"IF(R172=\"\",\"\",R172*'PR details'!$G8)","v":""},{"$f":"IF(S172=\"\",\"\",S172*'PR details'!$G8)","v":""},{"$f":"IF(T172=\"\",\"\",T172*'PR details'!$G8)","v":""},{"$f":"IF(U172=\"\",\"\",U172*'PR details'!$G8)","v":""},{"$f":"IF(V172=\"\",\"\",V172*'PR details'!$G8)","v":""},{"$f":"IF(W172=\"\",\"\",W172*'PR details'!$G8)","v":""},{"$f":"IF(X172=\"\",\"\",X172*'PR details'!$G8)","v":""},{"$f":"IF(Y172=\"\",\"\",Y172*'PR details'!$G8)","v":""},{"$f":"IF(Z172=\"\",\"\",Z172*'PR details'!$G8)","v":""},{"$f":"IF(AA172=\"\",\"\",AA172*'PR details'!$G8)","v":""},{"$f":"IF(AB172=\"\",\"\",AB172*'PR details'!$G8)","v":""},{"$f":"IF(AC172=\"\",\"\",AC172*'PR details'!$G8)","v":""},{"$f":"IF(AD172=\"\",\"\",AD172*'PR details'!$G8)","v":""},{"$f":"IF(AE172=\"\",\"\",AE172*'PR details'!$G8)","v":""},{"$f":"IF(AF172=\"\",\"\",AF172*'PR details'!$G8)","v":""},{"$f":"IF(AG172=\"\",\"\",AG172*'PR details'!$G8)","v":""},{"$f":"IF(AH172=\"\",\"\",AH172*'PR details'!$G8)","v":""},{"$f":"IF(AI172=\"\",\"\",AI172*'PR details'!$G8)","v":""},{"$f":"IF(AJ172=\"\",\"\",AJ172*'PR details'!$G8)","v":""},{"$f":"IF(AK172=\"\",\"\",AK172*'PR details'!$G8)","v":""},{"$f":"IF(AL172=\"\",\"\",AL172*'PR details'!$G8)","v":""}]
[null,null,null,null,null,null,null,null,null,null,"Area vi",{"$f":"IF(L173=\"\",\"\",L173*'PR details'!$G9)","v":""},{"$f":"IF(M173=\"\",\"\",M173*'PR details'!$G9)","v":""},{"$f":"IF(N173=\"\",\"\",N173*'PR details'!$G9)","v":""},{"$f":"IF(O173=\"\",\"\",O173*'PR details'!$G9)","v":""},{"$f":"IF(P173=\"\",\"\",P173*'PR details'!$G9)","v":""},{"$f":"IF(Q173=\"\",\"\",Q173*'PR details'!$G9)","v":""},{"$f":"IF(R173=\"\",\"\",R173*'PR details'!$G9)","v":""},{"$f":"IF(S173=\"\",\"\",S173*'PR details'!$G9)","v":""},{"$f":"IF(T173=\"\",\"\",T173*'PR details'!$G9)","v":""},{"$f":"IF(U173=\"\",\"\",U173*'PR details'!$G9)","v":""},{"$f":"IF(V173=\"\",\"\",V173*'PR details'!$G9)","v":""},{"$f":"IF(W173=\"\",\"\",W173*'PR details'!$G9)","v":""},{"$f":"IF(X173=\"\",\"\",X173*'PR details'!$G9)","v":""},{"$f":"IF(Y173=\"\",\"\",Y173*'PR details'!$G9)","v":""},{"$f":"IF(Z173=\"\",\"\",Z173*'PR details'!$G9)","v":""},{"$f":"IF(AA173=\"\",\"\",AA173*'PR details'!$G9)","v":""},{"$f":"IF(AB173=\"\",\"\",AB173*'PR details'!$G9)","v":""},{"$f":"IF(AC173=\"\",\"\",AC173*'PR details'!$G9)","v":""},{"$f":"IF(AD173=\"\",\"\",AD173*'PR details'!$G9)","v":""},{"$f":"IF(AE173=\"\",\"\",AE173*'PR details'!$G9)","v":""},{"$f":"IF(AF173=\"\",\"\",AF173*'PR details'!$G9)","v":""},{"$f":"IF(AG173=\"\",\"\",AG173*'PR details'!$G9)","v":""},{"$f":"IF(AH173=\"\",\"\",AH173*'PR details'!$G9)","v":""},{"$f":"IF(AI173=\"\",\"\",AI173*'PR details'!$G9)","v":""},{"$f":"IF(AJ173=\"\",\"\",AJ173*'PR details'!$G9)","v":""},{"$f":"IF(AK173=\"\",\"\",AK173*'PR details'!$G9)","v":""},{"$f":"IF(AL173=\"\",\"\",AL173*'PR details'!$G9)","v":""}]
[]
[]
[]
[null,null,null,null,null,null,null,"PR average"]
[]
[null,null,null,null,null,null,null,null,null,null,null,"PCBs as mg/kg wet weight",null,null,null,null,null,null,null,null,null,null,null,null,null,null,null,null,null,null,null,null,null,null,null,null,"ICES 7","Total 25 congeners"]
[null,null,null,null,null,null,null,null,null,null,null,"2,2',4,5,5'-Pentachlorobiphenyl","2,3,3',4,4'-Pentachlorobiphenyl","2,3,3',4',6-Pentachlorobiphenyl","2,3',4,4',5-Pentachlorobiphenyl","2,2',3,3',4,4'-Hexachlorobiphenyl","2,2',3,4,4',5'-Hexachlorobiphenyl","2,2',3,4,5,5'-Hexachlorobiphenyl","2,2',3,4',5',6-Hexachlorobiphenyl","2,2',3,5,5',6-Hexachlorobiphenyl","2,2',4,4',5,5'-Hexachlorobiphenyl","2,3,3',4,4',5-Hexachlorobiphenyl","2,3,3',4,4',6-Hexachlorobiphenyl","2,2',3,3',4,4',5-Heptachlorobiphenyl","2,2',5- Trichlorobiphenyl","2,2',3,4,4',5,5'-Heptachlorobiphenyl","2,2',3,4,4',5',6-Heptachlorobiphenyl","2,2',3,4',5,5',6-Heptachlorobiphenyl","2,2',3,3',4,4',5,5'-Octachlorobiphenyl","2,4,4'-Trichlorobiphenyl","2,4',5-Trichlorobiphenyl","2,2',3,5'-Tetrachlorobiphenyl","2,2',4,4'-Tetrachlorobiphenyl","2,2',4,5'-Tetrachlorobiphenyl","2,2',5,5'-Tetrachlorobiphenyl","2,3',4,4'-Tetrachlorobiphenyl"]
[null,null,null,null,null,null,null,null,null,null,null,"CB101","CB105","CB110","CB118","CB128","CB138","CB141","CB149","CB151","CB153","CB156","CB158","CB170","CB18","CB180","CB183","CB187","CB194","CB28","CB31","CB44","CB47","CB49","CB52","CB66"]
[null,null,null,null,null,null,null,null,null,null,null,{"$f":"IF(COUNT(L183:L188)<1,\"\",SUM(L183:L188))","v":""},"","","","","","","","","","","","","","","","","","","","","","","","",{"$f":"IF(COUNT(AK183:AK188)<1,\"\",SUM(AK183:AK188))","v":""},""]

{"sheet":"Data organoclorin","index":13,"n_rows":38,"n_cols":18,"rows_kept":38,"cut":false,"hidden":false,"merged":[[5,10,5,17],[37,7,37,9],[5,7,6,7],[5,8,6,8],[5,9,6,9]]}
[]
[null,"Data organoclorin"]
[]
[null,"Cyfarwyddiadau:",null,null,null,null,null,"Allbynnau dadansoddi:"]
[null,"1. Cofnodwch y labordy/contractwr sy'n gyfrifol am ddadansoddi"]
[null,"2. Cofnodwch y dyddiad y dadansoddwyd y samplau.",null,null,null,null,null,"Rhif sampl y labordy","Ardal Garthu","Rhif(au) adnabod y samplau","Plaladdwyr organoclorin fel pwysau sych mg/kg"]
[null,"3. Rhowch set ddata lawn ar gyfer pob sampl yn nhabl canlyniadau'r dadansoddiad",null,null,null,null,null,null,null,null,"alpha-hexachlorocyclohexane (AHCH)","beta-hexachlorocyclohexane (BHCH)","gama-hexachlorocyclohexane (GHCH)","Dieldrin","Hexachlorobenzene (HCB)","1,1-Dichloro-2,2-bis(p-chlorophenyl) ethylene (PPDDE)","Dichlorodiphenyltrichloroethane (PPDDT)","1,1-dichloro-2,2-bis(p-chlorophenyl)ethane (PPTDE)"]
[null,"4. Dylid adrodd ar ganlyniadau dadansoddi mewn pwysau sych mg/kg (ppm). "]
[null,"5. Rhowch derfyn canfod methodolegol ar gyfer pob Organoclorin cyn mewnbynnu data crai"]
[null,"6. Lle mae allbynnau dadansoddi yn llai na’r terfynau canfod nodwch y testun “<LOD”"]
[null,"7. Lle rydych yn copïo a gludo cofnodion, defnyddiwch y gwerthoedd yr ydych yn eu gludo yn unig"]
[null,"8. Pan fyddwch chi'n nodi rhifau adnabod sawl sampl, defnyddiwch ffurflen y naidlen (pop-up)"]
[null,null,"Dylai rhifau adnabod gael eu gwahanu gan goma"]
[]
[null,"Gwybodaeth dadansoddi:"]
[]
[null,null,"Labordy/contractwr:"]
[null,null,"Dyddiad y dadansoddiad:"]
[]
[]
[]
[]
[]
[]
[]
[]
[]
[]
[]
[]
[]
[]
[]
[]
[]
[]
[]
[null,null,null,null,null,null,null,"Terfynau canfod (pwysau sych mg/kg):"]

{"sheet":"Data BDE","index":14,"n_rows":38,"n_cols":22,"rows_kept":38,"cut":false,"hidden":false,"merged":[[5,10,5,21],[37,7,37,9],[5,7,6,7],[5,8,6,8],[5,9,6,9]]}
[]
[null,"Data deunydd gwrth-fflamau wedi'i fromineiddio"]
[]
[null,"Cyfarwyddiadau:",null,null,null,null,null,"Allbynnau dadansoddi:"]
[null,"1. Cofnodwch y labordy/contractwr sy'n gyfrifol am ddadansoddi"]
[null,"2. Cofnodwch y dyddiad y dadansoddwyd y samplau.",null,null,null,null,null,"Rhif sampl y labordy","Ardal Garthu","Rhif(au) adnabod y samplau","Deunyddiau gwrth-fflamau wedi'u bromineiddio fel pwysau sych mg/kg"]
[null,"3. Rhowch set ddata lawn ar gyfer pob sampl yn nhabl canlyniadau'r dadansoddiad",null,null,null,null,null,null,null,null,"2,2′,4,4′,6-penta-\n bromodiphenyl ether (BDE100)","hecsabromodiphenyl ether (BDE138) ","2,2′,4,4′,5,5′-hexa-\n bromodiphenyl ether (BDE153)","2,2′,4,4′,5,6′-hexa-bromodiphenyl ether (BDE154)","2,2',4-tri-bromodiphenylether (BDE17)","2,2′,3,4,4′,5′,6-heptabromodiphenyl ether (BDE183)","2,2',3,3',4,4',5,5',6,6'-decabrominated diphenyl ether (BDE 209)","2,4,4'-tribromodiphenyl ether (BDE28)","2,2′,4,4′-Tetrabromodiphenyl ether (BDE47) ","2,3',4,4'-Tetrabromodiphenyl ether (BDE66)","2,2',3,4,4'-Pentabromodiphenyl ether  (BDE85)","2,2',4,4',5-pentabromodiphenyl ether   (BDE99)"]
[null,"4. Dylid adrodd ar ganlyniadau dadansoddi mewn pwysau sych mg/kg (ppm). "]
[null,"5. Rhowch derfyn canfod methodolegol ar gyfer pob BDE cyn mewnbynnu data crai"]
[null,"6. Lle mae allbynnau dadansoddi yn llai na’r terfynau canfod nodwch y testun “<LOD”"]
[null,"7. Lle rydych yn copïo a gludo cofnodion, defnyddiwch y gwerthoedd yr ydych yn eu gludo yn unig"]
[null,"8. Pan fyddwch chi'n nodi rhifau adnabod sawl sampl, defnyddiwch ffurflen y naidlen (pop-up)"]
[null,null,"Dylai rhifau adnabod gael eu gwahanu gan goma"]
[]
[null,"Gwybodaeth dadansoddi:"]
[]
[null,null,"Labordy/contractwr:"]
[null,null,"Dyddiad y dadansoddiad:"]
[]
[]
[]
[]
[]
[]
[]
[]
[]
[]
[]
[]
[]
[]
[]
[]
[]
[]
[]
[null,null,null,null,null,null,null,"Terfynau canfod (pwysau sych mg/kg):"]

{"sheet":"Organochlorine calcs","index":15,"n_rows":189,"n_cols":19,"rows_kept":189,"cut":false,"hidden":true,"merged":[[186,11,186,18],[159,11,159,18],[186,7,188,10],[173,7,174,7],[173,9,174,9],[173,10,174,10],[173,11,173,18],[159,7,166,9],[83,7,84,7],[83,8,84,8],[83,9,84,9],[83,10,84,10],[83,11,83,18],[121,7,122,7],[121,8,122,8],[121,9,122,9],[121,10,122,10],[121,11,121,18],[5,7,6,7],[5,8,6,8],[5,9,6,9],[5,10,6,10],[5,11,5,18],[45,11,45,18],[45,7,46,7],[45,8,46,8],[45,9,46,9],[45,10,46,10]]}
[]
[null,"Organochlorine summary information"]
[]
[null,"Analysis information:",null,null,null,null,null,"Determinand analysis outputs - adjusted for limits of detection"]
[]
[null,null,"Applicant:",{"$f":"IF('Gwybodaeth ymgeiswyr'!E15=\"\",\"\",'Gwybodaeth ymgeiswyr'!E15)","v":""},null,null,null,"Laboratory sample number","Dredge Area","Excluded (y if yes)","Sample ID","Organochlorines as mg/kg dry weight"]
[null,null,"Application number:",{"$f":"IF('Gwybodaeth ymgeiswyr'!E16=\"\",\"\",'Gwybodaeth ymgeiswyr'!E16)","v":""},null,null,null,null,null,null,null,"alpha-hexachlorocyclohexane (AHCH)","beta-hexachlorocyclohexane (BHCH)","gamma-hexachlorocyclohexane (GHCH)","Dieldrin","Hexachlorobenzene (HCB)","1,1-Dichloro-2,2-bis(p-chlorophenyl) ethylene (PPDDE)","Dichlorodiphenyltrichloroethane (PPDDT)","1,1-dichloro-2,2-bis(p-chlorophenyl)ethane (PPTDE)"]
[null,null,"Application title:",{"$f":"IF('Gwybodaeth ymgeiswyr'!E17=\"\",\"\",'Gwybodaeth ymgeiswyr'!E17)","v":""},null,null,null,{"$f":"IF('Data organoclorin'!H8=\"\",\"\",'Data organoclorin'!H8)","v":""},{"$f":"IF('Data organoclorin'!I8=\"\",\"\",'Data organoclorin'!I8)","v":""},{"$f":"IFERROR(IF(K8=\"\",\"\",(IF(VLOOKUP(K8,'Gwybodaeth ymgeiswyr'!$K$8:$L$37,2,0)=\"y\",\"y\",\"\"))),\"Manual entry required\")","v":""},{"$f":"IF('Data organoclorin'!J8=\"\",\"\",'Data organoclorin'!J8)","v":""},{"$f":"IF('Data organoclorin'!K8=\"\",\"\",IF(ISNUMBER('Data organoclorin'!K8)=TRUE, IF('Data organoclorin'!K8<'Data organoclorin'!K$38, \"ERROR\", 'Data organoclorin'!K8), IF('Data organoclorin'!K8=\"<LOD\",'Data organoclorin'!K$38, \"ERROR\")))","v":""},{"$f":"IF('Data organoclorin'!L8=\"\",\"\",IF(ISNUMBER('Data organoclorin'!L8)=TRUE, IF('Data organoclorin'!L8<'Data organoclorin'!L$38, \"ERROR\", 'Data organoclorin'!L8), IF('Data organoclorin'!L8=\"<LOD\",'Data organoclorin'!L$38, \"ERROR\")))","v":""},{"$f":"IF('Data organoclorin'!M8=\"\",\"\",IF(ISNUMBER('Data organoclorin'!M8)=TRUE, IF('Data organoclorin'!M8<'Data organoclorin'!M$38, \"ERROR\", 'Data organoclorin'!M8), IF('Data organoclorin'!M8=\"<LOD\",'Data organoclorin'!M$38, \"ERROR\")))","v":""},{"$f":"IF('Data organoclorin'!N8=\"\",\"\",IF(ISNUMBER('Data organoclorin'!N8)=TRUE, IF('Data organoclorin'!N8<'Data organoclorin'!N$38, \"ERROR\", 'Data organoclorin'!N8), IF('Data organoclorin'!N8=\"<LOD\",'Data organoclorin'!N$38, \"ERROR\")))","v":""},{"$f":"IF('Data organoclorin'!O8=\"\",\"\",IF(ISNUMBER('Data organoclorin'!O8)=TRUE, IF('Data organoclorin'!O8<'Data organoclorin'!O$38, \"ERROR\", 'Data organoclorin'!O8), IF('Data organoclorin'!O8=\"<LOD\",'Data organoclorin'!O$38, \"ERROR\")))","v":""},{"$f":"IF('Data organoclorin'!P8=\"\",\"\",IF(ISNUMBER('Data organoclorin'!P8)=TRUE, IF('Data organoclorin'!P8<'Data organoclorin'!P$38, \"ERROR\", 'Data organoclorin'!P8), IF('Data organoclorin'!P8=\"<LOD\",'Data organoclorin'!P$38, \"ERROR\")))","v":""},{"$f":"IF('Data organoclorin'!Q8=\"\",\"\",IF(ISNUMBER('Data organoclorin'!Q8)=TRUE, IF('Data organoclorin'!Q8<'Data organoclorin'!Q$38, \"ERROR\", 'Data organoclorin'!Q8), IF('Data organoclorin'!Q8=\"<LOD\",'Data organoclorin'!Q$38, \"ERROR\")))","v":""},{"$f":"IF('Data organoclorin'!R8=\"\",\"\",IF(ISNUMBER('Data organoclorin'!R8)=TRUE, IF('Data organoclorin'!R8<'Data organoclorin'!R$38, \"ERROR\", 'Data organoclorin'!R8), IF('Data organoclorin'!R8=\"<LOD\",'Data organoclorin'!R$38, \"ERROR\")))","v":""}]
[null,null,"Date sampled:",{"$f":"IF('Gwybodaeth ymgeiswyr'!E18=\"\",\"\",'Gwybodaeth ymgeiswyr'!E18)","v":""},null,null,null,{"$f":"IF('Data organoclorin'!H9=\"\",\"\",'Data organoclorin'!H9)","v":""},{"$f":"IF('Data organoclorin'!I9=\"\",\"\",'Data organoclorin'!I9)","v":""},{"$f":"IFERROR(IF(K9=\"\",\"\",(IF(VLOOKUP(K9,'Gwybodaeth ymgeiswyr'!$K$8:$L$37,2,0)=\"y\",\"y\",\"\"))),\"Manual entry required\")","v":""},{"$f":"IF('Data organoclorin'!J9=\"\",\"\",'Data organoclorin'!J9)","v":""},{"$f":"IF('Data organoclorin'!K9=\"\",\"\",IF(ISNUMBER('Data organoclorin'!K9)=TRUE, IF('Data organoclorin'!K9<'Data organoclorin'!K$38, \"ERROR\", 'Data organoclorin'!K9), IF('Data organoclorin'!K9=\"<LOD\",'Data organoclorin'!K$38, \"ERROR\")))","v":""},{"$f":"IF('Data organoclorin'!L9=\"\",\"\",IF(ISNUMBER('Data organoclorin'!L9)=TRUE, IF('Data organoclorin'!L9<'Data organoclorin'!L$38, \"ERROR\", 'Data organoclorin'!L9), IF('Data organoclorin'!L9=\"<LOD\",'Data organoclorin'!L$38, \"ERROR\")))","v":""},{"$f":"IF('Data organoclorin'!M9=\"\",\"\",IF(ISNUMBER('Data organoclorin'!M9)=TRUE, IF('Data organoclorin'!M9<'Data organoclorin'!M$38, \"ERROR\", 'Data organoclorin'!M9), IF('Data organoclorin'!M9=\"<LOD\",'Data organoclorin'!M$38, \"ERROR\")))","v":""},{"$f":"IF('Data organoclorin'!N9=\"\",\"\",IF(ISNUMBER('Data organoclorin'!N9)=TRUE, IF('Data organoclorin'!N9<'Data organoclorin'!N$38, \"ERROR\", 'Data organoclorin'!N9), IF('Data organoclorin'!N9=\"<LOD\",'Data organoclorin'!N$38, \"ERROR\")))","v":""},{"$f":"IF('Data organoclorin'!O9=\"\",\"\",IF(ISNUMBER('Data organoclorin'!O9)=TRUE, IF('Data organoclorin'!O9<'Data organoclorin'!O$38, \"ERROR\", 'Data organoclorin'!O9), IF('Data organoclorin'!O9=\"<LOD\",'Data organoclorin'!O$38, \"ERROR\")))","v":""},{"$f":"IF('Data organoclorin'!P9=\"\",\"\",IF(ISNUMBER('Data organoclorin'!P9)=TRUE, IF('Data organoclorin'!P9<'Data organoclorin'!P$38, \"ERROR\", 'Data organoclorin'!P9), IF('Data organoclorin'!P9=\"<LOD\",'Data organoclorin'!P$38, \"ERROR\")))","v":""},{"$f":"IF('Data organoclorin'!Q9=\"\",\"\",IF(ISNUMBER('Data organoclorin'!Q9)=TRUE, IF('Data organoclorin'!Q9<'Data organoclorin'!Q$38, \"ERROR\", 'Data organoclorin'!Q9), IF('Data organoclorin'!Q9=\"<LOD\",'Data organoclorin'!Q$38, \"ERROR\")))","v":""},{"$f":"IF('Data organoclorin'!R9=\"\",\"\",IF(ISNUMBER('Data organoclorin'!R9)=TRUE, IF('Data organoclorin'!R9<'Data organoclorin'!R$38, \"ERROR\", 'Data organoclorin'!R9), IF('Data organoclorin'!R9=\"<LOD\",'Data organoclorin'!R$38, \"ERROR\")))","v":""}]
[null,null,"Sampling location:",{"$f":"IF('Gwybodaeth ymgeiswyr'!E19=\"\",\"\",'Gwybodaeth ymgeiswyr'!E19)","v":""},null,null,null,{"$f":"IF('Data organoclorin'!H10=\"\",\"\",'Data organoclorin'!H10)","v":""},{"$f":"IF('Data organoclorin'!I10=\"\",\"\",'Data organoclorin'!I10)","v":""},{"$f":"IFERROR(IF(K10=\"\",\"\",(IF(VLOOKUP(K10,'Gwybodaeth ymgeiswyr'!$K$8:$L$37,2,0)=\"y\",\"y\",\"\"))),\"Manual entry required\")","v":""},{"$f":"IF('Data organoclorin'!J10=\"\",\"\",'Data organoclorin'!J10)","v":""},{"$f":"IF('Data organoclorin'!K10=\"\",\"\",IF(ISNUMBER('Data organoclorin'!K10)=TRUE, IF('Data organoclorin'!K10<'Data organoclorin'!K$38, \"ERROR\", 'Data organoclorin'!K10), IF('Data organoclorin'!K10=\"<LOD\",'Data organoclorin'!K$38, \"ERROR\")))","v":""},{"$f":"IF('Data organoclorin'!L10=\"\",\"\",IF(ISNUMBER('Data organoclorin'!L10)=TRUE, IF('Data organoclorin'!L10<'Data organoclorin'!L$38, \"ERROR\", 'Data organoclorin'!L10), IF('Data organoclorin'!L10=\"<LOD\",'Data organoclorin'!L$38, \"ERROR\")))","v":""},{"$f":"IF('Data organoclorin'!M10=\"\",\"\",IF(ISNUMBER('Data organoclorin'!M10)=TRUE, IF('Data organoclorin'!M10<'Data organoclorin'!M$38, \"ERROR\", 'Data organoclorin'!M10), IF('Data organoclorin'!M10=\"<LOD\",'Data organoclorin'!M$38, \"ERROR\")))","v":""},{"$f":"IF('Data organoclorin'!N10=\"\",\"\",IF(ISNUMBER('Data organoclorin'!N10)=TRUE, IF('Data organoclorin'!N10<'Data organoclorin'!N$38, \"ERROR\", 'Data organoclorin'!N10), IF('Data organoclorin'!N10=\"<LOD\",'Data organoclorin'!N$38, \"ERROR\")))","v":""},{"$f":"IF('Data organoclorin'!O10=\"\",\"\",IF(ISNUMBER('Data organoclorin'!O10)=TRUE, IF('Data organoclorin'!O10<'Data organoclorin'!O$38, \"ERROR\", 'Data organoclorin'!O10), IF('Data organoclorin'!O10=\"<LOD\",'Data organoclorin'!O$38, \"ERROR\")))","v":""},{"$f":"IF('Data organoclorin'!P10=\"\",\"\",IF(ISNUMBER('Data organoclorin'!P10)=TRUE, IF('Data organoclorin'!P10<'Data organoclorin'!P$38, \"ERROR\", 'Data organoclorin'!P10), IF('Data organoclorin'!P10=\"<LOD\",'Data organoclorin'!P$38, \"ERROR\")))","v":""},{"$f":"IF('Data organoclorin'!Q10=\"\",\"\",IF(ISNUMBER('Data organoclorin'!Q10)=TRUE, IF('Data organoclorin'!Q10<'Data organoclorin'!Q$38, \"ERROR\", 'Data organoclorin'!Q10), IF('Data organoclorin'!Q10=\"<LOD\",'Data organoclorin'!Q$38, \"ERROR\")))","v":""},{"$f":"IF('Data organoclorin'!R10=\"\",\"\",IF(ISNUMBER('Data organoclorin'!R10)=TRUE, IF('Data organoclorin'!R10<'Data organoclorin'!R$38, \"ERROR\", 'Data organoclorin'!R10), IF('Data organoclorin'!R10=\"<LOD\",'Data organoclorin'!R$38, \"ERROR\")))","v":""}]
[null,null,null,null,null,null,null,{"$f":"IF('Data organoclorin'!H11=\"\",\"\",'Data organoclorin'!H11)","v":""},{"$f":"IF('Data organoclorin'!I11=\"\",\"\",'Data organoclorin'!I11)","v":""},{"$f":"IFERROR(IF(K11=\"\",\"\",(IF(VLOOKUP(K11,'Gwybodaeth ymgeiswyr'!$K$8:$L$37,2,0)=\"y\",\"y\",\"\"))),\"Manual entry required\")","v":""},{"$f":"IF('Data organoclorin'!J11=\"\",\"\",'Data organoclorin'!J11)","v":""},{"$f":"IF('Data organoclorin'!K11=\"\",\"\",IF(ISNUMBER('Data organoclorin'!K11)=TRUE, IF('Data organoclorin'!K11<'Data organoclorin'!K$38, \"ERROR\", 'Data organoclorin'!K11), IF('Data organoclorin'!K11=\"<LOD\",'Data organoclorin'!K$38, \"ERROR\")))","v":""},{"$f":"IF('Data organoclorin'!L11=\"\",\"\",IF(ISNUMBER('Data organoclorin'!L11)=TRUE, IF('Data organoclorin'!L11<'Data organoclorin'!L$38, \"ERROR\", 'Data organoclorin'!L11), IF('Data organoclorin'!L11=\"<LOD\",'Data organoclorin'!L$38, \"ERROR\")))","v":""},{"$f":"IF('Data organoclorin'!M11=\"\",\"\",IF(ISNUMBER('Data organoclorin'!M11)=TRUE, IF('Data organoclorin'!M11<'Data organoclorin'!M$38, \"ERROR\", 'Data organoclorin'!M11), IF('Data organoclorin'!M11=\"<LOD\",'Data organoclorin'!M$38, \"ERROR\")))","v":""},{"$f":"IF('Data organoclorin'!N11=\"\",\"\",IF(ISNUMBER('Data organoclorin'!N11)=TRUE, IF('Data organoclorin'!N11<'Data organoclorin'!N$38, \"ERROR\", 'Data organoclorin'!N11), IF('Data organoclorin'!N11=\"<LOD\",'Data organoclorin'!N$38, \"ERROR\")))","v":""},{"$f":"IF('Data organoclorin'!O11=\"\",\"\",IF(ISNUMBER('Data organoclorin'!O11)=TRUE, IF('Data organoclorin'!O11<'Data organoclorin'!O$38, \"ERROR\", 'Data organoclorin'!O11), IF('Data organoclorin'!O11=\"<LOD\",'Data organoclorin'!O$38, \"ERROR\")))","v":""},{"$f":"IF('Data organoclorin'!P11=\"\",\"\",IF(ISNUMBER('Data organoclorin'!P11)=TRUE, IF('Data organoclorin'!P11<'Data organoclorin'!P$38, \"ERROR\", 'Data organoclorin'!P11), IF('Data organoclorin'!P11=\"<LOD\",'Data organoclorin'!P$38, \"ERROR\")))","v":""},{"$f":"IF('Data organoclorin'!Q11=\"\",\"\",IF(ISNUMBER('Data organoclorin'!Q11)=TRUE, IF('Data organoclorin'!Q11<'Data organoclorin'!Q$38, \"ERROR\", 'Data organoclorin'!Q11), IF('Data organoclorin'!Q11=\"<LOD\",'Data organoclorin'!Q$38, \"ERROR\")))","v":""},{"$f":"IF('Data organoclorin'!R11=\"\",\"\",IF(ISNUMBER('Data organoclorin'!R11)=TRUE, IF('Data organoclorin'!R11<'Data organoclorin'!R$38, \"ERROR\", 'Data organoclorin'!R11), IF('Data organoclorin'!R11=\"<LOD\",'Data organoclorin'!R$38, \"ERROR\")))","v":""}]
[null,null,"Laboratory/contractor:",{"$f":"IF('Data organoclorin'!D17=\"\",\"\",'Data organoclorin'!D17)","v":""},null,null,null,{"$f":"IF('Data organoclorin'!H12=\"\",\"\",'Data organoclorin'!H12)","v":""},{"$f":"IF('Data organoclorin'!I12=\"\",\"\",'Data organoclorin'!I12)","v":""},{"$f":"IFERROR(IF(K12=\"\",\"\",(IF(VLOOKUP(K12,'Gwybodaeth ymgeiswyr'!$K$8:$L$37,2,0)=\"y\",\"y\",\"\"))),\"Manual entry required\")","v":""},{"$f":"IF('Data organoclorin'!J12=\"\",\"\",'Data organoclorin'!J12)","v":""},{"$f":"IF('Data organoclorin'!K12=\"\",\"\",IF(ISNUMBER('Data organoclorin'!K12)=TRUE, IF('Data organoclorin'!K12<'Data organoclorin'!K$38, \"ERROR\", 'Data organoclorin'!K12), IF('Data organoclorin'!K12=\"<LOD\",'Data organoclorin'!K$38, \"ERROR\")))","v":""},{"$f":"IF('Data organoclorin'!L12=\"\",\"\",IF(ISNUMBER('Data organoclorin'!L12)=TRUE, IF('Data organoclorin'!L12<'Data organoclorin'!L$38, \"ERROR\", 'Data organoclorin'!L12), IF('Data organoclorin'!L12=\"<LOD\",'Data organoclorin'!L$38, \"ERROR\")))","v":""},{"$f":"IF('Data organoclorin'!M12=\"\",\"\",IF(ISNUMBER('Data organoclorin'!M12)=TRUE, IF('Data organoclorin'!M12<'Data organoclorin'!M$38, \"ERROR\", 'Data organoclorin'!M12), IF('Data organoclorin'!M12=\"<LOD\",'Data organoclorin'!M$38, \"ERROR\")))","v":""},{"$f":"IF('Data organoclorin'!N12=\"\",\"\",IF(ISNUMBER('Data organoclorin'!N12)=TRUE, IF('Data organoclorin'!N12<'Data organoclorin'!N$38, \"ERROR\", 'Data organoclorin'!N12), IF('Data organoclorin'!N12=\"<LOD\",'Data organoclorin'!N$38, \"ERROR\")))","v":""},{"$f":"IF('Data organoclorin'!O12=\"\",\"\",IF(ISNUMBER('Data organoclorin'!O12)=TRUE, IF('Data organoclorin'!O12<'Data organoclorin'!O$38, \"ERROR\", 'Data organoclorin'!O12), IF('Data organoclorin'!O12=\"<LOD\",'Data organoclorin'!O$38, \"ERROR\")))","v":""},{"$f":"IF('Data organoclorin'!P12=\"\",\"\",IF(ISNUMBER('Data organoclorin'!P12)=TRUE, IF('Data organoclorin'!P12<'Data organoclorin'!P$38, \"ERROR\", 'Data organoclorin'!P12), IF('Data organoclorin'!P12=\"<LOD\",'Data organoclorin'!P$38, \"ERROR\")))","v":""},{"$f":"IF('Data organoclorin'!Q12=\"\",\"\",IF(ISNUMBER('Data organoclorin'!Q12)=TRUE, IF('Data organoclorin'!Q12<'Data organoclorin'!Q$38, \"ERROR\", 'Data organoclorin'!Q12), IF('Data organoclorin'!Q12=\"<LOD\",'Data organoclorin'!Q$38, \"ERROR\")))","v":""},{"$f":"IF('Data organoclorin'!R12=\"\",\"\",IF(ISNUMBER('Data organoclorin'!R12)=TRUE, IF('Data organoclorin'!R12<'Data organoclorin'!R$38, \"ERROR\", 'Data organoclorin'!R12), IF('Data organoclorin'!R12=\"<LOD\",'Data organoclorin'!R$38, \"ERROR\")))","v":""}]
[null,null,"Date of analysis:",{"$f":"IF('Data organoclorin'!D18=\"\",\"\",'Data organoclorin'!D18)","v":""},null,null,null,{"$f":"IF('Data organoclorin'!H13=\"\",\"\",'Data organoclorin'!H13)","v":""},{"$f":"IF('Data organoclorin'!I13=\"\",\"\",'Data organoclorin'!I13)","v":""},{"$f":"IFERROR(IF(K13=\"\",\"\",(IF(VLOOKUP(K13,'Gwybodaeth ymgeiswyr'!$K$8:$L$37,2,0)=\"y\",\"y\",\"\"))),\"Manual entry required\")","v":""},{"$f":"IF('Data organoclorin'!J13=\"\",\"\",'Data organoclorin'!J13)","v":""},{"$f":"IF('Data organoclorin'!K13=\"\",\"\",IF(ISNUMBER('Data organoclorin'!K13)=TRUE, IF('Data organoclorin'!K13<'Data organoclorin'!K$38, \"ERROR\", 'Data organoclorin'!K13), IF('Data organoclorin'!K13=\"<LOD\",'Data organoclorin'!K$38, \"ERROR\")))","v":""},{"$f":"IF('Data organoclorin'!L13=\"\",\"\",IF(ISNUMBER('Data organoclorin'!L13)=TRUE, IF('Data organoclorin'!L13<'Data organoclorin'!L$38, \"ERROR\", 'Data organoclorin'!L13), IF('Data organoclorin'!L13=\"<LOD\",'Data organoclorin'!L$38, \"ERROR\")))","v":""},{"$f":"IF('Data organoclorin'!M13=\"\",\"\",IF(ISNUMBER('Data organoclorin'!M13)=TRUE, IF('Data organoclorin'!M13<'Data organoclorin'!M$38, \"ERROR\", 'Data organoclorin'!M13), IF('Data organoclorin'!M13=\"<LOD\",'Data organoclorin'!M$38, \"ERROR\")))","v":""},{"$f":"IF('Data organoclorin'!N13=\"\",\"\",IF(ISNUMBER('Data organoclorin'!N13)=TRUE, IF('Data organoclorin'!N13<'Data organoclorin'!N$38, \"ERROR\", 'Data organoclorin'!N13), IF('Data organoclorin'!N13=\"<LOD\",'Data organoclorin'!N$38, \"ERROR\")))","v":""},{"$f":"IF('Data organoclorin'!O13=\"\",\"\",IF(ISNUMBER('Data organoclorin'!O13)=TRUE, IF('Data organoclorin'!O13<'Data organoclorin'!O$38, \"ERROR\", 'Data organoclorin'!O13), IF('Data organoclorin'!O13=\"<LOD\",'Data organoclorin'!O$38, \"ERROR\")))","v":""},{"$f":"IF('Data organoclorin'!P13=\"\",\"\",IF(ISNUMBER('Data organoclorin'!P13)=TRUE, IF('Data organoclorin'!P13<'Data organoclorin'!P$38, \"ERROR\", 'Data organoclorin'!P13), IF('Data organoclorin'!P13=\"<LOD\",'Data organoclorin'!P$38, \"ERROR\")))","v":""},{"$f":"IF('Data organoclorin'!Q13=\"\",\"\",IF(ISNUMBER('Data organoclorin'!Q13)=TRUE, IF('Data organoclorin'!Q13<'Data organoclorin'!Q$38, \"ERROR\", 'Data organoclorin'!Q13), IF('Data organoclorin'!Q13=\"<LOD\",'Data organoclorin'!Q$38, \"ERROR\")))","v":""},{"$f":"IF('Data organoclorin'!R13=\"\",\"\",IF(ISNUMBER('Data organoclorin'!R13)=TRUE, IF('Data organoclorin'!R13<'Data organoclorin'!R$38, \"ERROR\", 'Data organoclorin'!R13), IF('Data organoclorin'!R13=\"<LOD\",'Data organoclorin'!R$38, \"ERROR\")))","v":""}]
[null,null,null,null,null,null,null,{"$f":"IF('Data organoclorin'!H14=\"\",\"\",'Data organoclorin'!H14)","v":""},{"$f":"IF('Data organoclorin'!I14=\"\",\"\",'Data organoclorin'!I14)","v":""},{"$f":"IFERROR(IF(K14=\"\",\"\",(IF(VLOOKUP(K14,'Gwybodaeth ymgeiswyr'!$K$8:$L$37,2,0)=\"y\",\"y\",\"\"))),\"Manual entry required\")","v":""},{"$f":"IF('Data organoclorin'!J14=\"\",\"\",'Data organoclorin'!J14)","v":""},{"$f":"IF('Data organoclorin'!K14=\"\",\"\",IF(ISNUMBER('Data organoclorin'!K14)=TRUE, IF('Data organoclorin'!K14<'Data organoclorin'!K$38, \"ERROR\", 'Data organoclorin'!K14), IF('Data organoclorin'!K14=\"<LOD\",'Data organoclorin'!K$38, \"ERROR\")))","v":""},{"$f":"IF('Data organoclorin'!L14=\"\",\"\",IF(ISNUMBER('Data organoclorin'!L14)=TRUE, IF('Data organoclorin'!L14<'Data organoclorin'!L$38, \"ERROR\", 'Data organoclorin'!L14), IF('Data organoclorin'!L14=\"<LOD\",'Data organoclorin'!L$38, \"ERROR\")))","v":""},{"$f":"IF('Data organoclorin'!M14=\"\",\"\",IF(ISNUMBER('Data organoclorin'!M14)=TRUE, IF('Data organoclorin'!M14<'Data organoclorin'!M$38, \"ERROR\", 'Data organoclorin'!M14), IF('Data organoclorin'!M14=\"<LOD\",'Data organoclorin'!M$38, \"ERROR\")))","v":""},{"$f":"IF('Data organoclorin'!N14=\"\",\"\",IF(ISNUMBER('Data organoclorin'!N14)=TRUE, IF('Data organoclorin'!N14<'Data organoclorin'!N$38, \"ERROR\", 'Data organoclorin'!N14), IF('Data organoclorin'!N14=\"<LOD\",'Data organoclorin'!N$38, \"ERROR\")))","v":""},{"$f":"IF('Data organoclorin'!O14=\"\",\"\",IF(ISNUMBER('Data organoclorin'!O14)=TRUE, IF('Data organoclorin'!O14<'Data organoclorin'!O$38, \"ERROR\", 'Data organoclorin'!O14), IF('Data organoclorin'!O14=\"<LOD\",'Data organoclorin'!O$38, \"ERROR\")))","v":""},{"$f":"IF('Data organoclorin'!P14=\"\",\"\",IF(ISNUMBER('Data organoclorin'!P14)=TRUE, IF('Data organoclorin'!P14<'Data organoclorin'!P$38, \"ERROR\", 'Data organoclorin'!P14), IF('Data organoclorin'!P14=\"<LOD\",'Data organoclorin'!P$38, \"ERROR\")))","v":""},{"$f":"IF('Data organoclorin'!Q14=\"\",\"\",IF(ISNUMBER('Data organoclorin'!Q14)=TRUE, IF('Data organoclorin'!Q14<'Data organoclorin'!Q$38, \"ERROR\", 'Data organoclorin'!Q14), IF('Data organoclorin'!Q14=\"<LOD\",'Data organoclorin'!Q$38, \"ERROR\")))","v":""},{"$f":"IF('Data organoclorin'!R14=\"\",\"\",IF(ISNUMBER('Data organoclorin'!R14)=TRUE, IF('Data organoclorin'!R14<'Data organoclorin'!R$38, \"ERROR\", 'Data organoclorin'!R14), IF('Data organoclorin'!R14=\"<LOD\",'Data organoclorin'!R$38, \"ERROR\")))","v":""}]
[null,null,null,null,null,null,null,{"$f":"IF('Data organoclorin'!H15=\"\",\"\",'Data organoclorin'!H15)","v":""},{"$f":"IF('Data organoclorin'!I15=\"\",\"\",'Data organoclorin'!I15)","v":""},{"$f":"IFERROR(IF(K15=\"\",\"\",(IF(VLOOKUP(K15,'Gwybodaeth ymgeiswyr'!$K$8:$L$37,2,0)=\"y\",\"y\",\"\"))),\"Manual entry required\")","v":""},{"$f":"IF('Data organoclorin'!J15=\"\",\"\",'Data organoclorin'!J15)","v":""},{"$f":"IF('Data organoclorin'!K15=\"\",\"\",IF(ISNUMBER('Data organoclorin'!K15)=TRUE, IF('Data organoclorin'!K15<'Data organoclorin'!K$38, \"ERROR\", 'Data organoclorin'!K15), IF('Data organoclorin'!K15=\"<LOD\",'Data organoclorin'!K$38, \"ERROR\")))","v":""},{"$f":"IF('Data organoclorin'!L15=\"\",\"\",IF(ISNUMBER('Data organoclorin'!L15)=TRUE, IF('Data organoclorin'!L15<'Data organoclorin'!L$38, \"ERROR\", 'Data organoclorin'!L15), IF('Data organoclorin'!L15=\"<LOD\",'Data organoclorin'!L$38, \"ERROR\")))","v":""},{"$f":"IF('Data organoclorin'!M15=\"\",\"\",IF(ISNUMBER('Data organoclorin'!M15)=TRUE, IF('Data organoclorin'!M15<'Data organoclorin'!M$38, \"ERROR\", 'Data organoclorin'!M15), IF('Data organoclorin'!M15=\"<LOD\",'Data organoclorin'!M$38, \"ERROR\")))","v":""},{"$f":"IF('Data organoclorin'!N15=\"\",\"\",IF(ISNUMBER('Data organoclorin'!N15)=TRUE, IF('Data organoclorin'!N15<'Data organoclorin'!N$38, \"ERROR\", 'Data organoclorin'!N15), IF('Data organoclorin'!N15=\"<LOD\",'Data organoclorin'!N$38, \"ERROR\")))","v":""},{"$f":"IF('Data organoclorin'!O15=\"\",\"\",IF(ISNUMBER('Data organoclorin'!O15)=TRUE, IF('Data organoclorin'!O15<'Data organoclorin'!O$38, \"ERROR\", 'Data organoclorin'!O15), IF('Data organoclorin'!O15=\"<LOD\",'Data organoclorin'!O$38, \"ERROR\")))","v":""},{"$f":"IF('Data organoclorin'!P15=\"\",\"\",IF(ISNUMBER('Data organoclorin'!P15)=TRUE, IF('Data organoclorin'!P15<'Data organoclorin'!P$38, \"ERROR\", 'Data organoclorin'!P15), IF('Data organoclorin'!P15=\"<LOD\",'Data organoclorin'!P$38, \"ERROR\")))","v":""},{"$f":"IF('Data organoclorin'!Q15=\"\",\"\",IF(ISNUMBER('Data organoclorin'!Q15)=TRUE, IF('Data organoclorin'!Q15<'Data organoclorin'!Q$38, \"ERROR\", 'Data organoclorin'!Q15), IF('Data organoclorin'!Q15=\"<LOD\",'Data organoclorin'!Q$38, \"ERROR\")))","v":""},{"$f":"IF('Data organoclorin'!R15=\"\",\"\",IF(ISNUMBER('Data organoclorin'!R15)=TRUE, IF('Data organoclorin'!R15<'Data organoclorin'!R$38, \"ERROR\", 'Data organoclorin'!R15), IF('Data organoclorin'!R15=\"<LOD\",'Data organoclorin'!R$38, \"ERROR\")))","v":""}]
[null,null,null,null,null,null,null,{"$f":"IF('Data organoclorin'!H16=\"\",\"\",'Data organoclorin'!H16)","v":""},{"$f":"IF('Data organoclorin'!I16=\"\",\"\",'Data organoclorin'!I16)","v":""},{"$f":"IFERROR(IF(K16=\"\",\"\",(IF(VLOOKUP(K16,'Gwybodaeth ymgeiswyr'!$K$8:$L$37,2,0)=\"y\",\"y\",\"\"))),\"Manual entry required\")","v":""},{"$f":"IF('Data organoclorin'!J16=\"\",\"\",'Data organoclorin'!J16)","v":""},{"$f":"IF('Data organoclorin'!K16=\"\",\"\",IF(ISNUMBER('Data organoclorin'!K16)=TRUE, IF('Data organoclorin'!K16<'Data organoclorin'!K$38, \"ERROR\", 'Data organoclorin'!K16), IF('Data organoclorin'!K16=\"<LOD\",'Data organoclorin'!K$38, \"ERROR\")))","v":""},{"$f":"IF('Data organoclorin'!L16=\"\",\"\",IF(ISNUMBER('Data organoclorin'!L16)=TRUE, IF('Data organoclorin'!L16<'Data organoclorin'!L$38, \"ERROR\", 'Data organoclorin'!L16), IF('Data organoclorin'!L16=\"<LOD\",'Data organoclorin'!L$38, \"ERROR\")))","v":""},{"$f":"IF('Data organoclorin'!M16=\"\",\"\",IF(ISNUMBER('Data organoclorin'!M16)=TRUE, IF('Data organoclorin'!M16<'Data organoclorin'!M$38, \"ERROR\", 'Data organoclorin'!M16), IF('Data organoclorin'!M16=\"<LOD\",'Data organoclorin'!M$38, \"ERROR\")))","v":""},{"$f":"IF('Data organoclorin'!N16=\"\",\"\",IF(ISNUMBER('Data organoclorin'!N16)=TRUE, IF('Data organoclorin'!N16<'Data organoclorin'!N$38, \"ERROR\", 'Data organoclorin'!N16), IF('Data organoclorin'!N16=\"<LOD\",'Data organoclorin'!N$38, \"ERROR\")))","v":""},{"$f":"IF('Data organoclorin'!O16=\"\",\"\",IF(ISNUMBER('Data organoclorin'!O16)=TRUE, IF('Data organoclorin'!O16<'Data organoclorin'!O$38, \"ERROR\", 'Data organoclorin'!O16), IF('Data organoclorin'!O16=\"<LOD\",'Data organoclorin'!O$38, \"ERROR\")))","v":""},{"$f":"IF('Data organoclorin'!P16=\"\",\"\",IF(ISNUMBER('Data organoclorin'!P16)=TRUE, IF('Data organoclorin'!P16<'Data organoclorin'!P$38, \"ERROR\", 'Data organoclorin'!P16), IF('Data organoclorin'!P16=\"<LOD\",'Data organoclorin'!P$38, \"ERROR\")))","v":""},{"$f":"IF('Data organoclorin'!Q16=\"\",\"\",IF(ISNUMBER('Data organoclorin'!Q16)=TRUE, IF('Data organoclorin'!Q16<'Data organoclorin'!Q$38, \"ERROR\", 'Data organoclorin'!Q16), IF('Data organoclorin'!Q16=\"<LOD\",'Data organoclorin'!Q$38, \"ERROR\")))","v":""},{"$f":"IF('Data organoclorin'!R16=\"\",\"\",IF(ISNUMBER('Data organoclorin'!R16)=TRUE, IF('Data organoclorin'!R16<'Data organoclorin'!R$38, \"ERROR\", 'Data organoclorin'!R16), IF('Data organoclorin'!R16=\"<LOD\",'Data organoclorin'!R$38, \"ERROR\")))","v":""}]
[null,null,null,null,null,null,null,{"$f":"IF('Data organoclorin'!H17=\"\",\"\",'Data organoclorin'!H17)","v":""},{"$f":"IF('Data organoclorin'!I17=\"\",\"\",'Data organoclorin'!I17)","v":""},{"$f":"IFERROR(IF(K17=\"\",\"\",(IF(VLOOKUP(K17,'Gwybodaeth ymgeiswyr'!$K$8:$L$37,2,0)=\"y\",\"y\",\"\"))),\"Manual entry required\")","v":""},{"$f":"IF('Data organoclorin'!J17=\"\",\"\",'Data organoclorin'!J17)","v":""},{"$f":"IF('Data organoclorin'!K17=\"\",\"\",IF(ISNUMBER('Data organoclorin'!K17)=TRUE, IF('Data organoclorin'!K17<'Data organoclorin'!K$38, \"ERROR\", 'Data organoclorin'!K17), IF('Data organoclorin'!K17=\"<LOD\",'Data organoclorin'!K$38, \"ERROR\")))","v":""},{"$f":"IF('Data organoclorin'!L17=\"\",\"\",IF(ISNUMBER('Data organoclorin'!L17)=TRUE, IF('Data organoclorin'!L17<'Data organoclorin'!L$38, \"ERROR\", 'Data organoclorin'!L17), IF('Data organoclorin'!L17=\"<LOD\",'Data organoclorin'!L$38, \"ERROR\")))","v":""},{"$f":"IF('Data organoclorin'!M17=\"\",\"\",IF(ISNUMBER('Data organoclorin'!M17)=TRUE, IF('Data organoclorin'!M17<'Data organoclorin'!M$38, \"ERROR\", 'Data organoclorin'!M17), IF('Data organoclorin'!M17=\"<LOD\",'Data organoclorin'!M$38, \"ERROR\")))","v":""},{"$f":"IF('Data organoclorin'!N17=\"\",\"\",IF(ISNUMBER('Data organoclorin'!N17)=TRUE, IF('Data organoclorin'!N17<'Data organoclorin'!N$38, \"ERROR\", 'Data organoclorin'!N17), IF('Data organoclorin'!N17=\"<LOD\",'Data organoclorin'!N$38, \"ERROR\")))","v":""},{"$f":"IF('Data organoclorin'!O17=\"\",\"\",IF(ISNUMBER('Data organoclorin'!O17)=TRUE, IF('Data organoclorin'!O17<'Data organoclorin'!O$38, \"ERROR\", 'Data organoclorin'!O17), IF('Data organoclorin'!O17=\"<LOD\",'Data organoclorin'!O$38, \"ERROR\")))","v":""},{"$f":"IF('Data organoclorin'!P17=\"\",\"\",IF(ISNUMBER('Data organoclorin'!P17)=TRUE, IF('Data organoclorin'!P17<'Data organoclorin'!P$38, \"ERROR\", 'Data organoclorin'!P17), IF('Data organoclorin'!P17=\"<LOD\",'Data organoclorin'!P$38, \"ERROR\")))","v":""},{"$f":"IF('Data organoclorin'!Q17=\"\",\"\",IF(ISNUMBER('Data organoclorin'!Q17)=TRUE, IF('Data organoclorin'!Q17<'Data organoclorin'!Q$38, \"ERROR\", 'Data organoclorin'!Q17), IF('Data organoclorin'!Q17=\"<LOD\",'Data organoclorin'!Q$38, \"ERROR\")))","v":""},{"$f":"IF('Data organoclorin'!R17=\"\",\"\",IF(ISNUMBER('Data organoclorin'!R17)=TRUE, IF('Data organoclorin'!R17<'Data organoclorin'!R$38, \"ERROR\", 'Data organoclorin'!R17), IF('Data organoclorin'!R17=\"<LOD\",'Data organoclorin'!R$38, \"ERROR\")))","v":""}]
[null,null,null,null,null,null,null,{"$f":"IF('Data organoclorin'!H18=\"\",\"\",'Data organoclorin'!H18)","v":""},{"$f":"IF('Data organoclorin'!I18=\"\",\"\",'Data organoclorin'!I18)","v":""},{"$f":"IFERROR(IF(K18=\"\",\"\",(IF(VLOOKUP(K18,'Gwybodaeth ymgeiswyr'!$K$8:$L$37,2,0)=\"y\",\"y\",\"\"))),\"Manual entry required\")","v":""},{"$f":"IF('Data organoclorin'!J18=\"\",\"\",'Data organoclorin'!J18)","v":""},{"$f":"IF('Data organoclorin'!K18=\"\",\"\",IF(ISNUMBER('Data organoclorin'!K18)=TRUE, IF('Data organoclorin'!K18<'Data organoclorin'!K$38, \"ERROR\", 'Data organoclorin'!K18), IF('Data organoclorin'!K18=\"<LOD\",'Data organoclorin'!K$38, \"ERROR\")))","v":""},{"$f":"IF('Data organoclorin'!L18=\"\",\"\",IF(ISNUMBER('Data organoclorin'!L18)=TRUE, IF('Data organoclorin'!L18<'Data organoclorin'!L$38, \"ERROR\", 'Data organoclorin'!L18), IF('Data organoclorin'!L18=\"<LOD\",'Data organoclorin'!L$38, \"ERROR\")))","v":""},{"$f":"IF('Data organoclorin'!M18=\"\",\"\",IF(ISNUMBER('Data organoclorin'!M18)=TRUE, IF('Data organoclorin'!M18<'Data organoclorin'!M$38, \"ERROR\", 'Data organoclorin'!M18), IF('Data organoclorin'!M18=\"<LOD\",'Data organoclorin'!M$38, \"ERROR\")))","v":""},{"$f":"IF('Data organoclorin'!N18=\"\",\"\",IF(ISNUMBER('Data organoclorin'!N18)=TRUE, IF('Data organoclorin'!N18<'Data organoclorin'!N$38, \"ERROR\", 'Data organoclorin'!N18), IF('Data organoclorin'!N18=\"<LOD\",'Data organoclorin'!N$38, \"ERROR\")))","v":""},{"$f":"IF('Data organoclorin'!O18=\"\",\"\",IF(ISNUMBER('Data organoclorin'!O18)=TRUE, IF('Data organoclorin'!O18<'Data organoclorin'!O$38, \"ERROR\", 'Data organoclorin'!O18), IF('Data organoclorin'!O18=\"<LOD\",'Data organoclorin'!O$38, \"ERROR\")))","v":""},{"$f":"IF('Data organoclorin'!P18=\"\",\"\",IF(ISNUMBER('Data organoclorin'!P18)=TRUE, IF('Data organoclorin'!P18<'Data organoclorin'!P$38, \"ERROR\", 'Data organoclorin'!P18), IF('Data organoclorin'!P18=\"<LOD\",'Data organoclorin'!P$38, \"ERROR\")))","v":""},{"$f":"IF('Data organoclorin'!Q18=\"\",\"\",IF(ISNUMBER('Data organoclorin'!Q18)=TRUE, IF('Data organoclorin'!Q18<'Data organoclorin'!Q$38, \"ERROR\", 'Data organoclorin'!Q18), IF('Data organoclorin'!Q18=\"<LOD\",'Data organoclorin'!Q$38, \"ERROR\")))","v":""},{"$f":"IF('Data organoclorin'!R18=\"\",\"\",IF(ISNUMBER('Data organoclorin'!R18)=TRUE, IF('Data organoclorin'!R18<'Data organoclorin'!R$38, \"ERROR\", 'Data organoclorin'!R18), IF('Data organoclorin'!R18=\"<LOD\",'Data organoclorin'!R$38, \"ERROR\")))","v":""}]
[null,null,null,null,null,null,null,{"$f":"IF('Data organoclorin'!H19=\"\",\"\",'Data organoclorin'!H19)","v":""},{"$f":"IF('Data organoclorin'!I19=\"\",\"\",'Data organoclorin'!I19)","v":""},{"$f":"IFERROR(IF(K19=\"\",\"\",(IF(VLOOKUP(K19,'Gwybodaeth ymgeiswyr'!$K$8:$L$37,2,0)=\"y\",\"y\",\"\"))),\"Manual entry required\")","v":""},{"$f":"IF('Data organoclorin'!J19=\"\",\"\",'Data organoclorin'!J19)","v":""},{"$f":"IF('Data organoclorin'!K19=\"\",\"\",IF(ISNUMBER('Data organoclorin'!K19)=TRUE, IF('Data organoclorin'!K19<'Data organoclorin'!K$38, \"ERROR\", 'Data organoclorin'!K19), IF('Data organoclorin'!K19=\"<LOD\",'Data organoclorin'!K$38, \"ERROR\")))","v":""},{"$f":"IF('Data organoclorin'!L19=\"\",\"\",IF(ISNUMBER('Data organoclorin'!L19)=TRUE, IF('Data organoclorin'!L19<'Data organoclorin'!L$38, \"ERROR\", 'Data organoclorin'!L19), IF('Data organoclorin'!L19=\"<LOD\",'Data organoclorin'!L$38, \"ERROR\")))","v":""},{"$f":"IF('Data organoclorin'!M19=\"\",\"\",IF(ISNUMBER('Data organoclorin'!M19)=TRUE, IF('Data organoclorin'!M19<'Data organoclorin'!M$38, \"ERROR\", 'Data organoclorin'!M19), IF('Data organoclorin'!M19=\"<LOD\",'Data organoclorin'!M$38, \"ERROR\")))","v":""},{"$f":"IF('Data organoclorin'!N19=\"\",\"\",IF(ISNUMBER('Data organoclorin'!N19)=TRUE, IF('Data organoclorin'!N19<'Data organoclorin'!N$38, \"ERROR\", 'Data organoclorin'!N19), IF('Data organoclorin'!N19=\"<LOD\",'Data organoclorin'!N$38, \"ERROR\")))","v":""},{"$f":"IF('Data organoclorin'!O19=\"\",\"\",IF(ISNUMBER('Data organoclorin'!O19)=TRUE, IF('Data organoclorin'!O19<'Data organoclorin'!O$38, \"ERROR\", 'Data organoclorin'!O19), IF('Data organoclorin'!O19=\"<LOD\",'Data organoclorin'!O$38, \"ERROR\")))","v":""},{"$f":"IF('Data organoclorin'!P19=\"\",\"\",IF(ISNUMBER('Data organoclorin'!P19)=TRUE, IF('Data organoclorin'!P19<'Data organoclorin'!P$38, \"ERROR\", 'Data organoclorin'!P19), IF('Data organoclorin'!P19=\"<LOD\",'Data organoclorin'!P$38, \"ERROR\")))","v":""},{"$f":"IF('Data organoclorin'!Q19=\"\",\"\",IF(ISNUMBER('Data organoclorin'!Q19)=TRUE, IF('Data organoclorin'!Q19<'Data organoclorin'!Q$38, \"ERROR\", 'Data organoclorin'!Q19), IF('Data organoclorin'!Q19=\"<LOD\",'Data organoclorin'!Q$38, \"ERROR\")))","v":""},{"$f":"IF('Data organoclorin'!R19=\"\",\"\",IF(ISNUMBER('Data organoclorin'!R19)=TRUE, IF('Data organoclorin'!R19<'Data organoclorin'!R$38, \"ERROR\", 'Data organoclorin'!R19), IF('Data organoclorin'!R19=\"<LOD\",'Data organoclorin'!R$38, \"ERROR\")))","v":""}]
[null,null,null,null,null,null,null,{"$f":"IF('Data organoclorin'!H20=\"\",\"\",'Data organoclorin'!H20)","v":""},{"$f":"IF('Data organoclorin'!I20=\"\",\"\",'Data organoclorin'!I20)","v":""},{"$f":"IFERROR(IF(K20=\"\",\"\",(IF(VLOOKUP(K20,'Gwybodaeth ymgeiswyr'!$K$8:$L$37,2,0)=\"y\",\"y\",\"\"))),\"Manual entry required\")","v":""},{"$f":"IF('Data organoclorin'!J20=\"\",\"\",'Data organoclorin'!J20)","v":""},{"$f":"IF('Data organoclorin'!K20=\"\",\"\",IF(ISNUMBER('Data organoclorin'!K20)=TRUE, IF('Data organoclorin'!K20<'Data organoclorin'!K$38, \"ERROR\", 'Data organoclorin'!K20), IF('Data organoclorin'!K20=\"<LOD\",'Data organoclorin'!K$38, \"ERROR\")))","v":""},{"$f":"IF('Data organoclorin'!L20=\"\",\"\",IF(ISNUMBER('Data organoclorin'!L20)=TRUE, IF('Data organoclorin'!L20<'Data organoclorin'!L$38, \"ERROR\", 'Data organoclorin'!L20), IF('Data organoclorin'!L20=\"<LOD\",'Data organoclorin'!L$38, \"ERROR\")))","v":""},{"$f":"IF('Data organoclorin'!M20=\"\",\"\",IF(ISNUMBER('Data organoclorin'!M20)=TRUE, IF('Data organoclorin'!M20<'Data organoclorin'!M$38, \"ERROR\", 'Data organoclorin'!M20), IF('Data organoclorin'!M20=\"<LOD\",'Data organoclorin'!M$38, \"ERROR\")))","v":""},{"$f":"IF('Data organoclorin'!N20=\"\",\"\",IF(ISNUMBER('Data organoclorin'!N20)=TRUE, IF('Data organoclorin'!N20<'Data organoclorin'!N$38, \"ERROR\", 'Data organoclorin'!N20), IF('Data organoclorin'!N20=\"<LOD\",'Data organoclorin'!N$38, \"ERROR\")))","v":""},{"$f":"IF('Data organoclorin'!O20=\"\",\"\",IF(ISNUMBER('Data organoclorin'!O20)=TRUE, IF('Data organoclorin'!O20<'Data organoclorin'!O$38, \"ERROR\", 'Data organoclorin'!O20), IF('Data organoclorin'!O20=\"<LOD\",'Data organoclorin'!O$38, \"ERROR\")))","v":""},{"$f":"IF('Data organoclorin'!P20=\"\",\"\",IF(ISNUMBER('Data organoclorin'!P20)=TRUE, IF('Data organoclorin'!P20<'Data organoclorin'!P$38, \"ERROR\", 'Data organoclorin'!P20), IF('Data organoclorin'!P20=\"<LOD\",'Data organoclorin'!P$38, \"ERROR\")))","v":""},{"$f":"IF('Data organoclorin'!Q20=\"\",\"\",IF(ISNUMBER('Data organoclorin'!Q20)=TRUE, IF('Data organoclorin'!Q20<'Data organoclorin'!Q$38, \"ERROR\", 'Data organoclorin'!Q20), IF('Data organoclorin'!Q20=\"<LOD\",'Data organoclorin'!Q$38, \"ERROR\")))","v":""},{"$f":"IF('Data organoclorin'!R20=\"\",\"\",IF(ISNUMBER('Data organoclorin'!R20)=TRUE, IF('Data organoclorin'!R20<'Data organoclorin'!R$38, \"ERROR\", 'Data organoclorin'!R20), IF('Data organoclorin'!R20=\"<LOD\",'Data organoclorin'!R$38, \"ERROR\")))","v":""}]
[null,null,null,null,null,null,null,{"$f":"IF('Data organoclorin'!H21=\"\",\"\",'Data organoclorin'!H21)","v":""},{"$f":"IF('Data organoclorin'!I21=\"\",\"\",'Data organoclorin'!I21)","v":""},{"$f":"IFERROR(IF(K21=\"\",\"\",(IF(VLOOKUP(K21,'Gwybodaeth ymgeiswyr'!$K$8:$L$37,2,0)=\"y\",\"y\",\"\"))),\"Manual entry required\")","v":""},{"$f":"IF('Data organoclorin'!J21=\"\",\"\",'Data organoclorin'!J21)","v":""},{"$f":"IF('Data organoclorin'!K21=\"\",\"\",IF(ISNUMBER('Data organoclorin'!K21)=TRUE, IF('Data organoclorin'!K21<'Data organoclorin'!K$38, \"ERROR\", 'Data organoclorin'!K21), IF('Data organoclorin'!K21=\"<LOD\",'Data organoclorin'!K$38, \"ERROR\")))","v":""},{"$f":"IF('Data organoclorin'!L21=\"\",\"\",IF(ISNUMBER('Data organoclorin'!L21)=TRUE, IF('Data organoclorin'!L21<'Data organoclorin'!L$38, \"ERROR\", 'Data organoclorin'!L21), IF('Data organoclorin'!L21=\"<LOD\",'Data organoclorin'!L$38, \"ERROR\")))","v":""},{"$f":"IF('Data organoclorin'!M21=\"\",\"\",IF(ISNUMBER('Data organoclorin'!M21)=TRUE, IF('Data organoclorin'!M21<'Data organoclorin'!M$38, \"ERROR\", 'Data organoclorin'!M21), IF('Data organoclorin'!M21=\"<LOD\",'Data organoclorin'!M$38, \"ERROR\")))","v":""},{"$f":"IF('Data organoclorin'!N21=\"\",\"\",IF(ISNUMBER('Data organoclorin'!N21)=TRUE, IF('Data organoclorin'!N21<'Data organoclorin'!N$38, \"ERROR\", 'Data organoclorin'!N21), IF('Data organoclorin'!N21=\"<LOD\",'Data organoclorin'!N$38, \"ERROR\")))","v":""},{"$f":"IF('Data organoclorin'!O21=\"\",\"\",IF(ISNUMBER('Data organoclorin'!O21)=TRUE, IF('Data organoclorin'!O21<'Data organoclorin'!O$38, \"ERROR\", 'Data organoclorin'!O21), IF('Data organoclorin'!O21=\"<LOD\",'Data organoclorin'!O$38, \"ERROR\")))","v":""},{"$f":"IF('Data organoclorin'!P21=\"\",\"\",IF(ISNUMBER('Data organoclorin'!P21)=TRUE, IF('Data organoclorin'!P21<'Data organoclorin'!P$38, \"ERROR\", 'Data organoclorin'!P21), IF('Data organoclorin'!P21=\"<LOD\",'Data organoclorin'!P$38, \"ERROR\")))","v":""},{"$f":"IF('Data organoclorin'!Q21=\"\",\"\",IF(ISNUMBER('Data organoclorin'!Q21)=TRUE, IF('Data organoclorin'!Q21<'Data organoclorin'!Q$38, \"ERROR\", 'Data organoclorin'!Q21), IF('Data organoclorin'!Q21=\"<LOD\",'Data organoclorin'!Q$38, \"ERROR\")))","v":""},{"$f":"IF('Data organoclorin'!R21=\"\",\"\",IF(ISNUMBER('Data organoclorin'!R21)=TRUE, IF('Data organoclorin'!R21<'Data organoclorin'!R$38, \"ERROR\", 'Data organoclorin'!R21), IF('Data organoclorin'!R21=\"<LOD\",'Data organoclorin'!R$38, \"ERROR\")))","v":""}]
[null,null,null,null,null,null,null,{"$f":"IF('Data organoclorin'!H22=\"\",\"\",'Data organoclorin'!H22)","v":""},{"$f":"IF('Data organoclorin'!I22=\"\",\"\",'Data organoclorin'!I22)","v":""},{"$f":"IFERROR(IF(K22=\"\",\"\",(IF(VLOOKUP(K22,'Gwybodaeth ymgeiswyr'!$K$8:$L$37,2,0)=\"y\",\"y\",\"\"))),\"Manual entry required\")","v":""},{"$f":"IF('Data organoclorin'!J22=\"\",\"\",'Data organoclorin'!J22)","v":""},{"$f":"IF('Data organoclorin'!K22=\"\",\"\",IF(ISNUMBER('Data organoclorin'!K22)=TRUE, IF('Data organoclorin'!K22<'Data organoclorin'!K$38, \"ERROR\", 'Data organoclorin'!K22), IF('Data organoclorin'!K22=\"<LOD\",'Data organoclorin'!K$38, \"ERROR\")))","v":""},{"$f":"IF('Data organoclorin'!L22=\"\",\"\",IF(ISNUMBER('Data organoclorin'!L22)=TRUE, IF('Data organoclorin'!L22<'Data organoclorin'!L$38, \"ERROR\", 'Data organoclorin'!L22), IF('Data organoclorin'!L22=\"<LOD\",'Data organoclorin'!L$38, \"ERROR\")))","v":""},{"$f":"IF('Data organoclorin'!M22=\"\",\"\",IF(ISNUMBER('Data organoclorin'!M22)=TRUE, IF('Data organoclorin'!M22<'Data organoclorin'!M$38, \"ERROR\", 'Data organoclorin'!M22), IF('Data organoclorin'!M22=\"<LOD\",'Data organoclorin'!M$38, \"ERROR\")))","v":""},{"$f":"IF('Data organoclorin'!N22=\"\",\"\",IF(ISNUMBER('Data organoclorin'!N22)=TRUE, IF('Data organoclorin'!N22<'Data organoclorin'!N$38, \"ERROR\", 'Data organoclorin'!N22), IF('Data organoclorin'!N22=\"<LOD\",'Data organoclorin'!N$38, \"ERROR\")))","v":""},{"$f":"IF('Data organoclorin'!O22=\"\",\"\",IF(ISNUMBER('Data organoclorin'!O22)=TRUE, IF('Data organoclorin'!O22<'Data organoclorin'!O$38, \"ERROR\", 'Data organoclorin'!O22), IF('Data organoclorin'!O22=\"<LOD\",'Data organoclorin'!O$38, \"ERROR\")))","v":""},{"$f":"IF('Data organoclorin'!P22=\"\",\"\",IF(ISNUMBER('Data organoclorin'!P22)=TRUE, IF('Data organoclorin'!P22<'Data organoclorin'!P$38, \"ERROR\", 'Data organoclorin'!P22), IF('Data organoclorin'!P22=\"<LOD\",'Data organoclorin'!P$38, \"ERROR\")))","v":""},{"$f":"IF('Data organoclorin'!Q22=\"\",\"\",IF(ISNUMBER('Data organoclorin'!Q22)=TRUE, IF('Data organoclorin'!Q22<'Data organoclorin'!Q$38, \"ERROR\", 'Data organoclorin'!Q22), IF('Data organoclorin'!Q22=\"<LOD\",'Data organoclorin'!Q$38, \"ERROR\")))","v":""},{"$f":"IF('Data organoclorin'!R22=\"\",\"\",IF(ISNUMBER('Data organoclorin'!R22)=TRUE, IF('Data organoclorin'!R22<'Data organoclorin'!R$38, \"ERROR\", 'Data organoclorin'!R22), IF('Data organoclorin'!R22=\"<LOD\",'Data organoclorin'!R$38, \"ERROR\")))","v":""}]
[null,null,null,null,null,null,null,{"$f":"IF('Data organoclorin'!H23=\"\",\"\",'Data organoclorin'!H23)","v":""},{"$f":"IF('Data organoclorin'!I23=\"\",\"\",'Data organoclorin'!I23)","v":""},{"$f":"IFERROR(IF(K23=\"\",\"\",(IF(VLOOKUP(K23,'Gwybodaeth ymgeiswyr'!$K$8:$L$37,2,0)=\"y\",\"y\",\"\"))),\"Manual entry required\")","v":""},{"$f":"IF('Data organoclorin'!J23=\"\",\"\",'Data organoclorin'!J23)","v":""},{"$f":"IF('Data organoclorin'!K23=\"\",\"\",IF(ISNUMBER('Data organoclorin'!K23)=TRUE, IF('Data organoclorin'!K23<'Data organoclorin'!K$38, \"ERROR\", 'Data organoclorin'!K23), IF('Data organoclorin'!K23=\"<LOD\",'Data organoclorin'!K$38, \"ERROR\")))","v":""},{"$f":"IF('Data organoclorin'!L23=\"\",\"\",IF(ISNUMBER('Data organoclorin'!L23)=TRUE, IF('Data organoclorin'!L23<'Data organoclorin'!L$38, \"ERROR\", 'Data organoclorin'!L23), IF('Data organoclorin'!L23=\"<LOD\",'Data organoclorin'!L$38, \"ERROR\")))","v":""},{"$f":"IF('Data organoclorin'!M23=\"\",\"\",IF(ISNUMBER('Data organoclorin'!M23)=TRUE, IF('Data organoclorin'!M23<'Data organoclorin'!M$38, \"ERROR\", 'Data organoclorin'!M23), IF('Data organoclorin'!M23=\"<LOD\",'Data organoclorin'!M$38, \"ERROR\")))","v":""},{"$f":"IF('Data organoclorin'!N23=\"\",\"\",IF(ISNUMBER('Data organoclorin'!N23)=TRUE, IF('Data organoclorin'!N23<'Data organoclorin'!N$38, \"ERROR\", 'Data organoclorin'!N23), IF('Data organoclorin'!N23=\"<LOD\",'Data organoclorin'!N$38, \"ERROR\")))","v":""},{"$f":"IF('Data organoclorin'!O23=\"\",\"\",IF(ISNUMBER('Data organoclorin'!O23)=TRUE, IF('Data organoclorin'!O23<'Data organoclorin'!O$38, \"ERROR\", 'Data organoclorin'!O23), IF('Data organoclorin'!O23=\"<LOD\",'Data organoclorin'!O$38, \"ERROR\")))","v":""},{"$f":"IF('Data organoclorin'!P23=\"\",\"\",IF(ISNUMBER('Data organoclorin'!P23)=TRUE, IF('Data organoclorin'!P23<'Data organoclorin'!P$38, \"ERROR\", 'Data organoclorin'!P23), IF('Data organoclorin'!P23=\"<LOD\",'Data organoclorin'!P$38, \"ERROR\")))","v":""},{"$f":"IF('Data organoclorin'!Q23=\"\",\"\",IF(ISNUMBER('Data organoclorin'!Q23)=TRUE, IF('Data organoclorin'!Q23<'Data organoclorin'!Q$38, \"ERROR\", 'Data organoclorin'!Q23), IF('Data organoclorin'!Q23=\"<LOD\",'Data organoclorin'!Q$38, \"ERROR\")))","v":""},{"$f":"IF('Data organoclorin'!R23=\"\",\"\",IF(ISNUMBER('Data organoclorin'!R23)=TRUE, IF('Data organoclorin'!R23<'Data organoclorin'!R$38, \"ERROR\", 'Data organoclorin'!R23), IF('Data organoclorin'!R23=\"<LOD\",'Data organoclorin'!R$38, \"ERROR\")))","v":""}]
[null,null,null,null,null,null,null,{"$f":"IF('Data organoclorin'!H24=\"\",\"\",'Data organoclorin'!H24)","v":""},{"$f":"IF('Data organoclorin'!I24=\"\",\"\",'Data organoclorin'!I24)","v":""},{"$f":"IFERROR(IF(K24=\"\",\"\",(IF(VLOOKUP(K24,'Gwybodaeth ymgeiswyr'!$K$8:$L$37,2,0)=\"y\",\"y\",\"\"))),\"Manual entry required\")","v":""},{"$f":"IF('Data organoclorin'!J24=\"\",\"\",'Data organoclorin'!J24)","v":""},{"$f":"IF('Data organoclorin'!K24=\"\",\"\",IF(ISNUMBER('Data organoclorin'!K24)=TRUE, IF('Data organoclorin'!K24<'Data organoclorin'!K$38, \"ERROR\", 'Data organoclorin'!K24), IF('Data organoclorin'!K24=\"<LOD\",'Data organoclorin'!K$38, \"ERROR\")))","v":""},{"$f":"IF('Data organoclorin'!L24=\"\",\"\",IF(ISNUMBER('Data organoclorin'!L24)=TRUE, IF('Data organoclorin'!L24<'Data organoclorin'!L$38, \"ERROR\", 'Data organoclorin'!L24), IF('Data organoclorin'!L24=\"<LOD\",'Data organoclorin'!L$38, \"ERROR\")))","v":""},{"$f":"IF('Data organoclorin'!M24=\"\",\"\",IF(ISNUMBER('Data organoclorin'!M24)=TRUE, IF('Data organoclorin'!M24<'Data organoclorin'!M$38, \"ERROR\", 'Data organoclorin'!M24), IF('Data organoclorin'!M24=\"<LOD\",'Data organoclorin'!M$38, \"ERROR\")))","v":""},{"$f":"IF('Data organoclorin'!N24=\"\",\"\",IF(ISNUMBER('Data organoclorin'!N24)=TRUE, IF('Data organoclorin'!N24<'Data organoclorin'!N$38, \"ERROR\", 'Data organoclorin'!N24), IF('Data organoclorin'!N24=\"<LOD\",'Data organoclorin'!N$38, \"ERROR\")))","v":""},{"$f":"IF('Data organoclorin'!O24=\"\",\"\",IF(ISNUMBER('Data organoclorin'!O24)=TRUE, IF('Data organoclorin'!O24<'Data organoclorin'!O$38, \"ERROR\", 'Data organoclorin'!O24), IF('Data organoclorin'!O24=\"<LOD\",'Data organoclorin'!O$38, \"ERROR\")))","v":""},{"$f":"IF('Data organoclorin'!P24=\"\",\"\",IF(ISNUMBER('Data organoclorin'!P24)=TRUE, IF('Data organoclorin'!P24<'Data organoclorin'!P$38, \"ERROR\", 'Data organoclorin'!P24), IF('Data organoclorin'!P24=\"<LOD\",'Data organoclorin'!P$38, \"ERROR\")))","v":""},{"$f":"IF('Data organoclorin'!Q24=\"\",\"\",IF(ISNUMBER('Data organoclorin'!Q24)=TRUE, IF('Data organoclorin'!Q24<'Data organoclorin'!Q$38, \"ERROR\", 'Data organoclorin'!Q24), IF('Data organoclorin'!Q24=\"<LOD\",'Data organoclorin'!Q$38, \"ERROR\")))","v":""},{"$f":"IF('Data organoclorin'!R24=\"\",\"\",IF(ISNUMBER('Data organoclorin'!R24)=TRUE, IF('Data organoclorin'!R24<'Data organoclorin'!R$38, \"ERROR\", 'Data organoclorin'!R24), IF('Data organoclorin'!R24=\"<LOD\",'Data organoclorin'!R$38, \"ERROR\")))","v":""}]
[null,null,null,null,null,null,null,{"$f":"IF('Data organoclorin'!H25=\"\",\"\",'Data organoclorin'!H25)","v":""},{"$f":"IF('Data organoclorin'!I25=\"\",\"\",'Data organoclorin'!I25)","v":""},{"$f":"IFERROR(IF(K25=\"\",\"\",(IF(VLOOKUP(K25,'Gwybodaeth ymgeiswyr'!$K$8:$L$37,2,0)=\"y\",\"y\",\"\"))),\"Manual entry required\")","v":""},{"$f":"IF('Data organoclorin'!J25=\"\",\"\",'Data organoclorin'!J25)","v":""},{"$f":"IF('Data organoclorin'!K25=\"\",\"\",IF(ISNUMBER('Data organoclorin'!K25)=TRUE, IF('Data organoclorin'!K25<'Data organoclorin'!K$38, \"ERROR\", 'Data organoclorin'!K25), IF('Data organoclorin'!K25=\"<LOD\",'Data organoclorin'!K$38, \"ERROR\")))","v":""},{"$f":"IF('Data organoclorin'!L25=\"\",\"\",IF(ISNUMBER('Data organoclorin'!L25)=TRUE, IF('Data organoclorin'!L25<'Data organoclorin'!L$38, \"ERROR\", 'Data organoclorin'!L25), IF('Data organoclorin'!L25=\"<LOD\",'Data organoclorin'!L$38, \"ERROR\")))","v":""},{"$f":"IF('Data organoclorin'!M25=\"\",\"\",IF(ISNUMBER('Data organoclorin'!M25)=TRUE, IF('Data organoclorin'!M25<'Data organoclorin'!M$38, \"ERROR\", 'Data organoclorin'!M25), IF('Data organoclorin'!M25=\"<LOD\",'Data organoclorin'!M$38, \"ERROR\")))","v":""},{"$f":"IF('Data organoclorin'!N25=\"\",\"\",IF(ISNUMBER('Data organoclorin'!N25)=TRUE, IF('Data organoclorin'!N25<'Data organoclorin'!N$38, \"ERROR\", 'Data organoclorin'!N25), IF('Data organoclorin'!N25=\"<LOD\",'Data organoclorin'!N$38, \"ERROR\")))","v":""},{"$f":"IF('Data organoclorin'!O25=\"\",\"\",IF(ISNUMBER('Data organoclorin'!O25)=TRUE, IF('Data organoclorin'!O25<'Data organoclorin'!O$38, \"ERROR\", 'Data organoclorin'!O25), IF('Data organoclorin'!O25=\"<LOD\",'Data organoclorin'!O$38, \"ERROR\")))","v":""},{"$f":"IF('Data organoclorin'!P25=\"\",\"\",IF(ISNUMBER('Data organoclorin'!P25)=TRUE, IF('Data organoclorin'!P25<'Data organoclorin'!P$38, \"ERROR\", 'Data organoclorin'!P25), IF('Data organoclorin'!P25=\"<LOD\",'Data organoclorin'!P$38, \"ERROR\")))","v":""},{"$f":"IF('Data organoclorin'!Q25=\"\",\"\",IF(ISNUMBER('Data organoclorin'!Q25)=TRUE, IF('Data organoclorin'!Q25<'Data organoclorin'!Q$38, \"ERROR\", 'Data organoclorin'!Q25), IF('Data organoclorin'!Q25=\"<LOD\",'Data organoclorin'!Q$38, \"ERROR\")))","v":""},{"$f":"IF('Data organoclorin'!R25=\"\",\"\",IF(ISNUMBER('Data organoclorin'!R25)=TRUE, IF('Data organoclorin'!R25<'Data organoclorin'!R$38, \"ERROR\", 'Data organoclorin'!R25), IF('Data organoclorin'!R25=\"<LOD\",'Data organoclorin'!R$38, \"ERROR\")))","v":""}]
[null,null,null,null,null,null,null,{"$f":"IF('Data organoclorin'!H26=\"\",\"\",'Data organoclorin'!H26)","v":""},{"$f":"IF('Data organoclorin'!I26=\"\",\"\",'Data organoclorin'!I26)","v":""},{"$f":"IFERROR(IF(K26=\"\",\"\",(IF(VLOOKUP(K26,'Gwybodaeth ymgeiswyr'!$K$8:$L$37,2,0)=\"y\",\"y\",\"\"))),\"Manual entry required\")","v":""},{"$f":"IF('Data organoclorin'!J26=\"\",\"\",'Data organoclorin'!J26)","v":""},{"$f":"IF('Data organoclorin'!K26=\"\",\"\",IF(ISNUMBER('Data organoclorin'!K26)=TRUE, IF('Data organoclorin'!K26<'Data organoclorin'!K$38, \"ERROR\", 'Data organoclorin'!K26), IF('Data organoclorin'!K26=\"<LOD\",'Data organoclorin'!K$38, \"ERROR\")))","v":""},{"$f":"IF('Data organoclorin'!L26=\"\",\"\",IF(ISNUMBER('Data organoclorin'!L26)=TRUE, IF('Data organoclorin'!L26<'Data organoclorin'!L$38, \"ERROR\", 'Data organoclorin'!L26), IF('Data organoclorin'!L26=\"<LOD\",'Data organoclorin'!L$38, \"ERROR\")))","v":""},{"$f":"IF('Data organoclorin'!M26=\"\",\"\",IF(ISNUMBER('Data organoclorin'!M26)=TRUE, IF('Data organoclorin'!M26<'Data organoclorin'!M$38, \"ERROR\", 'Data organoclorin'!M26), IF('Data organoclorin'!M26=\"<LOD\",'Data organoclorin'!M$38, \"ERROR\")))","v":""},{"$f":"IF('Data organoclorin'!N26=\"\",\"\",IF(ISNUMBER('Data organoclorin'!N26)=TRUE, IF('Data organoclorin'!N26<'Data organoclorin'!N$38, \"ERROR\", 'Data organoclorin'!N26), IF('Data organoclorin'!N26=\"<LOD\",'Data organoclorin'!N$38, \"ERROR\")))","v":""},{"$f":"IF('Data organoclorin'!O26=\"\",\"\",IF(ISNUMBER('Data organoclorin'!O26)=TRUE, IF('Data organoclorin'!O26<'Data organoclorin'!O$38, \"ERROR\", 'Data organoclorin'!O26), IF('Data organoclorin'!O26=\"<LOD\",'Data organoclorin'!O$38, \"ERROR\")))","v":""},{"$f":"IF('Data organoclorin'!P26=\"\",\"\",IF(ISNUMBER('Data organoclorin'!P26)=TRUE, IF('Data organoclorin'!P26<'Data organoclorin'!P$38, \"ERROR\", 'Data organoclorin'!P26), IF('Data organoclorin'!P26=\"<LOD\",'Data organoclorin'!P$38, \"ERROR\")))","v":""},{"$f":"IF('Data organoclorin'!Q26=\"\",\"\",IF(ISNUMBER('Data organoclorin'!Q26)=TRUE, IF('Data organoclorin'!Q26<'Data organoclorin'!Q$38, \"ERROR\", 'Data organoclorin'!Q26), IF('Data organoclorin'!Q26=\"<LOD\",'Data organoclorin'!Q$38, \"ERROR\")))","v":""},{"$f":"IF('Data organoclorin'!R26=\"\",\"\",IF(ISNUMBER('Data organoclorin'!R26)=TRUE, IF('Data organoclorin'!R26<'Data organoclorin'!R$38, \"ERROR\", 'Data organoclorin'!R26), IF('Data organoclorin'!R26=\"<LOD\",'Data organoclorin'!R$38, \"ERROR\")))","v":""}]
[null,null,null,null,null,null,null,{"$f":"IF('Data organoclorin'!H27=\"\",\"\",'Data organoclorin'!H27)","v":""},{"$f":"IF('Data organoclorin'!I27=\"\",\"\",'Data organoclorin'!I27)","v":""},{"$f":"IFERROR(IF(K27=\"\",\"\",(IF(VLOOKUP(K27,'Gwybodaeth ymgeiswyr'!$K$8:$L$37,2,0)=\"y\",\"y\",\"\"))),\"Manual entry required\")","v":""},{"$f":"IF('Data organoclorin'!J27=\"\",\"\",'Data organoclorin'!J27)","v":""},{"$f":"IF('Data organoclorin'!K27=\"\",\"\",IF(ISNUMBER('Data organoclorin'!K27)=TRUE, IF('Data organoclorin'!K27<'Data organoclorin'!K$38, \"ERROR\", 'Data organoclorin'!K27), IF('Data organoclorin'!K27=\"<LOD\",'Data organoclorin'!K$38, \"ERROR\")))","v":""},{"$f":"IF('Data organoclorin'!L27=\"\",\"\",IF(ISNUMBER('Data organoclorin'!L27)=TRUE, IF('Data organoclorin'!L27<'Data organoclorin'!L$38, \"ERROR\", 'Data organoclorin'!L27), IF('Data organoclorin'!L27=\"<LOD\",'Data organoclorin'!L$38, \"ERROR\")))","v":""},{"$f":"IF('Data organoclorin'!M27=\"\",\"\",IF(ISNUMBER('Data organoclorin'!M27)=TRUE, IF('Data organoclorin'!M27<'Data organoclorin'!M$38, \"ERROR\", 'Data organoclorin'!M27), IF('Data organoclorin'!M27=\"<LOD\",'Data organoclorin'!M$38, \"ERROR\")))","v":""},{"$f":"IF('Data organoclorin'!N27=\"\",\"\",IF(ISNUMBER('Data organoclorin'!N27)=TRUE, IF('Data organoclorin'!N27<'Data organoclorin'!N$38, \"ERROR\", 'Data organoclorin'!N27), IF('Data organoclorin'!N27=\"<LOD\",'Data organoclorin'!N$38, \"ERROR\")))","v":""},{"$f":"IF('Data organoclorin'!O27=\"\",\"\",IF(ISNUMBER('Data organoclorin'!O27)=TRUE, IF('Data organoclorin'!O27<'Data organoclorin'!O$38, \"ERROR\", 'Data organoclorin'!O27), IF('Data organoclorin'!O27=\"<LOD\",'Data organoclorin'!O$38, \"ERROR\")))","v":""},{"$f":"IF('Data organoclorin'!P27=\"\",\"\",IF(ISNUMBER('Data organoclorin'!P27)=TRUE, IF('Data organoclorin'!P27<'Data organoclorin'!P$38, \"ERROR\", 'Data organoclorin'!P27), IF('Data organoclorin'!P27=\"<LOD\",'Data organoclorin'!P$38, \"ERROR\")))","v":""},{"$f":"IF('Data organoclorin'!Q27=\"\",\"\",IF(ISNUMBER('Data organoclorin'!Q27)=TRUE, IF('Data organoclorin'!Q27<'Data organoclorin'!Q$38, \"ERROR\", 'Data organoclorin'!Q27), IF('Data organoclorin'!Q27=\"<LOD\",'Data organoclorin'!Q$38, \"ERROR\")))","v":""},{"$f":"IF('Data organoclorin'!R27=\"\",\"\",IF(ISNUMBER('Data organoclorin'!R27)=TRUE, IF('Data organoclorin'!R27<'Data organoclorin'!R$38, \"ERROR\", 'Data organoclorin'!R27), IF('Data organoclorin'!R27=\"<LOD\",'Data organoclorin'!R$38, \"ERROR\")))","v":""}]
[null,null,null,null,null,null,null,{"$f":"IF('Data organoclorin'!H28=\"\",\"\",'Data organoclorin'!H28)","v":""},{"$f":"IF('Data organoclorin'!I28=\"\",\"\",'Data organoclorin'!I28)","v":""},{"$f":"IFERROR(IF(K28=\"\",\"\",(IF(VLOOKUP(K28,'Gwybodaeth ymgeiswyr'!$K$8:$L$37,2,0)=\"y\",\"y\",\"\"))),\"Manual entry required\")","v":""},{"$f":"IF('Data organoclorin'!J28=\"\",\"\",'Data organoclorin'!J28)","v":""},{"$f":"IF('Data organoclorin'!K28=\"\",\"\",IF(ISNUMBER('Data organoclorin'!K28)=TRUE, IF('Data organoclorin'!K28<'Data organoclorin'!K$38, \"ERROR\", 'Data organoclorin'!K28), IF('Data organoclorin'!K28=\"<LOD\",'Data organoclorin'!K$38, \"ERROR\")))","v":""},{"$f":"IF('Data organoclorin'!L28=\"\",\"\",IF(ISNUMBER('Data organoclorin'!L28)=TRUE, IF('Data organoclorin'!L28<'Data organoclorin'!L$38, \"ERROR\", 'Data organoclorin'!L28), IF('Data organoclorin'!L28=\"<LOD\",'Data organoclorin'!L$38, \"ERROR\")))","v":""},{"$f":"IF('Data organoclorin'!M28=\"\",\"\",IF(ISNUMBER('Data organoclorin'!M28)=TRUE, IF('Data organoclorin'!M28<'Data organoclorin'!M$38, \"ERROR\", 'Data organoclorin'!M28), IF('Data organoclorin'!M28=\"<LOD\",'Data organoclorin'!M$38, \"ERROR\")))","v":""},{"$f":"IF('Data organoclorin'!N28=\"\",\"\",IF(ISNUMBER('Data organoclorin'!N28)=TRUE, IF('Data organoclorin'!N28<'Data organoclorin'!N$38, \"ERROR\", 'Data organoclorin'!N28), IF('Data organoclorin'!N28=\"<LOD\",'Data organoclorin'!N$38, \"ERROR\")))","v":""},{"$f":"IF('Data organoclorin'!O28=\"\",\"\",IF(ISNUMBER('Data organoclorin'!O28)=TRUE, IF('Data organoclorin'!O28<'Data organoclorin'!O$38, \"ERROR\", 'Data organoclorin'!O28), IF('Data organoclorin'!O28=\"<LOD\",'Data organoclorin'!O$38, \"ERROR\")))","v":""},{"$f":"IF('Data organoclorin'!P28=\"\",\"\",IF(ISNUMBER('Data organoclorin'!P28)=TRUE, IF('Data organoclorin'!P28<'Data organoclorin'!P$38, \"ERROR\", 'Data organoclorin'!P28), IF('Data organoclorin'!P28=\"<LOD\",'Data organoclorin'!P$38, \"ERROR\")))","v":""},{"$f":"IF('Data organoclorin'!Q28=\"\",\"\",IF(ISNUMBER('Data organoclorin'!Q28)=TRUE, IF('Data organoclorin'!Q28<'Data organoclorin'!Q$38, \"ERROR\", 'Data organoclorin'!Q28), IF('Data organoclorin'!Q28=\"<LOD\",'Data organoclorin'!Q$38, \"ERROR\")))","v":""},{"$f":"IF('Data organoclorin'!R28=\"\",\"\",IF(ISNUMBER('Data organoclorin'!R28)=TRUE, IF('Data organoclorin'!R28<'Data organoclorin'!R$38, \"ERROR\", 'Data organoclorin'!R28), IF('Data organoclorin'!R28=\"<LOD\",'Data organoclorin'!R$38, \"ERROR\")))","v":""}]
[null,null,null,null,null,null,null,{"$f":"IF('Data organoclorin'!H29=\"\",\"\",'Data organoclorin'!H29)","v":""},{"$f":"IF('Data organoclorin'!I29=\"\",\"\",'Data organoclorin'!I29)","v":""},{"$f":"IFERROR(IF(K29=\"\",\"\",(IF(VLOOKUP(K29,'Gwybodaeth ymgeiswyr'!$K$8:$L$37,2,0)=\"y\",\"y\",\"\"))),\"Manual entry required\")","v":""},{"$f":"IF('Data organoclorin'!J29=\"\",\"\",'Data organoclorin'!J29)","v":""},{"$f":"IF('Data organoclorin'!K29=\"\",\"\",IF(ISNUMBER('Data organoclorin'!K29)=TRUE, IF('Data organoclorin'!K29<'Data organoclorin'!K$38, \"ERROR\", 'Data organoclorin'!K29), IF('Data organoclorin'!K29=\"<LOD\",'Data organoclorin'!K$38, \"ERROR\")))","v":""},{"$f":"IF('Data organoclorin'!L29=\"\",\"\",IF(ISNUMBER('Data organoclorin'!L29)=TRUE, IF('Data organoclorin'!L29<'Data organoclorin'!L$38, \"ERROR\", 'Data organoclorin'!L29), IF('Data organoclorin'!L29=\"<LOD\",'Data organoclorin'!L$38, \"ERROR\")))","v":""},{"$f":"IF('Data organoclorin'!M29=\"\",\"\",IF(ISNUMBER('Data organoclorin'!M29)=TRUE, IF('Data organoclorin'!M29<'Data organoclorin'!M$38, \"ERROR\", 'Data organoclorin'!M29), IF('Data organoclorin'!M29=\"<LOD\",'Data organoclorin'!M$38, \"ERROR\")))","v":""},{"$f":"IF('Data organoclorin'!N29=\"\",\"\",IF(ISNUMBER('Data organoclorin'!N29)=TRUE, IF('Data organoclorin'!N29<'Data organoclorin'!N$38, \"ERROR\", 'Data organoclorin'!N29), IF('Data organoclorin'!N29=\"<LOD\",'Data organoclorin'!N$38, \"ERROR\")))","v":""},{"$f":"IF('Data organoclorin'!O29=\"\",\"\",IF(ISNUMBER('Data organoclorin'!O29)=TRUE, IF('Data organoclorin'!O29<'Data organoclorin'!O$38, \"ERROR\", 'Data organoclorin'!O29), IF('Data organoclorin'!O29=\"<LOD\",'Data organoclorin'!O$38, \"ERROR\")))","v":""},{"$f":"IF('Data organoclorin'!P29=\"\",\"\",IF(ISNUMBER('Data organoclorin'!P29)=TRUE, IF('Data organoclorin'!P29<'Data organoclorin'!P$38, \"ERROR\", 'Data organoclorin'!P29), IF('Data organoclorin'!P29=\"<LOD\",'Data organoclorin'!P$38, \"ERROR\")))","v":""},{"$f":"IF('Data organoclorin'!Q29=\"\",\"\",IF(ISNUMBER('Data organoclorin'!Q29)=TRUE, IF('Data organoclorin'!Q29<'Data organoclorin'!Q$38, \"ERROR\", 'Data organoclorin'!Q29), IF('Data organoclorin'!Q29=\"<LOD\",'Data organoclorin'!Q$38, \"ERROR\")))","v":""},{"$f":"IF('Data organoclorin'!R29=\"\",\"\",IF(ISNUMBER('Data organoclorin'!R29)=TRUE, IF('Data organoclorin'!R29<'Data organoclorin'!R$38, \"ERROR\", 'Data organoclorin'!R29), IF('Data organoclorin'!R29=\"<LOD\",'Data organoclorin'!R$38, \"ERROR\")))","v":""}]
[null,null,null,null,null,null,null,{"$f":"IF('Data organoclorin'!H30=\"\",\"\",'Data organoclorin'!H30)","v":""},{"$f":"IF('Data organoclorin'!I30=\"\",\"\",'Data organoclorin'!I30)","v":""},{"$f":"IFERROR(IF(K30=\"\",\"\",(IF(VLOOKUP(K30,'Gwybodaeth ymgeiswyr'!$K$8:$L$37,2,0)=\"y\",\"y\",\"\"))),\"Manual entry required\")","v":""},{"$f":"IF('Data organoclorin'!J30=\"\",\"\",'Data organoclorin'!J30)","v":""},{"$f":"IF('Data organoclorin'!K30=\"\",\"\",IF(ISNUMBER('Data organoclorin'!K30)=TRUE, IF('Data organoclorin'!K30<'Data organoclorin'!K$38, \"ERROR\", 'Data organoclorin'!K30), IF('Data organoclorin'!K30=\"<LOD\",'Data organoclorin'!K$38, \"ERROR\")))","v":""},{"$f":"IF('Data organoclorin'!L30=\"\",\"\",IF(ISNUMBER('Data organoclorin'!L30)=TRUE, IF('Data organoclorin'!L30<'Data organoclorin'!L$38, \"ERROR\", 'Data organoclorin'!L30), IF('Data organoclorin'!L30=\"<LOD\",'Data organoclorin'!L$38, \"ERROR\")))","v":""},{"$f":"IF('Data organoclorin'!M30=\"\",\"\",IF(ISNUMBER('Data organoclorin'!M30)=TRUE, IF('Data organoclorin'!M30<'Data organoclorin'!M$38, \"ERROR\", 'Data organoclorin'!M30), IF('Data organoclorin'!M30=\"<LOD\",'Data organoclorin'!M$38, \"ERROR\")))","v":""},{"$f":"IF('Data organoclorin'!N30=\"\",\"\",IF(ISNUMBER('Data organoclorin'!N30)=TRUE, IF('Data organoclorin'!N30<'Data organoclorin'!N$38, \"ERROR\", 'Data organoclorin'!N30), IF('Data organoclorin'!N30=\"<LOD\",'Data organoclorin'!N$38, \"ERROR\")))","v":""},{"$f":"IF('Data organoclorin'!O30=\"\",\"\",IF(ISNUMBER('Data organoclorin'!O30)=TRUE, IF('Data organoclorin'!O30<'Data organoclorin'!O$38, \"ERROR\", 'Data organoclorin'!O30), IF('Data organoclorin'!O30=\"<LOD\",'Data organoclorin'!O$38, \"ERROR\")))","v":""},{"$f":"IF('Data organoclorin'!P30=\"\",\"\",IF(ISNUMBER('Data organoclorin'!P30)=TRUE, IF('Data organoclorin'!P30<'Data organoclorin'!P$38, \"ERROR\", 'Data organoclorin'!P30), IF('Data organoclorin'!P30=\"<LOD\",'Data organoclorin'!P$38, \"ERROR\")))","v":""},{"$f":"IF('Data organoclorin'!Q30=\"\",\"\",IF(ISNUMBER('Data organoclorin'!Q30)=TRUE, IF('Data organoclorin'!Q30<'Data organoclorin'!Q$38, \"ERROR\", 'Data organoclorin'!Q30), IF('Data organoclorin'!Q30=\"<LOD\",'Data organoclorin'!Q$38, \"ERROR\")))","v":""},{"$f":"IF('Data organoclorin'!R30=\"\",\"\",IF(ISNUMBER('Data organoclorin'!R30)=TRUE, IF('Data organoclorin'!R30<'Data organoclorin'!R$38, \"ERROR\", 'Data organoclorin'!R30), IF('Data organoclorin'!R30=\"<LOD\",'Data organoclorin'!R$38, \"ERROR\")))","v":""}]
[null,null,null,null,null,null,null,{"$f":"IF('Data organoclorin'!H31=\"\",\"\",'Data organoclorin'!H31)","v":""},{"$f":"IF('Data organoclorin'!I31=\"\",\"\",'Data organoclorin'!I31)","v":""},{"$f":"IFERROR(IF(K31=\"\",\"\",(IF(VLOOKUP(K31,'Gwybodaeth ymgeiswyr'!$K$8:$L$37,2,0)=\"y\",\"y\",\"\"))),\"Manual entry required\")","v":""},{"$f":"IF('Data organoclorin'!J31=\"\",\"\",'Data organoclorin'!J31)","v":""},{"$f":"IF('Data organoclorin'!K31=\"\",\"\",IF(ISNUMBER('Data organoclorin'!K31)=TRUE, IF('Data organoclorin'!K31<'Data organoclorin'!K$38, \"ERROR\", 'Data organoclorin'!K31), IF('Data organoclorin'!K31=\"<LOD\",'Data organoclorin'!K$38, \"ERROR\")))","v":""},{"$f":"IF('Data organoclorin'!L31=\"\",\"\",IF(ISNUMBER('Data organoclorin'!L31)=TRUE, IF('Data organoclorin'!L31<'Data organoclorin'!L$38, \"ERROR\", 'Data organoclorin'!L31), IF('Data organoclorin'!L31=\"<LOD\",'Data organoclorin'!L$38, \"ERROR\")))","v":""},{"$f":"IF('Data organoclorin'!M31=\"\",\"\",IF(ISNUMBER('Data organoclorin'!M31)=TRUE, IF('Data organoclorin'!M31<'Data organoclorin'!M$38, \"ERROR\", 'Data organoclorin'!M31), IF('Data organoclorin'!M31=\"<LOD\",'Data organoclorin'!M$38, \"ERROR\")))","v":""},{"$f":"IF('Data organoclorin'!N31=\"\",\"\",IF(ISNUMBER('Data organoclorin'!N31)=TRUE, IF('Data organoclorin'!N31<'Data organoclorin'!N$38, \"ERROR\", 'Data organoclorin'!N31), IF('Data organoclorin'!N31=\"<LOD\",'Data organoclorin'!N$38, \"ERROR\")))","v":""},{"$f":"IF('Data organoclorin'!O31=\"\",\"\",IF(ISNUMBER('Data organoclorin'!O31)=TRUE, IF('Data organoclorin'!O31<'Data organoclorin'!O$38, \"ERROR\", 'Data organoclorin'!O31), IF('Data organoclorin'!O31=\"<LOD\",'Data organoclorin'!O$38, \"ERROR\")))","v":""},{"$f":"IF('Data organoclorin'!P31=\"\",\"\",IF(ISNUMBER('Data organoclorin'!P31)=TRUE, IF('Data organoclorin'!P31<'Data organoclorin'!P$38, \"ERROR\", 'Data organoclorin'!P31), IF('Data organoclorin'!P31=\"<LOD\",'Data organoclorin'!P$38, \"ERROR\")))","v":""},{"$f":"IF('Data organoclorin'!Q31=\"\",\"\",IF(ISNUMBER('Data organoclorin'!Q31)=TRUE, IF('Data organoclorin'!Q31<'Data organoclorin'!Q$38, \"ERROR\", 'Data organoclorin'!Q31), IF('Data organoclorin'!Q31=\"<LOD\",'Data organoclorin'!Q$38, \"ERROR\")))","v":""},{"$f":"IF('Data organoclorin'!R31=\"\",\"\",IF(ISNUMBER('Data organoclorin'!R31)=TRUE, IF('Data organoclorin'!R31<'Data organoclorin'!R$38, \"ERROR\", 'Data organoclorin'!R31), IF('Data organoclorin'!R31=\"<LOD\",'Data organoclorin'!R$38, \"ERROR\")))","v":""}]
[null,null,null,null,null,null,null,{"$f":"IF('Data organoclorin'!H32=\"\",\"\",'Data organoclorin'!H32)","v":""},{"$f":"IF('Data organoclorin'!I32=\"\",\"\",'Data organoclorin'!I32)","v":""},{"$f":"IFERROR(IF(K32=\"\",\"\",(IF(VLOOKUP(K32,'Gwybodaeth ymgeiswyr'!$K$8:$L$37,2,0)=\"y\",\"y\",\"\"))),\"Manual entry required\")","v":""},{"$f":"IF('Data organoclorin'!J32=\"\",\"\",'Data organoclorin'!J32)","v":""},{"$f":"IF('Data organoclorin'!K32=\"\",\"\",IF(ISNUMBER('Data organoclorin'!K32)=TRUE, IF('Data organoclorin'!K32<'Data organoclorin'!K$38, \"ERROR\", 'Data organoclorin'!K32), IF('Data organoclorin'!K32=\"<LOD\",'Data organoclorin'!K$38, \"ERROR\")))","v":""},{"$f":"IF('Data organoclorin'!L32=\"\",\"\",IF(ISNUMBER('Data organoclorin'!L32)=TRUE, IF('Data organoclorin'!L32<'Data organoclorin'!L$38, \"ERROR\", 'Data organoclorin'!L32), IF('Data organoclorin'!L32=\"<LOD\",'Data organoclorin'!L$38, \"ERROR\")))","v":""},{"$f":"IF('Data organoclorin'!M32=\"\",\"\",IF(ISNUMBER('Data organoclorin'!M32)=TRUE, IF('Data organoclorin'!M32<'Data organoclorin'!M$38, \"ERROR\", 'Data organoclorin'!M32), IF('Data organoclorin'!M32=\"<LOD\",'Data organoclorin'!M$38, \"ERROR\")))","v":""},{"$f":"IF('Data organoclorin'!N32=\"\",\"\",IF(ISNUMBER('Data organoclorin'!N32)=TRUE, IF('Data organoclorin'!N32<'Data organoclorin'!N$38, \"ERROR\", 'Data organoclorin'!N32), IF('Data organoclorin'!N32=\"<LOD\",'Data organoclorin'!N$38, \"ERROR\")))","v":""},{"$f":"IF('Data organoclorin'!O32=\"\",\"\",IF(ISNUMBER('Data organoclorin'!O32)=TRUE, IF('Data organoclorin'!O32<'Data organoclorin'!O$38, \"ERROR\", 'Data organoclorin'!O32), IF('Data organoclorin'!O32=\"<LOD\",'Data organoclorin'!O$38, \"ERROR\")))","v":""},{"$f":"IF('Data organoclorin'!P32=\"\",\"\",IF(ISNUMBER('Data organoclorin'!P32)=TRUE, IF('Data organoclorin'!P32<'Data organoclorin'!P$38, \"ERROR\", 'Data organoclorin'!P32), IF('Data organoclorin'!P32=\"<LOD\",'Data organoclorin'!P$38, \"ERROR\")))","v":""},{"$f":"IF('Data organoclorin'!Q32=\"\",\"\",IF(ISNUMBER('Data organoclorin'!Q32)=TRUE, IF('Data organoclorin'!Q32<'Data organoclorin'!Q$38, \"ERROR\", 'Data organoclorin'!Q32), IF('Data organoclorin'!Q32=\"<LOD\",'Data organoclorin'!Q$38, \"ERROR\")))","v":""},{"$f":"IF('Data organoclorin'!R32=\"\",\"\",IF(ISNUMBER('Data organoclorin'!R32)=TRUE, IF('Data organoclorin'!R32<'Data organoclorin'!R$38, \"ERROR\", 'Data organoclorin'!R32), IF('Data organoclorin'!R32=\"<LOD\",'Data organoclorin'!R$38, \"ERROR\")))","v":""}]
[null,null,null,null,null,null,null,{"$f":"IF('Data organoclorin'!H33=\"\",\"\",'Data organoclorin'!H33)","v":""},{"$f":"IF('Data organoclorin'!I33=\"\",\"\",'Data organoclorin'!I33)","v":""},{"$f":"IFERROR(IF(K33=\"\",\"\",(IF(VLOOKUP(K33,'Gwybodaeth ymgeiswyr'!$K$8:$L$37,2,0)=\"y\",\"y\",\"\"))),\"Manual entry required\")","v":""},{"$f":"IF('Data organoclorin'!J33=\"\",\"\",'Data organoclorin'!J33)","v":""},{"$f":"IF('Data organoclorin'!K33=\"\",\"\",IF(ISNUMBER('Data organoclorin'!K33)=TRUE, IF('Data organoclorin'!K33<'Data organoclorin'!K$38, \"ERROR\", 'Data organoclorin'!K33), IF('Data organoclorin'!K33=\"<LOD\",'Data organoclorin'!K$38, \"ERROR\")))","v":""},{"$f":"IF('Data organoclorin'!L33=\"\",\"\",IF(ISNUMBER('Data organoclorin'!L33)=TRUE, IF('Data organoclorin'!L33<'Data organoclorin'!L$38, \"ERROR\", 'Data organoclorin'!L33), IF('Data organoclorin'!L33=\"<LOD\",'Data organoclorin'!L$38, \"ERROR\")))","v":""},{"$f":"IF('Data organoclorin'!M33=\"\",\"\",IF(ISNUMBER('Data organoclorin'!M33)=TRUE, IF('Data organoclorin'!M33<'Data organoclorin'!M$38, \"ERROR\", 'Data organoclorin'!M33), IF('Data organoclorin'!M33=\"<LOD\",'Data organoclorin'!M$38, \"ERROR\")))","v":""},{"$f":"IF('Data organoclorin'!N33=\"\",\"\",IF(ISNUMBER('Data organoclorin'!N33)=TRUE, IF('Data organoclorin'!N33<'Data organoclorin'!N$38, \"ERROR\", 'Data organoclorin'!N33), IF('Data organoclorin'!N33=\"<LOD\",'Data organoclorin'!N$38, \"ERROR\")))","v":""},{"$f":"IF('Data organoclorin'!O33=\"\",\"\",IF(ISNUMBER('Data organoclorin'!O33)=TRUE, IF('Data organoclorin'!O33<'Data organoclorin'!O$38, \"ERROR\", 'Data organoclorin'!O33), IF('Data organoclorin'!O33=\"<LOD\",'Data organoclorin'!O$38, \"ERROR\")))","v":""},{"$f":"IF('Data organoclorin'!P33=\"\",\"\",IF(ISNUMBER('Data organoclorin'!P33)=TRUE, IF('Data organoclorin'!P33<'Data organoclorin'!P$38, \"ERROR\", 'Data organoclorin'!P33), IF('Data organoclorin'!P33=\"<LOD\",'Data organoclorin'!P$38, \"ERROR\")))","v":""},{"$f":"IF('Data organoclorin'!Q33=\"\",\"\",IF(ISNUMBER('Data organoclorin'!Q33)=TRUE, IF('Data organoclorin'!Q33<'Data organoclorin'!Q$38, \"ERROR\", 'Data organoclorin'!Q33), IF('Data organoclorin'!Q33=\"<LOD\",'Data organoclorin'!Q$38, \"ERROR\")))","v":""},{"$f":"IF('Data organoclorin'!R33=\"\",\"\",IF(ISNUMBER('Data organoclorin'!R33)=TRUE, IF('Data organoclorin'!R33<'Data organoclorin'!R$38, \"ERROR\", 'Data organoclorin'!R33), IF('Data organoclorin'!R33=\"<LOD\",'Data organoclorin'!R$38, \"ERROR\")))","v":""}]
[null,null,null,null,null,null,null,{"$f":"IF('Data organoclorin'!H34=\"\",\"\",'Data organoclorin'!H34)","v":""},{"$f":"IF('Data organoclorin'!I34=\"\",\"\",'Data organoclorin'!I34)","v":""},{"$f":"IFERROR(IF(K34=\"\",\"\",(IF(VLOOKUP(K34,'Gwybodaeth ymgeiswyr'!$K$8:$L$37,2,0)=\"y\",\"y\",\"\"))),\"Manual entry required\")","v":""},{"$f":"IF('Data organoclorin'!J34=\"\",\"\",'Data organoclorin'!J34)","v":""},{"$f":"IF('Data organoclorin'!K34=\"\",\"\",IF(ISNUMBER('Data organoclorin'!K34)=TRUE, IF('Data organoclorin'!K34<'Data organoclorin'!K$38, \"ERROR\", 'Data organoclorin'!K34), IF('Data organoclorin'!K34=\"<LOD\",'Data organoclorin'!K$38, \"ERROR\")))","v":""},{"$f":"IF('Data organoclorin'!L34=\"\",\"\",IF(ISNUMBER('Data organoclorin'!L34)=TRUE, IF('Data organoclorin'!L34<'Data organoclorin'!L$38, \"ERROR\", 'Data organoclorin'!L34), IF('Data organoclorin'!L34=\"<LOD\",'Data organoclorin'!L$38, \"ERROR\")))","v":""},{"$f":"IF('Data organoclorin'!M34=\"\",\"\",IF(ISNUMBER('Data organoclorin'!M34)=TRUE, IF('Data organoclorin'!M34<'Data organoclorin'!M$38, \"ERROR\", 'Data organoclorin'!M34), IF('Data organoclorin'!M34=\"<LOD\",'Data organoclorin'!M$38, \"ERROR\")))","v":""},{"$f":"IF('Data organoclorin'!N34=\"\",\"\",IF(ISNUMBER('Data organoclorin'!N34)=TRUE, IF('Data organoclorin'!N34<'Data organoclorin'!N$38, \"ERROR\", 'Data organoclorin'!N34), IF('Data organoclorin'!N34=\"<LOD\",'Data organoclorin'!N$38, \"ERROR\")))","v":""},{"$f":"IF('Data organoclorin'!O34=\"\",\"\",IF(ISNUMBER('Data organoclorin'!O34)=TRUE, IF('Data organoclorin'!O34<'Data organoclorin'!O$38, \"ERROR\", 'Data organoclorin'!O34), IF('Data organoclorin'!O34=\"<LOD\",'Data organoclorin'!O$38, \"ERROR\")))","v":""},{"$f":"IF('Data organoclorin'!P34=\"\",\"\",IF(ISNUMBER('Data organoclorin'!P34)=TRUE, IF('Data organoclorin'!P34<'Data organoclorin'!P$38, \"ERROR\", 'Data organoclorin'!P34), IF('Data organoclorin'!P34=\"<LOD\",'Data organoclorin'!P$38, \"ERROR\")))","v":""},{"$f":"IF('Data organoclorin'!Q34=\"\",\"\",IF(ISNUMBER('Data organoclorin'!Q34)=TRUE, IF('Data organoclorin'!Q34<'Data organoclorin'!Q$38, \"ERROR\", 'Data organoclorin'!Q34), IF('Data organoclorin'!Q34=\"<LOD\",'Data organoclorin'!Q$38, \"ERROR\")))","v":""},{"$f":"IF('Data organoclorin'!R34=\"\",\"\",IF(ISNUMBER('Data organoclorin'!R34)=TRUE, IF('Data organoclorin'!R34<'Data organoclorin'!R$38, \"ERROR\", 'Data organoclorin'!R34), IF('Data organoclorin'!R34=\"<LOD\",'Data organoclorin'!R$38, \"ERROR\")))","v":""}]
[null,null,null,null,null,null,null,{"$f":"IF('Data organoclorin'!H35=\"\",\"\",'Data organoclorin'!H35)","v":""},{"$f":"IF('Data organoclorin'!I35=\"\",\"\",'Data organoclorin'!I35)","v":""},{"$f":"IFERROR(IF(K35=\"\",\"\",(IF(VLOOKUP(K35,'Gwybodaeth ymgeiswyr'!$K$8:$L$37,2,0)=\"y\",\"y\",\"\"))),\"Manual entry required\")","v":""},{"$f":"IF('Data organoclorin'!J35=\"\",\"\",'Data organoclorin'!J35)","v":""},{"$f":"IF('Data organoclorin'!K35=\"\",\"\",IF(ISNUMBER('Data organoclorin'!K35)=TRUE, IF('Data organoclorin'!K35<'Data organoclorin'!K$38, \"ERROR\", 'Data organoclorin'!K35), IF('Data organoclorin'!K35=\"<LOD\",'Data organoclorin'!K$38, \"ERROR\")))","v":""},{"$f":"IF('Data organoclorin'!L35=\"\",\"\",IF(ISNUMBER('Data organoclorin'!L35)=TRUE, IF('Data organoclorin'!L35<'Data organoclorin'!L$38, \"ERROR\", 'Data organoclorin'!L35), IF('Data organoclorin'!L35=\"<LOD\",'Data organoclorin'!L$38, \"ERROR\")))","v":""},{"$f":"IF('Data organoclorin'!M35=\"\",\"\",IF(ISNUMBER('Data organoclorin'!M35)=TRUE, IF('Data organoclorin'!M35<'Data organoclorin'!M$38, \"ERROR\", 'Data organoclorin'!M35), IF('Data organoclorin'!M35=\"<LOD\",'Data organoclorin'!M$38, \"ERROR\")))","v":""},{"$f":"IF('Data organoclorin'!N35=\"\",\"\",IF(ISNUMBER('Data organoclorin'!N35)=TRUE, IF('Data organoclorin'!N35<'Data organoclorin'!N$38, \"ERROR\", 'Data organoclorin'!N35), IF('Data organoclorin'!N35=\"<LOD\",'Data organoclorin'!N$38, \"ERROR\")))","v":""},{"$f":"IF('Data organoclorin'!O35=\"\",\"\",IF(ISNUMBER('Data organoclorin'!O35)=TRUE, IF('Data organoclorin'!O35<'Data organoclorin'!O$38, \"ERROR\", 'Data organoclorin'!O35), IF('Data organoclorin'!O35=\"<LOD\",'Data organoclorin'!O$38, \"ERROR\")))","v":""},{"$f":"IF('Data organoclorin'!P35=\"\",\"\",IF(ISNUMBER('Data organoclorin'!P35)=TRUE, IF('Data organoclorin'!P35<'Data organoclorin'!P$38, \"ERROR\", 'Data organoclorin'!P35), IF('Data organoclorin'!P35=\"<LOD\",'Data organoclorin'!P$38, \"ERROR\")))","v":""},{"$f":"IF('Data organoclorin'!Q35=\"\",\"\",IF(ISNUMBER('Data organoclorin'!Q35)=TRUE, IF('Data organoclorin'!Q35<'Data organoclorin'!Q$38, \"ERROR\", 'Data organoclorin'!Q35), IF('Data organoclorin'!Q35=\"<LOD\",'Data organoclorin'!Q$38, \"ERROR\")))","v":""},{"$f":"IF('Data organoclorin'!R35=\"\",\"\",IF(ISNUMBER('Data organoclorin'!R35)=TRUE, IF('Data organoclorin'!R35<'Data organoclorin'!R$38, \"ERROR\", 'Data organoclorin'!R35), IF('Data organoclorin'!R35=\"<LOD\",'Data organoclorin'!R$38, \"ERROR\")))","v":""}]
[null,null,null,null,null,null,null,{"$f":"IF('Data organoclorin'!H36=\"\",\"\",'Data organoclorin'!H36)","v":""},{"$f":"IF('Data organoclorin'!I36=\"\",\"\",'Data organoclorin'!I36)","v":""},{"$f":"IFERROR(IF(K36=\"\",\"\",(IF(VLOOKUP(K36,'Gwybodaeth ymgeiswyr'!$K$8:$L$37,2,0)=\"y\",\"y\",\"\"))),\"Manual entry required\")","v":""},{"$f":"IF('Data organoclorin'!J36=\"\",\"\",'Data organoclorin'!J36)","v":""},{"$f":"IF('Data organoclorin'!K36=\"\",\"\",IF(ISNUMBER('Data organoclorin'!K36)=TRUE, IF('Data organoclorin'!K36<'Data organoclorin'!K$38, \"ERROR\", 'Data organoclorin'!K36), IF('Data organoclorin'!K36=\"<LOD\",'Data organoclorin'!K$38, \"ERROR\")))","v":""},{"$f":"IF('Data organoclorin'!L36=\"\",\"\",IF(ISNUMBER('Data organoclorin'!L36)=TRUE, IF('Data organoclorin'!L36<'Data organoclorin'!L$38, \"ERROR\", 'Data organoclorin'!L36), IF('Data organoclorin'!L36=\"<LOD\",'Data organoclorin'!L$38, \"ERROR\")))","v":""},{"$f":"IF('Data organoclorin'!M36=\"\",\"\",IF(ISNUMBER('Data organoclorin'!M36)=TRUE, IF('Data organoclorin'!M36<'Data organoclorin'!M$38, \"ERROR\", 'Data organoclorin'!M36), IF('Data organoclorin'!M36=\"<LOD\",'Data organoclorin'!M$38, \"ERROR\")))","v":""},{"$f":"IF('Data organoclorin'!N36=\"\",\"\",IF(ISNUMBER('Data organoclorin'!N36)=TRUE, IF('Data organoclorin'!N36<'Data organoclorin'!N$38, \"ERROR\", 'Data organoclorin'!N36), IF('Data organoclorin'!N36=\"<LOD\",'Data organoclorin'!N$38, \"ERROR\")))","v":""},{"$f":"IF('Data organoclorin'!O36=\"\",\"\",IF(ISNUMBER('Data organoclorin'!O36)=TRUE, IF('Data organoclorin'!O36<'Data organoclorin'!O$38, \"ERROR\", 'Data organoclorin'!O36), IF('Data organoclorin'!O36=\"<LOD\",'Data organoclorin'!O$38, \"ERROR\")))","v":""},{"$f":"IF('Data organoclorin'!P36=\"\",\"\",IF(ISNUMBER('Data organoclorin'!P36)=TRUE, IF('Data organoclorin'!P36<'Data organoclorin'!P$38, \"ERROR\", 'Data organoclorin'!P36), IF('Data organoclorin'!P36=\"<LOD\",'Data organoclorin'!P$38, \"ERROR\")))","v":""},{"$f":"IF('Data organoclorin'!Q36=\"\",\"\",IF(ISNUMBER('Data organoclorin'!Q36)=TRUE, IF('Data organoclorin'!Q36<'Data organoclorin'!Q$38, \"ERROR\", 'Data organoclorin'!Q36), IF('Data organoclorin'!Q36=\"<LOD\",'Data organoclorin'!Q$38, \"ERROR\")))","v":""},{"$f":"IF('Data organoclorin'!R36=\"\",\"\",IF(ISNUMBER('Data organoclorin'!R36)=TRUE, IF('Data organoclorin'!R36<'Data organoclorin'!R$38, \"ERROR\", 'Data organoclorin'!R36), IF('Data organoclorin'!R36=\"<LOD\",'Data organoclorin'!R$38, \"ERROR\")))","v":""}]
[null,null,null,null,null,null,null,{"$f":"IF('Data organoclorin'!H37=\"\",\"\",'Data organoclorin'!H37)","v":""},{"$f":"IF('Data organoclorin'!I37=\"\",\"\",'Data organoclorin'!I37)","v":""},{"$f":"IFERROR(IF(K37=\"\",\"\",(IF(VLOOKUP(K37,'Gwybodaeth ymgeiswyr'!$K$8:$L$37,2,0)=\"y\",\"y\",\"\"))),\"Manual entry required\")","v":""},{"$f":"IF('Data organoclorin'!J37=\"\",\"\",'Data organoclorin'!J37)","v":""},{"$f":"IF('Data organoclorin'!K37=\"\",\"\",IF(ISNUMBER('Data organoclorin'!K37)=TRUE, IF('Data organoclorin'!K37<'Data organoclorin'!K$38, \"ERROR\", 'Data organoclorin'!K37), IF('Data organoclorin'!K37=\"<LOD\",'Data organoclorin'!K$38, \"ERROR\")))","v":""},{"$f":"IF('Data organoclorin'!L37=\"\",\"\",IF(ISNUMBER('Data organoclorin'!L37)=TRUE, IF('Data organoclorin'!L37<'Data organoclorin'!L$38, \"ERROR\", 'Data organoclorin'!L37), IF('Data organoclorin'!L37=\"<LOD\",'Data organoclorin'!L$38, \"ERROR\")))","v":""},{"$f":"IF('Data organoclorin'!M37=\"\",\"\",IF(ISNUMBER('Data organoclorin'!M37)=TRUE, IF('Data organoclorin'!M37<'Data organoclorin'!M$38, \"ERROR\", 'Data organoclorin'!M37), IF('Data organoclorin'!M37=\"<LOD\",'Data organoclorin'!M$38, \"ERROR\")))","v":""},{"$f":"IF('Data organoclorin'!N37=\"\",\"\",IF(ISNUMBER('Data organoclorin'!N37)=TRUE, IF('Data organoclorin'!N37<'Data organoclorin'!N$38, \"ERROR\", 'Data organoclorin'!N37), IF('Data organoclorin'!N37=\"<LOD\",'Data organoclorin'!N$38, \"ERROR\")))","v":""},{"$f":"IF('Data organoclorin'!O37=\"\",\"\",IF(ISNUMBER('Data organoclorin'!O37)=TRUE, IF('Data organoclorin'!O37<'Data organoclorin'!O$38, \"ERROR\", 'Data organoclorin'!O37), IF('Data organoclorin'!O37=\"<LOD\",'Data organoclorin'!O$38, \"ERROR\")))","v":""},{"$f":"IF('Data organoclorin'!P37=\"\",\"\",IF(ISNUMBER('Data organoclorin'!P37)=TRUE, IF('Data organoclorin'!P37<'Data organoclorin'!P$38, \"ERROR\", 'Data organoclorin'!P37), IF('Data organoclorin'!P37=\"<LOD\",'Data organoclorin'!P$38, \"ERROR\")))","v":""},{"$f":"IF('Data organoclorin'!Q37=\"\",\"\",IF(ISNUMBER('Data organoclorin'!Q37)=TRUE, IF('Data organoclorin'!Q37<'Data organoclorin'!Q$38, \"ERROR\", 'Data organoclorin'!Q37), IF('Data organoclorin'!Q37=\"<LOD\",'Data organoclorin'!Q$38, \"ERROR\")))","v":""},{"$f":"IF('Data organoclorin'!R37=\"\",\"\",IF(ISNUMBER('Data organoclorin'!R37)=TRUE, IF('Data organoclorin'!R37<'Data organoclorin'!R$38, \"ERROR\", 'Data organoclorin'!R37), IF('Data organoclorin'!R37=\"<LOD\",'Data organoclorin'!R$38, \"ERROR\")))","v":""}]
[null,null,null,null,null,null,null,null,null,"Averages:",null,{"$f":"IF(COUNT(L8:L37)<1,\"\", AVERAGE(L8:L37))","v":""},{"$f":"IF(COUNT(M8:M37)<1,\"\", AVERAGE(M8:M37))","v":""},"","","","","",""]
[]
[null,null,null,null,null,null,null,null,null,null,"Action level 1:  ",null,null,null,5.0000000000000001E-3,null,null,1E-3]
[]
[]
[null,null,null,null,null,null,null,null,null,null,null,null,null,null," "]
[null,null,null,null,null,null,null,"Transformation to wet weight (mg/kg)"]
[]
[null,null,null,null,null,null,null,"Laboratory sample number","Dredge Area","Excluded (y if yes)","Sample ID","Organochlorines as mg/kg wet weight"]
[null,null,null,null,null,null,null,null,null,null,null,"alpha-hexachlorocyclohexane (AHCH)","beta-hexachlorocyclohexane (BHCH)","gamma-hexachlorocyclohexane (GHCH)","Dieldrin","Hexachlorobenzene (HCB)","1,1-Dichloro-2,2-bis(p-chlorophenyl) ethylene (PPDDE)","Dichlorodiphenyltrichloroethane (PPDDT)","1,1-dichloro-2,2-bis(p-chlorophenyl)ethane (PPTDE)"]
[null,null,null,null,null,null,null,{"$f":"IF(H8=\"\",\"\",H8)","v":""},"","","",{"$f":"IF(L8=\"\",\"\",((('Data Ffisegol'!$M9/100)*L8)))","v":""},{"$f":"IF(M8=\"\",\"\",((('Data Ffisegol'!$M9/100)*M8)))","v":""},{"$f":"IF(N8=\"\",\"\",((('Data Ffisegol'!$M9/100)*N8)))","v":""},{"$f":"IF(O8=\"\",\"\",((('Data Ffisegol'!$M9/100)*O8)))","v":""},{"$f":"IF(P8=\"\",\"\",((('Data Ffisegol'!$M9/100)*P8)))","v":""},{"$f":"IF(Q8=\"\",\"\",((('Data Ffisegol'!$M9/100)*Q8)))","v":""},{"$f":"IF(R8=\"\",\"\",((('Data Ffisegol'!$M9/100)*R8)))","v":""},{"$f":"IF(S8=\"\",\"\",((('Data Ffisegol'!$M9/100)*S8)))","v":""}]
[null,null,null,null,null,null,null,"","","","",{"$f":"IF(L9=\"\",\"\",((('Data Ffisegol'!$M10/100)*L9)))","v":""},{"$f":"IF(M9=\"\",\"\",((('Data Ffisegol'!$M10/100)*M9)))","v":""},{"$f":"IF(N9=\"\",\"\",((('Data Ffisegol'!$M10/100)*N9)))","v":""},{"$f":"IF(O9=\"\",\"\",((('Data Ffisegol'!$M10/100)*O9)))","v":""},{"$f":"IF(P9=\"\",\"\",((('Data Ffisegol'!$M10/100)*P9)))","v":""},{"$f":"IF(Q9=\"\",\"\",((('Data Ffisegol'!$M10/100)*Q9)))","v":""},{"$f":"IF(R9=\"\",\"\",((('Data Ffisegol'!$M10/100)*R9)))","v":""},{"$f":"IF(S9=\"\",\"\",((('Data Ffisegol'!$M10/100)*S9)))","v":""}]
[null,null,null,null,null,null,null,"","","","",{"$f":"IF(L10=\"\",\"\",((('Data Ffisegol'!$M11/100)*L10)))","v":""},{"$f":"IF(M10=\"\",\"\",((('Data Ffisegol'!$M11/100)*M10)))","v":""},{"$f":"IF(N10=\"\",\"\",((('Data Ffisegol'!$M11/100)*N10)))","v":""},{"$f":"IF(O10=\"\",\"\",((('Data Ffisegol'!$M11/100)*O10)))","v":""},{"$f":"IF(P10=\"\",\"\",((('Data Ffisegol'!$M11/100)*P10)))","v":""},{"$f":"IF(Q10=\"\",\"\",((('Data Ffisegol'!$M11/100)*Q10)))","v":""},{"$f":"IF(R10=\"\",\"\",((('Data Ffisegol'!$M11/100)*R10)))","v":""},{"$f":"IF(S10=\"\",\"\",((('Data Ffisegol'!$M11/100)*S10)))","v":""}]
[null,null,null,null,null,null,null,"","","","",{"$f":"IF(L11=\"\",\"\",((('Data Ffisegol'!$M12/100)*L11)))","v":""},{"$f":"IF(M11=\"\",\"\",((('Data Ffisegol'!$M12/100)*M11)))","v":""},{"$f":"IF(N11=\"\",\"\",((('Data Ffisegol'!$M12/100)*N11)))","v":""},{"$f":"IF(O11=\"\",\"\",((('Data Ffisegol'!$M12/100)*O11)))","v":""},{"$f":"IF(P11=\"\",\"\",((('Data Ffisegol'!$M12/100)*P11)))","v":""},{"$f":"IF(Q11=\"\",\"\",((('Data Ffisegol'!$M12/100)*Q11)))","v":""},{"$f":"IF(R11=\"\",\"\",((('Data Ffisegol'!$M12/100)*R11)))","v":""},{"$f":"IF(S11=\"\",\"\",((('Data Ffisegol'!$M12/100)*S11)))","v":""}]
[null,null,null,null,null,null,null,"","","","",{"$f":"IF(L12=\"\",\"\",((('Data Ffisegol'!$M13/100)*L12)))","v":""},{"$f":"IF(M12=\"\",\"\",((('Data Ffisegol'!$M13/100)*M12)))","v":""},{"$f":"IF(N12=\"\",\"\",((('Data Ffisegol'!$M13/100)*N12)))","v":""},{"$f":"IF(O12=\"\",\"\",((('Data Ffisegol'!$M13/100)*O12)))","v":""},{"$f":"IF(P12=\"\",\"\",((('Data Ffisegol'!$M13/100)*P12)))","v":""},{"$f":"IF(Q12=\"\",\"\",((('Data Ffisegol'!$M13/100)*Q12)))","v":""},{"$f":"IF(R12=\"\",\"\",((('Data Ffisegol'!$M13/100)*R12)))","v":""},{"$f":"IF(S12=\"\",\"\",((('Data Ffisegol'!$M13/100)*S12)))","v":""}]
[null,null,null,null,null,null,null,"","","","",{"$f":"IF(L13=\"\",\"\",((('Data Ffisegol'!$M14/100)*L13)))","v":""},{"$f":"IF(M13=\"\",\"\",((('Data Ffisegol'!$M14/100)*M13)))","v":""},{"$f":"IF(N13=\"\",\"\",((('Data Ffisegol'!$M14/100)*N13)))","v":""},{"$f":"IF(O13=\"\",\"\",((('Data Ffisegol'!$M14/100)*O13)))","v":""},{"$f":"IF(P13=\"\",\"\",((('Data Ffisegol'!$M14/100)*P13)))","v":""},{"$f":"IF(Q13=\"\",\"\",((('Data Ffisegol'!$M14/100)*Q13)))","v":""},{"$f":"IF(R13=\"\",\"\",((('Data Ffisegol'!$M14/100)*R13)))","v":""},{"$f":"IF(S13=\"\",\"\",((('Data Ffisegol'!$M14/100)*S13)))","v":""}]
[null,null,null,null,null,null,null,"","","","",{"$f":"IF(L14=\"\",\"\",((('Data Ffisegol'!$M15/100)*L14)))","v":""},{"$f":"IF(M14=\"\",\"\",((('Data Ffisegol'!$M15/100)*M14)))","v":""},{"$f":"IF(N14=\"\",\"\",((('Data Ffisegol'!$M15/100)*N14)))","v":""},{"$f":"IF(O14=\"\",\"\",((('Data Ffisegol'!$M15/100)*O14)))","v":""},{"$f":"IF(P14=\"\",\"\",((('Data Ffisegol'!$M15/100)*P14)))","v":""},{"$f":"IF(Q14=\"\",\"\",((('Data Ffisegol'!$M15/100)*Q14)))","v":""},{"$f":"IF(R14=\"\",\"\",((('Data Ffisegol'!$M15/100)*R14)))","v":""},{"$f":"IF(S14=\"\",\"\",((('Data Ffisegol'!$M15/100)*S14)))","v":""}]
[null,null,null,null,null,null,null,"","","","",{"$f":"IF(L15=\"\",\"\",((('Data Ffisegol'!$M16/100)*L15)))","v":""},{"$f":"IF(M15=\"\",\"\",((('Data Ffisegol'!$M16/100)*M15)))","v":""},{"$f":"IF(N15=\"\",\"\",((('Data Ffisegol'!$M16/100)*N15)))","v":""},{"$f":"IF(O15=\"\",\"\",((('Data Ffisegol'!$M16/100)*O15)))","v":""},{"$f":"IF(P15=\"\",\"\",((('Data Ffisegol'!$M16/100)*P15)))","v":""},{"$f":"IF(Q15=\"\",\"\",((('Data Ffisegol'!$M16/100)*Q15)))","v":""},{"$f":"IF(R15=\"\",\"\",((('Data Ffisegol'!$M16/100)*R15)))","v":""},{"$f":"IF(S15=\"\",\"\",((('Data Ffisegol'!$M16/100)*S15)))","v":""}]
[null,null,null,null,null,null,null,"","","","",{"$f":"IF(L16=\"\",\"\",((('Data Ffisegol'!$M17/100)*L16)))","v":""},{"$f":"IF(M16=\"\",\"\",((('Data Ffisegol'!$M17/100)*M16)))","v":""},{"$f":"IF(N16=\"\",\"\",((('Data Ffisegol'!$M17/100)*N16)))","v":""},{"$f":"IF(O16=\"\",\"\",((('Data Ffisegol'!$M17/100)*O16)))","v":""},{"$f":"IF(P16=\"\",\"\",((('Data Ffisegol'!$M17/100)*P16)))","v":""},{"$f":"IF(Q16=\"\",\"\",((('Data Ffisegol'!$M17/100)*Q16)))","v":""},{"$f":"IF(R16=\"\",\"\",((('Data Ffisegol'!$M17/100)*R16)))","v":""},{"$f":"IF(S16=\"\",\"\",((('Data Ffisegol'!$M17/100)*S16)))","v":""}]
[null,null,null,null,null,null,null,"","","","",{"$f":"IF(L17=\"\",\"\",((('Data Ffisegol'!$M18/100)*L17)))","v":""},{"$f":"IF(M17=\"\",\"\",((('Data Ffisegol'!$M18/100)*M17)))","v":""},{"$f":"IF(N17=\"\",\"\",((('Data Ffisegol'!$M18/100)*N17)))","v":""},{"$f":"IF(O17=\"\",\"\",((('Data Ffisegol'!$M18/100)*O17)))","v":""},{"$f":"IF(P17=\"\",\"\",((('Data Ffisegol'!$M18/100)*P17)))","v":""},{"$f":"IF(Q17=\"\",\"\",((('Data Ffisegol'!$M18/100)*Q17)))","v":""},{"$f":"IF(R17=\"\",\"\",((('Data Ffisegol'!$M18/100)*R17)))","v":""},{"$f":"IF(S17=\"\",\"\",((('Data Ffisegol'!$M18/100)*S17)))","v":""}]
[null,null,null,null,null,null,null,"","","","",{"$f":"IF(L18=\"\",\"\",((('Data Ffisegol'!$M19/100)*L18)))","v":""},{"$f":"IF(M18=\"\",\"\",((('Data Ffisegol'!$M19/100)*M18)))","v":""},{"$f":"IF(N18=\"\",\"\",((('Data Ffisegol'!$M19/100)*N18)))","v":""},{"$f":"IF(O18=\"\",\"\",((('Data Ffisegol'!$M19/100)*O18)))","v":""},{"$f":"IF(P18=\"\",\"\",((('Data Ffisegol'!$M19/100)*P18)))","v":""},{"$f":"IF(Q18=\"\",\"\",((('Data Ffisegol'!$M19/100)*Q18)))","v":""},{"$f":"IF(R18=\"\",\"\",((('Data Ffisegol'!$M19/100)*R18)))","v":""},{"$f":"IF(S18=\"\",\"\",((('Data Ffisegol'!$M19/100)*S18)))","v":""}]
[null,null,null,null,null,null,null,"","","","",{"$f":"IF(L19=\"\",\"\",((('Data Ffisegol'!$M20/100)*L19)))","v":""},{"$f":"IF(M19=\"\",\"\",((('Data Ffisegol'!$M20/100)*M19)))","v":""},{"$f":"IF(N19=\"\",\"\",((('Data Ffisegol'!$M20/100)*N19)))","v":""},{"$f":"IF(O19=\"\",\"\",((('Data Ffisegol'!$M20/100)*O19)))","v":""},{"$f":"IF(P19=\"\",\"\",((('Data Ffisegol'!$M20/100)*P19)))","v":""},{"$f":"IF(Q19=\"\",\"\",((('Data Ffisegol'!$M20/100)*Q19)))","v":""},{"$f":"IF(R19=\"\",\"\",((('Data Ffisegol'!$M20/100)*R19)))","v":""},{"$f":"IF(S19=\"\",\"\",((('Data Ffisegol'!$M20/100)*S19)))","v":""}]
[null,null,null,null,null,null,null,"","","","",{"$f":"IF(L20=\"\",\"\",((('Data Ffisegol'!$M21/100)*L20)))","v":""},{"$f":"IF(M20=\"\",\"\",((('Data Ffisegol'!$M21/100)*M20)))","v":""},{"$f":"IF(N20=\"\",\"\",((('Data Ffisegol'!$M21/100)*N20)))","v":""},{"$f":"IF(O20=\"\",\"\",((('Data Ffisegol'!$M21/100)*O20)))","v":""},{"$f":"IF(P20=\"\",\"\",((('Data Ffisegol'!$M21/100)*P20)))","v":""},{"$f":"IF(Q20=\"\",\"\",((('Data Ffisegol'!$M21/100)*Q20)))","v":""},{"$f":"IF(R20=\"\",\"\",((('Data Ffisegol'!$M21/100)*R20)))","v":""},{"$f":"IF(S20=\"\",\"\",((('Data Ffisegol'!$M21/100)*S20)))","v":""}]
[null,null,null,null,null,null,null,"","","","",{"$f":"IF(L21=\"\",\"\",((('Data Ffisegol'!$M22/100)*L21)))","v":""},{"$f":"IF(M21=\"\",\"\",((('Data Ffisegol'!$M22/100)*M21)))","v":""},{"$f":"IF(N21=\"\",\"\",((('Data Ffisegol'!$M22/100)*N21)))","v":""},{"$f":"IF(O21=\"\",\"\",((('Data Ffisegol'!$M22/100)*O21)))","v":""},{"$f":"IF(P21=\"\",\"\",((('Data Ffisegol'!$M22/100)*P21)))","v":""},{"$f":"IF(Q21=\"\",\"\",((('Data Ffisegol'!$M22/100)*Q21)))","v":""},{"$f":"IF(R21=\"\",\"\",((('Data Ffisegol'!$M22/100)*R21)))","v":""},{"$f":"IF(S21=\"\",\"\",((('Data Ffisegol'!$M22/100)*S21)))","v":""}]
[null,null,null,null,null,null,null,"","","","",{"$f":"IF(L22=\"\",\"\",((('Data Ffisegol'!$M23/100)*L22)))","v":""},{"$f":"IF(M22=\"\",\"\",((('Data Ffisegol'!$M23/100)*M22)))","v":""},{"$f":"IF(N22=\"\",\"\",((('Data Ffisegol'!$M23/100)*N22)))","v":""},{"$f":"IF(O22=\"\",\"\",((('Data Ffisegol'!$M23/100)*O22)))","v":""},{"$f":"IF(P22=\"\",\"\",((('Data Ffisegol'!$M23/100)*P22)))","v":""},{"$f":"IF(Q22=\"\",\"\",((('Data Ffisegol'!$M23/100)*Q22)))","v":""},{"$f":"IF(R22=\"\",\"\",((('Data Ffisegol'!$M23/100)*R22)))","v":""},{"$f":"IF(S22=\"\",\"\",((('Data Ffisegol'!$M23/100)*S22)))","v":""}]
[null,null,null,null,null,null,null,"","","","",{"$f":"IF(L23=\"\",\"\",((('Data Ffisegol'!$M24/100)*L23)))","v":""},{"$f":"IF(M23=\"\",\"\",((('Data Ffisegol'!$M24/100)*M23)))","v":""},{"$f":"IF(N23=\"\",\"\",((('Data Ffisegol'!$M24/100)*N23)))","v":""},{"$f":"IF(O23=\"\",\"\",((('Data Ffisegol'!$M24/100)*O23)))","v":""},{"$f":"IF(P23=\"\",\"\",((('Data Ffisegol'!$M24/100)*P23)))","v":""},{"$f":"IF(Q23=\"\",\"\",((('Data Ffisegol'!$M24/100)*Q23)))","v":""},{"$f":"IF(R23=\"\",\"\",((('Data Ffisegol'!$M24/100)*R23)))","v":""},{"$f":"IF(S23=\"\",\"\",((('Data Ffisegol'!$M24/100)*S23)))","v":""}]
[null,null,null,null,null,null,null,{"$f":"IF(H24=\"\",\"\",H24)","v":""},"","","",{"$f":"IF(L24=\"\",\"\",((('Data Ffisegol'!$M25/100)*L24)))","v":""},{"$f":"IF(M24=\"\",\"\",((('Data Ffisegol'!$M25/100)*M24)))","v":""},{"$f":"IF(N24=\"\",\"\",((('Data Ffisegol'!$M25/100)*N24)))","v":""},{"$f":"IF(O24=\"\",\"\",((('Data Ffisegol'!$M25/100)*O24)))","v":""},{"$f":"IF(P24=\"\",\"\",((('Data Ffisegol'!$M25/100)*P24)))","v":""},{"$f":"IF(Q24=\"\",\"\",((('Data Ffisegol'!$M25/100)*Q24)))","v":""},{"$f":"IF(R24=\"\",\"\",((('Data Ffisegol'!$M25/100)*R24)))","v":""},{"$f":"IF(S24=\"\",\"\",((('Data Ffisegol'!$M25/100)*S24)))","v":""}]
[null,null,null,null,null,null,null,"","","","",{"$f":"IF(L25=\"\",\"\",((('Data Ffisegol'!$M26/100)*L25)))","v":""},{"$f":"IF(M25=\"\",\"\",((('Data Ffisegol'!$M26/100)*M25)))","v":""},{"$f":"IF(N25=\"\",\"\",((('Data Ffisegol'!$M26/100)*N25)))","v":""},{"$f":"IF(O25=\"\",\"\",((('Data Ffisegol'!$M26/100)*O25)))","v":""},{"$f":"IF(P25=\"\",\"\",((('Data Ffisegol'!$M26/100)*P25)))","v":""},{"$f":"IF(Q25=\"\",\"\",((('Data Ffisegol'!$M26/100)*Q25)))","v":""},{"$f":"IF(R25=\"\",\"\",((('Data Ffisegol'!$M26/100)*R25)))","v":""},{"$f":"IF(S25=\"\",\"\",((('Data Ffisegol'!$M26/100)*S25)))","v":""}]
[null,null,null,null,null,null,null,"","","","",{"$f":"IF(L26=\"\",\"\",((('Data Ffisegol'!$M27/100)*L26)))","v":""},{"$f":"IF(M26=\"\",\"\",((('Data Ffisegol'!$M27/100)*M26)))","v":""},{"$f":"IF(N26=\"\",\"\",((('Data Ffisegol'!$M27/100)*N26)))","v":""},{"$f":"IF(O26=\"\",\"\",((('Data Ffisegol'!$M27/100)*O26)))","v":""},{"$f":"IF(P26=\"\",\"\",((('Data Ffisegol'!$M27/100)*P26)))","v":""},{"$f":"IF(Q26=\"\",\"\",((('Data Ffisegol'!$M27/100)*Q26)))","v":""},{"$f":"IF(R26=\"\",\"\",((('Data Ffisegol'!$M27/100)*R26)))","v":""},{"$f":"IF(S26=\"\",\"\",((('Data Ffisegol'!$M27/100)*S26)))","v":""}]
[null,null,null,null,null,null,null,"","","","",{"$f":"IF(L27=\"\",\"\",((('Data Ffisegol'!$M28/100)*L27)))","v":""},{"$f":"IF(M27=\"\",\"\",((('Data Ffisegol'!$M28/100)*M27)))","v":""},{"$f":"IF(N27=\"\",\"\",((('Data Ffisegol'!$M28/100)*N27)))","v":""},{"$f":"IF(O27=\"\",\"\",((('Data Ffisegol'!$M28/100)*O27)))","v":""},{"$f":"IF(P27=\"\",\"\",((('Data Ffisegol'!$M28/100)*P27)))","v":""},{"$f":"IF(Q27=\"\",\"\",((('Data Ffisegol'!$M28/100)*Q27)))","v":""},{"$f":"IF(R27=\"\",\"\",((('Data Ffisegol'!$M28/100)*R27)))","v":""},{"$f":"IF(S27=\"\",\"\",((('Data Ffisegol'!$M28/100)*S27)))","v":""}]
[null,null,null,null,null,null,null,"","","","",{"$f":"IF(L28=\"\",\"\",((('Data Ffisegol'!$M29/100)*L28)))","v":""},{"$f":"IF(M28=\"\",\"\",((('Data Ffisegol'!$M29/100)*M28)))","v":""},{"$f":"IF(N28=\"\",\"\",((('Data Ffisegol'!$M29/100)*N28)))","v":""},{"$f":"IF(O28=\"\",\"\",((('Data Ffisegol'!$M29/100)*O28)))","v":""},{"$f":"IF(P28=\"\",\"\",((('Data Ffisegol'!$M29/100)*P28)))","v":""},{"$f":"IF(Q28=\"\",\"\",((('Data Ffisegol'!$M29/100)*Q28)))","v":""},{"$f":"IF(R28=\"\",\"\",((('Data Ffisegol'!$M29/100)*R28)))","v":""},{"$f":"IF(S28=\"\",\"\",((('Data Ffisegol'!$M29/100)*S28)))","v":""}]
[null,null,null,null,null,null,null,"","","","",{"$f":"IF(L29=\"\",\"\",((('Data Ffisegol'!$M30/100)*L29)))","v":""},{"$f":"IF(M29=\"\",\"\",((('Data Ffisegol'!$M30/100)*M29)))","v":""},{"$f":"IF(N29=\"\",\"\",((('Data Ffisegol'!$M30/100)*N29)))","v":""},{"$f":"IF(O29=\"\",\"\",((('Data Ffisegol'!$M30/100)*O29)))","v":""},{"$f":"IF(P29=\"\",\"\",((('Data Ffisegol'!$M30/100)*P29)))","v":""},{"$f":"IF(Q29=\"\",\"\",((('Data Ffisegol'!$M30/100)*Q29)))","v":""},{"$f":"IF(R29=\"\",\"\",((('Data Ffisegol'!$M30/100)*R29)))","v":""},{"$f":"IF(S29=\"\",\"\",((('Data Ffisegol'!$M30/100)*S29)))","v":""}]
[null,null,null,null,null,null,null,"","","","",{"$f":"IF(L30=\"\",\"\",((('Data Ffisegol'!$M31/100)*L30)))","v":""},{"$f":"IF(M30=\"\",\"\",((('Data Ffisegol'!$M31/100)*M30)))","v":""},{"$f":"IF(N30=\"\",\"\",((('Data Ffisegol'!$M31/100)*N30)))","v":""},{"$f":"IF(O30=\"\",\"\",((('Data Ffisegol'!$M31/100)*O30)))","v":""},{"$f":"IF(P30=\"\",\"\",((('Data Ffisegol'!$M31/100)*P30)))","v":""},{"$f":"IF(Q30=\"\",\"\",((('Data Ffisegol'!$M31/100)*Q30)))","v":""},{"$f":"IF(R30=\"\",\"\",((('Data Ffisegol'!$M31/100)*R30)))","v":""},{"$f":"IF(S30=\"\",\"\",((('Data Ffisegol'!$M31/100)*S30)))","v":""}]
[null,null,null,null,null,null,null,"","","","",{"$f":"IF(L31=\"\",\"\",((('Data Ffisegol'!$M32/100)*L31)))","v":""},{"$f":"IF(M31=\"\",\"\",((('Data Ffisegol'!$M32/100)*M31)))","v":""},{"$f":"IF(N31=\"\",\"\",((('Data Ffisegol'!$M32/100)*N31)))","v":""},{"$f":"IF(O31=\"\",\"\",((('Data Ffisegol'!$M32/100)*O31)))","v":""},{"$f":"IF(P31=\"\",\"\",((('Data Ffisegol'!$M32/100)*P31)))","v":""},{"$f":"IF(Q31=\"\",\"\",((('Data Ffisegol'!$M32/100)*Q31)))","v":""},{"$f":"IF(R31=\"\",\"\",((('Data Ffisegol'!$M32/100)*R31)))","v":""},{"$f":"IF(S31=\"\",\"\",((('Data Ffisegol'!$M32/100)*S31)))","v":""}]
[null,null,null,null,null,null,null,"","","","",{"$f":"IF(L32=\"\",\"\",((('Data Ffisegol'!$M33/100)*L32)))","v":""},{"$f":"IF(M32=\"\",\"\",((('Data Ffisegol'!$M33/100)*M32)))","v":""},{"$f":"IF(N32=\"\",\"\",((('Data Ffisegol'!$M33/100)*N32)))","v":""},{"$f":"IF(O32=\"\",\"\",((('Data Ffisegol'!$M33/100)*O32)))","v":""},{"$f":"IF(P32=\"\",\"\",((('Data Ffisegol'!$M33/100)*P32)))","v":""},{"$f":"IF(Q32=\"\",\"\",((('Data Ffisegol'!$M33/100)*Q32)))","v":""},{"$f":"IF(R32=\"\",\"\",((('Data Ffisegol'!$M33/100)*R32)))","v":""},{"$f":"IF(S32=\"\",\"\",((('Data Ffisegol'!$M33/100)*S32)))","v":""}]
[null,null,null,null,null,null,null,"","","","",{"$f":"IF(L33=\"\",\"\",((('Data Ffisegol'!$M34/100)*L33)))","v":""},{"$f":"IF(M33=\"\",\"\",((('Data Ffisegol'!$M34/100)*M33)))","v":""},{"$f":"IF(N33=\"\",\"\",((('Data Ffisegol'!$M34/100)*N33)))","v":""},{"$f":"IF(O33=\"\",\"\",((('Data Ffisegol'!$M34/100)*O33)))","v":""},{"$f":"IF(P33=\"\",\"\",((('Data Ffisegol'!$M34/100)*P33)))","v":""},{"$f":"IF(Q33=\"\",\"\",((('Data Ffisegol'!$M34/100)*Q33)))","v":""},{"$f":"IF(R33=\"\",\"\",((('Data Ffisegol'!$M34/100)*R33)))","v":""},{"$f":"IF(S33=\"\",\"\",((('Data Ffisegol'!$M34/100)*S33)))","v":""}]
[null,null,null,null,null,null,null,"","","","",{"$f":"IF(L34=\"\",\"\",((('Data Ffisegol'!$M35/100)*L34)))","v":""},{"$f":"IF(M34=\"\",\"\",((('Data Ffisegol'!$M35/100)*M34)))","v":""},{"$f":"IF(N34=\"\",\"\",((('Data Ffisegol'!$M35/100)*N34)))","v":""},{"$f":"IF(O34=\"\",\"\",((('Data Ffisegol'!$M35/100)*O34)))","v":""},{"$f":"IF(P34=\"\",\"\",((('Data Ffisegol'!$M35/100)*P34)))","v":""},{"$f":"IF(Q34=\"\",\"\",((('Data Ffisegol'!$M35/100)*Q34)))","v":""},{"$f":"IF(R34=\"\",\"\",((('Data Ffisegol'!$M35/100)*R34)))","v":""},{"$f":"IF(S34=\"\",\"\",((('Data Ffisegol'!$M35/100)*S34)))","v":""}]
[null,null,null,null,null,null,null,"","","","",{"$f":"IF(L35=\"\",\"\",((('Data Ffisegol'!$M36/100)*L35)))","v":""},{"$f":"IF(M35=\"\",\"\",((('Data Ffisegol'!$M36/100)*M35)))","v":""},{"$f":"IF(N35=\"\",\"\",((('Data Ffisegol'!$M36/100)*N35)))","v":""},{"$f":"IF(O35=\"\",\"\",((('Data Ffisegol'!$M36/100)*O35)))","v":""},{"$f":"IF(P35=\"\",\"\",((('Data Ffisegol'!$M36/100)*P35)))","v":""},{"$f":"IF(Q35=\"\",\"\",((('Data Ffisegol'!$M36/100)*Q35)))","v":""},{"$f":"IF(R35=\"\",\"\",((('Data Ffisegol'!$M36/100)*R35)))","v":""},{"$f":"IF(S35=\"\",\"\",((('Data Ffisegol'!$M36/100)*S35)))","v":""}]
[null,null,null,null,null,null,null,"","","","",{"$f":"IF(L36=\"\",\"\",((('Data Ffisegol'!$M37/100)*L36)))","v":""},{"$f":"IF(M36=\"\",\"\",((('Data Ffisegol'!$M37/100)*M36)))","v":""},{"$f":"IF(N36=\"\",\"\",((('Data Ffisegol'!$M37/100)*N36)))","v":""},{"$f":"IF(O36=\"\",\"\",((('Data Ffisegol'!$M37/100)*O36)))","v":""},{"$f":"IF(P36=\"\",\"\",((('Data Ffisegol'!$M37/100)*P36)))","v":""},{"$f":"IF(Q36=\"\",\"\",((('Data Ffisegol'!$M37/100)*Q36)))","v":""},{"$f":"IF(R36=\"\",\"\",((('Data Ffisegol'!$M37/100)*R36)))","v":""},{"$f":"IF(S36=\"\",\"\",((('Data Ffisegol'!$M37/100)*S36)))","v":""}]
[null,null,null,null,null,null,null,"","","","",{"$f":"IF(L37=\"\",\"\",((('Data Ffisegol'!$M38/100)*L37)))","v":""},{"$f":"IF(M37=\"\",\"\",((('Data Ffisegol'!$M38/100)*M37)))","v":""},{"$f":"IF(N37=\"\",\"\",((('Data Ffisegol'!$M38/100)*N37)))","v":""},{"$f":"IF(O37=\"\",\"\",((('Data Ffisegol'!$M38/100)*O37)))","v":""},{"$f":"IF(P37=\"\",\"\",((('Data Ffisegol'!$M38/100)*P37)))","v":""},{"$f":"IF(Q37=\"\",\"\",((('Data Ffisegol'!$M38/100)*Q37)))","v":""},{"$f":"IF(R37=\"\",\"\",((('Data Ffisegol'!$M38/100)*R37)))","v":""},{"$f":"IF(S37=\"\",\"\",((('Data Ffisegol'!$M38/100)*S37)))","v":""}]
[null,null,null,null,null,null,null,null,null,"Averages:",null,{"$f":"IF(COUNT(L48:L77)<1,\"\", AVERAGE(L48:L77))","v":""},"","","","","","",""]
[]
[]
[]
[null,null,null,null,null,null,null,"Removal of excluded areas"]
[]
[null,null,null,null,null,null,null,"Laboratory sample number","Dredge Area","Excluded (y if yes)","Sample ID","Organochlorines as mg/kg wet weight"]
[null,null,null,null,null,null,null,null,null,null,null,"alpha-hexachlorocyclohexane (AHCH)","beta-hexachlorocyclohexane (BHCH)","gamma-hexachlorocyclohexane (GHCH)","Dieldrin","Hexachlorobenzene (HCB)","1,1-Dichloro-2,2-bis(p-chlorophenyl) ethylene (PPDDE)","Dichlorodiphenyltrichloroethane (PPDDT)","1,1-dichloro-2,2-bis(p-chlorophenyl)ethane (PPTDE)"]
[null,null,null,null,null,null,null,{"$f":"IF(H48=\"\",\"\",H48)","v":""},{"$f":"IF($J48=\"y\",\"\",I48)","v":""},"",{"$f":"IF($J48=\"y\",\"\",K48)","v":""},{"$f":"IF($J48=\"y\",\"\",L48)","v":""},{"$f":"IF($J48=\"y\",\"\",M48)","v":""},"","","","","",""]
[null,null,null,null,null,null,null,"","","","",{"$f":"IF($J49=\"y\",\"\",L49)","v":""},"","","","","","",""]
[null,null,null,null,null,null,null,"","","","","","","","","","","",""]
[null,null,null,null,null,null,null,"","","","","","","","","","","",""]
[null,null,null,null,null,null,null,"","","","","","","","","","","",""]
[null,null,null,null,null,null,null,"","","","","","","","","","","",""]
[null,null,null,null,null,null,null,"","","","","","","","","","","",""]
[null,null,null,null,null,null,null,"","","","","","","","","","","",""]
[null,null,null,null,null,null,null,"","","","","","","","","","","",""]
[null,null,null,null,null,null,null,"","","","","","","","","","","",""]
[null,null,null,null,null,null,null,"","","","","","","","","","","",""]
[null,null,null,null,null,null,null,"","","","","","","","","","","",""]
[null,null,null,null,null,null,null,"","","","","","","","","","","",""]
[null,null,null,null,null,null,null,"","","","","","","","","","","",""]
[null,null,null,null,null,null,null,"","","","","","","","","","","",""]
[null,null,null,null,null,null,null,"","","","","","","","","","","",""]
[null,null,null,null,null,null,null,{"$f":"IF(H64=\"\",\"\",H64)","v":""},"","","","","","","","","","",""]
[null,null,null,null,null,null,null,"","","","",{"$f":"IF($J65=\"y\",\"\",L65)","v":""},"","","","","","",""]
[null,null,null,null,null,null,null,"","","","","","","","","","","",""]
[null,null,null,null,null,null,null,"","","","","","","","","","","",""]
[null,null,null,null,null,null,null,"","","","","","","","","","","",""]
[null,null,null,null,null,null,null,"","","","","","","","","","","",""]
[null,null,null,null,null,null,null,"","","","","","","","","","","",""]
[null,null,null,null,null,null,null,"","","","","","","","","","","",""]
[null,null,null,null,null,null,null,"","","","","","","","","","","",""]
[null,null,null,null,null,null,null,"","","","","","","","","","","",""]
[null,null,null,null,null,null,null,"","","","","","","","","","","",""]
[null,null,null,null,null,null,null,"","","","","","","","","","","",""]
[null,null,null,null,null,null,null,"","","","",{"$f":"IF($J76=\"y\",\"\",L76)","v":""},"","","","","","",""]
[null,null,null,null,null,null,null,"","","","","","","","","","","",""]
[null,null,null,null,null,null,null,null,null,"Averages:",null,{"$f":"IF(COUNT(L86:L115)<1,\"\", AVERAGE(L86:L115))","v":""},{"$f":"IF(COUNT(M86:M115)<1,\"\", AVERAGE(M86:M115))","v":""},"","","","","",""]
[]
[]
[]
[null,null,null,null,null,null,null,"Force significant figures"]
[]
[null,null,null,null,null,null,null,"Laboratory sample number","Dredge Area","Excluded (y if yes)","Sample ID","Organochlorines as mg/kg wet weight"]
[null,null,null,null,null,null,null,null,null,null,null,"alpha-hexachlorocyclohexane (AHCH)","beta-hexachlorocyclohexane (BHCH)","gamma-hexachlorocyclohexane (GHCH)","Dieldrin","Hexachlorobenzene (HCB)","1,1-Dichloro-2,2-bis(p-chlorophenyl) ethylene (PPDDE)","Dichlorodiphenyltrichloroethane (PPDDT)","1,1-dichloro-2,2-bis(p-chlorophenyl)ethane (PPTDE)"]
[null,null,null,null,null,null,null,{"$f":"IF(H86=\"\",\"\",H86)","v":""},"","","",{"$f":"IF(L86=\"\",\"\",IF(L86=0,0,(ROUND(L86,3-1-INT(LOG10(ABS(L86)))))))","v":""},{"$f":"IF(M86=\"\",\"\",IF(M86=0,0,(ROUND(M86,3-1-INT(LOG10(ABS(M86)))))))","v":""},"","","","","",""]
[null,null,null,null,null,null,null,{"$f":"IF(H87=\"\",\"\",H87)","v":""},"","","",{"$f":"IF(L87=\"\",\"\",IF(L87=0,0,(ROUND(L87,3-1-INT(LOG10(ABS(L87)))))))","v":""},{"$f":"IF(M87=\"\",\"\",IF(M87=0,0,(ROUND(M87,3-1-INT(LOG10(ABS(M87)))))))","v":""},"","","","","",""]
[null,null,null,null,null,null,null,{"$f":"IF(H88=\"\",\"\",H88)","v":""},"","","",{"$f":"IF(L88=\"\",\"\",IF(L88=0,0,(ROUND(L88,3-1-INT(LOG10(ABS(L88)))))))","v":""},"","","","","","",""]
[null,null,null,null,null,null,null,{"$f":"IF(H89=\"\",\"\",H89)","v":""},"","","",{"$f":"IF(L89=\"\",\"\",IF(L89=0,0,(ROUND(L89,3-1-INT(LOG10(ABS(L89)))))))","v":""},"","","","","","",""]
[null,null,null,null,null,null,null,{"$f":"IF(H90=\"\",\"\",H90)","v":""},"","","",{"$f":"IF(L90=\"\",\"\",IF(L90=0,0,(ROUND(L90,3-1-INT(LOG10(ABS(L90)))))))","v":""},"","","","","","",""]
[null,null,null,null,null,null,null,{"$f":"IF(H91=\"\",\"\",H91)","v":""},"","","",{"$f":"IF(L91=\"\",\"\",IF(L91=0,0,(ROUND(L91,3-1-INT(LOG10(ABS(L91)))))))","v":""},"","","","","","",""]
[null,null,null,null,null,null,null,{"$f":"IF(H92=\"\",\"\",H92)","v":""},"","","",{"$f":"IF(L92=\"\",\"\",IF(L92=0,0,(ROUND(L92,3-1-INT(LOG10(ABS(L92)))))))","v":""},"","","","","","",""]
[null,null,null,null,null,null,null,{"$f":"IF(H93=\"\",\"\",H93)","v":""},"","","",{"$f":"IF(L93=\"\",\"\",IF(L93=0,0,(ROUND(L93,3-1-INT(LOG10(ABS(L93)))))))","v":""},"","","","","","",""]
[null,null,null,null,null,null,null,{"$f":"IF(H94=\"\",\"\",H94)","v":""},"","","",{"$f":"IF(L94=\"\",\"\",IF(L94=0,0,(ROUND(L94,3-1-INT(LOG10(ABS(L94)))))))","v":""},"","","","","","",""]
[null,null,null,null,null,null,null,{"$f":"IF(H95=\"\",\"\",H95)","v":""},"","","",{"$f":"IF(L95=\"\",\"\",IF(L95=0,0,(ROUND(L95,3-1-INT(LOG10(ABS(L95)))))))","v":""},"","","","","","",""]
[null,null,null,null,null,null,null,{"$f":"IF(H96=\"\",\"\",H96)","v":""},"","","",{"$f":"IF(L96=\"\",\"\",IF(L96=0,0,(ROUND(L96,3-1-INT(LOG10(ABS(L96)))))))","v":""},"","","","","","",""]
[null,null,null,null,null,null,null,{"$f":"IF(H97=\"\",\"\",H97)","v":""},"","","",{"$f":"IF(L97=\"\",\"\",IF(L97=0,0,(ROUND(L97,3-1-INT(LOG10(ABS(L97)))))))","v":""},"","","","","","",""]
[null,null,null,null,null,null,null,{"$f":"IF(H98=\"\",\"\",H98)","v":""},"","","",{"$f":"IF(L98=\"\",\"\",IF(L98=0,0,(ROUND(L98,3-1-INT(LOG10(ABS(L98)))))))","v":""},"","","","","","",""]
[null,null,null,null,null,null,null,{"$f":"IF(H99=\"\",\"\",H99)","v":""},"","","",{"$f":"IF(L99=\"\",\"\",IF(L99=0,0,(ROUND(L99,3-1-INT(LOG10(ABS(L99)))))))","v":""},"","","","","","",""]
[null,null,null,null,null,null,null,{"$f":"IF(H100=\"\",\"\",H100)","v":""},"","","",{"$f":"IF(L100=\"\",\"\",IF(L100=0,0,(ROUND(L100,3-1-INT(LOG10(ABS(L100)))))))","v":""},"","","","","","",""]
[null,null,null,null,null,null,null,{"$f":"IF(H101=\"\",\"\",H101)","v":""},"","","",{"$f":"IF(L101=\"\",\"\",IF(L101=0,0,(ROUND(L101,3-1-INT(LOG10(ABS(L101)))))))","v":""},"","","","","","",""]
[null,null,null,null,null,null,null,{"$f":"IF(H102=\"\",\"\",H102)","v":""},"","","",{"$f":"IF(L102=\"\",\"\",IF(L102=0,0,(ROUND(L102,3-1-INT(LOG10(ABS(L102)))))))","v":""},"","","","","","",""]
[null,null,null,null,null,null,null,{"$f":"IF(H103=\"\",\"\",H103)","v":""},"","","",{"$f":"IF(L103=\"\",\"\",IF(L103=0,0,(ROUND(L103,3-1-INT(LOG10(ABS(L103)))))))","v":""},"","","","","","",""]
[null,null,null,null,null,null,null,{"$f":"IF(H104=\"\",\"\",H104)","v":""},"","","",{"$f":"IF(L104=\"\",\"\",IF(L104=0,0,(ROUND(L104,3-1-INT(LOG10(ABS(L104)))))))","v":""},"","","","","","",""]
[null,null,null,null,null,null,null,{"$f":"IF(H105=\"\",\"\",H105)","v":""},"","","",{"$f":"IF(L105=\"\",\"\",IF(L105=0,0,(ROUND(L105,3-1-INT(LOG10(ABS(L105)))))))","v":""},"","","","","","",""]
[null,null,null,null,null,null,null,{"$f":"IF(H106=\"\",\"\",H106)","v":""},"","","",{"$f":"IF(L106=\"\",\"\",IF(L106=0,0,(ROUND(L106,3-1-INT(LOG10(ABS(L106)))))))","v":""},"","","","","","",""]
[null,null,null,null,null,null,null,{"$f":"IF(H107=\"\",\"\",H107)","v":""},"","","",{"$f":"IF(L107=\"\",\"\",IF(L107=0,0,(ROUND(L107,3-1-INT(LOG10(ABS(L107)))))))","v":""},"","","","","","",""]
[null,null,null,null,null,null,null,{"$f":"IF(H108=\"\",\"\",H108)","v":""},"","","",{"$f":"IF(L108=\"\",\"\",IF(L108=0,0,(ROUND(L108,3-1-INT(LOG10(ABS(L108)))))))","v":""},"","","","","","",""]
[null,null,null,null,null,null,null,{"$f":"IF(H109=\"\",\"\",H109)","v":""},"","","",{"$f":"IF(L109=\"\",\"\",IF(L109=0,0,(ROUND(L109,3-1-INT(LOG10(ABS(L109)))))))","v":""},"","","","","","",""]
[null,null,null,null,null,null,null,{"$f":"IF(H110=\"\",\"\",H110)","v":""},"","","",{"$f":"IF(L110=\"\",\"\",IF(L110=0,0,(ROUND(L110,3-1-INT(LOG10(ABS(L110)))))))","v":""},"","","","","","",""]
[null,null,null,null,null,null,null,{"$f":"IF(H111=\"\",\"\",H111)","v":""},"","","",{"$f":"IF(L111=\"\",\"\",IF(L111=0,0,(ROUND(L111,3-1-INT(LOG10(ABS(L111)))))))","v":""},"","","","","","",""]
[null,null,null,null,null,null,null,{"$f":"IF(H112=\"\",\"\",H112)","v":""},"","","",{"$f":"IF(L112=\"\",\"\",IF(L112=0,0,(ROUND(L112,3-1-INT(LOG10(ABS(L112)))))))","v":""},"","","","","","",""]
[null,null,null,null,null,null,null,{"$f":"IF(H113=\"\",\"\",H113)","v":""},"","","",{"$f":"IF(L113=\"\",\"\",IF(L113=0,0,(ROUND(L113,3-1-INT(LOG10(ABS(L113)))))))","v":""},"","","","","","",""]
[null,null,null,null,null,null,null,{"$f":"IF(H114=\"\",\"\",H114)","v":""},"","","",{"$f":"IF(L114=\"\",\"\",IF(L114=0,0,(ROUND(L114,3-1-INT(LOG10(ABS(L114)))))))","v":""},"","","","","","",""]
[null,null,null,null,null,null,null,{"$f":"IF(H115=\"\",\"\",H115)","v":""},"","","",{"$f":"IF(L115=\"\",\"\",IF(L115=0,0,(ROUND(L115,3-1-INT(LOG10(ABS(L115)))))))","v":""},"","","","","","",""]
[null,null,null,null,null,null,null,null,null,"Averages:",null,{"$f":"IF(COUNT(L124:L153)<1,\"\", AVERAGE(L124:L153))","v":""},{"$f":"IF(COUNT(M124:M153)<1,\"\", AVERAGE(M124:M153))","v":""},"","","","","",""]
[]
[]
[]
[null,null,null,null,null,null,null,"Average of dredge areas"]
[]
[null,null,null,null,null,null,null,null,null,null,"Dredge Area","Organochlorines as mg/kg wet weight"]
[null,null,null,null,null,null,null,null,null,null,null,"alpha-hexachlorocyclohexane (AHCH)","beta-hexachlorocyclohexane (BHCH)","gamma-hexachlorocyclohexane (GHCH)","Dieldrin","Hexachlorobenzene (HCB)","1,1-Dichloro-2,2-bis(p-chlorophenyl) ethylene (PPDDE)","Dichlorodiphenyltrichloroethane (PPDDT)","1,1-dichloro-2,2-bis(p-chlorophenyl)ethane (PPTDE)"]
[null,null,null,null,null,null,null,null,null,null,"Area i",{"$f":"IF(COUNTIF($I$124:$I$153,\"Area i\")<1,\"\",AVERAGEIF($I$124:$I$153,\"Area i\",L$124:L$153))","v":""},{"$f":"IF(COUNTIF($I$124:$I$153,\"Area i\")<1,\"\",AVERAGEIF($I$124:$I$153,\"Area i\",M$124:M$153))","v":""},"","","","","",""]
[null,null,null,null,null,null,null,null,null,null,"Area ii",{"$f":"IF(COUNTIF($I$124:$I$153,\"Area ii\")<1,\"\",AVERAGEIF($I$124:$I$153,\"Area ii\",L$124:L$153))","v":""},{"$f":"IF(COUNTIF($I$124:$I$153,\"Area ii\")<1,\"\",AVERAGEIF($I$124:$I$153,\"Area ii\",M$124:M$153))","v":""},"","","","","",""]
[null,null,null,null,null,null,null,null,null,null,"Area iii",{"$f":"IF(COUNTIF($I$124:$I$153,\"Area iii\")<1,\"\",AVERAGEIF($I$124:$I$153,\"Area iii\",L$124:L$153))","v":""},{"$f":"IF(COUNTIF($I$124:$I$153,\"Area iii\")<1,\"\",AVERAGEIF($I$124:$I$153,\"Area iii\",M$124:M$153))","v":""},"","","","","",""]
[null,null,null,null,null,null,null,null,null,null,"Area iv",{"$f":"IF(COUNTIF($I$124:$I$153,\"Area iv\")<1,\"\",AVERAGEIF($I$124:$I$153,\"Area iv\",L$124:L$153))","v":""},{"$f":"IF(COUNTIF($I$124:$I$153,\"Area iv\")<1,\"\",AVERAGEIF($I$124:$I$153,\"Area iv\",M$124:M$153))","v":""},"","","","","",""]
[null,null,null,null,null,null,null,null,null,null,"Area v",{"$f":"IF(COUNTIF($I$124:$I$153,\"Area v\")<1,\"\",AVERAGEIF($I$124:$I$153,\"Area v\",L$124:L$153))","v":""},{"$f":"IF(COUNTIF($I$124:$I$153,\"Area v\")<1,\"\",AVERAGEIF($I$124:$I$153,\"Area v\",M$124:M$153))","v":""},"","","","","",""]
[null,null,null,null,null,null,null,null,null,null,"Area vi",{"$f":"IF(COUNTIF($I$124:$I$153,\"Area vi\")<1,\"\",AVERAGEIF($I$124:$I$153,\"Area vi\",L$124:L$153))","v":""},{"$f":"IF(COUNTIF($I$124:$I$153,\"Area vi\")<1,\"\",AVERAGEIF($I$124:$I$153,\"Area vi\",M$124:M$153))","v":""},"","","","","",""]
[null,null,null,null,null,null,null,null,null,null,"Averages:",{"$f":"IF(COUNT(L162:L167)<1,\"\", AVERAGE(L162:L167))","v":""},"","","","","","",""]
[]
[]
[null,null,null,null,null,null,null,null,null,null,null,null,null,null,null," "]
[null,null,null,null,null,null,null,"PR weightings (dredge area averages multiplied by dredge area tonnage)"]
[]
[null,null,null,null,null,null,null,null,null,null,"Dredge Area","Organochlorines as mg/kg wet weight"]
[null,null,null,null,null,null,null,null,null,null,null,"alpha-hexachlorocyclohexane (AHCH)","beta-hexachlorocyclohexane (BHCH)","gamma-hexachlorocyclohexane (GHCH)","Dieldrin","Hexachlorobenzene (HCB)","1,1-Dichloro-2,2-bis(p-chlorophenyl) ethylene (PPDDE)","Dichlorodiphenyltrichloroethane (PPDDT)","1,1-dichloro-2,2-bis(p-chlorophenyl)ethane (PPTDE)"]
[null,null,null,null,null,null,null,null,null,null,{"$f":"K162","v":"Area i"},{"$f":"IF(L162=\"\",\"\",L162*'PR details'!$G4)","v":""},{"$f":"IF(M162=\"\",\"\",M162*'PR details'!$G4)","v":""},{"$f":"IF(N162=\"\",\"\",N162*'PR details'!$G4)","v":""},{"$f":"IF(O162=\"\",\"\",O162*'PR details'!$G4)","v":""},{"$f":"IF(P162=\"\",\"\",P162*'PR details'!$G4)","v":""},{"$f":"IF(Q162=\"\",\"\",Q162*'PR details'!$G4)","v":""},{"$f":"IF(R162=\"\",\"\",R162*'PR details'!$G4)","v":""},{"$f":"IF(S162=\"\",\"\",S162*'PR details'!$G4)","v":""}]
[null,null,null,null,null,null,null,null,null,null,"Area ii",{"$f":"IF(L163=\"\",\"\",L163*'PR details'!$G5)","v":""},{"$f":"IF(M163=\"\",\"\",M163*'PR details'!$G5)","v":""},{"$f":"IF(N163=\"\",\"\",N163*'PR details'!$G5)","v":""},{"$f":"IF(O163=\"\",\"\",O163*'PR details'!$G5)","v":""},{"$f":"IF(P163=\"\",\"\",P163*'PR details'!$G5)","v":""},{"$f":"IF(Q163=\"\",\"\",Q163*'PR details'!$G5)","v":""},{"$f":"IF(R163=\"\",\"\",R163*'PR details'!$G5)","v":""},{"$f":"IF(S163=\"\",\"\",S163*'PR details'!$G5)","v":""}]
[null,null,null,null,null,null,null,null,null,null,"Area iii",{"$f":"IF(L164=\"\",\"\",L164*'PR details'!$G6)","v":""},{"$f":"IF(M164=\"\",\"\",M164*'PR details'!$G6)","v":""},{"$f":"IF(N164=\"\",\"\",N164*'PR details'!$G6)","v":""},{"$f":"IF(O164=\"\",\"\",O164*'PR details'!$G6)","v":""},{"$f":"IF(P164=\"\",\"\",P164*'PR details'!$G6)","v":""},{"$f":"IF(Q164=\"\",\"\",Q164*'PR details'!$G6)","v":""},{"$f":"IF(R164=\"\",\"\",R164*'PR details'!$G6)","v":""},{"$f":"IF(S164=\"\",\"\",S164*'PR details'!$G6)","v":""}]
[null,null,null,null,null,null,null,null,null,null,"Area iv",{"$f":"IF(L165=\"\",\"\",L165*'PR details'!$G7)","v":""},{"$f":"IF(M165=\"\",\"\",M165*'PR details'!$G7)","v":""},{"$f":"IF(N165=\"\",\"\",N165*'PR details'!$G7)","v":""},{"$f":"IF(O165=\"\",\"\",O165*'PR details'!$G7)","v":""},{"$f":"IF(P165=\"\",\"\",P165*'PR details'!$G7)","v":""},{"$f":"IF(Q165=\"\",\"\",Q165*'PR details'!$G7)","v":""},{"$f":"IF(R165=\"\",\"\",R165*'PR details'!$G7)","v":""},{"$f":"IF(S165=\"\",\"\",S165*'PR details'!$G7)","v":""}]
[null,null,null,null,null,null,null,null,null,null,"Area v",{"$f":"IF(L166=\"\",\"\",L166*'PR details'!$G8)","v":""},{"$f":"IF(M166=\"\",\"\",M166*'PR details'!$G8)","v":""},{"$f":"IF(N166=\"\",\"\",N166*'PR details'!$G8)","v":""},{"$f":"IF(O166=\"\",\"\",O166*'PR details'!$G8)","v":""},{"$f":"IF(P166=\"\",\"\",P166*'PR details'!$G8)","v":""},{"$f":"IF(Q166=\"\",\"\",Q166*'PR details'!$G8)","v":""},{"$f":"IF(R166=\"\",\"\",R166*'PR details'!$G8)","v":""},{"$f":"IF(S166=\"\",\"\",S166*'PR details'!$G8)","v":""}]
[null,null,null,null,null,null,null,null,null,null,"Area vi",{"$f":"IF(L167=\"\",\"\",L167*'PR details'!$G9)","v":""},{"$f":"IF(M167=\"\",\"\",M167*'PR details'!$G9)","v":""},{"$f":"IF(N167=\"\",\"\",N167*'PR details'!$G9)","v":""},{"$f":"IF(O167=\"\",\"\",O167*'PR details'!$G9)","v":""},{"$f":"IF(P167=\"\",\"\",P167*'PR details'!$G9)","v":""},{"$f":"IF(Q167=\"\",\"\",Q167*'PR details'!$G9)","v":""},{"$f":"IF(R167=\"\",\"\",R167*'PR details'!$G9)","v":""},{"$f":"IF(S167=\"\",\"\",S167*'PR details'!$G9)","v":""}]
[]
[]
[]
[null,null,null,null,null,null,null,"PR average"]
[]
[null,null,null,null,null,null,null,null,null,null,null,"Organochlorines as mg/kg wet weight"]
[null,null,null,null,null,null,null,null,null,null,null,"alpha-hexachlorocyclohexane (AHCH)","beta-hexachlorocyclohexane (BHCH)","gamma-hexachlorocyclohexane (GHCH)","Dieldrin","Hexachlorobenzene (HCB)","1,1-Dichloro-2,2-bis(p-chlorophenyl) ethylene (PPDDE)","Dichlorodiphenyltrichloroethane (PPDDT)","1,1-dichloro-2,2-bis(p-chlorophenyl)ethane (PPTDE)"]
[null,null,null,null,null,null,null,null,null,null,null,{"$f":"IF(COUNT(L176:L181)<1,\"\",SUM(L176:L181))","v":""},"","","","","","",""]

{"sheet":"BDE calcs","index":16,"n_rows":189,"n_cols":23,"rows_kept":189,"cut":false,"hidden":true,"merged":[[186,11,186,22],[159,11,159,22],[173,7,174,7],[173,9,174,9],[173,10,174,10],[173,11,173,22],[186,7,188,10],[159,7,167,9],[83,11,83,22],[5,11,5,22],[45,7,46,7],[45,8,46,8],[45,9,46,9],[45,10,46,10],[45,11,45,22],[5,7,6,7],[5,8,6,8],[5,9,6,9],[5,10,6,10],[83,7,84,7],[83,8,84,8],[83,9,84,9],[83,10,84,10],[121,7,122,7],[121,8,122,8],[121,9,122,9],[121,10,122,10],[121,11,121,22]]}
[]
[null,"Brominated flame retardant summary information"]
[]
[null,"Analysis information:",null,null,null,null,null,"determinand analysis outputs - adjusted for limits of detection"]
[]
[null,null,"Applicant:",{"$f":"IF('Gwybodaeth ymgeiswyr'!E15=\"\",\"\",'Gwybodaeth ymgeiswyr'!E15)","v":""},null,null,null,"Laboratory sample number","Dredge Area","Excluded (y if yes)","Sample ID","Brominated flame retardants as mg/kg dry weight"]
[null,null,"Application number:",{"$f":"IF('Gwybodaeth ymgeiswyr'!E16=\"\",\"\",'Gwybodaeth ymgeiswyr'!E16)","v":""},null,null,null,null,null,null,null,"2,2′,4,4′,6-penta-\n bromodiphenyl ether (BDE100)","Hexabromodiphenyl ether (BDE138) ","2,2′,4,4′,5,5′-hexa-\n bromodiphenyl ether (BDE153)","2,2′,4,4′,5,6′-hexa-bromodiphenyl ether (BDE154)","2,2´,4-tri-bromodiphenylether (BDE17)","2,2′,3,4,4′,5′,6-heptabromodiphenyl ether (BDE183)","2,2',3,3',4,4',5,5',6,6'-decabrominated diphenyl ether (BDE 209)","2,4,4'-tribromodiphenyl ether (BDE28)","2,2′,4,4′-Tetrabromodiphenyl ether (BDE47) ","2,3',4,4'-Tetrabromodiphenyl ether (BDE66)","2,2',3,4,4'-Pentabromodiphenyl ether  (BDE85)","2,2',4,4',5-pentabromodiphenyl ether   (BDE99)"]
[null,null,"Application title:",{"$f":"IF('Gwybodaeth ymgeiswyr'!E17=\"\",\"\",'Gwybodaeth ymgeiswyr'!E17)","v":""},null,null,null,{"$f":"IF('Data BDE'!H8=\"\",\"\",'Data BDE'!H8)","v":""},{"$f":"IF('Data BDE'!I8=\"\",\"\",'Data BDE'!I8)","v":""},{"$f":"IFERROR(IF(K8=\"\",\"\",(IF(VLOOKUP(K8,'Gwybodaeth ymgeiswyr'!$K$8:$L$37,2,0)=\"y\",\"y\",\"\"))),\"Manual entry required\")","v":""},{"$f":"IF('Data BDE'!J8=\"\",\"\",'Data BDE'!J8)","v":""},{"$f":"IF('Data BDE'!K8=\"\",\"\",IF(ISNUMBER('Data BDE'!K8)=TRUE, IF('Data BDE'!K8<'Data BDE'!K$38, \"ERROR\", 'Data BDE'!K8), IF('Data BDE'!K8=\"<LOD\",'Data BDE'!K$38, \"ERROR\")))","v":""},{"$f":"IF('Data BDE'!L8=\"\",\"\",IF(ISNUMBER('Data BDE'!L8)=TRUE, IF('Data BDE'!L8<'Data BDE'!L$38, \"ERROR\", 'Data BDE'!L8), IF('Data BDE'!L8=\"<LOD\",'Data BDE'!L$38, \"ERROR\")))","v":""},{"$f":"IF('Data BDE'!M8=\"\",\"\",IF(ISNUMBER('Data BDE'!M8)=TRUE, IF('Data BDE'!M8<'Data BDE'!M$38, \"ERROR\", 'Data BDE'!M8), IF('Data BDE'!M8=\"<LOD\",'Data BDE'!M$38, \"ERROR\")))","v":""},{"$f":"IF('Data BDE'!N8=\"\",\"\",IF(ISNUMBER('Data BDE'!N8)=TRUE, IF('Data BDE'!N8<'Data BDE'!N$38, \"ERROR\", 'Data BDE'!N8), IF('Data BDE'!N8=\"<LOD\",'Data BDE'!N$38, \"ERROR\")))","v":""},{"$f":"IF('Data BDE'!O8=\"\",\"\",IF(ISNUMBER('Data BDE'!O8)=TRUE, IF('Data BDE'!O8<'Data BDE'!O$38, \"ERROR\", 'Data BDE'!O8), IF('Data BDE'!O8=\"<LOD\",'Data BDE'!O$38, \"ERROR\")))","v":""},{"$f":"IF('Data BDE'!P8=\"\",\"\",IF(ISNUMBER('Data BDE'!P8)=TRUE, IF('Data BDE'!P8<'Data BDE'!P$38, \"ERROR\", 'Data BDE'!P8), IF('Data BDE'!P8=\"<LOD\",'Data BDE'!P$38, \"ERROR\")))","v":""},{"$f":"IF('Data BDE'!Q8=\"\",\"\",IF(ISNUMBER('Data BDE'!Q8)=TRUE, IF('Data BDE'!Q8<'Data BDE'!Q$38, \"ERROR\", 'Data BDE'!Q8), IF('Data BDE'!Q8=\"<LOD\",'Data BDE'!Q$38, \"ERROR\")))","v":""},{"$f":"IF('Data BDE'!R8=\"\",\"\",IF(ISNUMBER('Data BDE'!R8)=TRUE, IF('Data BDE'!R8<'Data BDE'!R$38, \"ERROR\", 'Data BDE'!R8), IF('Data BDE'!R8=\"<LOD\",'Data BDE'!R$38, \"ERROR\")))","v":""},{"$f":"IF('Data BDE'!S8=\"\",\"\",IF(ISNUMBER('Data BDE'!S8)=TRUE, IF('Data BDE'!S8<'Data BDE'!S$38, \"ERROR\", 'Data BDE'!S8), IF('Data BDE'!S8=\"<LOD\",'Data BDE'!S$38, \"ERROR\")))","v":""},{"$f":"IF('Data BDE'!T8=\"\",\"\",IF(ISNUMBER('Data BDE'!T8)=TRUE, IF('Data BDE'!T8<'Data BDE'!T$38, \"ERROR\", 'Data BDE'!T8), IF('Data BDE'!T8=\"<LOD\",'Data BDE'!T$38, \"ERROR\")))","v":""},{"$f":"IF('Data BDE'!U8=\"\",\"\",IF(ISNUMBER('Data BDE'!U8)=TRUE, IF('Data BDE'!U8<'Data BDE'!U$38, \"ERROR\", 'Data BDE'!U8), IF('Data BDE'!U8=\"<LOD\",'Data BDE'!U$38, \"ERROR\")))","v":""},{"$f":"IF('Data BDE'!V8=\"\",\"\",IF(ISNUMBER('Data BDE'!V8)=TRUE, IF('Data BDE'!V8<'Data BDE'!V$38, \"ERROR\", 'Data BDE'!V8), IF('Data BDE'!V8=\"<LOD\",'Data BDE'!V$38, \"ERROR\")))","v":""}]
[null,null,"Date sampled:",{"$f":"IF('Gwybodaeth ymgeiswyr'!E18=\"\",\"\",'Gwybodaeth ymgeiswyr'!E18)","v":""},null,null,null,{"$f":"IF('Data BDE'!H9=\"\",\"\",'Data BDE'!H9)","v":""},{"$f":"IF('Data BDE'!I9=\"\",\"\",'Data BDE'!I9)","v":""},{"$f":"IFERROR(IF(K9=\"\",\"\",(IF(VLOOKUP(K9,'Gwybodaeth ymgeiswyr'!$K$8:$L$37,2,0)=\"y\",\"y\",\"\"))),\"Manual entry required\")","v":""},{"$f":"IF('Data BDE'!J9=\"\",\"\",'Data BDE'!J9)","v":""},{"$f":"IF('Data BDE'!K9=\"\",\"\",IF(ISNUMBER('Data BDE'!K9)=TRUE, IF('Data BDE'!K9<'Data BDE'!K$38, \"ERROR\", 'Data BDE'!K9), IF('Data BDE'!K9=\"<LOD\",'Data BDE'!K$38, \"ERROR\")))","v":""},{"$f":"IF('Data BDE'!L9=\"\",\"\",IF(ISNUMBER('Data BDE'!L9)=TRUE, IF('Data BDE'!L9<'Data BDE'!L$38, \"ERROR\", 'Data BDE'!L9), IF('Data BDE'!L9=\"<LOD\",'Data BDE'!L$38, \"ERROR\")))","v":""},{"$f":"IF('Data BDE'!M9=\"\",\"\",IF(ISNUMBER('Data BDE'!M9)=TRUE, IF('Data BDE'!M9<'Data BDE'!M$38, \"ERROR\", 'Data BDE'!M9), IF('Data BDE'!M9=\"<LOD\",'Data BDE'!M$38, \"ERROR\")))","v":""},{"$f":"IF('Data BDE'!N9=\"\",\"\",IF(ISNUMBER('Data BDE'!N9)=TRUE, IF('Data BDE'!N9<'Data BDE'!N$38, \"ERROR\", 'Data BDE'!N9), IF('Data BDE'!N9=\"<LOD\",'Data BDE'!N$38, \"ERROR\")))","v":""},{"$f":"IF('Data BDE'!O9=\"\",\"\",IF(ISNUMBER('Data BDE'!O9)=TRUE, IF('Data BDE'!O9<'Data BDE'!O$38, \"ERROR\", 'Data BDE'!O9), IF('Data BDE'!O9=\"<LOD\",'Data BDE'!O$38, \"ERROR\")))","v":""},{"$f":"IF('Data BDE'!P9=\"\",\"\",IF(ISNUMBER('Data BDE'!P9)=TRUE, IF('Data BDE'!P9<'Data BDE'!P$38, \"ERROR\", 'Data BDE'!P9), IF('Data BDE'!P9=\"<LOD\",'Data BDE'!P$38, \"ERROR\")))","v":""},{"$f":"IF('Data BDE'!Q9=\"\",\"\",IF(ISNUMBER('Data BDE'!Q9)=TRUE, IF('Data BDE'!Q9<'Data BDE'!Q$38, \"ERROR\", 'Data BDE'!Q9), IF('Data BDE'!Q9=\"<LOD\",'Data BDE'!Q$38, \"ERROR\")))","v":""},{"$f":"IF('Data BDE'!R9=\"\",\"\",IF(ISNUMBER('Data BDE'!R9)=TRUE, IF('Data BDE'!R9<'Data BDE'!R$38, \"ERROR\", 'Data BDE'!R9), IF('Data BDE'!R9=\"<LOD\",'Data BDE'!R$38, \"ERROR\")))","v":""},{"$f":"IF('Data BDE'!S9=\"\",\"\",IF(ISNUMBER('Data BDE'!S9)=TRUE, IF('Data BDE'!S9<'Data BDE'!S$38, \"ERROR\", 'Data BDE'!S9), IF('Data BDE'!S9=\"<LOD\",'Data BDE'!S$38, \"ERROR\")))","v":""},{"$f":"IF('Data BDE'!T9=\"\",\"\",IF(ISNUMBER('Data BDE'!T9)=TRUE, IF('Data BDE'!T9<'Data BDE'!T$38, \"ERROR\", 'Data BDE'!T9), IF('Data BDE'!T9=\"<LOD\",'Data BDE'!T$38, \"ERROR\")))","v":""},{"$f":"IF('Data BDE'!U9=\"\",\"\",IF(ISNUMBER('Data BDE'!U9)=TRUE, IF('Data BDE'!U9<'Data BDE'!U$38, \"ERROR\", 'Data BDE'!U9), IF('Data BDE'!U9=\"<LOD\",'Data BDE'!U$38, \"ERROR\")))","v":""},{"$f":"IF('Data BDE'!V9=\"\",\"\",IF(ISNUMBER('Data BDE'!V9)=TRUE, IF('Data BDE'!V9<'Data BDE'!V$38, \"ERROR\", 'Data BDE'!V9), IF('Data BDE'!V9=\"<LOD\",'Data BDE'!V$38, \"ERROR\")))","v":""}]
[null,null,"Sampling location:",{"$f":"IF('Gwybodaeth ymgeiswyr'!E19=\"\",\"\",'Gwybodaeth ymgeiswyr'!E19)","v":""},null,null,null,{"$f":"IF('Data BDE'!H10=\"\",\"\",'Data BDE'!H10)","v":""},{"$f":"IF('Data BDE'!I10=\"\",\"\",'Data BDE'!I10)","v":""},{"$f":"IFERROR(IF(K10=\"\",\"\",(IF(VLOOKUP(K10,'Gwybodaeth ymgeiswyr'!$K$8:$L$37,2,0)=\"y\",\"y\",\"\"))),\"Manual entry required\")","v":""},{"$f":"IF('Data BDE'!J10=\"\",\"\",'Data BDE'!J10)","v":""},{"$f":"IF('Data BDE'!K10=\"\",\"\",IF(ISNUMBER('Data BDE'!K10)=TRUE, IF('Data BDE'!K10<'Data BDE'!K$38, \"ERROR\", 'Data BDE'!K10), IF('Data BDE'!K10=\"<LOD\",'Data BDE'!K$38, \"ERROR\")))","v":""},{"$f":"IF('Data BDE'!L10=\"\",\"\",IF(ISNUMBER('Data BDE'!L10)=TRUE, IF('Data BDE'!L10<'Data BDE'!L$38, \"ERROR\", 'Data BDE'!L10), IF('Data BDE'!L10=\"<LOD\",'Data BDE'!L$38, \"ERROR\")))","v":""},{"$f":"IF('Data BDE'!M10=\"\",\"\",IF(ISNUMBER('Data BDE'!M10)=TRUE, IF('Data BDE'!M10<'Data BDE'!M$38, \"ERROR\", 'Data BDE'!M10), IF('Data BDE'!M10=\"<LOD\",'Data BDE'!M$38, \"ERROR\")))","v":""},{"$f":"IF('Data BDE'!N10=\"\",\"\",IF(ISNUMBER('Data BDE'!N10)=TRUE, IF('Data BDE'!N10<'Data BDE'!N$38, \"ERROR\", 'Data BDE'!N10), IF('Data BDE'!N10=\"<LOD\",'Data BDE'!N$38, \"ERROR\")))","v":""},{"$f":"IF('Data BDE'!O10=\"\",\"\",IF(ISNUMBER('Data BDE'!O10)=TRUE, IF('Data BDE'!O10<'Data BDE'!O$38, \"ERROR\", 'Data BDE'!O10), IF('Data BDE'!O10=\"<LOD\",'Data BDE'!O$38, \"ERROR\")))","v":""},{"$f":"IF('Data BDE'!P10=\"\",\"\",IF(ISNUMBER('Data BDE'!P10)=TRUE, IF('Data BDE'!P10<'Data BDE'!P$38, \"ERROR\", 'Data BDE'!P10), IF('Data BDE'!P10=\"<LOD\",'Data BDE'!P$38, \"ERROR\")))","v":""},{"$f":"IF('Data BDE'!Q10=\"\",\"\",IF(ISNUMBER('Data BDE'!Q10)=TRUE, IF('Data BDE'!Q10<'Data BDE'!Q$38, \"ERROR\", 'Data BDE'!Q10), IF('Data BDE'!Q10=\"<LOD\",'Data BDE'!Q$38, \"ERROR\")))","v":""},{"$f":"IF('Data BDE'!R10=\"\",\"\",IF(ISNUMBER('Data BDE'!R10)=TRUE, IF('Data BDE'!R10<'Data BDE'!R$38, \"ERROR\", 'Data BDE'!R10), IF('Data BDE'!R10=\"<LOD\",'Data BDE'!R$38, \"ERROR\")))","v":""},{"$f":"IF('Data BDE'!S10=\"\",\"\",IF(ISNUMBER('Data BDE'!S10)=TRUE, IF('Data BDE'!S10<'Data BDE'!S$38, \"ERROR\", 'Data BDE'!S10), IF('Data BDE'!S10=\"<LOD\",'Data BDE'!S$38, \"ERROR\")))","v":""},{"$f":"IF('Data BDE'!T10=\"\",\"\",IF(ISNUMBER('Data BDE'!T10)=TRUE, IF('Data BDE'!T10<'Data BDE'!T$38, \"ERROR\", 'Data BDE'!T10), IF('Data BDE'!T10=\"<LOD\",'Data BDE'!T$38, \"ERROR\")))","v":""},{"$f":"IF('Data BDE'!U10=\"\",\"\",IF(ISNUMBER('Data BDE'!U10)=TRUE, IF('Data BDE'!U10<'Data BDE'!U$38, \"ERROR\", 'Data BDE'!U10), IF('Data BDE'!U10=\"<LOD\",'Data BDE'!U$38, \"ERROR\")))","v":""},{"$f":"IF('Data BDE'!V10=\"\",\"\",IF(ISNUMBER('Data BDE'!V10)=TRUE, IF('Data BDE'!V10<'Data BDE'!V$38, \"ERROR\", 'Data BDE'!V10), IF('Data BDE'!V10=\"<LOD\",'Data BDE'!V$38, \"ERROR\")))","v":""}]
[null,null,null,null,null,null,null,{"$f":"IF('Data BDE'!H11=\"\",\"\",'Data BDE'!H11)","v":""},{"$f":"IF('Data BDE'!I11=\"\",\"\",'Data BDE'!I11)","v":""},{"$f":"IFERROR(IF(K11=\"\",\"\",(IF(VLOOKUP(K11,'Gwybodaeth ymgeiswyr'!$K$8:$L$37,2,0)=\"y\",\"y\",\"\"))),\"Manual entry required\")","v":""},{"$f":"IF('Data BDE'!J11=\"\",\"\",'Data BDE'!J11)","v":""},{"$f":"IF('Data BDE'!K11=\"\",\"\",IF(ISNUMBER('Data BDE'!K11)=TRUE, IF('Data BDE'!K11<'Data BDE'!K$38, \"ERROR\", 'Data BDE'!K11), IF('Data BDE'!K11=\"<LOD\",'Data BDE'!K$38, \"ERROR\")))","v":""},{"$f":"IF('Data BDE'!L11=\"\",\"\",IF(ISNUMBER('Data BDE'!L11)=TRUE, IF('Data BDE'!L11<'Data BDE'!L$38, \"ERROR\", 'Data BDE'!L11), IF('Data BDE'!L11=\"<LOD\",'Data BDE'!L$38, \"ERROR\")))","v":""},{"$f":"IF('Data BDE'!M11=\"\",\"\",IF(ISNUMBER('Data BDE'!M11)=TRUE, IF('Data BDE'!M11<'Data BDE'!M$38, \"ERROR\", 'Data BDE'!M11), IF('Data BDE'!M11=\"<LOD\",'Data BDE'!M$38, \"ERROR\")))","v":""},{"$f":"IF('Data BDE'!N11=\"\",\"\",IF(ISNUMBER('Data BDE'!N11)=TRUE, IF('Data BDE'!N11<'Data BDE'!N$38, \"ERROR\", 'Data BDE'!N11), IF('Data BDE'!N11=\"<LOD\",'Data BDE'!N$38, \"ERROR\")))","v":""},{"$f":"IF('Data BDE'!O11=\"\",\"\",IF(ISNUMBER('Data BDE'!O11)=TRUE, IF('Data BDE'!O11<'Data BDE'!O$38, \"ERROR\", 'Data BDE'!O11), IF('Data BDE'!O11=\"<LOD\",'Data BDE'!O$38, \"ERROR\")))","v":""},{"$f":"IF('Data BDE'!P11=\"\",\"\",IF(ISNUMBER('Data BDE'!P11)=TRUE, IF('Data BDE'!P11<'Data BDE'!P$38, \"ERROR\", 'Data BDE'!P11), IF('Data BDE'!P11=\"<LOD\",'Data BDE'!P$38, \"ERROR\")))","v":""},{"$f":"IF('Data BDE'!Q11=\"\",\"\",IF(ISNUMBER('Data BDE'!Q11)=TRUE, IF('Data BDE'!Q11<'Data BDE'!Q$38, \"ERROR\", 'Data BDE'!Q11), IF('Data BDE'!Q11=\"<LOD\",'Data BDE'!Q$38, \"ERROR\")))","v":""},{"$f":"IF('Data BDE'!R11=\"\",\"\",IF(ISNUMBER('Data BDE'!R11)=TRUE, IF('Data BDE'!R11<'Data BDE'!R$38, \"ERROR\", 'Data BDE'!R11), IF('Data BDE'!R11=\"<LOD\",'Data BDE'!R$38, \"ERROR\")))","v":""},{"$f":"IF('Data BDE'!S11=\"\",\"\",IF(ISNUMBER('Data BDE'!S11)=TRUE, IF('Data BDE'!S11<'Data BDE'!S$38, \"ERROR\", 'Data BDE'!S11), IF('Data BDE'!S11=\"<LOD\",'Data BDE'!S$38, \"ERROR\")))","v":""},{"$f":"IF('Data BDE'!T11=\"\",\"\",IF(ISNUMBER('Data BDE'!T11)=TRUE, IF('Data BDE'!T11<'Data BDE'!T$38, \"ERROR\", 'Data BDE'!T11), IF('Data BDE'!T11=\"<LOD\",'Data BDE'!T$38, \"ERROR\")))","v":""},{"$f":"IF('Data BDE'!U11=\"\",\"\",IF(ISNUMBER('Data BDE'!U11)=TRUE, IF('Data BDE'!U11<'Data BDE'!U$38, \"ERROR\", 'Data BDE'!U11), IF('Data BDE'!U11=\"<LOD\",'Data BDE'!U$38, \"ERROR\")))","v":""},{"$f":"IF('Data BDE'!V11=\"\",\"\",IF(ISNUMBER('Data BDE'!V11)=TRUE, IF('Data BDE'!V11<'Data BDE'!V$38, \"ERROR\", 'Data BDE'!V11), IF('Data BDE'!V11=\"<LOD\",'Data BDE'!V$38, \"ERROR\")))","v":""}]
[null,null,"Laboratory/contractor:",{"$f":"IF('Data BDE'!D17=\"\",\"\",'Data BDE'!D17)","v":""},null,null,null,{"$f":"IF('Data BDE'!H12=\"\",\"\",'Data BDE'!H12)","v":""},{"$f":"IF('Data BDE'!I12=\"\",\"\",'Data BDE'!I12)","v":""},{"$f":"IFERROR(IF(K12=\"\",\"\",(IF(VLOOKUP(K12,'Gwybodaeth ymgeiswyr'!$K$8:$L$37,2,0)=\"y\",\"y\",\"\"))),\"Manual entry required\")","v":""},{"$f":"IF('Data BDE'!J12=\"\",\"\",'Data BDE'!J12)","v":""},{"$f":"IF('Data BDE'!K12=\"\",\"\",IF(ISNUMBER('Data BDE'!K12)=TRUE, IF('Data BDE'!K12<'Data BDE'!K$38, \"ERROR\", 'Data BDE'!K12), IF('Data BDE'!K12=\"<LOD\",'Data BDE'!K$38, \"ERROR\")))","v":""},{"$f":"IF('Data BDE'!L12=\"\",\"\",IF(ISNUMBER('Data BDE'!L12)=TRUE, IF('Data BDE'!L12<'Data BDE'!L$38, \"ERROR\", 'Data BDE'!L12), IF('Data BDE'!L12=\"<LOD\",'Data BDE'!L$38, \"ERROR\")))","v":""},{"$f":"IF('Data BDE'!M12=\"\",\"\",IF(ISNUMBER('Data BDE'!M12)=TRUE, IF('Data BDE'!M12<'Data BDE'!M$38, \"ERROR\", 'Data BDE'!M12), IF('Data BDE'!M12=\"<LOD\",'Data BDE'!M$38, \"ERROR\")))","v":""},{"$f":"IF('Data BDE'!N12=\"\",\"\",IF(ISNUMBER('Data BDE'!N12)=TRUE, IF('Data BDE'!N12<'Data BDE'!N$38, \"ERROR\", 'Data BDE'!N12), IF('Data BDE'!N12=\"<LOD\",'Data BDE'!N$38, \"ERROR\")))","v":""},{"$f":"IF('Data BDE'!O12=\"\",\"\",IF(ISNUMBER('Data BDE'!O12)=TRUE, IF('Data BDE'!O12<'Data BDE'!O$38, \"ERROR\", 'Data BDE'!O12), IF('Data BDE'!O12=\"<LOD\",'Data BDE'!O$38, \"ERROR\")))","v":""},{"$f":"IF('Data BDE'!P12=\"\",\"\",IF(ISNUMBER('Data BDE'!P12)=TRUE, IF('Data BDE'!P12<'Data BDE'!P$38, \"ERROR\", 'Data BDE'!P12), IF('Data BDE'!P12=\"<LOD\",'Data BDE'!P$38, \"ERROR\")))","v":""},{"$f":"IF('Data BDE'!Q12=\"\",\"\",IF(ISNUMBER('Data BDE'!Q12)=TRUE, IF('Data BDE'!Q12<'Data BDE'!Q$38, \"ERROR\", 'Data BDE'!Q12), IF('Data BDE'!Q12=\"<LOD\",'Data BDE'!Q$38, \"ERROR\")))","v":""},{"$f":"IF('Data BDE'!R12=\"\",\"\",IF(ISNUMBER('Data BDE'!R12)=TRUE, IF('Data BDE'!R12<'Data BDE'!R$38, \"ERROR\", 'Data BDE'!R12), IF('Data BDE'!R12=\"<LOD\",'Data BDE'!R$38, \"ERROR\")))","v":""},{"$f":"IF('Data BDE'!S12=\"\",\"\",IF(ISNUMBER('Data BDE'!S12)=TRUE, IF('Data BDE'!S12<'Data BDE'!S$38, \"ERROR\", 'Data BDE'!S12), IF('Data BDE'!S12=\"<LOD\",'Data BDE'!S$38, \"ERROR\")))","v":""},{"$f":"IF('Data BDE'!T12=\"\",\"\",IF(ISNUMBER('Data BDE'!T12)=TRUE, IF('Data BDE'!T12<'Data BDE'!T$38, \"ERROR\", 'Data BDE'!T12), IF('Data BDE'!T12=\"<LOD\",'Data BDE'!T$38, \"ERROR\")))","v":""},{"$f":"IF('Data BDE'!U12=\"\",\"\",IF(ISNUMBER('Data BDE'!U12)=TRUE, IF('Data BDE'!U12<'Data BDE'!U$38, \"ERROR\", 'Data BDE'!U12), IF('Data BDE'!U12=\"<LOD\",'Data BDE'!U$38, \"ERROR\")))","v":""},{"$f":"IF('Data BDE'!V12=\"\",\"\",IF(ISNUMBER('Data BDE'!V12)=TRUE, IF('Data BDE'!V12<'Data BDE'!V$38, \"ERROR\", 'Data BDE'!V12), IF('Data BDE'!V12=\"<LOD\",'Data BDE'!V$38, \"ERROR\")))","v":""}]
[null,null,"Date of analysis:",{"$f":"IF('Data BDE'!D18=\"\",\"\",'Data BDE'!D18)","v":""},null,null,null,{"$f":"IF('Data BDE'!H13=\"\",\"\",'Data BDE'!H13)","v":""},{"$f":"IF('Data BDE'!I13=\"\",\"\",'Data BDE'!I13)","v":""},{"$f":"IFERROR(IF(K13=\"\",\"\",(IF(VLOOKUP(K13,'Gwybodaeth ymgeiswyr'!$K$8:$L$37,2,0)=\"y\",\"y\",\"\"))),\"Manual entry required\")","v":""},{"$f":"IF('Data BDE'!J13=\"\",\"\",'Data BDE'!J13)","v":""},{"$f":"IF('Data BDE'!K13=\"\",\"\",IF(ISNUMBER('Data BDE'!K13)=TRUE, IF('Data BDE'!K13<'Data BDE'!K$38, \"ERROR\", 'Data BDE'!K13), IF('Data BDE'!K13=\"<LOD\",'Data BDE'!K$38, \"ERROR\")))","v":""},{"$f":"IF('Data BDE'!L13=\"\",\"\",IF(ISNUMBER('Data BDE'!L13)=TRUE, IF('Data BDE'!L13<'Data BDE'!L$38, \"ERROR\", 'Data BDE'!L13), IF('Data BDE'!L13=\"<LOD\",'Data BDE'!L$38, \"ERROR\")))","v":""},{"$f":"IF('Data BDE'!M13=\"\",\"\",IF(ISNUMBER('Data BDE'!M13)=TRUE, IF('Data BDE'!M13<'Data BDE'!M$38, \"ERROR\", 'Data BDE'!M13), IF('Data BDE'!M13=\"<LOD\",'Data BDE'!M$38, \"ERROR\")))","v":""},{"$f":"IF('Data BDE'!N13=\"\",\"\",IF(ISNUMBER('Data BDE'!N13)=TRUE, IF('Data BDE'!N13<'Data BDE'!N$38, \"ERROR\", 'Data BDE'!N13), IF('Data BDE'!N13=\"<LOD\",'Data BDE'!N$38, \"ERROR\")))","v":""},{"$f":"IF('Data BDE'!O13=\"\",\"\",IF(ISNUMBER('Data BDE'!O13)=TRUE, IF('Data BDE'!O13<'Data BDE'!O$38, \"ERROR\", 'Data BDE'!O13), IF('Data BDE'!O13=\"<LOD\",'Data BDE'!O$38, \"ERROR\")))","v":""},{"$f":"IF('Data BDE'!P13=\"\",\"\",IF(ISNUMBER('Data BDE'!P13)=TRUE, IF('Data BDE'!P13<'Data BDE'!P$38, \"ERROR\", 'Data BDE'!P13), IF('Data BDE'!P13=\"<LOD\",'Data BDE'!P$38, \"ERROR\")))","v":""},{"$f":"IF('Data BDE'!Q13=\"\",\"\",IF(ISNUMBER('Data BDE'!Q13)=TRUE, IF('Data BDE'!Q13<'Data BDE'!Q$38, \"ERROR\", 'Data BDE'!Q13), IF('Data BDE'!Q13=\"<LOD\",'Data BDE'!Q$38, \"ERROR\")))","v":""},{"$f":"IF('Data BDE'!R13=\"\",\"\",IF(ISNUMBER('Data BDE'!R13)=TRUE, IF('Data BDE'!R13<'Data BDE'!R$38, \"ERROR\", 'Data BDE'!R13), IF('Data BDE'!R13=\"<LOD\",'Data BDE'!R$38, \"ERROR\")))","v":""},{"$f":"IF('Data BDE'!S13=\"\",\"\",IF(ISNUMBER('Data BDE'!S13)=TRUE, IF('Data BDE'!S13<'Data BDE'!S$38, \"ERROR\", 'Data BDE'!S13), IF('Data BDE'!S13=\"<LOD\",'Data BDE'!S$38, \"ERROR\")))","v":""},{"$f":"IF('Data BDE'!T13=\"\",\"\",IF(ISNUMBER('Data BDE'!T13)=TRUE, IF('Data BDE'!T13<'Data BDE'!T$38, \"ERROR\", 'Data BDE'!T13), IF('Data BDE'!T13=\"<LOD\",'Data BDE'!T$38, \"ERROR\")))","v":""},{"$f":"IF('Data BDE'!U13=\"\",\"\",IF(ISNUMBER('Data BDE'!U13)=TRUE, IF('Data BDE'!U13<'Data BDE'!U$38, \"ERROR\", 'Data BDE'!U13), IF('Data BDE'!U13=\"<LOD\",'Data BDE'!U$38, \"ERROR\")))","v":""},{"$f":"IF('Data BDE'!V13=\"\",\"\",IF(ISNUMBER('Data BDE'!V13)=TRUE, IF('Data BDE'!V13<'Data BDE'!V$38, \"ERROR\", 'Data BDE'!V13), IF('Data BDE'!V13=\"<LOD\",'Data BDE'!V$38, \"ERROR\")))","v":""}]
[null,null,null,null,null,null,null,{"$f":"IF('Data BDE'!H14=\"\",\"\",'Data BDE'!H14)","v":""},{"$f":"IF('Data BDE'!I14=\"\",\"\",'Data BDE'!I14)","v":""},{"$f":"IFERROR(IF(K14=\"\",\"\",(IF(VLOOKUP(K14,'Gwybodaeth ymgeiswyr'!$K$8:$L$37,2,0)=\"y\",\"y\",\"\"))),\"Manual entry required\")","v":""},{"$f":"IF('Data BDE'!J14=\"\",\"\",'Data BDE'!J14)","v":""},{"$f":"IF('Data BDE'!K14=\"\",\"\",IF(ISNUMBER('Data BDE'!K14)=TRUE, IF('Data BDE'!K14<'Data BDE'!K$38, \"ERROR\", 'Data BDE'!K14), IF('Data BDE'!K14=\"<LOD\",'Data BDE'!K$38, \"ERROR\")))","v":""},{"$f":"IF('Data BDE'!L14=\"\",\"\",IF(ISNUMBER('Data BDE'!L14)=TRUE, IF('Data BDE'!L14<'Data BDE'!L$38, \"ERROR\", 'Data BDE'!L14), IF('Data BDE'!L14=\"<LOD\",'Data BDE'!L$38, \"ERROR\")))","v":""},{"$f":"IF('Data BDE'!M14=\"\",\"\",IF(ISNUMBER('Data BDE'!M14)=TRUE, IF('Data BDE'!M14<'Data BDE'!M$38, \"ERROR\", 'Data BDE'!M14), IF('Data BDE'!M14=\"<LOD\",'Data BDE'!M$38, \"ERROR\")))","v":""},{"$f":"IF('Data BDE'!N14=\"\",\"\",IF(ISNUMBER('Data BDE'!N14)=TRUE, IF('Data BDE'!N14<'Data BDE'!N$38, \"ERROR\", 'Data BDE'!N14), IF('Data BDE'!N14=\"<LOD\",'Data BDE'!N$38, \"ERROR\")))","v":""},{"$f":"IF('Data BDE'!O14=\"\",\"\",IF(ISNUMBER('Data BDE'!O14)=TRUE, IF('Data BDE'!O14<'Data BDE'!O$38, \"ERROR\", 'Data BDE'!O14), IF('Data BDE'!O14=\"<LOD\",'Data BDE'!O$38, \"ERROR\")))","v":""},{"$f":"IF('Data BDE'!P14=\"\",\"\",IF(ISNUMBER('Data BDE'!P14)=TRUE, IF('Data BDE'!P14<'Data BDE'!P$38, \"ERROR\", 'Data BDE'!P14), IF('Data BDE'!P14=\"<LOD\",'Data BDE'!P$38, \"ERROR\")))","v":""},{"$f":"IF('Data BDE'!Q14=\"\",\"\",IF(ISNUMBER('Data BDE'!Q14)=TRUE, IF('Data BDE'!Q14<'Data BDE'!Q$38, \"ERROR\", 'Data BDE'!Q14), IF('Data BDE'!Q14=\"<LOD\",'Data BDE'!Q$38, \"ERROR\")))","v":""},{"$f":"IF('Data BDE'!R14=\"\",\"\",IF(ISNUMBER('Data BDE'!R14)=TRUE, IF('Data BDE'!R14<'Data BDE'!R$38, \"ERROR\", 'Data BDE'!R14), IF('Data BDE'!R14=\"<LOD\",'Data BDE'!R$38, \"ERROR\")))","v":""},{"$f":"IF('Data BDE'!S14=\"\",\"\",IF(ISNUMBER('Data BDE'!S14)=TRUE, IF('Data BDE'!S14<'Data BDE'!S$38, \"ERROR\", 'Data BDE'!S14), IF('Data BDE'!S14=\"<LOD\",'Data BDE'!S$38, \"ERROR\")))","v":""},{"$f":"IF('Data BDE'!T14=\"\",\"\",IF(ISNUMBER('Data BDE'!T14)=TRUE, IF('Data BDE'!T14<'Data BDE'!T$38, \"ERROR\", 'Data BDE'!T14), IF('Data BDE'!T14=\"<LOD\",'Data BDE'!T$38, \"ERROR\")))","v":""},{"$f":"IF('Data BDE'!U14=\"\",\"\",IF(ISNUMBER('Data BDE'!U14)=TRUE, IF('Data BDE'!U14<'Data BDE'!U$38, \"ERROR\", 'Data BDE'!U14), IF('Data BDE'!U14=\"<LOD\",'Data BDE'!U$38, \"ERROR\")))","v":""},{"$f":"IF('Data BDE'!V14=\"\",\"\",IF(ISNUMBER('Data BDE'!V14)=TRUE, IF('Data BDE'!V14<'Data BDE'!V$38, \"ERROR\", 'Data BDE'!V14), IF('Data BDE'!V14=\"<LOD\",'Data BDE'!V$38, \"ERROR\")))","v":""}]
[null,null,null,null,null,null,null,{"$f":"IF('Data BDE'!H15=\"\",\"\",'Data BDE'!H15)","v":""},{"$f":"IF('Data BDE'!I15=\"\",\"\",'Data BDE'!I15)","v":""},{"$f":"IFERROR(IF(K15=\"\",\"\",(IF(VLOOKUP(K15,'Gwybodaeth ymgeiswyr'!$K$8:$L$37,2,0)=\"y\",\"y\",\"\"))),\"Manual entry required\")","v":""},{"$f":"IF('Data BDE'!J15=\"\",\"\",'Data BDE'!J15)","v":""},{"$f":"IF('Data BDE'!K15=\"\",\"\",IF(ISNUMBER('Data BDE'!K15)=TRUE, IF('Data BDE'!K15<'Data BDE'!K$38, \"ERROR\", 'Data BDE'!K15), IF('Data BDE'!K15=\"<LOD\",'Data BDE'!K$38, \"ERROR\")))","v":""},{"$f":"IF('Data BDE'!L15=\"\",\"\",IF(ISNUMBER('Data BDE'!L15)=TRUE, IF('Data BDE'!L15<'Data BDE'!L$38, \"ERROR\", 'Data BDE'!L15), IF('Data BDE'!L15=\"<LOD\",'Data BDE'!L$38, \"ERROR\")))","v":""},{"$f":"IF('Data BDE'!M15=\"\",\"\",IF(ISNUMBER('Data BDE'!M15)=TRUE, IF('Data BDE'!M15<'Data BDE'!M$38, \"ERROR\", 'Data BDE'!M15), IF('Data BDE'!M15=\"<LOD\",'Data BDE'!M$38, \"ERROR\")))","v":""},{"$f":"IF('Data BDE'!N15=\"\",\"\",IF(ISNUMBER('Data BDE'!N15)=TRUE, IF('Data BDE'!N15<'Data BDE'!N$38, \"ERROR\", 'Data BDE'!N15), IF('Data BDE'!N15=\"<LOD\",'Data BDE'!N$38, \"ERROR\")))","v":""},{"$f":"IF('Data BDE'!O15=\"\",\"\",IF(ISNUMBER('Data BDE'!O15)=TRUE, IF('Data BDE'!O15<'Data BDE'!O$38, \"ERROR\", 'Data BDE'!O15), IF('Data BDE'!O15=\"<LOD\",'Data BDE'!O$38, \"ERROR\")))","v":""},{"$f":"IF('Data BDE'!P15=\"\",\"\",IF(ISNUMBER('Data BDE'!P15)=TRUE, IF('Data BDE'!P15<'Data BDE'!P$38, \"ERROR\", 'Data BDE'!P15), IF('Data BDE'!P15=\"<LOD\",'Data BDE'!P$38, \"ERROR\")))","v":""},{"$f":"IF('Data BDE'!Q15=\"\",\"\",IF(ISNUMBER('Data BDE'!Q15)=TRUE, IF('Data BDE'!Q15<'Data BDE'!Q$38, \"ERROR\", 'Data BDE'!Q15), IF('Data BDE'!Q15=\"<LOD\",'Data BDE'!Q$38, \"ERROR\")))","v":""},{"$f":"IF('Data BDE'!R15=\"\",\"\",IF(ISNUMBER('Data BDE'!R15)=TRUE, IF('Data BDE'!R15<'Data BDE'!R$38, \"ERROR\", 'Data BDE'!R15), IF('Data BDE'!R15=\"<LOD\",'Data BDE'!R$38, \"ERROR\")))","v":""},{"$f":"IF('Data BDE'!S15=\"\",\"\",IF(ISNUMBER('Data BDE'!S15)=TRUE, IF('Data BDE'!S15<'Data BDE'!S$38, \"ERROR\", 'Data BDE'!S15), IF('Data BDE'!S15=\"<LOD\",'Data BDE'!S$38, \"ERROR\")))","v":""},{"$f":"IF('Data BDE'!T15=\"\",\"\",IF(ISNUMBER('Data BDE'!T15)=TRUE, IF('Data BDE'!T15<'Data BDE'!T$38, \"ERROR\", 'Data BDE'!T15), IF('Data BDE'!T15=\"<LOD\",'Data BDE'!T$38, \"ERROR\")))","v":""},{"$f":"IF('Data BDE'!U15=\"\",\"\",IF(ISNUMBER('Data BDE'!U15)=TRUE, IF('Data BDE'!U15<'Data BDE'!U$38, \"ERROR\", 'Data BDE'!U15), IF('Data BDE'!U15=\"<LOD\",'Data BDE'!U$38, \"ERROR\")))","v":""},{"$f":"IF('Data BDE'!V15=\"\",\"\",IF(ISNUMBER('Data BDE'!V15)=TRUE, IF('Data BDE'!V15<'Data BDE'!V$38, \"ERROR\", 'Data BDE'!V15), IF('Data BDE'!V15=\"<LOD\",'Data BDE'!V$38, \"ERROR\")))","v":""}]
[null,null,null,null,null,null,null,{"$f":"IF('Data BDE'!H16=\"\",\"\",'Data BDE'!H16)","v":""},{"$f":"IF('Data BDE'!I16=\"\",\"\",'Data BDE'!I16)","v":""},{"$f":"IFERROR(IF(K16=\"\",\"\",(IF(VLOOKUP(K16,'Gwybodaeth ymgeiswyr'!$K$8:$L$37,2,0)=\"y\",\"y\",\"\"))),\"Manual entry required\")","v":""},{"$f":"IF('Data BDE'!J16=\"\",\"\",'Data BDE'!J16)","v":""},{"$f":"IF('Data BDE'!K16=\"\",\"\",IF(ISNUMBER('Data BDE'!K16)=TRUE, IF('Data BDE'!K16<'Data BDE'!K$38, \"ERROR\", 'Data BDE'!K16), IF('Data BDE'!K16=\"<LOD\",'Data BDE'!K$38, \"ERROR\")))","v":""},{"$f":"IF('Data BDE'!L16=\"\",\"\",IF(ISNUMBER('Data BDE'!L16)=TRUE, IF('Data BDE'!L16<'Data BDE'!L$38, \"ERROR\", 'Data BDE'!L16), IF('Data BDE'!L16=\"<LOD\",'Data BDE'!L$38, \"ERROR\")))","v":""},{"$f":"IF('Data BDE'!M16=\"\",\"\",IF(ISNUMBER('Data BDE'!M16)=TRUE, IF('Data BDE'!M16<'Data BDE'!M$38, \"ERROR\", 'Data BDE'!M16), IF('Data BDE'!M16=\"<LOD\",'Data BDE'!M$38, \"ERROR\")))","v":""},{"$f":"IF('Data BDE'!N16=\"\",\"\",IF(ISNUMBER('Data BDE'!N16)=TRUE, IF('Data BDE'!N16<'Data BDE'!N$38, \"ERROR\", 'Data BDE'!N16), IF('Data BDE'!N16=\"<LOD\",'Data BDE'!N$38, \"ERROR\")))","v":""},{"$f":"IF('Data BDE'!O16=\"\",\"\",IF(ISNUMBER('Data BDE'!O16)=TRUE, IF('Data BDE'!O16<'Data BDE'!O$38, \"ERROR\", 'Data BDE'!O16), IF('Data BDE'!O16=\"<LOD\",'Data BDE'!O$38, \"ERROR\")))","v":""},{"$f":"IF('Data BDE'!P16=\"\",\"\",IF(ISNUMBER('Data BDE'!P16)=TRUE, IF('Data BDE'!P16<'Data BDE'!P$38, \"ERROR\", 'Data BDE'!P16), IF('Data BDE'!P16=\"<LOD\",'Data BDE'!P$38, \"ERROR\")))","v":""},{"$f":"IF('Data BDE'!Q16=\"\",\"\",IF(ISNUMBER('Data BDE'!Q16)=TRUE, IF('Data BDE'!Q16<'Data BDE'!Q$38, \"ERROR\", 'Data BDE'!Q16), IF('Data BDE'!Q16=\"<LOD\",'Data BDE'!Q$38, \"ERROR\")))","v":""},{"$f":"IF('Data BDE'!R16=\"\",\"\",IF(ISNUMBER('Data BDE'!R16)=TRUE, IF('Data BDE'!R16<'Data BDE'!R$38, \"ERROR\", 'Data BDE'!R16), IF('Data BDE'!R16=\"<LOD\",'Data BDE'!R$38, \"ERROR\")))","v":""},{"$f":"IF('Data BDE'!S16=\"\",\"\",IF(ISNUMBER('Data BDE'!S16)=TRUE, IF('Data BDE'!S16<'Data BDE'!S$38, \"ERROR\", 'Data BDE'!S16), IF('Data BDE'!S16=\"<LOD\",'Data BDE'!S$38, \"ERROR\")))","v":""},{"$f":"IF('Data BDE'!T16=\"\",\"\",IF(ISNUMBER('Data BDE'!T16)=TRUE, IF('Data BDE'!T16<'Data BDE'!T$38, \"ERROR\", 'Data BDE'!T16), IF('Data BDE'!T16=\"<LOD\",'Data BDE'!T$38, \"ERROR\")))","v":""},{"$f":"IF('Data BDE'!U16=\"\",\"\",IF(ISNUMBER('Data BDE'!U16)=TRUE, IF('Data BDE'!U16<'Data BDE'!U$38, \"ERROR\", 'Data BDE'!U16), IF('Data BDE'!U16=\"<LOD\",'Data BDE'!U$38, \"ERROR\")))","v":""},{"$f":"IF('Data BDE'!V16=\"\",\"\",IF(ISNUMBER('Data BDE'!V16)=TRUE, IF('Data BDE'!V16<'Data BDE'!V$38, \"ERROR\", 'Data BDE'!V16), IF('Data BDE'!V16=\"<LOD\",'Data BDE'!V$38, \"ERROR\")))","v":""}]
[null,null,null,null,null,null,null,{"$f":"IF('Data BDE'!H17=\"\",\"\",'Data BDE'!H17)","v":""},{"$f":"IF('Data BDE'!I17=\"\",\"\",'Data BDE'!I17)","v":""},{"$f":"IFERROR(IF(K17=\"\",\"\",(IF(VLOOKUP(K17,'Gwybodaeth ymgeiswyr'!$K$8:$L$37,2,0)=\"y\",\"y\",\"\"))),\"Manual entry required\")","v":""},{"$f":"IF('Data BDE'!J17=\"\",\"\",'Data BDE'!J17)","v":""},{"$f":"IF('Data BDE'!K17=\"\",\"\",IF(ISNUMBER('Data BDE'!K17)=TRUE, IF('Data BDE'!K17<'Data BDE'!K$38, \"ERROR\", 'Data BDE'!K17), IF('Data BDE'!K17=\"<LOD\",'Data BDE'!K$38, \"ERROR\")))","v":""},{"$f":"IF('Data BDE'!L17=\"\",\"\",IF(ISNUMBER('Data BDE'!L17)=TRUE, IF('Data BDE'!L17<'Data BDE'!L$38, \"ERROR\", 'Data BDE'!L17), IF('Data BDE'!L17=\"<LOD\",'Data BDE'!L$38, \"ERROR\")))","v":""},{"$f":"IF('Data BDE'!M17=\"\",\"\",IF(ISNUMBER('Data BDE'!M17)=TRUE, IF('Data BDE'!M17<'Data BDE'!M$38, \"ERROR\", 'Data BDE'!M17), IF('Data BDE'!M17=\"<LOD\",'Data BDE'!M$38, \"ERROR\")))","v":""},{"$f":"IF('Data BDE'!N17=\"\",\"\",IF(ISNUMBER('Data BDE'!N17)=TRUE, IF('Data BDE'!N17<'Data BDE'!N$38, \"ERROR\", 'Data BDE'!N17), IF('Data BDE'!N17=\"<LOD\",'Data BDE'!N$38, \"ERROR\")))","v":""},{"$f":"IF('Data BDE'!O17=\"\",\"\",IF(ISNUMBER('Data BDE'!O17)=TRUE, IF('Data BDE'!O17<'Data BDE'!O$38, \"ERROR\", 'Data BDE'!O17), IF('Data BDE'!O17=\"<LOD\",'Data BDE'!O$38, \"ERROR\")))","v":""},{"$f":"IF('Data BDE'!P17=\"\",\"\",IF(ISNUMBER('Data BDE'!P17)=TRUE, IF('Data BDE'!P17<'Data BDE'!P$38, \"ERROR\", 'Data BDE'!P17), IF('Data BDE'!P17=\"<LOD\",'Data BDE'!P$38, \"ERROR\")))","v":""},{"$f":"IF('Data BDE'!Q17=\"\",\"\",IF(ISNUMBER('Data BDE'!Q17)=TRUE, IF('Data BDE'!Q17<'Data BDE'!Q$38, \"ERROR\", 'Data BDE'!Q17), IF('Data BDE'!Q17=\"<LOD\",'Data BDE'!Q$38, \"ERROR\")))","v":""},{"$f":"IF('Data BDE'!R17=\"\",\"\",IF(ISNUMBER('Data BDE'!R17)=TRUE, IF('Data BDE'!R17<'Data BDE'!R$38, \"ERROR\", 'Data BDE'!R17), IF('Data BDE'!R17=\"<LOD\",'Data BDE'!R$38, \"ERROR\")))","v":""},{"$f":"IF('Data BDE'!S17=\"\",\"\",IF(ISNUMBER('Data BDE'!S17)=TRUE, IF('Data BDE'!S17<'Data BDE'!S$38, \"ERROR\", 'Data BDE'!S17), IF('Data BDE'!S17=\"<LOD\",'Data BDE'!S$38, \"ERROR\")))","v":""},{"$f":"IF('Data BDE'!T17=\"\",\"\",IF(ISNUMBER('Data BDE'!T17)=TRUE, IF('Data BDE'!T17<'Data BDE'!T$38, \"ERROR\", 'Data BDE'!T17), IF('Data BDE'!T17=\"<LOD\",'Data BDE'!T$38, \"ERROR\")))","v":""},{"$f":"IF('Data BDE'!U17=\"\",\"\",IF(ISNUMBER('Data BDE'!U17)=TRUE, IF('Data BDE'!U17<'Data BDE'!U$38, \"ERROR\", 'Data BDE'!U17), IF('Data BDE'!U17=\"<LOD\",'Data BDE'!U$38, \"ERROR\")))","v":""},{"$f":"IF('Data BDE'!V17=\"\",\"\",IF(ISNUMBER('Data BDE'!V17)=TRUE, IF('Data BDE'!V17<'Data BDE'!V$38, \"ERROR\", 'Data BDE'!V17), IF('Data BDE'!V17=\"<LOD\",'Data BDE'!V$38, \"ERROR\")))","v":""}]
[null,null,null,null,null,null,null,{"$f":"IF('Data BDE'!H18=\"\",\"\",'Data BDE'!H18)","v":""},{"$f":"IF('Data BDE'!I18=\"\",\"\",'Data BDE'!I18)","v":""},{"$f":"IFERROR(IF(K18=\"\",\"\",(IF(VLOOKUP(K18,'Gwybodaeth ymgeiswyr'!$K$8:$L$37,2,0)=\"y\",\"y\",\"\"))),\"Manual entry required\")","v":""},{"$f":"IF('Data BDE'!J18=\"\",\"\",'Data BDE'!J18)","v":""},{"$f":"IF('Data BDE'!K18=\"\",\"\",IF(ISNUMBER('Data BDE'!K18)=TRUE, IF('Data BDE'!K18<'Data BDE'!K$38, \"ERROR\", 'Data BDE'!K18), IF('Data BDE'!K18=\"<LOD\",'Data BDE'!K$38, \"ERROR\")))","v":""},{"$f":"IF('Data BDE'!L18=\"\",\"\",IF(ISNUMBER('Data BDE'!L18)=TRUE, IF('Data BDE'!L18<'Data BDE'!L$38, \"ERROR\", 'Data BDE'!L18), IF('Data BDE'!L18=\"<LOD\",'Data BDE'!L$38, \"ERROR\")))","v":""},{"$f":"IF('Data BDE'!M18=\"\",\"\",IF(ISNUMBER('Data BDE'!M18)=TRUE, IF('Data BDE'!M18<'Data BDE'!M$38, \"ERROR\", 'Data BDE'!M18), IF('Data BDE'!M18=\"<LOD\",'Data BDE'!M$38, \"ERROR\")))","v":""},{"$f":"IF('Data BDE'!N18=\"\",\"\",IF(ISNUMBER('Data BDE'!N18)=TRUE, IF('Data BDE'!N18<'Data BDE'!N$38, \"ERROR\", 'Data BDE'!N18), IF('Data BDE'!N18=\"<LOD\",'Data BDE'!N$38, \"ERROR\")))","v":""},{"$f":"IF('Data BDE'!O18=\"\",\"\",IF(ISNUMBER('Data BDE'!O18)=TRUE, IF('Data BDE'!O18<'Data BDE'!O$38, \"ERROR\", 'Data BDE'!O18), IF('Data BDE'!O18=\"<LOD\",'Data BDE'!O$38, \"ERROR\")))","v":""},{"$f":"IF('Data BDE'!P18=\"\",\"\",IF(ISNUMBER('Data BDE'!P18)=TRUE, IF('Data BDE'!P18<'Data BDE'!P$38, \"ERROR\", 'Data BDE'!P18), IF('Data BDE'!P18=\"<LOD\",'Data BDE'!P$38, \"ERROR\")))","v":""},{"$f":"IF('Data BDE'!Q18=\"\",\"\",IF(ISNUMBER('Data BDE'!Q18)=TRUE, IF('Data BDE'!Q18<'Data BDE'!Q$38, \"ERROR\", 'Data BDE'!Q18), IF('Data BDE'!Q18=\"<LOD\",'Data BDE'!Q$38, \"ERROR\")))","v":""},{"$f":"IF('Data BDE'!R18=\"\",\"\",IF(ISNUMBER('Data BDE'!R18)=TRUE, IF('Data BDE'!R18<'Data BDE'!R$38, \"ERROR\", 'Data BDE'!R18), IF('Data BDE'!R18=\"<LOD\",'Data BDE'!R$38, \"ERROR\")))","v":""},{"$f":"IF('Data BDE'!S18=\"\",\"\",IF(ISNUMBER('Data BDE'!S18)=TRUE, IF('Data BDE'!S18<'Data BDE'!S$38, \"ERROR\", 'Data BDE'!S18), IF('Data BDE'!S18=\"<LOD\",'Data BDE'!S$38, \"ERROR\")))","v":""},{"$f":"IF('Data BDE'!T18=\"\",\"\",IF(ISNUMBER('Data BDE'!T18)=TRUE, IF('Data BDE'!T18<'Data BDE'!T$38, \"ERROR\", 'Data BDE'!T18), IF('Data BDE'!T18=\"<LOD\",'Data BDE'!T$38, \"ERROR\")))","v":""},{"$f":"IF('Data BDE'!U18=\"\",\"\",IF(ISNUMBER('Data BDE'!U18)=TRUE, IF('Data BDE'!U18<'Data BDE'!U$38, \"ERROR\", 'Data BDE'!U18), IF('Data BDE'!U18=\"<LOD\",'Data BDE'!U$38, \"ERROR\")))","v":""},{"$f":"IF('Data BDE'!V18=\"\",\"\",IF(ISNUMBER('Data BDE'!V18)=TRUE, IF('Data BDE'!V18<'Data BDE'!V$38, \"ERROR\", 'Data BDE'!V18), IF('Data BDE'!V18=\"<LOD\",'Data BDE'!V$38, \"ERROR\")))","v":""}]
[null,null,null,null,null,null,null,{"$f":"IF('Data BDE'!H19=\"\",\"\",'Data BDE'!H19)","v":""},{"$f":"IF('Data BDE'!I19=\"\",\"\",'Data BDE'!I19)","v":""},{"$f":"IFERROR(IF(K19=\"\",\"\",(IF(VLOOKUP(K19,'Gwybodaeth ymgeiswyr'!$K$8:$L$37,2,0)=\"y\",\"y\",\"\"))),\"Manual entry required\")","v":""},{"$f":"IF('Data BDE'!J19=\"\",\"\",'Data BDE'!J19)","v":""},{"$f":"IF('Data BDE'!K19=\"\",\"\",IF(ISNUMBER('Data BDE'!K19)=TRUE, IF('Data BDE'!K19<'Data BDE'!K$38, \"ERROR\", 'Data BDE'!K19), IF('Data BDE'!K19=\"<LOD\",'Data BDE'!K$38, \"ERROR\")))","v":""},{"$f":"IF('Data BDE'!L19=\"\",\"\",IF(ISNUMBER('Data BDE'!L19)=TRUE, IF('Data BDE'!L19<'Data BDE'!L$38, \"ERROR\", 'Data BDE'!L19), IF('Data BDE'!L19=\"<LOD\",'Data BDE'!L$38, \"ERROR\")))","v":""},{"$f":"IF('Data BDE'!M19=\"\",\"\",IF(ISNUMBER('Data BDE'!M19)=TRUE, IF('Data BDE'!M19<'Data BDE'!M$38, \"ERROR\", 'Data BDE'!M19), IF('Data BDE'!M19=\"<LOD\",'Data BDE'!M$38, \"ERROR\")))","v":""},{"$f":"IF('Data BDE'!N19=\"\",\"\",IF(ISNUMBER('Data BDE'!N19)=TRUE, IF('Data BDE'!N19<'Data BDE'!N$38, \"ERROR\", 'Data BDE'!N19), IF('Data BDE'!N19=\"<LOD\",'Data BDE'!N$38, \"ERROR\")))","v":""},{"$f":"IF('Data BDE'!O19=\"\",\"\",IF(ISNUMBER('Data BDE'!O19)=TRUE, IF('Data BDE'!O19<'Data BDE'!O$38, \"ERROR\", 'Data BDE'!O19), IF('Data BDE'!O19=\"<LOD\",'Data BDE'!O$38, \"ERROR\")))","v":""},{"$f":"IF('Data BDE'!P19=\"\",\"\",IF(ISNUMBER('Data BDE'!P19)=TRUE, IF('Data BDE'!P19<'Data BDE'!P$38, \"ERROR\", 'Data BDE'!P19), IF('Data BDE'!P19=\"<LOD\",'Data BDE'!P$38, \"ERROR\")))","v":""},{"$f":"IF('Data BDE'!Q19=\"\",\"\",IF(ISNUMBER('Data BDE'!Q19)=TRUE, IF('Data BDE'!Q19<'Data BDE'!Q$38, \"ERROR\", 'Data BDE'!Q19), IF('Data BDE'!Q19=\"<LOD\",'Data BDE'!Q$38, \"ERROR\")))","v":""},{"$f":"IF('Data BDE'!R19=\"\",\"\",IF(ISNUMBER('Data BDE'!R19)=TRUE, IF('Data BDE'!R19<'Data BDE'!R$38, \"ERROR\", 'Data BDE'!R19), IF('Data BDE'!R19=\"<LOD\",'Data BDE'!R$38, \"ERROR\")))","v":""},{"$f":"IF('Data BDE'!S19=\"\",\"\",IF(ISNUMBER('Data BDE'!S19)=TRUE, IF('Data BDE'!S19<'Data BDE'!S$38, \"ERROR\", 'Data BDE'!S19), IF('Data BDE'!S19=\"<LOD\",'Data BDE'!S$38, \"ERROR\")))","v":""},{"$f":"IF('Data BDE'!T19=\"\",\"\",IF(ISNUMBER('Data BDE'!T19)=TRUE, IF('Data BDE'!T19<'Data BDE'!T$38, \"ERROR\", 'Data BDE'!T19), IF('Data BDE'!T19=\"<LOD\",'Data BDE'!T$38, \"ERROR\")))","v":""},{"$f":"IF('Data BDE'!U19=\"\",\"\",IF(ISNUMBER('Data BDE'!U19)=TRUE, IF('Data BDE'!U19<'Data BDE'!U$38, \"ERROR\", 'Data BDE'!U19), IF('Data BDE'!U19=\"<LOD\",'Data BDE'!U$38, \"ERROR\")))","v":""},{"$f":"IF('Data BDE'!V19=\"\",\"\",IF(ISNUMBER('Data BDE'!V19)=TRUE, IF('Data BDE'!V19<'Data BDE'!V$38, \"ERROR\", 'Data BDE'!V19), IF('Data BDE'!V19=\"<LOD\",'Data BDE'!V$38, \"ERROR\")))","v":""}]
[null,null,null,null,null,null,null,{"$f":"IF('Data BDE'!H20=\"\",\"\",'Data BDE'!H20)","v":""},{"$f":"IF('Data BDE'!I20=\"\",\"\",'Data BDE'!I20)","v":""},{"$f":"IFERROR(IF(K20=\"\",\"\",(IF(VLOOKUP(K20,'Gwybodaeth ymgeiswyr'!$K$8:$L$37,2,0)=\"y\",\"y\",\"\"))),\"Manual entry required\")","v":""},{"$f":"IF('Data BDE'!J20=\"\",\"\",'Data BDE'!J20)","v":""},{"$f":"IF('Data BDE'!K20=\"\",\"\",IF(ISNUMBER('Data BDE'!K20)=TRUE, IF('Data BDE'!K20<'Data BDE'!K$38, \"ERROR\", 'Data BDE'!K20), IF('Data BDE'!K20=\"<LOD\",'Data BDE'!K$38, \"ERROR\")))","v":""},{"$f":"IF('Data BDE'!L20=\"\",\"\",IF(ISNUMBER('Data BDE'!L20)=TRUE, IF('Data BDE'!L20<'Data BDE'!L$38, \"ERROR\", 'Data BDE'!L20), IF('Data BDE'!L20=\"<LOD\",'Data BDE'!L$38, \"ERROR\")))","v":""},{"$f":"IF('Data BDE'!M20=\"\",\"\",IF(ISNUMBER('Data BDE'!M20)=TRUE, IF('Data BDE'!M20<'Data BDE'!M$38, \"ERROR\", 'Data BDE'!M20), IF('Data BDE'!M20=\"<LOD\",'Data BDE'!M$38, \"ERROR\")))","v":""},{"$f":"IF('Data BDE'!N20=\"\",\"\",IF(ISNUMBER('Data BDE'!N20)=TRUE, IF('Data BDE'!N20<'Data BDE'!N$38, \"ERROR\", 'Data BDE'!N20), IF('Data BDE'!N20=\"<LOD\",'Data BDE'!N$38, \"ERROR\")))","v":""},{"$f":"IF('Data BDE'!O20=\"\",\"\",IF(ISNUMBER('Data BDE'!O20)=TRUE, IF('Data BDE'!O20<'Data BDE'!O$38, \"ERROR\", 'Data BDE'!O20), IF('Data BDE'!O20=\"<LOD\",'Data BDE'!O$38, \"ERROR\")))","v":""},{"$f":"IF('Data BDE'!P20=\"\",\"\",IF(ISNUMBER('Data BDE'!P20)=TRUE, IF('Data BDE'!P20<'Data BDE'!P$38, \"ERROR\", 'Data BDE'!P20), IF('Data BDE'!P20=\"<LOD\",'Data BDE'!P$38, \"ERROR\")))","v":""},{"$f":"IF('Data BDE'!Q20=\"\",\"\",IF(ISNUMBER('Data BDE'!Q20)=TRUE, IF('Data BDE'!Q20<'Data BDE'!Q$38, \"ERROR\", 'Data BDE'!Q20), IF('Data BDE'!Q20=\"<LOD\",'Data BDE'!Q$38, \"ERROR\")))","v":""},{"$f":"IF('Data BDE'!R20=\"\",\"\",IF(ISNUMBER('Data BDE'!R20)=TRUE, IF('Data BDE'!R20<'Data BDE'!R$38, \"ERROR\", 'Data BDE'!R20), IF('Data BDE'!R20=\"<LOD\",'Data BDE'!R$38, \"ERROR\")))","v":""},{"$f":"IF('Data BDE'!S20=\"\",\"\",IF(ISNUMBER('Data BDE'!S20)=TRUE, IF('Data BDE'!S20<'Data BDE'!S$38, \"ERROR\", 'Data BDE'!S20), IF('Data BDE'!S20=\"<LOD\",'Data BDE'!S$38, \"ERROR\")))","v":""},{"$f":"IF('Data BDE'!T20=\"\",\"\",IF(ISNUMBER('Data BDE'!T20)=TRUE, IF('Data BDE'!T20<'Data BDE'!T$38, \"ERROR\", 'Data BDE'!T20), IF('Data BDE'!T20=\"<LOD\",'Data BDE'!T$38, \"ERROR\")))","v":""},{"$f":"IF('Data BDE'!U20=\"\",\"\",IF(ISNUMBER('Data BDE'!U20)=TRUE, IF('Data BDE'!U20<'Data BDE'!U$38, \"ERROR\", 'Data BDE'!U20), IF('Data BDE'!U20=\"<LOD\",'Data BDE'!U$38, \"ERROR\")))","v":""},{"$f":"IF('Data BDE'!V20=\"\",\"\",IF(ISNUMBER('Data BDE'!V20)=TRUE, IF('Data BDE'!V20<'Data BDE'!V$38, \"ERROR\", 'Data BDE'!V20), IF('Data BDE'!V20=\"<LOD\",'Data BDE'!V$38, \"ERROR\")))","v":""}]
[null,null,null,null,null,null,null,{"$f":"IF('Data BDE'!H21=\"\",\"\",'Data BDE'!H21)","v":""},{"$f":"IF('Data BDE'!I21=\"\",\"\",'Data BDE'!I21)","v":""},{"$f":"IFERROR(IF(K21=\"\",\"\",(IF(VLOOKUP(K21,'Gwybodaeth ymgeiswyr'!$K$8:$L$37,2,0)=\"y\",\"y\",\"\"))),\"Manual entry required\")","v":""},{"$f":"IF('Data BDE'!J21=\"\",\"\",'Data BDE'!J21)","v":""},{"$f":"IF('Data BDE'!K21=\"\",\"\",IF(ISNUMBER('Data BDE'!K21)=TRUE, IF('Data BDE'!K21<'Data BDE'!K$38, \"ERROR\", 'Data BDE'!K21), IF('Data BDE'!K21=\"<LOD\",'Data BDE'!K$38, \"ERROR\")))","v":""},{"$f":"IF('Data BDE'!L21=\"\",\"\",IF(ISNUMBER('Data BDE'!L21)=TRUE, IF('Data BDE'!L21<'Data BDE'!L$38, \"ERROR\", 'Data BDE'!L21), IF('Data BDE'!L21=\"<LOD\",'Data BDE'!L$38, \"ERROR\")))","v":""},{"$f":"IF('Data BDE'!M21=\"\",\"\",IF(ISNUMBER('Data BDE'!M21)=TRUE, IF('Data BDE'!M21<'Data BDE'!M$38, \"ERROR\", 'Data BDE'!M21), IF('Data BDE'!M21=\"<LOD\",'Data BDE'!M$38, \"ERROR\")))","v":""},{"$f":"IF('Data BDE'!N21=\"\",\"\",IF(ISNUMBER('Data BDE'!N21)=TRUE, IF('Data BDE'!N21<'Data BDE'!N$38, \"ERROR\", 'Data BDE'!N21), IF('Data BDE'!N21=\"<LOD\",'Data BDE'!N$38, \"ERROR\")))","v":""},{"$f":"IF('Data BDE'!O21=\"\",\"\",IF(ISNUMBER('Data BDE'!O21)=TRUE, IF('Data BDE'!O21<'Data BDE'!O$38, \"ERROR\", 'Data BDE'!O21), IF('Data BDE'!O21=\"<LOD\",'Data BDE'!O$38, \"ERROR\")))","v":""},{"$f":"IF('Data BDE'!P21=\"\",\"\",IF(ISNUMBER('Data BDE'!P21)=TRUE, IF('Data BDE'!P21<'Data BDE'!P$38, \"ERROR\", 'Data BDE'!P21), IF('Data BDE'!P21=\"<LOD\",'Data BDE'!P$38, \"ERROR\")))","v":""},{"$f":"IF('Data BDE'!Q21=\"\",\"\",IF(ISNUMBER('Data BDE'!Q21)=TRUE, IF('Data BDE'!Q21<'Data BDE'!Q$38, \"ERROR\", 'Data BDE'!Q21), IF('Data BDE'!Q21=\"<LOD\",'Data BDE'!Q$38, \"ERROR\")))","v":""},{"$f":"IF('Data BDE'!R21=\"\",\"\",IF(ISNUMBER('Data BDE'!R21)=TRUE, IF('Data BDE'!R21<'Data BDE'!R$38, \"ERROR\", 'Data BDE'!R21), IF('Data BDE'!R21=\"<LOD\",'Data BDE'!R$38, \"ERROR\")))","v":""},{"$f":"IF('Data BDE'!S21=\"\",\"\",IF(ISNUMBER('Data BDE'!S21)=TRUE, IF('Data BDE'!S21<'Data BDE'!S$38, \"ERROR\", 'Data BDE'!S21), IF('Data BDE'!S21=\"<LOD\",'Data BDE'!S$38, \"ERROR\")))","v":""},{"$f":"IF('Data BDE'!T21=\"\",\"\",IF(ISNUMBER('Data BDE'!T21)=TRUE, IF('Data BDE'!T21<'Data BDE'!T$38, \"ERROR\", 'Data BDE'!T21), IF('Data BDE'!T21=\"<LOD\",'Data BDE'!T$38, \"ERROR\")))","v":""},{"$f":"IF('Data BDE'!U21=\"\",\"\",IF(ISNUMBER('Data BDE'!U21)=TRUE, IF('Data BDE'!U21<'Data BDE'!U$38, \"ERROR\", 'Data BDE'!U21), IF('Data BDE'!U21=\"<LOD\",'Data BDE'!U$38, \"ERROR\")))","v":""},{"$f":"IF('Data BDE'!V21=\"\",\"\",IF(ISNUMBER('Data BDE'!V21)=TRUE, IF('Data BDE'!V21<'Data BDE'!V$38, \"ERROR\", 'Data BDE'!V21), IF('Data BDE'!V21=\"<LOD\",'Data BDE'!V$38, \"ERROR\")))","v":""}]
[null,null,null,null,null,null,null,{"$f":"IF('Data BDE'!H22=\"\",\"\",'Data BDE'!H22)","v":""},{"$f":"IF('Data BDE'!I22=\"\",\"\",'Data BDE'!I22)","v":""},{"$f":"IFERROR(IF(K22=\"\",\"\",(IF(VLOOKUP(K22,'Gwybodaeth ymgeiswyr'!$K$8:$L$37,2,0)=\"y\",\"y\",\"\"))),\"Manual entry required\")","v":""},{"$f":"IF('Data BDE'!J22=\"\",\"\",'Data BDE'!J22)","v":""},{"$f":"IF('Data BDE'!K22=\"\",\"\",IF(ISNUMBER('Data BDE'!K22)=TRUE, IF('Data BDE'!K22<'Data BDE'!K$38, \"ERROR\", 'Data BDE'!K22), IF('Data BDE'!K22=\"<LOD\",'Data BDE'!K$38, \"ERROR\")))","v":""},{"$f":"IF('Data BDE'!L22=\"\",\"\",IF(ISNUMBER('Data BDE'!L22)=TRUE, IF('Data BDE'!L22<'Data BDE'!L$38, \"ERROR\", 'Data BDE'!L22), IF('Data BDE'!L22=\"<LOD\",'Data BDE'!L$38, \"ERROR\")))","v":""},{"$f":"IF('Data BDE'!M22=\"\",\"\",IF(ISNUMBER('Data BDE'!M22)=TRUE, IF('Data BDE'!M22<'Data BDE'!M$38, \"ERROR\", 'Data BDE'!M22), IF('Data BDE'!M22=\"<LOD\",'Data BDE'!M$38, \"ERROR\")))","v":""},{"$f":"IF('Data BDE'!N22=\"\",\"\",IF(ISNUMBER('Data BDE'!N22)=TRUE, IF('Data BDE'!N22<'Data BDE'!N$38, \"ERROR\", 'Data BDE'!N22), IF('Data BDE'!N22=\"<LOD\",'Data BDE'!N$38, \"ERROR\")))","v":""},{"$f":"IF('Data BDE'!O22=\"\",\"\",IF(ISNUMBER('Data BDE'!O22)=TRUE, IF('Data BDE'!O22<'Data BDE'!O$38, \"ERROR\", 'Data BDE'!O22), IF('Data BDE'!O22=\"<LOD\",'Data BDE'!O$38, \"ERROR\")))","v":""},{"$f":"IF('Data BDE'!P22=\"\",\"\",IF(ISNUMBER('Data BDE'!P22)=TRUE, IF('Data BDE'!P22<'Data BDE'!P$38, \"ERROR\", 'Data BDE'!P22), IF('Data BDE'!P22=\"<LOD\",'Data BDE'!P$38, \"ERROR\")))","v":""},{"$f":"IF('Data BDE'!Q22=\"\",\"\",IF(ISNUMBER('Data BDE'!Q22)=TRUE, IF('Data BDE'!Q22<'Data BDE'!Q$38, \"ERROR\", 'Data BDE'!Q22), IF('Data BDE'!Q22=\"<LOD\",'Data BDE'!Q$38, \"ERROR\")))","v":""},{"$f":"IF('Data BDE'!R22=\"\",\"\",IF(ISNUMBER('Data BDE'!R22)=TRUE, IF('Data BDE'!R22<'Data BDE'!R$38, \"ERROR\", 'Data BDE'!R22), IF('Data BDE'!R22=\"<LOD\",'Data BDE'!R$38, \"ERROR\")))","v":""},{"$f":"IF('Data BDE'!S22=\"\",\"\",IF(ISNUMBER('Data BDE'!S22)=TRUE, IF('Data BDE'!S22<'Data BDE'!S$38, \"ERROR\", 'Data BDE'!S22), IF('Data BDE'!S22=\"<LOD\",'Data BDE'!S$38, \"ERROR\")))","v":""},{"$f":"IF('Data BDE'!T22=\"\",\"\",IF(ISNUMBER('Data BDE'!T22)=TRUE, IF('Data BDE'!T22<'Data BDE'!T$38, \"ERROR\", 'Data BDE'!T22), IF('Data BDE'!T22=\"<LOD\",'Data BDE'!T$38, \"ERROR\")))","v":""},{"$f":"IF('Data BDE'!U22=\"\",\"\",IF(ISNUMBER('Data BDE'!U22)=TRUE, IF('Data BDE'!U22<'Data BDE'!U$38, \"ERROR\", 'Data BDE'!U22), IF('Data BDE'!U22=\"<LOD\",'Data BDE'!U$38, \"ERROR\")))","v":""},{"$f":"IF('Data BDE'!V22=\"\",\"\",IF(ISNUMBER('Data BDE'!V22)=TRUE, IF('Data BDE'!V22<'Data BDE'!V$38, \"ERROR\", 'Data BDE'!V22), IF('Data BDE'!V22=\"<LOD\",'Data BDE'!V$38, \"ERROR\")))","v":""}]
[null,null,null,null,null,null,null,{"$f":"IF('Data BDE'!H23=\"\",\"\",'Data BDE'!H23)","v":""},{"$f":"IF('Data BDE'!I23=\"\",\"\",'Data BDE'!I23)","v":""},{"$f":"IFERROR(IF(K23=\"\",\"\",(IF(VLOOKUP(K23,'Gwybodaeth ymgeiswyr'!$K$8:$L$37,2,0)=\"y\",\"y\",\"\"))),\"Manual entry required\")","v":""},{"$f":"IF('Data BDE'!J23=\"\",\"\",'Data BDE'!J23)","v":""},{"$f":"IF('Data BDE'!K23=\"\",\"\",IF(ISNUMBER('Data BDE'!K23)=TRUE, IF('Data BDE'!K23<'Data BDE'!K$38, \"ERROR\", 'Data BDE'!K23), IF('Data BDE'!K23=\"<LOD\",'Data BDE'!K$38, \"ERROR\")))","v":""},{"$f":"IF('Data BDE'!L23=\"\",\"\",IF(ISNUMBER('Data BDE'!L23)=TRUE, IF('Data BDE'!L23<'Data BDE'!L$38, \"ERROR\", 'Data BDE'!L23), IF('Data BDE'!L23=\"<LOD\",'Data BDE'!L$38, \"ERROR\")))","v":""},{"$f":"IF('Data BDE'!M23=\"\",\"\",IF(ISNUMBER('Data BDE'!M23)=TRUE, IF('Data BDE'!M23<'Data BDE'!M$38, \"ERROR\", 'Data BDE'!M23), IF('Data BDE'!M23=\"<LOD\",'Data BDE'!M$38, \"ERROR\")))","v":""},{"$f":"IF('Data BDE'!N23=\"\",\"\",IF(ISNUMBER('Data BDE'!N23)=TRUE, IF('Data BDE'!N23<'Data BDE'!N$38, \"ERROR\", 'Data BDE'!N23), IF('Data BDE'!N23=\"<LOD\",'Data BDE'!N$38, \"ERROR\")))","v":""},{"$f":"IF('Data BDE'!O23=\"\",\"\",IF(ISNUMBER('Data BDE'!O23)=TRUE, IF('Data BDE'!O23<'Data BDE'!O$38, \"ERROR\", 'Data BDE'!O23), IF('Data BDE'!O23=\"<LOD\",'Data BDE'!O$38, \"ERROR\")))","v":""},{"$f":"IF('Data BDE'!P23=\"\",\"\",IF(ISNUMBER('Data BDE'!P23)=TRUE, IF('Data BDE'!P23<'Data BDE'!P$38, \"ERROR\", 'Data BDE'!P23), IF('Data BDE'!P23=\"<LOD\",'Data BDE'!P$38, \"ERROR\")))","v":""},{"$f":"IF('Data BDE'!Q23=\"\",\"\",IF(ISNUMBER('Data BDE'!Q23)=TRUE, IF('Data BDE'!Q23<'Data BDE'!Q$38, \"ERROR\", 'Data BDE'!Q23), IF('Data BDE'!Q23=\"<LOD\",'Data BDE'!Q$38, \"ERROR\")))","v":""},{"$f":"IF('Data BDE'!R23=\"\",\"\",IF(ISNUMBER('Data BDE'!R23)=TRUE, IF('Data BDE'!R23<'Data BDE'!R$38, \"ERROR\", 'Data BDE'!R23), IF('Data BDE'!R23=\"<LOD\",'Data BDE'!R$38, \"ERROR\")))","v":""},{"$f":"IF('Data BDE'!S23=\"\",\"\",IF(ISNUMBER('Data BDE'!S23)=TRUE, IF('Data BDE'!S23<'Data BDE'!S$38, \"ERROR\", 'Data BDE'!S23), IF('Data BDE'!S23=\"<LOD\",'Data BDE'!S$38, \"ERROR\")))","v":""},{"$f":"IF('Data BDE'!T23=\"\",\"\",IF(ISNUMBER('Data BDE'!T23)=TRUE, IF('Data BDE'!T23<'Data BDE'!T$38, \"ERROR\", 'Data BDE'!T23), IF('Data BDE'!T23=\"<LOD\",'Data BDE'!T$38, \"ERROR\")))","v":""},{"$f":"IF('Data BDE'!U23=\"\",\"\",IF(ISNUMBER('Data BDE'!U23)=TRUE, IF('Data BDE'!U23<'Data BDE'!U$38, \"ERROR\", 'Data BDE'!U23), IF('Data BDE'!U23=\"<LOD\",'Data BDE'!U$38, \"ERROR\")))","v":""},{"$f":"IF('Data BDE'!V23=\"\",\"\",IF(ISNUMBER('Data BDE'!V23)=TRUE, IF('Data BDE'!V23<'Data BDE'!V$38, \"ERROR\", 'Data BDE'!V23), IF('Data BDE'!V23=\"<LOD\",'Data BDE'!V$38, \"ERROR\")))","v":""}]
[null,null,null,null,null,null,null,{"$f":"IF('Data BDE'!H24=\"\",\"\",'Data BDE'!H24)","v":""},{"$f":"IF('Data BDE'!I24=\"\",\"\",'Data BDE'!I24)","v":""},{"$f":"IFERROR(IF(K24=\"\",\"\",(IF(VLOOKUP(K24,'Gwybodaeth ymgeiswyr'!$K$8:$L$37,2,0)=\"y\",\"y\",\"\"))),\"Manual entry required\")","v":""},{"$f":"IF('Data BDE'!J24=\"\",\"\",'Data BDE'!J24)","v":""},{"$f":"IF('Data BDE'!K24=\"\",\"\",IF(ISNUMBER('Data BDE'!K24)=TRUE, IF('Data BDE'!K24<'Data BDE'!K$38, \"ERROR\", 'Data BDE'!K24), IF('Data BDE'!K24=\"<LOD\",'Data BDE'!K$38, \"ERROR\")))","v":""},{"$f":"IF('Data BDE'!L24=\"\",\"\",IF(ISNUMBER('Data BDE'!L24)=TRUE, IF('Data BDE'!L24<'Data BDE'!L$38, \"ERROR\", 'Data BDE'!L24), IF('Data BDE'!L24=\"<LOD\",'Data BDE'!L$38, \"ERROR\")))","v":""},{"$f":"IF('Data BDE'!M24=\"\",\"\",IF(ISNUMBER('Data BDE'!M24)=TRUE, IF('Data BDE'!M24<'Data BDE'!M$38, \"ERROR\", 'Data BDE'!M24), IF('Data BDE'!M24=\"<LOD\",'Data BDE'!M$38, \"ERROR\")))","v":""},{"$f":"IF('Data BDE'!N24=\"\",\"\",IF(ISNUMBER('Data BDE'!N24)=TRUE, IF('Data BDE'!N24<'Data BDE'!N$38, \"ERROR\", 'Data BDE'!N24), IF('Data BDE'!N24=\"<LOD\",'Data BDE'!N$38, \"ERROR\")))","v":""},{"$f":"IF('Data BDE'!O24=\"\",\"\",IF(ISNUMBER('Data BDE'!O24)=TRUE, IF('Data BDE'!O24<'Data BDE'!O$38, \"ERROR\", 'Data BDE'!O24), IF('Data BDE'!O24=\"<LOD\",'Data BDE'!O$38, \"ERROR\")))","v":""},{"$f":"IF('Data BDE'!P24=\"\",\"\",IF(ISNUMBER('Data BDE'!P24)=TRUE, IF('Data BDE'!P24<'Data BDE'!P$38, \"ERROR\", 'Data BDE'!P24), IF('Data BDE'!P24=\"<LOD\",'Data BDE'!P$38, \"ERROR\")))","v":""},{"$f":"IF('Data BDE'!Q24=\"\",\"\",IF(ISNUMBER('Data BDE'!Q24)=TRUE, IF('Data BDE'!Q24<'Data BDE'!Q$38, \"ERROR\", 'Data BDE'!Q24), IF('Data BDE'!Q24=\"<LOD\",'Data BDE'!Q$38, \"ERROR\")))","v":""},{"$f":"IF('Data BDE'!R24=\"\",\"\",IF(ISNUMBER('Data BDE'!R24)=TRUE, IF('Data BDE'!R24<'Data BDE'!R$38, \"ERROR\", 'Data BDE'!R24), IF('Data BDE'!R24=\"<LOD\",'Data BDE'!R$38, \"ERROR\")))","v":""},{"$f":"IF('Data BDE'!S24=\"\",\"\",IF(ISNUMBER('Data BDE'!S24)=TRUE, IF('Data BDE'!S24<'Data BDE'!S$38, \"ERROR\", 'Data BDE'!S24), IF('Data BDE'!S24=\"<LOD\",'Data BDE'!S$38, \"ERROR\")))","v":""},{"$f":"IF('Data BDE'!T24=\"\",\"\",IF(ISNUMBER('Data BDE'!T24)=TRUE, IF('Data BDE'!T24<'Data BDE'!T$38, \"ERROR\", 'Data BDE'!T24), IF('Data BDE'!T24=\"<LOD\",'Data BDE'!T$38, \"ERROR\")))","v":""},{"$f":"IF('Data BDE'!U24=\"\",\"\",IF(ISNUMBER('Data BDE'!U24)=TRUE, IF('Data BDE'!U24<'Data BDE'!U$38, \"ERROR\", 'Data BDE'!U24), IF('Data BDE'!U24=\"<LOD\",'Data BDE'!U$38, \"ERROR\")))","v":""},{"$f":"IF('Data BDE'!V24=\"\",\"\",IF(ISNUMBER('Data BDE'!V24)=TRUE, IF('Data BDE'!V24<'Data BDE'!V$38, \"ERROR\", 'Data BDE'!V24), IF('Data BDE'!V24=\"<LOD\",'Data BDE'!V$38, \"ERROR\")))","v":""}]
[null,null,null,null,null,null,null,{"$f":"IF('Data BDE'!H25=\"\",\"\",'Data BDE'!H25)","v":""},{"$f":"IF('Data BDE'!I25=\"\",\"\",'Data BDE'!I25)","v":""},{"$f":"IFERROR(IF(K25=\"\",\"\",(IF(VLOOKUP(K25,'Gwybodaeth ymgeiswyr'!$K$8:$L$37,2,0)=\"y\",\"y\",\"\"))),\"Manual entry required\")","v":""},{"$f":"IF('Data BDE'!J25=\"\",\"\",'Data BDE'!J25)","v":""},{"$f":"IF('Data BDE'!K25=\"\",\"\",IF(ISNUMBER('Data BDE'!K25)=TRUE, IF('Data BDE'!K25<'Data BDE'!K$38, \"ERROR\", 'Data BDE'!K25), IF('Data BDE'!K25=\"<LOD\",'Data BDE'!K$38, \"ERROR\")))","v":""},{"$f":"IF('Data BDE'!L25=\"\",\"\",IF(ISNUMBER('Data BDE'!L25)=TRUE, IF('Data BDE'!L25<'Data BDE'!L$38, \"ERROR\", 'Data BDE'!L25), IF('Data BDE'!L25=\"<LOD\",'Data BDE'!L$38, \"ERROR\")))","v":""},{"$f":"IF('Data BDE'!M25=\"\",\"\",IF(ISNUMBER('Data BDE'!M25)=TRUE, IF('Data BDE'!M25<'Data BDE'!M$38, \"ERROR\", 'Data BDE'!M25), IF('Data BDE'!M25=\"<LOD\",'Data BDE'!M$38, \"ERROR\")))","v":""},{"$f":"IF('Data BDE'!N25=\"\",\"\",IF(ISNUMBER('Data BDE'!N25)=TRUE, IF('Data BDE'!N25<'Data BDE'!N$38, \"ERROR\", 'Data BDE'!N25), IF('Data BDE'!N25=\"<LOD\",'Data BDE'!N$38, \"ERROR\")))","v":""},{"$f":"IF('Data BDE'!O25=\"\",\"\",IF(ISNUMBER('Data BDE'!O25)=TRUE, IF('Data BDE'!O25<'Data BDE'!O$38, \"ERROR\", 'Data BDE'!O25), IF('Data BDE'!O25=\"<LOD\",'Data BDE'!O$38, \"ERROR\")))","v":""},{"$f":"IF('Data BDE'!P25=\"\",\"\",IF(ISNUMBER('Data BDE'!P25)=TRUE, IF('Data BDE'!P25<'Data BDE'!P$38, \"ERROR\", 'Data BDE'!P25), IF('Data BDE'!P25=\"<LOD\",'Data BDE'!P$38, \"ERROR\")))","v":""},{"$f":"IF('Data BDE'!Q25=\"\",\"\",IF(ISNUMBER('Data BDE'!Q25)=TRUE, IF('Data BDE'!Q25<'Data BDE'!Q$38, \"ERROR\", 'Data BDE'!Q25), IF('Data BDE'!Q25=\"<LOD\",'Data BDE'!Q$38, \"ERROR\")))","v":""},{"$f":"IF('Data BDE'!R25=\"\",\"\",IF(ISNUMBER('Data BDE'!R25)=TRUE, IF('Data BDE'!R25<'Data BDE'!R$38, \"ERROR\", 'Data BDE'!R25), IF('Data BDE'!R25=\"<LOD\",'Data BDE'!R$38, \"ERROR\")))","v":""},{"$f":"IF('Data BDE'!S25=\"\",\"\",IF(ISNUMBER('Data BDE'!S25)=TRUE, IF('Data BDE'!S25<'Data BDE'!S$38, \"ERROR\", 'Data BDE'!S25), IF('Data BDE'!S25=\"<LOD\",'Data BDE'!S$38, \"ERROR\")))","v":""},{"$f":"IF('Data BDE'!T25=\"\",\"\",IF(ISNUMBER('Data BDE'!T25)=TRUE, IF('Data BDE'!T25<'Data BDE'!T$38, \"ERROR\", 'Data BDE'!T25), IF('Data BDE'!T25=\"<LOD\",'Data BDE'!T$38, \"ERROR\")))","v":""},{"$f":"IF('Data BDE'!U25=\"\",\"\",IF(ISNUMBER('Data BDE'!U25)=TRUE, IF('Data BDE'!U25<'Data BDE'!U$38, \"ERROR\", 'Data BDE'!U25), IF('Data BDE'!U25=\"<LOD\",'Data BDE'!U$38, \"ERROR\")))","v":""},{"$f":"IF('Data BDE'!V25=\"\",\"\",IF(ISNUMBER('Data BDE'!V25)=TRUE, IF('Data BDE'!V25<'Data BDE'!V$38, \"ERROR\", 'Data BDE'!V25), IF('Data BDE'!V25=\"<LOD\",'Data BDE'!V$38, \"ERROR\")))","v":""}]
[null,null,null,null,null,null,null,{"$f":"IF('Data BDE'!H26=\"\",\"\",'Data BDE'!H26)","v":""},{"$f":"IF('Data BDE'!I26=\"\",\"\",'Data BDE'!I26)","v":""},{"$f":"IFERROR(IF(K26=\"\",\"\",(IF(VLOOKUP(K26,'Gwybodaeth ymgeiswyr'!$K$8:$L$37,2,0)=\"y\",\"y\",\"\"))),\"Manual entry required\")","v":""},{"$f":"IF('Data BDE'!J26=\"\",\"\",'Data BDE'!J26)","v":""},{"$f":"IF('Data BDE'!K26=\"\",\"\",IF(ISNUMBER('Data BDE'!K26)=TRUE, IF('Data BDE'!K26<'Data BDE'!K$38, \"ERROR\", 'Data BDE'!K26), IF('Data BDE'!K26=\"<LOD\",'Data BDE'!K$38, \"ERROR\")))","v":""},{"$f":"IF('Data BDE'!L26=\"\",\"\",IF(ISNUMBER('Data BDE'!L26)=TRUE, IF('Data BDE'!L26<'Data BDE'!L$38, \"ERROR\", 'Data BDE'!L26), IF('Data BDE'!L26=\"<LOD\",'Data BDE'!L$38, \"ERROR\")))","v":""},{"$f":"IF('Data BDE'!M26=\"\",\"\",IF(ISNUMBER('Data BDE'!M26)=TRUE, IF('Data BDE'!M26<'Data BDE'!M$38, \"ERROR\", 'Data BDE'!M26), IF('Data BDE'!M26=\"<LOD\",'Data BDE'!M$38, \"ERROR\")))","v":""},{"$f":"IF('Data BDE'!N26=\"\",\"\",IF(ISNUMBER('Data BDE'!N26)=TRUE, IF('Data BDE'!N26<'Data BDE'!N$38, \"ERROR\", 'Data BDE'!N26), IF('Data BDE'!N26=\"<LOD\",'Data BDE'!N$38, \"ERROR\")))","v":""},{"$f":"IF('Data BDE'!O26=\"\",\"\",IF(ISNUMBER('Data BDE'!O26)=TRUE, IF('Data BDE'!O26<'Data BDE'!O$38, \"ERROR\", 'Data BDE'!O26), IF('Data BDE'!O26=\"<LOD\",'Data BDE'!O$38, \"ERROR\")))","v":""},{"$f":"IF('Data BDE'!P26=\"\",\"\",IF(ISNUMBER('Data BDE'!P26)=TRUE, IF('Data BDE'!P26<'Data BDE'!P$38, \"ERROR\", 'Data BDE'!P26), IF('Data BDE'!P26=\"<LOD\",'Data BDE'!P$38, \"ERROR\")))","v":""},{"$f":"IF('Data BDE'!Q26=\"\",\"\",IF(ISNUMBER('Data BDE'!Q26)=TRUE, IF('Data BDE'!Q26<'Data BDE'!Q$38, \"ERROR\", 'Data BDE'!Q26), IF('Data BDE'!Q26=\"<LOD\",'Data BDE'!Q$38, \"ERROR\")))","v":""},{"$f":"IF('Data BDE'!R26=\"\",\"\",IF(ISNUMBER('Data BDE'!R26)=TRUE, IF('Data BDE'!R26<'Data BDE'!R$38, \"ERROR\", 'Data BDE'!R26), IF('Data BDE'!R26=\"<LOD\",'Data BDE'!R$38, \"ERROR\")))","v":""},{"$f":"IF('Data BDE'!S26=\"\",\"\",IF(ISNUMBER('Data BDE'!S26)=TRUE, IF('Data BDE'!S26<'Data BDE'!S$38, \"ERROR\", 'Data BDE'!S26), IF('Data BDE'!S26=\"<LOD\",'Data BDE'!S$38, \"ERROR\")))","v":""},{"$f":"IF('Data BDE'!T26=\"\",\"\",IF(ISNUMBER('Data BDE'!T26)=TRUE, IF('Data BDE'!T26<'Data BDE'!T$38, \"ERROR\", 'Data BDE'!T26), IF('Data BDE'!T26=\"<LOD\",'Data BDE'!T$38, \"ERROR\")))","v":""},{"$f":"IF('Data BDE'!U26=\"\",\"\",IF(ISNUMBER('Data BDE'!U26)=TRUE, IF('Data BDE'!U26<'Data BDE'!U$38, \"ERROR\", 'Data BDE'!U26), IF('Data BDE'!U26=\"<LOD\",'Data BDE'!U$38, \"ERROR\")))","v":""},{"$f":"IF('Data BDE'!V26=\"\",\"\",IF(ISNUMBER('Data BDE'!V26)=TRUE, IF('Data BDE'!V26<'Data BDE'!V$38, \"ERROR\", 'Data BDE'!V26), IF('Data BDE'!V26=\"<LOD\",'Data BDE'!V$38, \"ERROR\")))","v":""}]
[null,null,null,null,null,null,null,{"$f":"IF('Data BDE'!H27=\"\",\"\",'Data BDE'!H27)","v":""},{"$f":"IF('Data BDE'!I27=\"\",\"\",'Data BDE'!I27)","v":""},{"$f":"IFERROR(IF(K27=\"\",\"\",(IF(VLOOKUP(K27,'Gwybodaeth ymgeiswyr'!$K$8:$L$37,2,0)=\"y\",\"y\",\"\"))),\"Manual entry required\")","v":""},{"$f":"IF('Data BDE'!J27=\"\",\"\",'Data BDE'!J27)","v":""},{"$f":"IF('Data BDE'!K27=\"\",\"\",IF(ISNUMBER('Data BDE'!K27)=TRUE, IF('Data BDE'!K27<'Data BDE'!K$38, \"ERROR\", 'Data BDE'!K27), IF('Data BDE'!K27=\"<LOD\",'Data BDE'!K$38, \"ERROR\")))","v":""},{"$f":"IF('Data BDE'!L27=\"\",\"\",IF(ISNUMBER('Data BDE'!L27)=TRUE, IF('Data BDE'!L27<'Data BDE'!L$38, \"ERROR\", 'Data BDE'!L27), IF('Data BDE'!L27=\"<LOD\",'Data BDE'!L$38, \"ERROR\")))","v":""},{"$f":"IF('Data BDE'!M27=\"\",\"\",IF(ISNUMBER('Data BDE'!M27)=TRUE, IF('Data BDE'!M27<'Data BDE'!M$38, \"ERROR\", 'Data BDE'!M27), IF('Data BDE'!M27=\"<LOD\",'Data BDE'!M$38, \"ERROR\")))","v":""},{"$f":"IF('Data BDE'!N27=\"\",\"\",IF(ISNUMBER('Data BDE'!N27)=TRUE, IF('Data BDE'!N27<'Data BDE'!N$38, \"ERROR\", 'Data BDE'!N27), IF('Data BDE'!N27=\"<LOD\",'Data BDE'!N$38, \"ERROR\")))","v":""},{"$f":"IF('Data BDE'!O27=\"\",\"\",IF(ISNUMBER('Data BDE'!O27)=TRUE, IF('Data BDE'!O27<'Data BDE'!O$38, \"ERROR\", 'Data BDE'!O27), IF('Data BDE'!O27=\"<LOD\",'Data BDE'!O$38, \"ERROR\")))","v":""},{"$f":"IF('Data BDE'!P27=\"\",\"\",IF(ISNUMBER('Data BDE'!P27)=TRUE, IF('Data BDE'!P27<'Data BDE'!P$38, \"ERROR\", 'Data BDE'!P27), IF('Data BDE'!P27=\"<LOD\",'Data BDE'!P$38, \"ERROR\")))","v":""},{"$f":"IF('Data BDE'!Q27=\"\",\"\",IF(ISNUMBER('Data BDE'!Q27)=TRUE, IF('Data BDE'!Q27<'Data BDE'!Q$38, \"ERROR\", 'Data BDE'!Q27), IF('Data BDE'!Q27=\"<LOD\",'Data BDE'!Q$38, \"ERROR\")))","v":""},{"$f":"IF('Data BDE'!R27=\"\",\"\",IF(ISNUMBER('Data BDE'!R27)=TRUE, IF('Data BDE'!R27<'Data BDE'!R$38, \"ERROR\", 'Data BDE'!R27), IF('Data BDE'!R27=\"<LOD\",'Data BDE'!R$38, \"ERROR\")))","v":""},{"$f":"IF('Data BDE'!S27=\"\",\"\",IF(ISNUMBER('Data BDE'!S27)=TRUE, IF('Data BDE'!S27<'Data BDE'!S$38, \"ERROR\", 'Data BDE'!S27), IF('Data BDE'!S27=\"<LOD\",'Data BDE'!S$38, \"ERROR\")))","v":""},{"$f":"IF('Data BDE'!T27=\"\",\"\",IF(ISNUMBER('Data BDE'!T27)=TRUE, IF('Data BDE'!T27<'Data BDE'!T$38, \"ERROR\", 'Data BDE'!T27), IF('Data BDE'!T27=\"<LOD\",'Data BDE'!T$38, \"ERROR\")))","v":""},{"$f":"IF('Data BDE'!U27=\"\",\"\",IF(ISNUMBER('Data BDE'!U27)=TRUE, IF('Data BDE'!U27<'Data BDE'!U$38, \"ERROR\", 'Data BDE'!U27), IF('Data BDE'!U27=\"<LOD\",'Data BDE'!U$38, \"ERROR\")))","v":""},{"$f":"IF('Data BDE'!V27=\"\",\"\",IF(ISNUMBER('Data BDE'!V27)=TRUE, IF('Data BDE'!V27<'Data BDE'!V$38, \"ERROR\", 'Data BDE'!V27), IF('Data BDE'!V27=\"<LOD\",'Data BDE'!V$38, \"ERROR\")))","v":""}]
[null,null,null,null,null,null,null,{"$f":"IF('Data BDE'!H28=\"\",\"\",'Data BDE'!H28)","v":""},{"$f":"IF('Data BDE'!I28=\"\",\"\",'Data BDE'!I28)","v":""},{"$f":"IFERROR(IF(K28=\"\",\"\",(IF(VLOOKUP(K28,'Gwybodaeth ymgeiswyr'!$K$8:$L$37,2,0)=\"y\",\"y\",\"\"))),\"Manual entry required\")","v":""},{"$f":"IF('Data BDE'!J28=\"\",\"\",'Data BDE'!J28)","v":""},{"$f":"IF('Data BDE'!K28=\"\",\"\",IF(ISNUMBER('Data BDE'!K28)=TRUE, IF('Data BDE'!K28<'Data BDE'!K$38, \"ERROR\", 'Data BDE'!K28), IF('Data BDE'!K28=\"<LOD\",'Data BDE'!K$38, \"ERROR\")))","v":""},{"$f":"IF('Data BDE'!L28=\"\",\"\",IF(ISNUMBER('Data BDE'!L28)=TRUE, IF('Data BDE'!L28<'Data BDE'!L$38, \"ERROR\", 'Data BDE'!L28), IF('Data BDE'!L28=\"<LOD\",'Data BDE'!L$38, \"ERROR\")))","v":""},{"$f":"IF('Data BDE'!M28=\"\",\"\",IF(ISNUMBER('Data BDE'!M28)=TRUE, IF('Data BDE'!M28<'Data BDE'!M$38, \"ERROR\", 'Data BDE'!M28), IF('Data BDE'!M28=\"<LOD\",'Data BDE'!M$38, \"ERROR\")))","v":""},{"$f":"IF('Data BDE'!N28=\"\",\"\",IF(ISNUMBER('Data BDE'!N28)=TRUE, IF('Data BDE'!N28<'Data BDE'!N$38, \"ERROR\", 'Data BDE'!N28), IF('Data BDE'!N28=\"<LOD\",'Data BDE'!N$38, \"ERROR\")))","v":""},{"$f":"IF('Data BDE'!O28=\"\",\"\",IF(ISNUMBER('Data BDE'!O28)=TRUE, IF('Data BDE'!O28<'Data BDE'!O$38, \"ERROR\", 'Data BDE'!O28), IF('Data BDE'!O28=\"<LOD\",'Data BDE'!O$38, \"ERROR\")))","v":""},{"$f":"IF('Data BDE'!P28=\"\",\"\",IF(ISNUMBER('Data BDE'!P28)=TRUE, IF('Data BDE'!P28<'Data BDE'!P$38, \"ERROR\", 'Data BDE'!P28), IF('Data BDE'!P28=\"<LOD\",'Data BDE'!P$38, \"ERROR\")))","v":""},{"$f":"IF('Data BDE'!Q28=\"\",\"\",IF(ISNUMBER('Data BDE'!Q28)=TRUE, IF('Data BDE'!Q28<'Data BDE'!Q$38, \"ERROR\", 'Data BDE'!Q28), IF('Data BDE'!Q28=\"<LOD\",'Data BDE'!Q$38, \"ERROR\")))","v":""},{"$f":"IF('Data BDE'!R28=\"\",\"\",IF(ISNUMBER('Data BDE'!R28)=TRUE, IF('Data BDE'!R28<'Data BDE'!R$38, \"ERROR\", 'Data BDE'!R28), IF('Data BDE'!R28=\"<LOD\",'Data BDE'!R$38, \"ERROR\")))","v":""},{"$f":"IF('Data BDE'!S28=\"\",\"\",IF(ISNUMBER('Data BDE'!S28)=TRUE, IF('Data BDE'!S28<'Data BDE'!S$38, \"ERROR\", 'Data BDE'!S28), IF('Data BDE'!S28=\"<LOD\",'Data BDE'!S$38, \"ERROR\")))","v":""},{"$f":"IF('Data BDE'!T28=\"\",\"\",IF(ISNUMBER('Data BDE'!T28)=TRUE, IF('Data BDE'!T28<'Data BDE'!T$38, \"ERROR\", 'Data BDE'!T28), IF('Data BDE'!T28=\"<LOD\",'Data BDE'!T$38, \"ERROR\")))","v":""},{"$f":"IF('Data BDE'!U28=\"\",\"\",IF(ISNUMBER('Data BDE'!U28)=TRUE, IF('Data BDE'!U28<'Data BDE'!U$38, \"ERROR\", 'Data BDE'!U28), IF('Data BDE'!U28=\"<LOD\",'Data BDE'!U$38, \"ERROR\")))","v":""},{"$f":"IF('Data BDE'!V28=\"\",\"\",IF(ISNUMBER('Data BDE'!V28)=TRUE, IF('Data BDE'!V28<'Data BDE'!V$38, \"ERROR\", 'Data BDE'!V28), IF('Data BDE'!V28=\"<LOD\",'Data BDE'!V$38, \"ERROR\")))","v":""}]
[null,null,null,null,null,null,null,{"$f":"IF('Data BDE'!H29=\"\",\"\",'Data BDE'!H29)","v":""},{"$f":"IF('Data BDE'!I29=\"\",\"\",'Data BDE'!I29)","v":""},{"$f":"IFERROR(IF(K29=\"\",\"\",(IF(VLOOKUP(K29,'Gwybodaeth ymgeiswyr'!$K$8:$L$37,2,0)=\"y\",\"y\",\"\"))),\"Manual entry required\")","v":""},{"$f":"IF('Data BDE'!J29=\"\",\"\",'Data BDE'!J29)","v":""},{"$f":"IF('Data BDE'!K29=\"\",\"\",IF(ISNUMBER('Data BDE'!K29)=TRUE, IF('Data BDE'!K29<'Data BDE'!K$38, \"ERROR\", 'Data BDE'!K29), IF('Data BDE'!K29=\"<LOD\",'Data BDE'!K$38, \"ERROR\")))","v":""},{"$f":"IF('Data BDE'!L29=\"\",\"\",IF(ISNUMBER('Data BDE'!L29)=TRUE, IF('Data BDE'!L29<'Data BDE'!L$38, \"ERROR\", 'Data BDE'!L29), IF('Data BDE'!L29=\"<LOD\",'Data BDE'!L$38, \"ERROR\")))","v":""},{"$f":"IF('Data BDE'!M29=\"\",\"\",IF(ISNUMBER('Data BDE'!M29)=TRUE, IF('Data BDE'!M29<'Data BDE'!M$38, \"ERROR\", 'Data BDE'!M29), IF('Data BDE'!M29=\"<LOD\",'Data BDE'!M$38, \"ERROR\")))","v":""},{"$f":"IF('Data BDE'!N29=\"\",\"\",IF(ISNUMBER('Data BDE'!N29)=TRUE, IF('Data BDE'!N29<'Data BDE'!N$38, \"ERROR\", 'Data BDE'!N29), IF('Data BDE'!N29=\"<LOD\",'Data BDE'!N$38, \"ERROR\")))","v":""},{"$f":"IF('Data BDE'!O29=\"\",\"\",IF(ISNUMBER('Data BDE'!O29)=TRUE, IF('Data BDE'!O29<'Data BDE'!O$38, \"ERROR\", 'Data BDE'!O29), IF('Data BDE'!O29=\"<LOD\",'Data BDE'!O$38, \"ERROR\")))","v":""},{"$f":"IF('Data BDE'!P29=\"\",\"\",IF(ISNUMBER('Data BDE'!P29)=TRUE, IF('Data BDE'!P29<'Data BDE'!P$38, \"ERROR\", 'Data BDE'!P29), IF('Data BDE'!P29=\"<LOD\",'Data BDE'!P$38, \"ERROR\")))","v":""},{"$f":"IF('Data BDE'!Q29=\"\",\"\",IF(ISNUMBER('Data BDE'!Q29)=TRUE, IF('Data BDE'!Q29<'Data BDE'!Q$38, \"ERROR\", 'Data BDE'!Q29), IF('Data BDE'!Q29=\"<LOD\",'Data BDE'!Q$38, \"ERROR\")))","v":""},{"$f":"IF('Data BDE'!R29=\"\",\"\",IF(ISNUMBER('Data BDE'!R29)=TRUE, IF('Data BDE'!R29<'Data BDE'!R$38, \"ERROR\", 'Data BDE'!R29), IF('Data BDE'!R29=\"<LOD\",'Data BDE'!R$38, \"ERROR\")))","v":""},{"$f":"IF('Data BDE'!S29=\"\",\"\",IF(ISNUMBER('Data BDE'!S29)=TRUE, IF('Data BDE'!S29<'Data BDE'!S$38, \"ERROR\", 'Data BDE'!S29), IF('Data BDE'!S29=\"<LOD\",'Data BDE'!S$38, \"ERROR\")))","v":""},{"$f":"IF('Data BDE'!T29=\"\",\"\",IF(ISNUMBER('Data BDE'!T29)=TRUE, IF('Data BDE'!T29<'Data BDE'!T$38, \"ERROR\", 'Data BDE'!T29), IF('Data BDE'!T29=\"<LOD\",'Data BDE'!T$38, \"ERROR\")))","v":""},{"$f":"IF('Data BDE'!U29=\"\",\"\",IF(ISNUMBER('Data BDE'!U29)=TRUE, IF('Data BDE'!U29<'Data BDE'!U$38, \"ERROR\", 'Data BDE'!U29), IF('Data BDE'!U29=\"<LOD\",'Data BDE'!U$38, \"ERROR\")))","v":""},{"$f":"IF('Data BDE'!V29=\"\",\"\",IF(ISNUMBER('Data BDE'!V29)=TRUE, IF('Data BDE'!V29<'Data BDE'!V$38, \"ERROR\", 'Data BDE'!V29), IF('Data BDE'!V29=\"<LOD\",'Data BDE'!V$38, \"ERROR\")))","v":""}]
[null,null,null,null,null,null,null,{"$f":"IF('Data BDE'!H30=\"\",\"\",'Data BDE'!H30)","v":""},{"$f":"IF('Data BDE'!I30=\"\",\"\",'Data BDE'!I30)","v":""},{"$f":"IFERROR(IF(K30=\"\",\"\",(IF(VLOOKUP(K30,'Gwybodaeth ymgeiswyr'!$K$8:$L$37,2,0)=\"y\",\"y\",\"\"))),\"Manual entry required\")","v":""},{"$f":"IF('Data BDE'!J30=\"\",\"\",'Data BDE'!J30)","v":""},{"$f":"IF('Data BDE'!K30=\"\",\"\",IF(ISNUMBER('Data BDE'!K30)=TRUE, IF('Data BDE'!K30<'Data BDE'!K$38, \"ERROR\", 'Data BDE'!K30), IF('Data BDE'!K30=\"<LOD\",'Data BDE'!K$38, \"ERROR\")))","v":""},{"$f":"IF('Data BDE'!L30=\"\",\"\",IF(ISNUMBER('Data BDE'!L30)=TRUE, IF('Data BDE'!L30<'Data BDE'!L$38, \"ERROR\", 'Data BDE'!L30), IF('Data BDE'!L30=\"<LOD\",'Data BDE'!L$38, \"ERROR\")))","v":""},{"$f":"IF('Data BDE'!M30=\"\",\"\",IF(ISNUMBER('Data BDE'!M30)=TRUE, IF('Data BDE'!M30<'Data BDE'!M$38, \"ERROR\", 'Data BDE'!M30), IF('Data BDE'!M30=\"<LOD\",'Data BDE'!M$38, \"ERROR\")))","v":""},{"$f":"IF('Data BDE'!N30=\"\",\"\",IF(ISNUMBER('Data BDE'!N30)=TRUE, IF('Data BDE'!N30<'Data BDE'!N$38, \"ERROR\", 'Data BDE'!N30), IF('Data BDE'!N30=\"<LOD\",'Data BDE'!N$38, \"ERROR\")))","v":""},{"$f":"IF('Data BDE'!O30=\"\",\"\",IF(ISNUMBER('Data BDE'!O30)=TRUE, IF('Data BDE'!O30<'Data BDE'!O$38, \"ERROR\", 'Data BDE'!O30), IF('Data BDE'!O30=\"<LOD\",'Data BDE'!O$38, \"ERROR\")))","v":""},{"$f":"IF('Data BDE'!P30=\"\",\"\",IF(ISNUMBER('Data BDE'!P30)=TRUE, IF('Data BDE'!P30<'Data BDE'!P$38, \"ERROR\", 'Data BDE'!P30), IF('Data BDE'!P30=\"<LOD\",'Data BDE'!P$38, \"ERROR\")))","v":""},{"$f":"IF('Data BDE'!Q30=\"\",\"\",IF(ISNUMBER('Data BDE'!Q30)=TRUE, IF('Data BDE'!Q30<'Data BDE'!Q$38, \"ERROR\", 'Data BDE'!Q30), IF('Data BDE'!Q30=\"<LOD\",'Data BDE'!Q$38, \"ERROR\")))","v":""},{"$f":"IF('Data BDE'!R30=\"\",\"\",IF(ISNUMBER('Data BDE'!R30)=TRUE, IF('Data BDE'!R30<'Data BDE'!R$38, \"ERROR\", 'Data BDE'!R30), IF('Data BDE'!R30=\"<LOD\",'Data BDE'!R$38, \"ERROR\")))","v":""},{"$f":"IF('Data BDE'!S30=\"\",\"\",IF(ISNUMBER('Data BDE'!S30)=TRUE, IF('Data BDE'!S30<'Data BDE'!S$38, \"ERROR\", 'Data BDE'!S30), IF('Data BDE'!S30=\"<LOD\",'Data BDE'!S$38, \"ERROR\")))","v":""},{"$f":"IF('Data BDE'!T30=\"\",\"\",IF(ISNUMBER('Data BDE'!T30)=TRUE, IF('Data BDE'!T30<'Data BDE'!T$38, \"ERROR\", 'Data BDE'!T30), IF('Data BDE'!T30=\"<LOD\",'Data BDE'!T$38, \"ERROR\")))","v":""},{"$f":"IF('Data BDE'!U30=\"\",\"\",IF(ISNUMBER('Data BDE'!U30)=TRUE, IF('Data BDE'!U30<'Data BDE'!U$38, \"ERROR\", 'Data BDE'!U30), IF('Data BDE'!U30=\"<LOD\",'Data BDE'!U$38, \"ERROR\")))","v":""},{"$f":"IF('Data BDE'!V30=\"\",\"\",IF(ISNUMBER('Data BDE'!V30)=TRUE, IF('Data BDE'!V30<'Data BDE'!V$38, \"ERROR\", 'Data BDE'!V30), IF('Data BDE'!V30=\"<LOD\",'Data BDE'!V$38, \"ERROR\")))","v":""}]
[null,null,null,null,null,null,null,{"$f":"IF('Data BDE'!H31=\"\",\"\",'Data BDE'!H31)","v":""},{"$f":"IF('Data BDE'!I31=\"\",\"\",'Data BDE'!I31)","v":""},{"$f":"IFERROR(IF(K31=\"\",\"\",(IF(VLOOKUP(K31,'Gwybodaeth ymgeiswyr'!$K$8:$L$37,2,0)=\"y\",\"y\",\"\"))),\"Manual entry required\")","v":""},{"$f":"IF('Data BDE'!J31=\"\",\"\",'Data BDE'!J31)","v":""},{"$f":"IF('Data BDE'!K31=\"\",\"\",IF(ISNUMBER('Data BDE'!K31)=TRUE, IF('Data BDE'!K31<'Data BDE'!K$38, \"ERROR\", 'Data BDE'!K31), IF('Data BDE'!K31=\"<LOD\",'Data BDE'!K$38, \"ERROR\")))","v":""},{"$f":"IF('Data BDE'!L31=\"\",\"\",IF(ISNUMBER('Data BDE'!L31)=TRUE, IF('Data BDE'!L31<'Data BDE'!L$38, \"ERROR\", 'Data BDE'!L31), IF('Data BDE'!L31=\"<LOD\",'Data BDE'!L$38, \"ERROR\")))","v":""},{"$f":"IF('Data BDE'!M31=\"\",\"\",IF(ISNUMBER('Data BDE'!M31)=TRUE, IF('Data BDE'!M31<'Data BDE'!M$38, \"ERROR\", 'Data BDE'!M31), IF('Data BDE'!M31=\"<LOD\",'Data BDE'!M$38, \"ERROR\")))","v":""},{"$f":"IF('Data BDE'!N31=\"\",\"\",IF(ISNUMBER('Data BDE'!N31)=TRUE, IF('Data BDE'!N31<'Data BDE'!N$38, \"ERROR\", 'Data BDE'!N31), IF('Data BDE'!N31=\"<LOD\",'Data BDE'!N$38, \"ERROR\")))","v":""},{"$f":"IF('Data BDE'!O31=\"\",\"\",IF(ISNUMBER('Data BDE'!O31)=TRUE, IF('Data BDE'!O31<'Data BDE'!O$38, \"ERROR\", 'Data BDE'!O31), IF('Data BDE'!O31=\"<LOD\",'Data BDE'!O$38, \"ERROR\")))","v":""},{"$f":"IF('Data BDE'!P31=\"\",\"\",IF(ISNUMBER('Data BDE'!P31)=TRUE, IF('Data BDE'!P31<'Data BDE'!P$38, \"ERROR\", 'Data BDE'!P31), IF('Data BDE'!P31=\"<LOD\",'Data BDE'!P$38, \"ERROR\")))","v":""},{"$f":"IF('Data BDE'!Q31=\"\",\"\",IF(ISNUMBER('Data BDE'!Q31)=TRUE, IF('Data BDE'!Q31<'Data BDE'!Q$38, \"ERROR\", 'Data BDE'!Q31), IF('Data BDE'!Q31=\"<LOD\",'Data BDE'!Q$38, \"ERROR\")))","v":""},{"$f":"IF('Data BDE'!R31=\"\",\"\",IF(ISNUMBER('Data BDE'!R31)=TRUE, IF('Data BDE'!R31<'Data BDE'!R$38, \"ERROR\", 'Data BDE'!R31), IF('Data BDE'!R31=\"<LOD\",'Data BDE'!R$38, \"ERROR\")))","v":""},{"$f":"IF('Data BDE'!S31=\"\",\"\",IF(ISNUMBER('Data BDE'!S31)=TRUE, IF('Data BDE'!S31<'Data BDE'!S$38, \"ERROR\", 'Data BDE'!S31), IF('Data BDE'!S31=\"<LOD\",'Data BDE'!S$38, \"ERROR\")))","v":""},{"$f":"IF('Data BDE'!T31=\"\",\"\",IF(ISNUMBER('Data BDE'!T31)=TRUE, IF('Data BDE'!T31<'Data BDE'!T$38, \"ERROR\", 'Data BDE'!T31), IF('Data BDE'!T31=\"<LOD\",'Data BDE'!T$38, \"ERROR\")))","v":""},{"$f":"IF('Data BDE'!U31=\"\",\"\",IF(ISNUMBER('Data BDE'!U31)=TRUE, IF('Data BDE'!U31<'Data BDE'!U$38, \"ERROR\", 'Data BDE'!U31), IF('Data BDE'!U31=\"<LOD\",'Data BDE'!U$38, \"ERROR\")))","v":""},{"$f":"IF('Data BDE'!V31=\"\",\"\",IF(ISNUMBER('Data BDE'!V31)=TRUE, IF('Data BDE'!V31<'Data BDE'!V$38, \"ERROR\", 'Data BDE'!V31), IF('Data BDE'!V31=\"<LOD\",'Data BDE'!V$38, \"ERROR\")))","v":""}]
[null,null,null,null,null,null,null,{"$f":"IF('Data BDE'!H32=\"\",\"\",'Data BDE'!H32)","v":""},{"$f":"IF('Data BDE'!I32=\"\",\"\",'Data BDE'!I32)","v":""},{"$f":"IFERROR(IF(K32=\"\",\"\",(IF(VLOOKUP(K32,'Gwybodaeth ymgeiswyr'!$K$8:$L$37,2,0)=\"y\",\"y\",\"\"))),\"Manual entry required\")","v":""},{"$f":"IF('Data BDE'!J32=\"\",\"\",'Data BDE'!J32)","v":""},{"$f":"IF('Data BDE'!K32=\"\",\"\",IF(ISNUMBER('Data BDE'!K32)=TRUE, IF('Data BDE'!K32<'Data BDE'!K$38, \"ERROR\", 'Data BDE'!K32), IF('Data BDE'!K32=\"<LOD\",'Data BDE'!K$38, \"ERROR\")))","v":""},{"$f":"IF('Data BDE'!L32=\"\",\"\",IF(ISNUMBER('Data BDE'!L32)=TRUE, IF('Data BDE'!L32<'Data BDE'!L$38, \"ERROR\", 'Data BDE'!L32), IF('Data BDE'!L32=\"<LOD\",'Data BDE'!L$38, \"ERROR\")))","v":""},{"$f":"IF('Data BDE'!M32=\"\",\"\",IF(ISNUMBER('Data BDE'!M32)=TRUE, IF('Data BDE'!M32<'Data BDE'!M$38, \"ERROR\", 'Data BDE'!M32), IF('Data BDE'!M32=\"<LOD\",'Data BDE'!M$38, \"ERROR\")))","v":""},{"$f":"IF('Data BDE'!N32=\"\",\"\",IF(ISNUMBER('Data BDE'!N32)=TRUE, IF('Data BDE'!N32<'Data BDE'!N$38, \"ERROR\", 'Data BDE'!N32), IF('Data BDE'!N32=\"<LOD\",'Data BDE'!N$38, \"ERROR\")))","v":""},{"$f":"IF('Data BDE'!O32=\"\",\"\",IF(ISNUMBER('Data BDE'!O32)=TRUE, IF('Data BDE'!O32<'Data BDE'!O$38, \"ERROR\", 'Data BDE'!O32), IF('Data BDE'!O32=\"<LOD\",'Data BDE'!O$38, \"ERROR\")))","v":""},{"$f":"IF('Data BDE'!P32=\"\",\"\",IF(ISNUMBER('Data BDE'!P32)=TRUE, IF('Data BDE'!P32<'Data BDE'!P$38, \"ERROR\", 'Data BDE'!P32), IF('Data BDE'!P32=\"<LOD\",'Data BDE'!P$38, \"ERROR\")))","v":""},{"$f":"IF('Data BDE'!Q32=\"\",\"\",IF(ISNUMBER('Data BDE'!Q32)=TRUE, IF('Data BDE'!Q32<'Data BDE'!Q$38, \"ERROR\", 'Data BDE'!Q32), IF('Data BDE'!Q32=\"<LOD\",'Data BDE'!Q$38, \"ERROR\")))","v":""},{"$f":"IF('Data BDE'!R32=\"\",\"\",IF(ISNUMBER('Data BDE'!R32)=TRUE, IF('Data BDE'!R32<'Data BDE'!R$38, \"ERROR\", 'Data BDE'!R32), IF('Data BDE'!R32=\"<LOD\",'Data BDE'!R$38, \"ERROR\")))","v":""},{"$f":"IF('Data BDE'!S32=\"\",\"\",IF(ISNUMBER('Data BDE'!S32)=TRUE, IF('Data BDE'!S32<'Data BDE'!S$38, \"ERROR\", 'Data BDE'!S32), IF('Data BDE'!S32=\"<LOD\",'Data BDE'!S$38, \"ERROR\")))","v":""},{"$f":"IF('Data BDE'!T32=\"\",\"\",IF(ISNUMBER('Data BDE'!T32)=TRUE, IF('Data BDE'!T32<'Data BDE'!T$38, \"ERROR\", 'Data BDE'!T32), IF('Data BDE'!T32=\"<LOD\",'Data BDE'!T$38, \"ERROR\")))","v":""},{"$f":"IF('Data BDE'!U32=\"\",\"\",IF(ISNUMBER('Data BDE'!U32)=TRUE, IF('Data BDE'!U32<'Data BDE'!U$38, \"ERROR\", 'Data BDE'!U32), IF('Data BDE'!U32=\"<LOD\",'Data BDE'!U$38, \"ERROR\")))","v":""},{"$f":"IF('Data BDE'!V32=\"\",\"\",IF(ISNUMBER('Data BDE'!V32)=TRUE, IF('Data BDE'!V32<'Data BDE'!V$38, \"ERROR\", 'Data BDE'!V32), IF('Data BDE'!V32=\"<LOD\",'Data BDE'!V$38, \"ERROR\")))","v":""}]
[null,null,null,null,null,null,null,{"$f":"IF('Data BDE'!H33=\"\",\"\",'Data BDE'!H33)","v":""},{"$f":"IF('Data BDE'!I33=\"\",\"\",'Data BDE'!I33)","v":""},{"$f":"IFERROR(IF(K33=\"\",\"\",(IF(VLOOKUP(K33,'Gwybodaeth ymgeiswyr'!$K$8:$L$37,2,0)=\"y\",\"y\",\"\"))),\"Manual entry required\")","v":""},{"$f":"IF('Data BDE'!J33=\"\",\"\",'Data BDE'!J33)","v":""},{"$f":"IF('Data BDE'!K33=\"\",\"\",IF(ISNUMBER('Data BDE'!K33)=TRUE, IF('Data BDE'!K33<'Data BDE'!K$38, \"ERROR\", 'Data BDE'!K33), IF('Data BDE'!K33=\"<LOD\",'Data BDE'!K$38, \"ERROR\")))","v":""},{"$f":"IF('Data BDE'!L33=\"\",\"\",IF(ISNUMBER('Data BDE'!L33)=TRUE, IF('Data BDE'!L33<'Data BDE'!L$38, \"ERROR\", 'Data BDE'!L33), IF('Data BDE'!L33=\"<LOD\",'Data BDE'!L$38, \"ERROR\")))","v":""},{"$f":"IF('Data BDE'!M33=\"\",\"\",IF(ISNUMBER('Data BDE'!M33)=TRUE, IF('Data BDE'!M33<'Data BDE'!M$38, \"ERROR\", 'Data BDE'!M33), IF('Data BDE'!M33=\"<LOD\",'Data BDE'!M$38, \"ERROR\")))","v":""},{"$f":"IF('Data BDE'!N33=\"\",\"\",IF(ISNUMBER('Data BDE'!N33)=TRUE, IF('Data BDE'!N33<'Data BDE'!N$38, \"ERROR\", 'Data BDE'!N33), IF('Data BDE'!N33=\"<LOD\",'Data BDE'!N$38, \"ERROR\")))","v":""},{"$f":"IF('Data BDE'!O33=\"\",\"\",IF(ISNUMBER('Data BDE'!O33)=TRUE, IF('Data BDE'!O33<'Data BDE'!O$38, \"ERROR\", 'Data BDE'!O33), IF('Data BDE'!O33=\"<LOD\",'Data BDE'!O$38, \"ERROR\")))","v":""},{"$f":"IF('Data BDE'!P33=\"\",\"\",IF(ISNUMBER('Data BDE'!P33)=TRUE, IF('Data BDE'!P33<'Data BDE'!P$38, \"ERROR\", 'Data BDE'!P33), IF('Data BDE'!P33=\"<LOD\",'Data BDE'!P$38, \"ERROR\")))","v":""},{"$f":"IF('Data BDE'!Q33=\"\",\"\",IF(ISNUMBER('Data BDE'!Q33)=TRUE, IF('Data BDE'!Q33<'Data BDE'!Q$38, \"ERROR\", 'Data BDE'!Q33), IF('Data BDE'!Q33=\"<LOD\",'Data BDE'!Q$38, \"ERROR\")))","v":""},{"$f":"IF('Data BDE'!R33=\"\",\"\",IF(ISNUMBER('Data BDE'!R33)=TRUE, IF('Data BDE'!R33<'Data BDE'!R$38, \"ERROR\", 'Data BDE'!R33), IF('Data BDE'!R33=\"<LOD\",'Data BDE'!R$38, \"ERROR\")))","v":""},{"$f":"IF('Data BDE'!S33=\"\",\"\",IF(ISNUMBER('Data BDE'!S33)=TRUE, IF('Data BDE'!S33<'Data BDE'!S$38, \"ERROR\", 'Data BDE'!S33), IF('Data BDE'!S33=\"<LOD\",'Data BDE'!S$38, \"ERROR\")))","v":""},{"$f":"IF('Data BDE'!T33=\"\",\"\",IF(ISNUMBER('Data BDE'!T33)=TRUE, IF('Data BDE'!T33<'Data BDE'!T$38, \"ERROR\", 'Data BDE'!T33), IF('Data BDE'!T33=\"<LOD\",'Data BDE'!T$38, \"ERROR\")))","v":""},{"$f":"IF('Data BDE'!U33=\"\",\"\",IF(ISNUMBER('Data BDE'!U33)=TRUE, IF('Data BDE'!U33<'Data BDE'!U$38, \"ERROR\", 'Data BDE'!U33), IF('Data BDE'!U33=\"<LOD\",'Data BDE'!U$38, \"ERROR\")))","v":""},{"$f":"IF('Data BDE'!V33=\"\",\"\",IF(ISNUMBER('Data BDE'!V33)=TRUE, IF('Data BDE'!V33<'Data BDE'!V$38, \"ERROR\", 'Data BDE'!V33), IF('Data BDE'!V33=\"<LOD\",'Data BDE'!V$38, \"ERROR\")))","v":""}]
[null,null,null,null,null,null,null,{"$f":"IF('Data BDE'!H34=\"\",\"\",'Data BDE'!H34)","v":""},{"$f":"IF('Data BDE'!I34=\"\",\"\",'Data BDE'!I34)","v":""},{"$f":"IFERROR(IF(K34=\"\",\"\",(IF(VLOOKUP(K34,'Gwybodaeth ymgeiswyr'!$K$8:$L$37,2,0)=\"y\",\"y\",\"\"))),\"Manual entry required\")","v":""},{"$f":"IF('Data BDE'!J34=\"\",\"\",'Data BDE'!J34)","v":""},{"$f":"IF('Data BDE'!K34=\"\",\"\",IF(ISNUMBER('Data BDE'!K34)=TRUE, IF('Data BDE'!K34<'Data BDE'!K$38, \"ERROR\", 'Data BDE'!K34), IF('Data BDE'!K34=\"<LOD\",'Data BDE'!K$38, \"ERROR\")))","v":""},{"$f":"IF('Data BDE'!L34=\"\",\"\",IF(ISNUMBER('Data BDE'!L34)=TRUE, IF('Data BDE'!L34<'Data BDE'!L$38, \"ERROR\", 'Data BDE'!L34), IF('Data BDE'!L34=\"<LOD\",'Data BDE'!L$38, \"ERROR\")))","v":""},{"$f":"IF('Data BDE'!M34=\"\",\"\",IF(ISNUMBER('Data BDE'!M34)=TRUE, IF('Data BDE'!M34<'Data BDE'!M$38, \"ERROR\", 'Data BDE'!M34), IF('Data BDE'!M34=\"<LOD\",'Data BDE'!M$38, \"ERROR\")))","v":""},{"$f":"IF('Data BDE'!N34=\"\",\"\",IF(ISNUMBER('Data BDE'!N34)=TRUE, IF('Data BDE'!N34<'Data BDE'!N$38, \"ERROR\", 'Data BDE'!N34), IF('Data BDE'!N34=\"<LOD\",'Data BDE'!N$38, \"ERROR\")))","v":""},{"$f":"IF('Data BDE'!O34=\"\",\"\",IF(ISNUMBER('Data BDE'!O34)=TRUE, IF('Data BDE'!O34<'Data BDE'!O$38, \"ERROR\", 'Data BDE'!O34), IF('Data BDE'!O34=\"<LOD\",'Data BDE'!O$38, \"ERROR\")))","v":""},{"$f":"IF('Data BDE'!P34=\"\",\"\",IF(ISNUMBER('Data BDE'!P34)=TRUE, IF('Data BDE'!P34<'Data BDE'!P$38, \"ERROR\", 'Data BDE'!P34), IF('Data BDE'!P34=\"<LOD\",'Data BDE'!P$38, \"ERROR\")))","v":""},{"$f":"IF('Data BDE'!Q34=\"\",\"\",IF(ISNUMBER('Data BDE'!Q34)=TRUE, IF('Data BDE'!Q34<'Data BDE'!Q$38, \"ERROR\", 'Data BDE'!Q34), IF('Data BDE'!Q34=\"<LOD\",'Data BDE'!Q$38, \"ERROR\")))","v":""},{"$f":"IF('Data BDE'!R34=\"\",\"\",IF(ISNUMBER('Data BDE'!R34)=TRUE, IF('Data BDE'!R34<'Data BDE'!R$38, \"ERROR\", 'Data BDE'!R34), IF('Data BDE'!R34=\"<LOD\",'Data BDE'!R$38, \"ERROR\")))","v":""},{"$f":"IF('Data BDE'!S34=\"\",\"\",IF(ISNUMBER('Data BDE'!S34)=TRUE, IF('Data BDE'!S34<'Data BDE'!S$38, \"ERROR\", 'Data BDE'!S34), IF('Data BDE'!S34=\"<LOD\",'Data BDE'!S$38, \"ERROR\")))","v":""},{"$f":"IF('Data BDE'!T34=\"\",\"\",IF(ISNUMBER('Data BDE'!T34)=TRUE, IF('Data BDE'!T34<'Data BDE'!T$38, \"ERROR\", 'Data BDE'!T34), IF('Data BDE'!T34=\"<LOD\",'Data BDE'!T$38, \"ERROR\")))","v":""},{"$f":"IF('Data BDE'!U34=\"\",\"\",IF(ISNUMBER('Data BDE'!U34)=TRUE, IF('Data BDE'!U34<'Data BDE'!U$38, \"ERROR\", 'Data BDE'!U34), IF('Data BDE'!U34=\"<LOD\",'Data BDE'!U$38, \"ERROR\")))","v":""},{"$f":"IF('Data BDE'!V34=\"\",\"\",IF(ISNUMBER('Data BDE'!V34)=TRUE, IF('Data BDE'!V34<'Data BDE'!V$38, \"ERROR\", 'Data BDE'!V34), IF('Data BDE'!V34=\"<LOD\",'Data BDE'!V$38, \"ERROR\")))","v":""}]
[null,null,null,null,null,null,null,{"$f":"IF('Data BDE'!H35=\"\",\"\",'Data BDE'!H35)","v":""},{"$f":"IF('Data BDE'!I35=\"\",\"\",'Data BDE'!I35)","v":""},{"$f":"IFERROR(IF(K35=\"\",\"\",(IF(VLOOKUP(K35,'Gwybodaeth ymgeiswyr'!$K$8:$L$37,2,0)=\"y\",\"y\",\"\"))),\"Manual entry required\")","v":""},{"$f":"IF('Data BDE'!J35=\"\",\"\",'Data BDE'!J35)","v":""},{"$f":"IF('Data BDE'!K35=\"\",\"\",IF(ISNUMBER('Data BDE'!K35)=TRUE, IF('Data BDE'!K35<'Data BDE'!K$38, \"ERROR\", 'Data BDE'!K35), IF('Data BDE'!K35=\"<LOD\",'Data BDE'!K$38, \"ERROR\")))","v":""},{"$f":"IF('Data BDE'!L35=\"\",\"\",IF(ISNUMBER('Data BDE'!L35)=TRUE, IF('Data BDE'!L35<'Data BDE'!L$38, \"ERROR\", 'Data BDE'!L35), IF('Data BDE'!L35=\"<LOD\",'Data BDE'!L$38, \"ERROR\")))","v":""},{"$f":"IF('Data BDE'!M35=\"\",\"\",IF(ISNUMBER('Data BDE'!M35)=TRUE, IF('Data BDE'!M35<'Data BDE'!M$38, \"ERROR\", 'Data BDE'!M35), IF('Data BDE'!M35=\"<LOD\",'Data BDE'!M$38, \"ERROR\")))","v":""},{"$f":"IF('Data BDE'!N35=\"\",\"\",IF(ISNUMBER('Data BDE'!N35)=TRUE, IF('Data BDE'!N35<'Data BDE'!N$38, \"ERROR\", 'Data BDE'!N35), IF('Data BDE'!N35=\"<LOD\",'Data BDE'!N$38, \"ERROR\")))","v":""},{"$f":"IF('Data BDE'!O35=\"\",\"\",IF(ISNUMBER('Data BDE'!O35)=TRUE, IF('Data BDE'!O35<'Data BDE'!O$38, \"ERROR\", 'Data BDE'!O35), IF('Data BDE'!O35=\"<LOD\",'Data BDE'!O$38, \"ERROR\")))","v":""},{"$f":"IF('Data BDE'!P35=\"\",\"\",IF(ISNUMBER('Data BDE'!P35)=TRUE, IF('Data BDE'!P35<'Data BDE'!P$38, \"ERROR\", 'Data BDE'!P35), IF('Data BDE'!P35=\"<LOD\",'Data BDE'!P$38, \"ERROR\")))","v":""},{"$f":"IF('Data BDE'!Q35=\"\",\"\",IF(ISNUMBER('Data BDE'!Q35)=TRUE, IF('Data BDE'!Q35<'Data BDE'!Q$38, \"ERROR\", 'Data BDE'!Q35), IF('Data BDE'!Q35=\"<LOD\",'Data BDE'!Q$38, \"ERROR\")))","v":""},{"$f":"IF('Data BDE'!R35=\"\",\"\",IF(ISNUMBER('Data BDE'!R35)=TRUE, IF('Data BDE'!R35<'Data BDE'!R$38, \"ERROR\", 'Data BDE'!R35), IF('Data BDE'!R35=\"<LOD\",'Data BDE'!R$38, \"ERROR\")))","v":""},{"$f":"IF('Data BDE'!S35=\"\",\"\",IF(ISNUMBER('Data BDE'!S35)=TRUE, IF('Data BDE'!S35<'Data BDE'!S$38, \"ERROR\", 'Data BDE'!S35), IF('Data BDE'!S35=\"<LOD\",'Data BDE'!S$38, \"ERROR\")))","v":""},{"$f":"IF('Data BDE'!T35=\"\",\"\",IF(ISNUMBER('Data BDE'!T35)=TRUE, IF('Data BDE'!T35<'Data BDE'!T$38, \"ERROR\", 'Data BDE'!T35), IF('Data BDE'!T35=\"<LOD\",'Data BDE'!T$38, \"ERROR\")))","v":""},{"$f":"IF('Data BDE'!U35=\"\",\"\",IF(ISNUMBER('Data BDE'!U35)=TRUE, IF('Data BDE'!U35<'Data BDE'!U$38, \"ERROR\", 'Data BDE'!U35), IF('Data BDE'!U35=\"<LOD\",'Data BDE'!U$38, \"ERROR\")))","v":""},{"$f":"IF('Data BDE'!V35=\"\",\"\",IF(ISNUMBER('Data BDE'!V35)=TRUE, IF('Data BDE'!V35<'Data BDE'!V$38, \"ERROR\", 'Data BDE'!V35), IF('Data BDE'!V35=\"<LOD\",'Data BDE'!V$38, \"ERROR\")))","v":""}]
[null,null,null,null,null,null,null,{"$f":"IF('Data BDE'!H36=\"\",\"\",'Data BDE'!H36)","v":""},{"$f":"IF('Data BDE'!I36=\"\",\"\",'Data BDE'!I36)","v":""},{"$f":"IFERROR(IF(K36=\"\",\"\",(IF(VLOOKUP(K36,'Gwybodaeth ymgeiswyr'!$K$8:$L$37,2,0)=\"y\",\"y\",\"\"))),\"Manual entry required\")","v":""},{"$f":"IF('Data BDE'!J36=\"\",\"\",'Data BDE'!J36)","v":""},{"$f":"IF('Data BDE'!K36=\"\",\"\",IF(ISNUMBER('Data BDE'!K36)=TRUE, IF('Data BDE'!K36<'Data BDE'!K$38, \"ERROR\", 'Data BDE'!K36), IF('Data BDE'!K36=\"<LOD\",'Data BDE'!K$38, \"ERROR\")))","v":""},{"$f":"IF('Data BDE'!L36=\"\",\"\",IF(ISNUMBER('Data BDE'!L36)=TRUE, IF('Data BDE'!L36<'Data BDE'!L$38, \"ERROR\", 'Data BDE'!L36), IF('Data BDE'!L36=\"<LOD\",'Data BDE'!L$38, \"ERROR\")))","v":""},{"$f":"IF('Data BDE'!M36=\"\",\"\",IF(ISNUMBER('Data BDE'!M36)=TRUE, IF('Data BDE'!M36<'Data BDE'!M$38, \"ERROR\", 'Data BDE'!M36), IF('Data BDE'!M36=\"<LOD\",'Data BDE'!M$38, \"ERROR\")))","v":""},{"$f":"IF('Data BDE'!N36=\"\",\"\",IF(ISNUMBER('Data BDE'!N36)=TRUE, IF('Data BDE'!N36<'Data BDE'!N$38, \"ERROR\", 'Data BDE'!N36), IF('Data BDE'!N36=\"<LOD\",'Data BDE'!N$38, \"ERROR\")))","v":""},{"$f":"IF('Data BDE'!O36=\"\",\"\",IF(ISNUMBER('Data BDE'!O36)=TRUE, IF('Data BDE'!O36<'Data BDE'!O$38, \"ERROR\", 'Data BDE'!O36), IF('Data BDE'!O36=\"<LOD\",'Data BDE'!O$38, \"ERROR\")))","v":""},{"$f":"IF('Data BDE'!P36=\"\",\"\",IF(ISNUMBER('Data BDE'!P36)=TRUE, IF('Data BDE'!P36<'Data BDE'!P$38, \"ERROR\", 'Data BDE'!P36), IF('Data BDE'!P36=\"<LOD\",'Data BDE'!P$38, \"ERROR\")))","v":""},{"$f":"IF('Data BDE'!Q36=\"\",\"\",IF(ISNUMBER('Data BDE'!Q36)=TRUE, IF('Data BDE'!Q36<'Data BDE'!Q$38, \"ERROR\", 'Data BDE'!Q36), IF('Data BDE'!Q36=\"<LOD\",'Data BDE'!Q$38, \"ERROR\")))","v":""},{"$f":"IF('Data BDE'!R36=\"\",\"\",IF(ISNUMBER('Data BDE'!R36)=TRUE, IF('Data BDE'!R36<'Data BDE'!R$38, \"ERROR\", 'Data BDE'!R36), IF('Data BDE'!R36=\"<LOD\",'Data BDE'!R$38, \"ERROR\")))","v":""},{"$f":"IF('Data BDE'!S36=\"\",\"\",IF(ISNUMBER('Data BDE'!S36)=TRUE, IF('Data BDE'!S36<'Data BDE'!S$38, \"ERROR\", 'Data BDE'!S36), IF('Data BDE'!S36=\"<LOD\",'Data BDE'!S$38, \"ERROR\")))","v":""},{"$f":"IF('Data BDE'!T36=\"\",\"\",IF(ISNUMBER('Data BDE'!T36)=TRUE, IF('Data BDE'!T36<'Data BDE'!T$38, \"ERROR\", 'Data BDE'!T36), IF('Data BDE'!T36=\"<LOD\",'Data BDE'!T$38, \"ERROR\")))","v":""},{"$f":"IF('Data BDE'!U36=\"\",\"\",IF(ISNUMBER('Data BDE'!U36)=TRUE, IF('Data BDE'!U36<'Data BDE'!U$38, \"ERROR\", 'Data BDE'!U36), IF('Data BDE'!U36=\"<LOD\",'Data BDE'!U$38, \"ERROR\")))","v":""},{"$f":"IF('Data BDE'!V36=\"\",\"\",IF(ISNUMBER('Data BDE'!V36)=TRUE, IF('Data BDE'!V36<'Data BDE'!V$38, \"ERROR\", 'Data BDE'!V36), IF('Data BDE'!V36=\"<LOD\",'Data BDE'!V$38, \"ERROR\")))","v":""}]
[null,null,null,null,null,null,null,{"$f":"IF('Data BDE'!H37=\"\",\"\",'Data BDE'!H37)","v":""},{"$f":"IF('Data BDE'!I37=\"\",\"\",'Data BDE'!I37)","v":""},{"$f":"IFERROR(IF(K37=\"\",\"\",(IF(VLOOKUP(K37,'Gwybodaeth ymgeiswyr'!$K$8:$L$37,2,0)=\"y\",\"y\",\"\"))),\"Manual entry required\")","v":""},{"$f":"IF('Data BDE'!J37=\"\",\"\",'Data BDE'!J37)","v":""},{"$f":"IF('Data BDE'!K37=\"\",\"\",IF(ISNUMBER('Data BDE'!K37)=TRUE, IF('Data BDE'!K37<'Data BDE'!K$38, \"ERROR\", 'Data BDE'!K37), IF('Data BDE'!K37=\"<LOD\",'Data BDE'!K$38, \"ERROR\")))","v":""},{"$f":"IF('Data BDE'!L37=\"\",\"\",IF(ISNUMBER('Data BDE'!L37)=TRUE, IF('Data BDE'!L37<'Data BDE'!L$38, \"ERROR\", 'Data BDE'!L37), IF('Data BDE'!L37=\"<LOD\",'Data BDE'!L$38, \"ERROR\")))","v":""},{"$f":"IF('Data BDE'!M37=\"\",\"\",IF(ISNUMBER('Data BDE'!M37)=TRUE, IF('Data BDE'!M37<'Data BDE'!M$38, \"ERROR\", 'Data BDE'!M37), IF('Data BDE'!M37=\"<LOD\",'Data BDE'!M$38, \"ERROR\")))","v":""},{"$f":"IF('Data BDE'!N37=\"\",\"\",IF(ISNUMBER('Data BDE'!N37)=TRUE, IF('Data BDE'!N37<'Data BDE'!N$38, \"ERROR\", 'Data BDE'!N37), IF('Data BDE'!N37=\"<LOD\",'Data BDE'!N$38, \"ERROR\")))","v":""},{"$f":"IF('Data BDE'!O37=\"\",\"\",IF(ISNUMBER('Data BDE'!O37)=TRUE, IF('Data BDE'!O37<'Data BDE'!O$38, \"ERROR\", 'Data BDE'!O37), IF('Data BDE'!O37=\"<LOD\",'Data BDE'!O$38, \"ERROR\")))","v":""},{"$f":"IF('Data BDE'!P37=\"\",\"\",IF(ISNUMBER('Data BDE'!P37)=TRUE, IF('Data BDE'!P37<'Data BDE'!P$38, \"ERROR\", 'Data BDE'!P37), IF('Data BDE'!P37=\"<LOD\",'Data BDE'!P$38, \"ERROR\")))","v":""},{"$f":"IF('Data BDE'!Q37=\"\",\"\",IF(ISNUMBER('Data BDE'!Q37)=TRUE, IF('Data BDE'!Q37<'Data BDE'!Q$38, \"ERROR\", 'Data BDE'!Q37), IF('Data BDE'!Q37=\"<LOD\",'Data BDE'!Q$38, \"ERROR\")))","v":""},{"$f":"IF('Data BDE'!R37=\"\",\"\",IF(ISNUMBER('Data BDE'!R37)=TRUE, IF('Data BDE'!R37<'Data BDE'!R$38, \"ERROR\", 'Data BDE'!R37), IF('Data BDE'!R37=\"<LOD\",'Data BDE'!R$38, \"ERROR\")))","v":""},{"$f":"IF('Data BDE'!S37=\"\",\"\",IF(ISNUMBER('Data BDE'!S37)=TRUE, IF('Data BDE'!S37<'Data BDE'!S$38, \"ERROR\", 'Data BDE'!S37), IF('Data BDE'!S37=\"<LOD\",'Data BDE'!S$38, \"ERROR\")))","v":""},{"$f":"IF('Data BDE'!T37=\"\",\"\",IF(ISNUMBER('Data BDE'!T37)=TRUE, IF('Data BDE'!T37<'Data BDE'!T$38, \"ERROR\", 'Data BDE'!T37), IF('Data BDE'!T37=\"<LOD\",'Data BDE'!T$38, \"ERROR\")))","v":""},{"$f":"IF('Data BDE'!U37=\"\",\"\",IF(ISNUMBER('Data BDE'!U37)=TRUE, IF('Data BDE'!U37<'Data BDE'!U$38, \"ERROR\", 'Data BDE'!U37), IF('Data BDE'!U37=\"<LOD\",'Data BDE'!U$38, \"ERROR\")))","v":""},{"$f":"IF('Data BDE'!V37=\"\",\"\",IF(ISNUMBER('Data BDE'!V37)=TRUE, IF('Data BDE'!V37<'Data BDE'!V$38, \"ERROR\", 'Data BDE'!V37), IF('Data BDE'!V37=\"<LOD\",'Data BDE'!V$38, \"ERROR\")))","v":""}]
[null,null,null,null,null,null,null,null,null,"Averages:",null,{"$f":"IF(COUNT(L8:L37)<1,\"\", AVERAGE(L8:L37))","v":""},{"$f":"IF(COUNT(M8:M37)<1,\"\", AVERAGE(M8:M37))","v":""},"","","","","","","","","",""]
[]
[]
[]
[]
[]
[null,null,null,null,null,null,null,"Transformation to wet weight"]
[]
[null,null,null,null,null,null,null,"Laboratory sample number","Dredge Area","Excluded (y if yes)","Sample ID","Brominated flame retardants as mg/kg wet weight"]
[null,null,null,null,null,null,null,null,null,null,null,"2,2′,4,4′,6-penta-\n bromodiphenyl ether (BDE100)","Hexabromodiphenyl ether (BDE138) ","2,2′,4,4′,5,5′-hexa-\n bromodiphenyl ether (BDE153)","2,2′,4,4′,5,6′-hexa-bromodiphenyl ether (BDE154)","2,2´,4-tri-bromodiphenylether (BDE17)","2,2′,3,4,4′,5′,6-heptabromodiphenyl ether (BDE183)","2,2',3,3',4,4',5,5',6,6'-decabrominated diphenyl ether (BDE 209)","2,4,4'-tribromodiphenyl ether (BDE28)","2,2′,4,4′-Tetrabromodiphenyl ether (BDE47) ","2,3',4,4'-Tetrabromodiphenyl ether (BDE66)","2,2',3,4,4'-Pentabromodiphenyl ether  (BDE85)","2,2',4,4',5-pentabromodiphenyl ether   (BDE99)"]
[null,null,null,null,null,null,null,{"$f":"IF(H8=\"\",\"\",H8)","v":""},"","","",{"$f":"IF(L8=\"\",\"\",((('Data Ffisegol'!$M9/100)*L8)))","v":""},{"$f":"IF(M8=\"\",\"\",((('Data Ffisegol'!$M9/100)*M8)))","v":""},{"$f":"IF(N8=\"\",\"\",((('Data Ffisegol'!$M9/100)*N8)))","v":""},{"$f":"IF(O8=\"\",\"\",((('Data Ffisegol'!$M9/100)*O8)))","v":""},{"$f":"IF(P8=\"\",\"\",((('Data Ffisegol'!$M9/100)*P8)))","v":""},{"$f":"IF(Q8=\"\",\"\",((('Data Ffisegol'!$M9/100)*Q8)))","v":""},{"$f":"IF(R8=\"\",\"\",((('Data Ffisegol'!$M9/100)*R8)))","v":""},{"$f":"IF(S8=\"\",\"\",((('Data Ffisegol'!$M9/100)*S8)))","v":""},{"$f":"IF(T8=\"\",\"\",((('Data Ffisegol'!$M9/100)*T8)))","v":""},{"$f":"IF(U8=\"\",\"\",((('Data Ffisegol'!$M9/100)*U8)))","v":""},{"$f":"IF(V8=\"\",\"\",((('Data Ffisegol'!$M9/100)*V8)))","v":""},{"$f":"IF(W8=\"\",\"\",((('Data Ffisegol'!$M9/100)*W8)))","v":""}]
[null,null,null,null,null,null,null,"","","","",{"$f":"IF(L9=\"\",\"\",((('Data Ffisegol'!$M10/100)*L9)))","v":""},{"$f":"IF(M9=\"\",\"\",((('Data Ffisegol'!$M10/100)*M9)))","v":""},{"$f":"IF(N9=\"\",\"\",((('Data Ffisegol'!$M10/100)*N9)))","v":""},{"$f":"IF(O9=\"\",\"\",((('Data Ffisegol'!$M10/100)*O9)))","v":""},{"$f":"IF(P9=\"\",\"\",((('Data Ffisegol'!$M10/100)*P9)))","v":""},{"$f":"IF(Q9=\"\",\"\",((('Data Ffisegol'!$M10/100)*Q9)))","v":""},{"$f":"IF(R9=\"\",\"\",((('Data Ffisegol'!$M10/100)*R9)))","v":""},{"$f":"IF(S9=\"\",\"\",((('Data Ffisegol'!$M10/100)*S9)))","v":""},{"$f":"IF(T9=\"\",\"\",((('Data Ffisegol'!$M10/100)*T9)))","v":""},{"$f":"IF(U9=\"\",\"\",((('Data Ffisegol'!$M10/100)*U9)))","v":""},{"$f":"IF(V9=\"\",\"\",((('Data Ffisegol'!$M10/100)*V9)))","v":""},{"$f":"IF(W9=\"\",\"\",((('Data Ffisegol'!$M10/100)*W9)))","v":""}]
[null,null,null,null,null,null,null,"","","","",{"$f":"IF(L10=\"\",\"\",((('Data Ffisegol'!$M11/100)*L10)))","v":""},{"$f":"IF(M10=\"\",\"\",((('Data Ffisegol'!$M11/100)*M10)))","v":""},{"$f":"IF(N10=\"\",\"\",((('Data Ffisegol'!$M11/100)*N10)))","v":""},{"$f":"IF(O10=\"\",\"\",((('Data Ffisegol'!$M11/100)*O10)))","v":""},{"$f":"IF(P10=\"\",\"\",((('Data Ffisegol'!$M11/100)*P10)))","v":""},{"$f":"IF(Q10=\"\",\"\",((('Data Ffisegol'!$M11/100)*Q10)))","v":""},{"$f":"IF(R10=\"\",\"\",((('Data Ffisegol'!$M11/100)*R10)))","v":""},{"$f":"IF(S10=\"\",\"\",((('Data Ffisegol'!$M11/100)*S10)))","v":""},{"$f":"IF(T10=\"\",\"\",((('Data Ffisegol'!$M11/100)*T10)))","v":""},{"$f":"IF(U10=\"\",\"\",((('Data Ffisegol'!$M11/100)*U10)))","v":""},{"$f":"IF(V10=\"\",\"\",((('Data Ffisegol'!$M11/100)*V10)))","v":""},{"$f":"IF(W10=\"\",\"\",((('Data Ffisegol'!$M11/100)*W10)))","v":""}]
[null,null,null,null,null,null,null,"","","","",{"$f":"IF(L11=\"\",\"\",((('Data Ffisegol'!$M12/100)*L11)))","v":""},{"$f":"IF(M11=\"\",\"\",((('Data Ffisegol'!$M12/100)*M11)))","v":""},{"$f":"IF(N11=\"\",\"\",((('Data Ffisegol'!$M12/100)*N11)))","v":""},{"$f":"IF(O11=\"\",\"\",((('Data Ffisegol'!$M12/100)*O11)))","v":""},{"$f":"IF(P11=\"\",\"\",((('Data Ffisegol'!$M12/100)*P11)))","v":""},{"$f":"IF(Q11=\"\",\"\",((('Data Ffisegol'!$M12/100)*Q11)))","v":""},{"$f":"IF(R11=\"\",\"\",((('Data Ffisegol'!$M12/100)*R11)))","v":""},{"$f":"IF(S11=\"\",\"\",((('Data Ffisegol'!$M12/100)*S11)))","v":""},{"$f":"IF(T11=\"\",\"\",((('Data Ffisegol'!$M12/100)*T11)))","v":""},{"$f":"IF(U11=\"\",\"\",((('Data Ffisegol'!$M12/100)*U11)))","v":""},{"$f":"IF(V11=\"\",\"\",((('Data Ffisegol'!$M12/100)*V11)))","v":""},{"$f":"IF(W11=\"\",\"\",((('Data Ffisegol'!$M12/100)*W11)))","v":""}]
[null,null,null,null,null,null,null,"","","","",{"$f":"IF(L12=\"\",\"\",((('Data Ffisegol'!$M13/100)*L12)))","v":""},{"$f":"IF(M12=\"\",\"\",((('Data Ffisegol'!$M13/100)*M12)))","v":""},{"$f":"IF(N12=\"\",\"\",((('Data Ffisegol'!$M13/100)*N12)))","v":""},{"$f":"IF(O12=\"\",\"\",((('Data Ffisegol'!$M13/100)*O12)))","v":""},{"$f":"IF(P12=\"\",\"\",((('Data Ffisegol'!$M13/100)*P12)))","v":""},{"$f":"IF(Q12=\"\",\"\",((('Data Ffisegol'!$M13/100)*Q12)))","v":""},{"$f":"IF(R12=\"\",\"\",((('Data Ffisegol'!$M13/100)*R12)))","v":""},{"$f":"IF(S12=\"\",\"\",((('Data Ffisegol'!$M13/100)*S12)))","v":""},{"$f":"IF(T12=\"\",\"\",((('Data Ffisegol'!$M13/100)*T12)))","v":""},{"$f":"IF(U12=\"\",\"\",((('Data Ffisegol'!$M13/100)*U12)))","v":""},{"$f":"IF(V12=\"\",\"\",((('Data Ffisegol'!$M13/100)*V12)))","v":""},{"$f":"IF(W12=\"\",\"\",((('Data Ffisegol'!$M13/100)*W12)))","v":""}]
[null,null,null,null,null,null,null,"","","","",{"$f":"IF(L13=\"\",\"\",((('Data Ffisegol'!$M14/100)*L13)))","v":""},{"$f":"IF(M13=\"\",\"\",((('Data Ffisegol'!$M14/100)*M13)))","v":""},{"$f":"IF(N13=\"\",\"\",((('Data Ffisegol'!$M14/100)*N13)))","v":""},{"$f":"IF(O13=\"\",\"\",((('Data Ffisegol'!$M14/100)*O13)))","v":""},{"$f":"IF(P13=\"\",\"\",((('Data Ffisegol'!$M14/100)*P13)))","v":""},{"$f":"IF(Q13=\"\",\"\",((('Data Ffisegol'!$M14/100)*Q13)))","v":""},{"$f":"IF(R13=\"\",\"\",((('Data Ffisegol'!$M14/100)*R13)))","v":""},{"$f":"IF(S13=\"\",\"\",((('Data Ffisegol'!$M14/100)*S13)))","v":""},{"$f":"IF(T13=\"\",\"\",((('Data Ffisegol'!$M14/100)*T13)))","v":""},{"$f":"IF(U13=\"\",\"\",((('Data Ffisegol'!$M14/100)*U13)))","v":""},{"$f":"IF(V13=\"\",\"\",((('Data Ffisegol'!$M14/100)*V13)))","v":""},{"$f":"IF(W13=\"\",\"\",((('Data Ffisegol'!$M14/100)*W13)))","v":""}]
[null,null,null,null,null,null,null,"","","","",{"$f":"IF(L14=\"\",\"\",((('Data Ffisegol'!$M15/100)*L14)))","v":""},{"$f":"IF(M14=\"\",\"\",((('Data Ffisegol'!$M15/100)*M14)))","v":""},{"$f":"IF(N14=\"\",\"\",((('Data Ffisegol'!$M15/100)*N14)))","v":""},{"$f":"IF(O14=\"\",\"\",((('Data Ffisegol'!$M15/100)*O14)))","v":""},{"$f":"IF(P14=\"\",\"\",((('Data Ffisegol'!$M15/100)*P14)))","v":""},{"$f":"IF(Q14=\"\",\"\",((('Data Ffisegol'!$M15/100)*Q14)))","v":""},{"$f":"IF(R14=\"\",\"\",((('Data Ffisegol'!$M15/100)*R14)))","v":""},{"$f":"IF(S14=\"\",\"\",((('Data Ffisegol'!$M15/100)*S14)))","v":""},{"$f":"IF(T14=\"\",\"\",((('Data Ffisegol'!$M15/100)*T14)))","v":""},{"$f":"IF(U14=\"\",\"\",((('Data Ffisegol'!$M15/100)*U14)))","v":""},{"$f":"IF(V14=\"\",\"\",((('Data Ffisegol'!$M15/100)*V14)))","v":""},{"$f":"IF(W14=\"\",\"\",((('Data Ffisegol'!$M15/100)*W14)))","v":""}]
[null,null,null,null,null,null,null,"","","","",{"$f":"IF(L15=\"\",\"\",((('Data Ffisegol'!$M16/100)*L15)))","v":""},{"$f":"IF(M15=\"\",\"\",((('Data Ffisegol'!$M16/100)*M15)))","v":""},{"$f":"IF(N15=\"\",\"\",((('Data Ffisegol'!$M16/100)*N15)))","v":""},{"$f":"IF(O15=\"\",\"\",((('Data Ffisegol'!$M16/100)*O15)))","v":""},{"$f":"IF(P15=\"\",\"\",((('Data Ffisegol'!$M16/100)*P15)))","v":""},{"$f":"IF(Q15=\"\",\"\",((('Data Ffisegol'!$M16/100)*Q15)))","v":""},{"$f":"IF(R15=\"\",\"\",((('Data Ffisegol'!$M16/100)*R15)))","v":""},{"$f":"IF(S15=\"\",\"\",((('Data Ffisegol'!$M16/100)*S15)))","v":""},{"$f":"IF(T15=\"\",\"\",((('Data Ffisegol'!$M16/100)*T15)))","v":""},{"$f":"IF(U15=\"\",\"\",((('Data Ffisegol'!$M16/100)*U15)))","v":""},{"$f":"IF(V15=\"\",\"\",((('Data Ffisegol'!$M16/100)*V15)))","v":""},{"$f":"IF(W15=\"\",\"\",((('Data Ffisegol'!$M16/100)*W15)))","v":""}]
[null,null,null,null,null,null,null,"","","","",{"$f":"IF(L16=\"\",\"\",((('Data Ffisegol'!$M17/100)*L16)))","v":""},{"$f":"IF(M16=\"\",\"\",((('Data Ffisegol'!$M17/100)*M16)))","v":""},{"$f":"IF(N16=\"\",\"\",((('Data Ffisegol'!$M17/100)*N16)))","v":""},{"$f":"IF(O16=\"\",\"\",((('Data Ffisegol'!$M17/100)*O16)))","v":""},{"$f":"IF(P16=\"\",\"\",((('Data Ffisegol'!$M17/100)*P16)))","v":""},{"$f":"IF(Q16=\"\",\"\",((('Data Ffisegol'!$M17/100)*Q16)))","v":""},{"$f":"IF(R16=\"\",\"\",((('Data Ffisegol'!$M17/100)*R16)))","v":""},{"$f":"IF(S16=\"\",\"\",((('Data Ffisegol'!$M17/100)*S16)))","v":""},{"$f":"IF(T16=\"\",\"\",((('Data Ffisegol'!$M17/100)*T16)))","v":""},{"$f":"IF(U16=\"\",\"\",((('Data Ffisegol'!$M17/100)*U16)))","v":""},{"$f":"IF(V16=\"\",\"\",((('Data Ffisegol'!$M17/100)*V16)))","v":""},{"$f":"IF(W16=\"\",\"\",((('Data Ffisegol'!$M17/100)*W16)))","v":""}]
[null,null,null,null,null,null,null,"","","","",{"$f":"IF(L17=\"\",\"\",((('Data Ffisegol'!$M18/100)*L17)))","v":""},{"$f":"IF(M17=\"\",\"\",((('Data Ffisegol'!$M18/100)*M17)))","v":""},{"$f":"IF(N17=\"\",\"\",((('Data Ffisegol'!$M18/100)*N17)))","v":""},{"$f":"IF(O17=\"\",\"\",((('Data Ffisegol'!$M18/100)*O17)))","v":""},{"$f":"IF(P17=\"\",\"\",((('Data Ffisegol'!$M18/100)*P17)))","v":""},{"$f":"IF(Q17=\"\",\"\",((('Data Ffisegol'!$M18/100)*Q17)))","v":""},{"$f":"IF(R17=\"\",\"\",((('Data Ffisegol'!$M18/100)*R17)))","v":""},{"$f":"IF(S17=\"\",\"\",((('Data Ffisegol'!$M18/100)*S17)))","v":""},{"$f":"IF(T17=\"\",\"\",((('Data Ffisegol'!$M18/100)*T17)))","v":""},{"$f":"IF(U17=\"\",\"\",((('Data Ffisegol'!$M18/100)*U17)))","v":""},{"$f":"IF(V17=\"\",\"\",((('Data Ffisegol'!$M18/100)*V17)))","v":""},{"$f":"IF(W17=\"\",\"\",((('Data Ffisegol'!$M18/100)*W17)))","v":""}]
[null,null,null,null,null,null,null,"","","","",{"$f":"IF(L18=\"\",\"\",((('Data Ffisegol'!$M19/100)*L18)))","v":""},{"$f":"IF(M18=\"\",\"\",((('Data Ffisegol'!$M19/100)*M18)))","v":""},{"$f":"IF(N18=\"\",\"\",((('Data Ffisegol'!$M19/100)*N18)))","v":""},{"$f":"IF(O18=\"\",\"\",((('Data Ffisegol'!$M19/100)*O18)))","v":""},{"$f":"IF(P18=\"\",\"\",((('Data Ffisegol'!$M19/100)*P18)))","v":""},{"$f":"IF(Q18=\"\",\"\",((('Data Ffisegol'!$M19/100)*Q18)))","v":""},{"$f":"IF(R18=\"\",\"\",((('Data Ffisegol'!$M19/100)*R18)))","v":""},{"$f":"IF(S18=\"\",\"\",((('Data Ffisegol'!$M19/100)*S18)))","v":""},{"$f":"IF(T18=\"\",\"\",((('Data Ffisegol'!$M19/100)*T18)))","v":""},{"$f":"IF(U18=\"\",\"\",((('Data Ffisegol'!$M19/100)*U18)))","v":""},{"$f":"IF(V18=\"\",\"\",((('Data Ffisegol'!$M19/100)*V18)))","v":""},{"$f":"IF(W18=\"\",\"\",((('Data Ffisegol'!$M19/100)*W18)))","v":""}]
[null,null,null,null,null,null,null,"","","","",{"$f":"IF(L19=\"\",\"\",((('Data Ffisegol'!$M20/100)*L19)))","v":""},{"$f":"IF(M19=\"\",\"\",((('Data Ffisegol'!$M20/100)*M19)))","v":""},{"$f":"IF(N19=\"\",\"\",((('Data Ffisegol'!$M20/100)*N19)))","v":""},{"$f":"IF(O19=\"\",\"\",((('Data Ffisegol'!$M20/100)*O19)))","v":""},{"$f":"IF(P19=\"\",\"\",((('Data Ffisegol'!$M20/100)*P19)))","v":""},{"$f":"IF(Q19=\"\",\"\",((('Data Ffisegol'!$M20/100)*Q19)))","v":""},{"$f":"IF(R19=\"\",\"\",((('Data Ffisegol'!$M20/100)*R19)))","v":""},{"$f":"IF(S19=\"\",\"\",((('Data Ffisegol'!$M20/100)*S19)))","v":""},{"$f":"IF(T19=\"\",\"\",((('Data Ffisegol'!$M20/100)*T19)))","v":""},{"$f":"IF(U19=\"\",\"\",((('Data Ffisegol'!$M20/100)*U19)))","v":""},{"$f":"IF(V19=\"\",\"\",((('Data Ffisegol'!$M20/100)*V19)))","v":""},{"$f":"IF(W19=\"\",\"\",((('Data Ffisegol'!$M20/100)*W19)))","v":""}]
[null,null,null,null,null,null,null,"","","","",{"$f":"IF(L20=\"\",\"\",((('Data Ffisegol'!$M21/100)*L20)))","v":""},{"$f":"IF(M20=\"\",\"\",((('Data Ffisegol'!$M21/100)*M20)))","v":""},{"$f":"IF(N20=\"\",\"\",((('Data Ffisegol'!$M21/100)*N20)))","v":""},{"$f":"IF(O20=\"\",\"\",((('Data Ffisegol'!$M21/100)*O20)))","v":""},{"$f":"IF(P20=\"\",\"\",((('Data Ffisegol'!$M21/100)*P20)))","v":""},{"$f":"IF(Q20=\"\",\"\",((('Data Ffisegol'!$M21/100)*Q20)))","v":""},{"$f":"IF(R20=\"\",\"\",((('Data Ffisegol'!$M21/100)*R20)))","v":""},{"$f":"IF(S20=\"\",\"\",((('Data Ffisegol'!$M21/100)*S20)))","v":""},{"$f":"IF(T20=\"\",\"\",((('Data Ffisegol'!$M21/100)*T20)))","v":""},{"$f":"IF(U20=\"\",\"\",((('Data Ffisegol'!$M21/100)*U20)))","v":""},{"$f":"IF(V20=\"\",\"\",((('Data Ffisegol'!$M21/100)*V20)))","v":""},{"$f":"IF(W20=\"\",\"\",((('Data Ffisegol'!$M21/100)*W20)))","v":""}]
[null,null,null,null,null,null,null,"","","","",{"$f":"IF(L21=\"\",\"\",((('Data Ffisegol'!$M22/100)*L21)))","v":""},{"$f":"IF(M21=\"\",\"\",((('Data Ffisegol'!$M22/100)*M21)))","v":""},{"$f":"IF(N21=\"\",\"\",((('Data Ffisegol'!$M22/100)*N21)))","v":""},{"$f":"IF(O21=\"\",\"\",((('Data Ffisegol'!$M22/100)*O21)))","v":""},{"$f":"IF(P21=\"\",\"\",((('Data Ffisegol'!$M22/100)*P21)))","v":""},{"$f":"IF(Q21=\"\",\"\",((('Data Ffisegol'!$M22/100)*Q21)))","v":""},{"$f":"IF(R21=\"\",\"\",((('Data Ffisegol'!$M22/100)*R21)))","v":""},{"$f":"IF(S21=\"\",\"\",((('Data Ffisegol'!$M22/100)*S21)))","v":""},{"$f":"IF(T21=\"\",\"\",((('Data Ffisegol'!$M22/100)*T21)))","v":""},{"$f":"IF(U21=\"\",\"\",((('Data Ffisegol'!$M22/100)*U21)))","v":""},{"$f":"IF(V21=\"\",\"\",((('Data Ffisegol'!$M22/100)*V21)))","v":""},{"$f":"IF(W21=\"\",\"\",((('Data Ffisegol'!$M22/100)*W21)))","v":""}]
[null,null,null,null,null,null,null,"","","","",{"$f":"IF(L22=\"\",\"\",((('Data Ffisegol'!$M23/100)*L22)))","v":""},{"$f":"IF(M22=\"\",\"\",((('Data Ffisegol'!$M23/100)*M22)))","v":""},{"$f":"IF(N22=\"\",\"\",((('Data Ffisegol'!$M23/100)*N22)))","v":""},{"$f":"IF(O22=\"\",\"\",((('Data Ffisegol'!$M23/100)*O22)))","v":""},{"$f":"IF(P22=\"\",\"\",((('Data Ffisegol'!$M23/100)*P22)))","v":""},{"$f":"IF(Q22=\"\",\"\",((('Data Ffisegol'!$M23/100)*Q22)))","v":""},{"$f":"IF(R22=\"\",\"\",((('Data Ffisegol'!$M23/100)*R22)))","v":""},{"$f":"IF(S22=\"\",\"\",((('Data Ffisegol'!$M23/100)*S22)))","v":""},{"$f":"IF(T22=\"\",\"\",((('Data Ffisegol'!$M23/100)*T22)))","v":""},{"$f":"IF(U22=\"\",\"\",((('Data Ffisegol'!$M23/100)*U22)))","v":""},{"$f":"IF(V22=\"\",\"\",((('Data Ffisegol'!$M23/100)*V22)))","v":""},{"$f":"IF(W22=\"\",\"\",((('Data Ffisegol'!$M23/100)*W22)))","v":""}]
[null,null,null,null,null,null,null,"","","","",{"$f":"IF(L23=\"\",\"\",((('Data Ffisegol'!$M24/100)*L23)))","v":""},{"$f":"IF(M23=\"\",\"\",((('Data Ffisegol'!$M24/100)*M23)))","v":""},{"$f":"IF(N23=\"\",\"\",((('Data Ffisegol'!$M24/100)*N23)))","v":""},{"$f":"IF(O23=\"\",\"\",((('Data Ffisegol'!$M24/100)*O23)))","v":""},{"$f":"IF(P23=\"\",\"\",((('Data Ffisegol'!$M24/100)*P23)))","v":""},{"$f":"IF(Q23=\"\",\"\",((('Data Ffisegol'!$M24/100)*Q23)))","v":""},{"$f":"IF(R23=\"\",\"\",((('Data Ffisegol'!$M24/100)*R23)))","v":""},{"$f":"IF(S23=\"\",\"\",((('Data Ffisegol'!$M24/100)*S23)))","v":""},{"$f":"IF(T23=\"\",\"\",((('Data Ffisegol'!$M24/100)*T23)))","v":""},{"$f":"IF(U23=\"\",\"\",((('Data Ffisegol'!$M24/100)*U23)))","v":""},{"$f":"IF(V23=\"\",\"\",((('Data Ffisegol'!$M24/100)*V23)))","v":""},{"$f":"IF(W23=\"\",\"\",((('Data Ffisegol'!$M24/100)*W23)))","v":""}]
[null,null,null,null,null,null,null,{"$f":"IF(H24=\"\",\"\",H24)","v":""},"","","",{"$f":"IF(L24=\"\",\"\",((('Data Ffisegol'!$M25/100)*L24)))","v":""},{"$f":"IF(M24=\"\",\"\",((('Data Ffisegol'!$M25/100)*M24)))","v":""},{"$f":"IF(N24=\"\",\"\",((('Data Ffisegol'!$M25/100)*N24)))","v":""},{"$f":"IF(O24=\"\",\"\",((('Data Ffisegol'!$M25/100)*O24)))","v":""},{"$f":"IF(P24=\"\",\"\",((('Data Ffisegol'!$M25/100)*P24)))","v":""},{"$f":"IF(Q24=\"\",\"\",((('Data Ffisegol'!$M25/100)*Q24)))","v":""},{"$f":"IF(R24=\"\",\"\",((('Data Ffisegol'!$M25/100)*R24)))","v":""},{"$f":"IF(S24=\"\",\"\",((('Data Ffisegol'!$M25/100)*S24)))","v":""},{"$f":"IF(T24=\"\",\"\",((('Data Ffisegol'!$M25/100)*T24)))","v":""},{"$f":"IF(U24=\"\",\"\",((('Data Ffisegol'!$M25/100)*U24)))","v":""},{"$f":"IF(V24=\"\",\"\",((('Data Ffisegol'!$M25/100)*V24)))","v":""},{"$f":"IF(W24=\"\",\"\",((('Data Ffisegol'!$M25/100)*W24)))","v":""}]
[null,null,null,null,null,null,null,"","","","",{"$f":"IF(L25=\"\",\"\",((('Data Ffisegol'!$M26/100)*L25)))","v":""},{"$f":"IF(M25=\"\",\"\",((('Data Ffisegol'!$M26/100)*M25)))","v":""},{"$f":"IF(N25=\"\",\"\",((('Data Ffisegol'!$M26/100)*N25)))","v":""},{"$f":"IF(O25=\"\",\"\",((('Data Ffisegol'!$M26/100)*O25)))","v":""},{"$f":"IF(P25=\"\",\"\",((('Data Ffisegol'!$M26/100)*P25)))","v":""},{"$f":"IF(Q25=\"\",\"\",((('Data Ffisegol'!$M26/100)*Q25)))","v":""},{"$f":"IF(R25=\"\",\"\",((('Data Ffisegol'!$M26/100)*R25)))","v":""},{"$f":"IF(S25=\"\",\"\",((('Data Ffisegol'!$M26/100)*S25)))","v":""},{"$f":"IF(T25=\"\",\"\",((('Data Ffisegol'!$M26/100)*T25)))","v":""},{"$f":"IF(U25=\"\",\"\",((('Data Ffisegol'!$M26/100)*U25)))","v":""},{"$f":"IF(V25=\"\",\"\",((('Data Ffisegol'!$M26/100)*V25)))","v":""},{"$f":"IF(W25=\"\",\"\",((('Data Ffisegol'!$M26/100)*W25)))","v":""}]
[null,null,null,null,null,null,null,"","","","",{"$f":"IF(L26=\"\",\"\",((('Data Ffisegol'!$M27/100)*L26)))","v":""},{"$f":"IF(M26=\"\",\"\",((('Data Ffisegol'!$M27/100)*M26)))","v":""},{"$f":"IF(N26=\"\",\"\",((('Data Ffisegol'!$M27/100)*N26)))","v":""},{"$f":"IF(O26=\"\",\"\",((('Data Ffisegol'!$M27/100)*O26)))","v":""},{"$f":"IF(P26=\"\",\"\",((('Data Ffisegol'!$M27/100)*P26)))","v":""},{"$f":"IF(Q26=\"\",\"\",((('Data Ffisegol'!$M27/100)*Q26)))","v":""},{"$f":"IF(R26=\"\",\"\",((('Data Ffisegol'!$M27/100)*R26)))","v":""},{"$f":"IF(S26=\"\",\"\",((('Data Ffisegol'!$M27/100)*S26)))","v":""},{"$f":"IF(T26=\"\",\"\",((('Data Ffisegol'!$M27/100)*T26)))","v":""},{"$f":"IF(U26=\"\",\"\",((('Data Ffisegol'!$M27/100)*U26)))","v":""},{"$f":"IF(V26=\"\",\"\",((('Data Ffisegol'!$M27/100)*V26)))","v":""},{"$f":"IF(W26=\"\",\"\",((('Data Ffisegol'!$M27/100)*W26)))","v":""}]
[null,null,null,null,null,null,null,"","","","",{"$f":"IF(L27=\"\",\"\",((('Data Ffisegol'!$M28/100)*L27)))","v":""},{"$f":"IF(M27=\"\",\"\",((('Data Ffisegol'!$M28/100)*M27)))","v":""},{"$f":"IF(N27=\"\",\"\",((('Data Ffisegol'!$M28/100)*N27)))","v":""},{"$f":"IF(O27=\"\",\"\",((('Data Ffisegol'!$M28/100)*O27)))","v":""},{"$f":"IF(P27=\"\",\"\",((('Data Ffisegol'!$M28/100)*P27)))","v":""},{"$f":"IF(Q27=\"\",\"\",((('Data Ffisegol'!$M28/100)*Q27)))","v":""},{"$f":"IF(R27=\"\",\"\",((('Data Ffisegol'!$M28/100)*R27)))","v":""},{"$f":"IF(S27=\"\",\"\",((('Data Ffisegol'!$M28/100)*S27)))","v":""},{"$f":"IF(T27=\"\",\"\",((('Data Ffisegol'!$M28/100)*T27)))","v":""},{"$f":"IF(U27=\"\",\"\",((('Data Ffisegol'!$M28/100)*U27)))","v":""},{"$f":"IF(V27=\"\",\"\",((('Data Ffisegol'!$M28/100)*V27)))","v":""},{"$f":"IF(W27=\"\",\"\",((('Data Ffisegol'!$M28/100)*W27)))","v":""}]
[null,null,null,null,null,null,null,"","","","",{"$f":"IF(L28=\"\",\"\",((('Data Ffisegol'!$M29/100)*L28)))","v":""},{"$f":"IF(M28=\"\",\"\",((('Data Ffisegol'!$M29/100)*M28)))","v":""},{"$f":"IF(N28=\"\",\"\",((('Data Ffisegol'!$M29/100)*N28)))","v":""},{"$f":"IF(O28=\"\",\"\",((('Data Ffisegol'!$M29/100)*O28)))","v":""},{"$f":"IF(P28=\"\",\"\",((('Data Ffisegol'!$M29/100)*P28)))","v":""},{"$f":"IF(Q28=\"\",\"\",((('Data Ffisegol'!$M29/100)*Q28)))","v":""},{"$f":"IF(R28=\"\",\"\",((('Data Ffisegol'!$M29/100)*R28)))","v":""},{"$f":"IF(S28=\"\",\"\",((('Data Ffisegol'!$M29/100)*S28)))","v":""},{"$f":"IF(T28=\"\",\"\",((('Data Ffisegol'!$M29/100)*T28)))","v":""},{"$f":"IF(U28=\"\",\"\",((('Data Ffisegol'!$M29/100)*U28)))","v":""},{"$f":"IF(V28=\"\",\"\",((('Data Ffisegol'!$M29/100)*V28)))","v":""},{"$f":"IF(W28=\"\",\"\",((('Data Ffisegol'!$M29/100)*W28)))","v":""}]
[null,null,null,null,null,null,null,"","","","",{"$f":"IF(L29=\"\",\"\",((('Data Ffisegol'!$M30/100)*L29)))","v":""},{"$f":"IF(M29=\"\",\"\",((('Data Ffisegol'!$M30/100)*M29)))","v":""},{"$f":"IF(N29=\"\",\"\",((('Data Ffisegol'!$M30/100)*N29)))","v":""},{"$f":"IF(O29=\"\",\"\",((('Data Ffisegol'!$M30/100)*O29)))","v":""},{"$f":"IF(P29=\"\",\"\",((('Data Ffisegol'!$M30/100)*P29)))","v":""},{"$f":"IF(Q29=\"\",\"\",((('Data Ffisegol'!$M30/100)*Q29)))","v":""},{"$f":"IF(R29=\"\",\"\",((('Data Ffisegol'!$M30/100)*R29)))","v":""},{"$f":"IF(S29=\"\",\"\",((('Data Ffisegol'!$M30/100)*S29)))","v":""},{"$f":"IF(T29=\"\",\"\",((('Data Ffisegol'!$M30/100)*T29)))","v":""},{"$f":"IF(U29=\"\",\"\",((('Data Ffisegol'!$M30/100)*U29)))","v":""},{"$f":"IF(V29=\"\",\"\",((('Data Ffisegol'!$M30/100)*V29)))","v":""},{"$f":"IF(W29=\"\",\"\",((('Data Ffisegol'!$M30/100)*W29)))","v":""}]
[null,null,null,null,null,null,null,"","","","",{"$f":"IF(L30=\"\",\"\",((('Data Ffisegol'!$M31/100)*L30)))","v":""},{"$f":"IF(M30=\"\",\"\",((('Data Ffisegol'!$M31/100)*M30)))","v":""},{"$f":"IF(N30=\"\",\"\",((('Data Ffisegol'!$M31/100)*N30)))","v":""},{"$f":"IF(O30=\"\",\"\",((('Data Ffisegol'!$M31/100)*O30)))","v":""},{"$f":"IF(P30=\"\",\"\",((('Data Ffisegol'!$M31/100)*P30)))","v":""},{"$f":"IF(Q30=\"\",\"\",((('Data Ffisegol'!$M31/100)*Q30)))","v":""},{"$f":"IF(R30=\"\",\"\",((('Data Ffisegol'!$M31/100)*R30)))","v":""},{"$f":"IF(S30=\"\",\"\",((('Data Ffisegol'!$M31/100)*S30)))","v":""},{"$f":"IF(T30=\"\",\"\",((('Data Ffisegol'!$M31/100)*T30)))","v":""},{"$f":"IF(U30=\"\",\"\",((('Data Ffisegol'!$M31/100)*U30)))","v":""},{"$f":"IF(V30=\"\",\"\",((('Data Ffisegol'!$M31/100)*V30)))","v":""},{"$f":"IF(W30=\"\",\"\",((('Data Ffisegol'!$M31/100)*W30)))","v":""}]
[null,null,null,null,null,null,null,"","","","",{"$f":"IF(L31=\"\",\"\",((('Data Ffisegol'!$M32/100)*L31)))","v":""},{"$f":"IF(M31=\"\",\"\",((('Data Ffisegol'!$M32/100)*M31)))","v":""},{"$f":"IF(N31=\"\",\"\",((('Data Ffisegol'!$M32/100)*N31)))","v":""},{"$f":"IF(O31=\"\",\"\",((('Data Ffisegol'!$M32/100)*O31)))","v":""},{"$f":"IF(P31=\"\",\"\",((('Data Ffisegol'!$M32/100)*P31)))","v":""},{"$f":"IF(Q31=\"\",\"\",((('Data Ffisegol'!$M32/100)*Q31)))","v":""},{"$f":"IF(R31=\"\",\"\",((('Data Ffisegol'!$M32/100)*R31)))","v":""},{"$f":"IF(S31=\"\",\"\",((('Data Ffisegol'!$M32/100)*S31)))","v":""},{"$f":"IF(T31=\"\",\"\",((('Data Ffisegol'!$M32/100)*T31)))","v":""},{"$f":"IF(U31=\"\",\"\",((('Data Ffisegol'!$M32/100)*U31)))","v":""},{"$f":"IF(V31=\"\",\"\",((('Data Ffisegol'!$M32/100)*V31)))","v":""},{"$f":"IF(W31=\"\",\"\",((('Data Ffisegol'!$M32/100)*W31)))","v":""}]
[null,null,null,null,null,null,null,"","","","",{"$f":"IF(L32=\"\",\"\",((('Data Ffisegol'!$M33/100)*L32)))","v":""},{"$f":"IF(M32=\"\",\"\",((('Data Ffisegol'!$M33/100)*M32)))","v":""},{"$f":"IF(N32=\"\",\"\",((('Data Ffisegol'!$M33/100)*N32)))","v":""},{"$f":"IF(O32=\"\",\"\",((('Data Ffisegol'!$M33/100)*O32)))","v":""},{"$f":"IF(P32=\"\",\"\",((('Data Ffisegol'!$M33/100)*P32)))","v":""},{"$f":"IF(Q32=\"\",\"\",((('Data Ffisegol'!$M33/100)*Q32)))","v":""},{"$f":"IF(R32=\"\",\"\",((('Data Ffisegol'!$M33/100)*R32)))","v":""},{"$f":"IF(S32=\"\",\"\",((('Data Ffisegol'!$M33/100)*S32)))","v":""},{"$f":"IF(T32=\"\",\"\",((('Data Ffisegol'!$M33/100)*T32)))","v":""},{"$f":"IF(U32=\"\",\"\",((('Data Ffisegol'!$M33/100)*U32)))","v":""},{"$f":"IF(V32=\"\",\"\",((('Data Ffisegol'!$M33/100)*V32)))","v":""},{"$f":"IF(W32=\"\",\"\",((('Data Ffisegol'!$M33/100)*W32)))","v":""}]
[null,null,null,null,null,null,null,"","","","",{"$f":"IF(L33=\"\",\"\",((('Data Ffisegol'!$M34/100)*L33)))","v":""},{"$f":"IF(M33=\"\",\"\",((('Data Ffisegol'!$M34/100)*M33)))","v":""},{"$f":"IF(N33=\"\",\"\",((('Data Ffisegol'!$M34/100)*N33)))","v":""},{"$f":"IF(O33=\"\",\"\",((('Data Ffisegol'!$M34/100)*O33)))","v":""},{"$f":"IF(P33=\"\",\"\",((('Data Ffisegol'!$M34/100)*P33)))","v":""},{"$f":"IF(Q33=\"\",\"\",((('Data Ffisegol'!$M34/100)*Q33)))","v":""},{"$f":"IF(R33=\"\",\"\",((('Data Ffisegol'!$M34/100)*R33)))","v":""},{"$f":"IF(S33=\"\",\"\",((('Data Ffisegol'!$M34/100)*S33)))","v":""},{"$f":"IF(T33=\"\",\"\",((('Data Ffisegol'!$M34/100)*T33)))","v":""},{"$f":"IF(U33=\"\",\"\",((('Data Ffisegol'!$M34/100)*U33)))","v":""},{"$f":"IF(V33=\"\",\"\",((('Data Ffisegol'!$M34/100)*V33)))","v":""},{"$f":"IF(W33=\"\",\"\",((('Data Ffisegol'!$M34/100)*W33)))","v":""}]
[null,null,null,null,null,null,null,"","","","",{"$f":"IF(L34=\"\",\"\",((('Data Ffisegol'!$M35/100)*L34)))","v":""},{"$f":"IF(M34=\"\",\"\",((('Data Ffisegol'!$M35/100)*M34)))","v":""},{"$f":"IF(N34=\"\",\"\",((('Data Ffisegol'!$M35/100)*N34)))","v":""},{"$f":"IF(O34=\"\",\"\",((('Data Ffisegol'!$M35/100)*O34)))","v":""},{"$f":"IF(P34=\"\",\"\",((('Data Ffisegol'!$M35/100)*P34)))","v":""},{"$f":"IF(Q34=\"\",\"\",((('Data Ffisegol'!$M35/100)*Q34)))","v":""},{"$f":"IF(R34=\"\",\"\",((('Data Ffisegol'!$M35/100)*R34)))","v":""},{"$f":"IF(S34=\"\",\"\",((('Data Ffisegol'!$M35/100)*S34)))","v":""},{"$f":"IF(T34=\"\",\"\",((('Data Ffisegol'!$M35/100)*T34)))","v":""},{"$f":"IF(U34=\"\",\"\",((('Data Ffisegol'!$M35/100)*U34)))","v":""},{"$f":"IF(V34=\"\",\"\",((('Data Ffisegol'!$M35/100)*V34)))","v":""},{"$f":"IF(W34=\"\",\"\",((('Data Ffisegol'!$M35/100)*W34)))","v":""}]
[null,null,null,null,null,null,null,"","","","",{"$f":"IF(L35=\"\",\"\",((('Data Ffisegol'!$M36/100)*L35)))","v":""},{"$f":"IF(M35=\"\",\"\",((('Data Ffisegol'!$M36/100)*M35)))","v":""},{"$f":"IF(N35=\"\",\"\",((('Data Ffisegol'!$M36/100)*N35)))","v":""},{"$f":"IF(O35=\"\",\"\",((('Data Ffisegol'!$M36/100)*O35)))","v":""},{"$f":"IF(P35=\"\",\"\",((('Data Ffisegol'!$M36/100)*P35)))","v":""},{"$f":"IF(Q35=\"\",\"\",((('Data Ffisegol'!$M36/100)*Q35)))","v":""},{"$f":"IF(R35=\"\",\"\",((('Data Ffisegol'!$M36/100)*R35)))","v":""},{"$f":"IF(S35=\"\",\"\",((('Data Ffisegol'!$M36/100)*S35)))","v":""},{"$f":"IF(T35=\"\",\"\",((('Data Ffisegol'!$M36/100)*T35)))","v":""},{"$f":"IF(U35=\"\",\"\",((('Data Ffisegol'!$M36/100)*U35)))","v":""},{"$f":"IF(V35=\"\",\"\",((('Data Ffisegol'!$M36/100)*V35)))","v":""},{"$f":"IF(W35=\"\",\"\",((('Data Ffisegol'!$M36/100)*W35)))","v":""}]
[null,null,null,null,null,null,null,"","","","",{"$f":"IF(L36=\"\",\"\",((('Data Ffisegol'!$M37/100)*L36)))","v":""},{"$f":"IF(M36=\"\",\"\",((('Data Ffisegol'!$M37/100)*M36)))","v":""},{"$f":"IF(N36=\"\",\"\",((('Data Ffisegol'!$M37/100)*N36)))","v":""},{"$f":"IF(O36=\"\",\"\",((('Data Ffisegol'!$M37/100)*O36)))","v":""},{"$f":"IF(P36=\"\",\"\",((('Data Ffisegol'!$M37/100)*P36)))","v":""},{"$f":"IF(Q36=\"\",\"\",((('Data Ffisegol'!$M37/100)*Q36)))","v":""},{"$f":"IF(R36=\"\",\"\",((('Data Ffisegol'!$M37/100)*R36)))","v":""},{"$f":"IF(S36=\"\",\"\",((('Data Ffisegol'!$M37/100)*S36)))","v":""},{"$f":"IF(T36=\"\",\"\",((('Data Ffisegol'!$M37/100)*T36)))","v":""},{"$f":"IF(U36=\"\",\"\",((('Data Ffisegol'!$M37/100)*U36)))","v":""},{"$f":"IF(V36=\"\",\"\",((('Data Ffisegol'!$M37/100)*V36)))","v":""},{"$f":"IF(W36=\"\",\"\",((('Data Ffisegol'!$M37/100)*W36)))","v":""}]
[null,null,null,null,null,null,null,"","","","",{"$f":"IF(L37=\"\",\"\",((('Data Ffisegol'!$M38/100)*L37)))","v":""},{"$f":"IF(M37=\"\",\"\",((('Data Ffisegol'!$M38/100)*M37)))","v":""},{"$f":"IF(N37=\"\",\"\",((('Data Ffisegol'!$M38/100)*N37)))","v":""},{"$f":"IF(O37=\"\",\"\",((('Data Ffisegol'!$M38/100)*O37)))","v":""},{"$f":"IF(P37=\"\",\"\",((('Data Ffisegol'!$M38/100)*P37)))","v":""},{"$f":"IF(Q37=\"\",\"\",((('Data Ffisegol'!$M38/100)*Q37)))","v":""},{"$f":"IF(R37=\"\",\"\",((('Data Ffisegol'!$M38/100)*R37)))","v":""},{"$f":"IF(S37=\"\",\"\",((('Data Ffisegol'!$M38/100)*S37)))","v":""},{"$f":"IF(T37=\"\",\"\",((('Data Ffisegol'!$M38/100)*T37)))","v":""},{"$f":"IF(U37=\"\",\"\",((('Data Ffisegol'!$M38/100)*U37)))","v":""},{"$f":"IF(V37=\"\",\"\",((('Data Ffisegol'!$M38/100)*V37)))","v":""},{"$f":"IF(W37=\"\",\"\",((('Data Ffisegol'!$M38/100)*W37)))","v":""}]
[null,null,null,null,null,null,null,null,null,"Averages:",null,{"$f":"IF(COUNT(L48:L77)<1,\"\", AVERAGE(L48:L77))","v":""},"","","","","","","","","","",""]
[]
[]
[]
[null,null,null,null,null,null,null,"Removal of excluded areas"]
[]
[null,null,null,null,null,null,null,"Laboratory sample number","Dredge Area","Excluded (y if yes)","Sample ID","Brominated flame retardants as mg/kg wet weight"]
[null,null,null,null,null,null,null,null,null,null,null,"2,2′,4,4′,6-penta-\n bromodiphenyl ether (BDE100)","Hexabromodiphenyl ether (BDE138) ","2,2′,4,4′,5,5′-hexa-\n bromodiphenyl ether (BDE153)","2,2′,4,4′,5,6′-hexa-bromodiphenyl ether (BDE154)","2,2´,4-tri-bromodiphenylether (BDE17)","2,2′,3,4,4′,5′,6-heptabromodiphenyl ether (BDE183)","2,2',3,3',4,4',5,5',6,6'-decabrominated diphenyl ether (BDE 209)","2,4,4'-tribromodiphenyl ether (BDE28)","2,2′,4,4′-Tetrabromodiphenyl ether (BDE47) ","2,3',4,4'-Tetrabromodiphenyl ether (BDE66)","2,2',3,4,4'-Pentabromodiphenyl ether  (BDE85)","2,2',4,4',5-pentabromodiphenyl ether   (BDE99)"]
[null,null,null,null,null,null,null,{"$f":"IF(H48=\"\",\"\",H48)","v":""},{"$f":"IF($J48=\"y\",\"\",I48)","v":""},"",{"$f":"IF($J48=\"y\",\"\",K48)","v":""},{"$f":"IF($J48=\"y\",\"\",L48)","v":""},{"$f":"IF($J48=\"y\",\"\",M48)","v":""},"","","","","","","","","",""]
[null,null,null,null,null,null,null,"","","","",{"$f":"IF($J49=\"y\",\"\",L49)","v":""},"","","","","","","","","","",""]
[null,null,null,null,null,null,null,"","","","",{"$f":"IF($J50=\"y\",\"\",L50)","v":""},"","","","","","","","","","",""]
[null,null,null,null,null,null,null,"","","","",{"$f":"IF($J51=\"y\",\"\",L51)","v":""},"","","","","","","","","","",""]
[null,null,null,null,null,null,null,"","","","",{"$f":"IF($J52=\"y\",\"\",L52)","v":""},"","","","","","","","","","",""]
[null,null,null,null,null,null,null,"","","","",{"$f":"IF($J53=\"y\",\"\",L53)","v":""},"","","","","","","","","","",""]
[null,null,null,null,null,null,null,"","","","",{"$f":"IF($J54=\"y\",\"\",L54)","v":""},"","","","","","","","","","",""]
[null,null,null,null,null,null,null,"","","","",{"$f":"IF($J55=\"y\",\"\",L55)","v":""},"","","","","","","","","","",""]
[null,null,null,null,null,null,null,"","","","",{"$f":"IF($J56=\"y\",\"\",L56)","v":""},"","","","","","","","","","",""]
[null,null,null,null,null,null,null,"","","","",{"$f":"IF($J57=\"y\",\"\",L57)","v":""},"","","","","","","","","","",""]
[null,null,null,null,null,null,null,"","","","",{"$f":"IF($J58=\"y\",\"\",L58)","v":""},"","","","","","","","","","",""]
[null,null,null,null,null,null,null,"","","","",{"$f":"IF($J59=\"y\",\"\",L59)","v":""},"","","","","","","","","","",""]
[null,null,null,null,null,null,null,"","","","",{"$f":"IF($J60=\"y\",\"\",L60)","v":""},"","","","","","","","","","",""]
[null,null,null,null,null,null,null,"","","","",{"$f":"IF($J61=\"y\",\"\",L61)","v":""},"","","","","","","","","","",""]
[null,null,null,null,null,null,null,"","","","",{"$f":"IF($J62=\"y\",\"\",L62)","v":""},"","","","","","","","","","",""]
[null,null,null,null,null,null,null,"","","","",{"$f":"IF($J63=\"y\",\"\",L63)","v":""},"","","","","","","","","","",""]
[null,null,null,null,null,null,null,{"$f":"IF(H64=\"\",\"\",H64)","v":""},"","","",{"$f":"IF($J64=\"y\",\"\",L64)","v":""},"","","","","","","","","","",""]
[null,null,null,null,null,null,null,"","","","",{"$f":"IF($J65=\"y\",\"\",L65)","v":""},"","","","","","","","","","",""]
[null,null,null,null,null,null,null,"","","","",{"$f":"IF($J66=\"y\",\"\",L66)","v":""},"","","","","","","","","","",""]
[null,null,null,null,null,null,null,"","","","",{"$f":"IF($J67=\"y\",\"\",L67)","v":""},"","","","","","","","","","",""]
[null,null,null,null,null,null,null,"","","","",{"$f":"IF($J68=\"y\",\"\",L68)","v":""},"","","","","","","","","","",""]
[null,null,null,null,null,null,null,"","","","",{"$f":"IF($J69=\"y\",\"\",L69)","v":""},"","","","","","","","","","",""]
[null,null,null,null,null,null,null,"","","","",{"$f":"IF($J70=\"y\",\"\",L70)","v":""},"","","","","","","","","","",""]
[null,null,null,null,null,null,null,"","","","",{"$f":"IF($J71=\"y\",\"\",L71)","v":""},"","","","","","","","","","",""]
[null,null,null,null,null,null,null,"","","","",{"$f":"IF($J72=\"y\",\"\",L72)","v":""},"","","","","","","","","","",""]
[null,null,null,null,null,null,null,"","","","",{"$f":"IF($J73=\"y\",\"\",L73)","v":""},"","","","","","","","","","",""]
[null,null,null,null,null,null,null,"","","","",{"$f":"IF($J74=\"y\",\"\",L74)","v":""},"","","","","","","","","","",""]
[null,null,null,null,null,null,null,"","","","",{"$f":"IF($J75=\"y\",\"\",L75)","v":""},"","","","","","","","","","",""]
[null,null,null,null,null,null,null,"","","","",{"$f":"IF($J76=\"y\",\"\",L76)","v":""},"","","","","","","","","","",""]
[null,null,null,null,null,null,null,"","","","",{"$f":"IF($J77=\"y\",\"\",L77)","v":""},"","","","","","","","","","",""]
[null,null,null,null,null,null,null,null,null,"Averages:",null,{"$f":"IF(COUNT(L86:L115)<1,\"\", AVERAGE(L86:L115))","v":""},{"$f":"IF(COUNT(M86:M115)<1,\"\", AVERAGE(M86:M115))","v":""},"","","","","","","","","",""]
[]
[]
[]
[null,null,null,null,null,null,null,"Force significant figures"]
[]
[null,null,null,null,null,null,null,"Laboratory sample number","Dredge Area","Excluded (y if yes)","Sample ID","Brominated flame retardants as mg/kg wet weight"]
[null,null,null,null,null,null,null,null,null,null,null,"2,2′,4,4′,6-penta-\n bromodiphenyl ether (BDE100)","Hexabromodiphenyl ether (BDE138) ","2,2′,4,4′,5,5′-hexa-\n bromodiphenyl ether (BDE153)","2,2′,4,4′,5,6′-hexa-bromodiphenyl ether (BDE154)","2,2´,4-tri-bromodiphenylether (BDE17)","2,2′,3,4,4′,5′,6-heptabromodiphenyl ether (BDE183)","2,2',3,3',4,4',5,5',6,6'-decabrominated diphenyl ether (BDE 209)","2,4,4'-tribromodiphenyl ether (BDE28)","2,2′,4,4′-Tetrabromodiphenyl ether (BDE47) ","2,3',4,4'-Tetrabromodiphenyl ether (BDE66)","2,2',3,4,4'-Pentabromodiphenyl ether  (BDE85)","2,2',4,4',5-pentabromodiphenyl ether   (BDE99)"]
[null,null,null,null,null,null,null,{"$f":"IF(H86=\"\",\"\",H86)","v":""},"","","",{"$f":"IF(L86=\"\",\"\",IF(L86=0,0,(ROUND(L86,3-1-INT(LOG10(ABS(L86)))))))","v":""},{"$f":"IF(M86=\"\",\"\",IF(M86=0,0,(ROUND(M86,3-1-INT(LOG10(ABS(M86)))))))","v":""},"","","","","","","","","",""]
[null,null,null,null,null,null,null,{"$f":"IF(H87=\"\",\"\",H87)","v":""},"","","",{"$f":"IF(L87=\"\",\"\",IF(L87=0,0,(ROUND(L87,3-1-INT(LOG10(ABS(L87)))))))","v":""},"","","","","","","","","","",""]
[null,null,null,null,null,null,null,{"$f":"IF(H88=\"\",\"\",H88)","v":""},"","","",{"$f":"IF(L88=\"\",\"\",IF(L88=0,0,(ROUND(L88,3-1-INT(LOG10(ABS(L88)))))))","v":""},"","","","","","","","","","",""]
[null,null,null,null,null,null,null,{"$f":"IF(H89=\"\",\"\",H89)","v":""},"","","",{"$f":"IF(L89=\"\",\"\",IF(L89=0,0,(ROUND(L89,3-1-INT(LOG10(ABS(L89)))))))","v":""},"","","","","","","","","","",""]
[null,null,null,null,null,null,null,{"$f":"IF(H90=\"\",\"\",H90)","v":""},"","","",{"$f":"IF(L90=\"\",\"\",IF(L90=0,0,(ROUND(L90,3-1-INT(LOG10(ABS(L90)))))))","v":""},"","","","","","","","","","",""]
[null,null,null,null,null,null,null,{"$f":"IF(H91=\"\",\"\",H91)","v":""},"","","",{"$f":"IF(L91=\"\",\"\",IF(L91=0,0,(ROUND(L91,3-1-INT(LOG10(ABS(L91)))))))","v":""},"","","","","","","","","","",""]
[null,null,null,null,null,null,null,{"$f":"IF(H92=\"\",\"\",H92)","v":""},"","","",{"$f":"IF(L92=\"\",\"\",IF(L92=0,0,(ROUND(L92,3-1-INT(LOG10(ABS(L92)))))))","v":""},"","","","","","","","","","",""]
[null,null,null,null,null,null,null,{"$f":"IF(H93=\"\",\"\",H93)","v":""},"","","",{"$f":"IF(L93=\"\",\"\",IF(L93=0,0,(ROUND(L93,3-1-INT(LOG10(ABS(L93)))))))","v":""},"","","","","","","","","","",""]
[null,null,null,null,null,null,null,{"$f":"IF(H94=\"\",\"\",H94)","v":""},"","","",{"$f":"IF(L94=\"\",\"\",IF(L94=0,0,(ROUND(L94,3-1-INT(LOG10(ABS(L94)))))))","v":""},"","","","","","","","","","",""]
[null,null,null,null,null,null,null,{"$f":"IF(H95=\"\",\"\",H95)","v":""},"","","",{"$f":"IF(L95=\"\",\"\",IF(L95=0,0,(ROUND(L95,3-1-INT(LOG10(ABS(L95)))))))","v":""},"","","","","","","","","","",""]
[null,null,null,null,null,null,null,{"$f":"IF(H96=\"\",\"\",H96)","v":""},"","","",{"$f":"IF(L96=\"\",\"\",IF(L96=0,0,(ROUND(L96,3-1-INT(LOG10(ABS(L96)))))))","v":""},"","","","","","","","","","",""]
[null,null,null,null,null,null,null,{"$f":"IF(H97=\"\",\"\",H97)","v":""},"","","",{"$f":"IF(L97=\"\",\"\",IF(L97=0,0,(ROUND(L97,3-1-INT(LOG10(ABS(L97)))))))","v":""},"","","","","","","","","","",""]
[null,null,null,null,null,null,null,{"$f":"IF(H98=\"\",\"\",H98)","v":""},"","","",{"$f":"IF(L98=\"\",\"\",IF(L98=0,0,(ROUND(L98,3-1-INT(LOG10(ABS(L98)))))))","v":""},"","","","","","","","","","",""]
[null,null,null,null,null,null,null,{"$f":"IF(H99=\"\",\"\",H99)","v":""},"","","",{"$f":"IF(L99=\"\",\"\",IF(L99=0,0,(ROUND(L99,3-1-INT(LOG10(ABS(L99)))))))","v":""},"","","","","","","","","","",""]
[null,null,null,null,null,null,null,{"$f":"IF(H100=\"\",\"\",H100)","v":""},"","","",{"$f":"IF(L100=\"\",\"\",IF(L100=0,0,(ROUND(L100,3-1-INT(LOG10(ABS(L100)))))))","v":""},"","","","","","","","","","",""]
[null,null,null,null,null,null,null,{"$f":"IF(H101=\"\",\"\",H101)","v":""},"","","",{"$f":"IF(L101=\"\",\"\",IF(L101=0,0,(ROUND(L101,3-1-INT(LOG10(ABS(L101)))))))","v":""},"","","","","","","","","","",""]
[null,null,null,null,null,null,null,{"$f":"IF(H102=\"\",\"\",H102)","v":""},"","","",{"$f":"IF(L102=\"\",\"\",IF(L102=0,0,(ROUND(L102,3-1-INT(LOG10(ABS(L102)))))))","v":""},"","","","","","","","","","",""]
[null,null,null,null,null,null,null,{"$f":"IF(H103=\"\",\"\",H103)","v":""},"","","",{"$f":"IF(L103=\"\",\"\",IF(L103=0,0,(ROUND(L103,3-1-INT(LOG10(ABS(L103)))))))","v":""},"","","","","","","","","","",""]
[null,null,null,null,null,null,null,{"$f":"IF(H104=\"\",\"\",H104)","v":""},"","","",{"$f":"IF(L104=\"\",\"\",IF(L104=0,0,(ROUND(L104,3-1-INT(LOG10(ABS(L104)))))))","v":""},"","","","","","","","","","",""]
[null,null,null,null,null,null,null,{"$f":"IF(H105=\"\",\"\",H105)","v":""},"","","",{"$f":"IF(L105=\"\",\"\",IF(L105=0,0,(ROUND(L105,3-1-INT(LOG10(ABS(L105)))))))","v":""},"","","","","","","","","","",""]
[null,null,null,null,null,null,null,{"$f":"IF(H106=\"\",\"\",H106)","v":""},"","","",{"$f":"IF(L106=\"\",\"\",IF(L106=0,0,(ROUND(L106,3-1-INT(LOG10(ABS(L106)))))))","v":""},"","","","","","","","","","",""]
[null,null,null,null,null,null,null,{"$f":"IF(H107=\"\",\"\",H107)","v":""},"","","",{"$f":"IF(L107=\"\",\"\",IF(L107=0,0,(ROUND(L107,3-1-INT(LOG10(ABS(L107)))))))","v":""},"","","","","","","","","","",""]
[null,null,null,null,null,null,null,{"$f":"IF(H108=\"\",\"\",H108)","v":""},"","","",{"$f":"IF(L108=\"\",\"\",IF(L108=0,0,(ROUND(L108,3-1-INT(LOG10(ABS(L108)))))))","v":""},"","","","","","","","","","",""]
[null,null,null,null,null,null,null,{"$f":"IF(H109=\"\",\"\",H109)","v":""},"","","",{"$f":"IF(L109=\"\",\"\",IF(L109=0,0,(ROUND(L109,3-1-INT(LOG10(ABS(L109)))))))","v":""},"","","","","","","","","","",""]
[null,null,null,null,null,null,null,{"$f":"IF(H110=\"\",\"\",H110)","v":""},"","","",{"$f":"IF(L110=\"\",\"\",IF(L110=0,0,(ROUND(L110,3-1-INT(LOG10(ABS(L110)))))))","v":""},"","","","","","","","","","",""]
[null,null,null,null,null,null,null,{"$f":"IF(H111=\"\",\"\",H111)","v":""},"","","",{"$f":"IF(L111=\"\",\"\",IF(L111=0,0,(ROUND(L111,3-1-INT(LOG10(ABS(L111)))))))","v":""},"","","","","","","","","","",""]
[null,null,null,null,null,null,null,{"$f":"IF(H112=\"\",\"\",H112)","v":""},"","","",{"$f":"IF(L112=\"\",\"\",IF(L112=0,0,(ROUND(L112,3-1-INT(LOG10(ABS(L112)))))))","v":""},"","","","","","","","","","",""]
[null,null,null,null,null,null,null,{"$f":"IF(H113=\"\",\"\",H113)","v":""},"","","",{"$f":"IF(L113=\"\",\"\",IF(L113=0,0,(ROUND(L113,3-1-INT(LOG10(ABS(L113)))))))","v":""},"","","","","","","","","","",""]
[null,null,null,null,null,null,null,{"$f":"IF(H114=\"\",\"\",H114)","v":""},"","","",{"$f":"IF(L114=\"\",\"\",IF(L114=0,0,(ROUND(L114,3-1-INT(LOG10(ABS(L114)))))))","v":""},"","","","","","","","","","",""]
[null,null,null,null,null,null,null,{"$f":"IF(H115=\"\",\"\",H115)","v":""},"","","",{"$f":"IF(L115=\"\",\"\",IF(L115=0,0,(ROUND(L115,3-1-INT(LOG10(ABS(L115)))))))","v":""},"","","","","","","","","","",""]
[null,null,null,null,null,null,null,null,null,"Averages:",null,{"$f":"IF(COUNT(L124:L153)<1,\"\", AVERAGE(L124:L153))","v":""},{"$f":"IF(COUNT(M124:M153)<1,\"\", AVERAGE(M124:M153))","v":""},"","","","","","","","","",""]
[]
[]
[]
[null,null,null,null,null,null,null,"Average of dredge areas"]
[]
[null,null,null,null,null,null,null,null,null,null,"Dredge Area","Brominated flame retardants as mg/kg wet weight"]
[null,null,null,null,null,null,null,null,null,null,null,"2,2′,4,4′,6-penta-\n bromodiphenyl ether (BDE100)","Hexabromodiphenyl ether (BDE138) ","2,2′,4,4′,5,5′-hexa-\n bromodiphenyl ether (BDE153)","2,2′,4,4′,5,6′-hexa-bromodiphenyl ether (BDE154)","2,2´,4-tri-bromodiphenylether (BDE17)","2,2′,3,4,4′,5′,6-heptabromodiphenyl ether (BDE183)","2,2',3,3',4,4',5,5',6,6'-decabrominated diphenyl ether (BDE 209)","2,4,4'-tribromodiphenyl ether (BDE28)","2,2′,4,4′-Tetrabromodiphenyl ether (BDE47) ","2,3',4,4'-Tetrabromodiphenyl ether (BDE66)","2,2',3,4,4'-Pentabromodiphenyl ether  (BDE85)","2,2',4,4',5-pentabromodiphenyl ether   (BDE99)"]
[null,null,null,null,null,null,null,null,null,null,"Area i",{"$f":"IF(COUNTIF($I$124:$I$153,\"Area i\")<1,\"\",AVERAGEIF($I$124:$I$153,\"Area i\",L$124:L$153))","v":""},{"$f":"IF(COUNTIF($I$124:$I$153,\"Area i\")<1,\"\",AVERAGEIF($I$124:$I$153,\"Area i\",M$124:M$153))","v":""},"","","","","","","","","",""]
[null,null,null,null,null,null,null,null,null,null,"Area ii",{"$f":"IF(COUNTIF($I$124:$I$153,\"Area ii\")<1,\"\",AVERAGEIF($I$124:$I$153,\"Area ii\",L$124:L$153))","v":""},{"$f":"IF(COUNTIF($I$124:$I$153,\"Area ii\")<1,\"\",AVERAGEIF($I$124:$I$153,\"Area ii\",M$124:M$153))","v":""},"","","","","","","","","",""]
[null,null,null,null,null,null,null,null,null,null,"Area iii",{"$f":"IF(COUNTIF($I$124:$I$153,\"Area iii\")<1,\"\",AVERAGEIF($I$124:$I$153,\"Area iii\",L$124:L$153))","v":""},{"$f":"IF(COUNTIF($I$124:$I$153,\"Area iii\")<1,\"\",AVERAGEIF($I$124:$I$153,\"Area iii\",M$124:M$153))","v":""},"","","","","","","","","",""]
[null,null,null,null,null,null,null,null,null,null,"Area iv",{"$f":"IF(COUNTIF($I$124:$I$153,\"Area iv\")<1,\"\",AVERAGEIF($I$124:$I$153,\"Area iv\",L$124:L$153))","v":""},{"$f":"IF(COUNTIF($I$124:$I$153,\"Area iv\")<1,\"\",AVERAGEIF($I$124:$I$153,\"Area iv\",M$124:M$153))","v":""},"","","","","","","","","",""]
[null,null,null,null,null,null,null,null,null,null,"Area v",{"$f":"IF(COUNTIF($I$124:$I$153,\"Area v\")<1,\"\",AVERAGEIF($I$124:$I$153,\"Area v\",L$124:L$153))","v":""},{"$f":"IF(COUNTIF($I$124:$I$153,\"Area v\")<1,\"\",AVERAGEIF($I$124:$I$153,\"Area v\",M$124:M$153))","v":""},"","","","","","","","","",""]
[null,null,null,null,null,null,null,null,null,null,"Area vi",{"$f":"IF(COUNTIF($I$124:$I$153,\"Area vi\")<1,\"\",AVERAGEIF($I$124:$I$153,\"Area vi\",L$124:L$153))","v":""},{"$f":"IF(COUNTIF($I$124:$I$153,\"Area vi\")<1,\"\",AVERAGEIF($I$124:$I$153,\"Area vi\",M$124:M$153))","v":""},"","","","","","","","","",""]
[null,null,null,null,null,null,null,null,null,null,"Averages:",{"$f":"IF(COUNT(L162:L167)<1,\"\", AVERAGE(L162:L167))","v":""},{"$f":"IF(COUNT(M162:M167)<1,\"\", AVERAGE(M162:M167))","v":""},"","","","","","","","","",""]
[]
[]
[null,null,null,null,null,null,null,null,null,null,null,null,null,null,null," "]
[null,null,null,null,null,null,null,"PR weightings (dredge area averages multiplied by dredge area tonnage)"]
[]
[null,null,null,null,null,null,null,null,null,null,"Dredge Area","Brominated flame retardants as mg/kg wet weight"]
[null,null,null,null,null,null,null,null,null,null,null,"2,2′,4,4′,6-penta-\n bromodiphenyl ether (BDE100)","Hexabromodiphenyl ether (BDE138) ","2,2′,4,4′,5,5′-hexa-\n bromodiphenyl ether (BDE153)","2,2′,4,4′,5,6′-hexa-bromodiphenyl ether (BDE154)","2,2´,4-tri-bromodiphenylether (BDE17)","2,2′,3,4,4′,5′,6-heptabromodiphenyl ether (BDE183)","2,2',3,3',4,4',5,5',6,6'-decabrominated diphenyl ether (BDE 209)","2,4,4'-tribromodiphenyl ether (BDE28)","2,2′,4,4′-Tetrabromodiphenyl ether (BDE47) ","2,3',4,4'-Tetrabromodiphenyl ether (BDE66)","2,2',3,4,4'-Pentabromodiphenyl ether  (BDE85)","2,2',4,4',5-pentabromodiphenyl ether   (BDE99)"]
[null,null,null,null,null,null,null,null,null,null,{"$f":"K162","v":"Area i"},{"$f":"IF(L162=\"\",\"\",L162*'PR details'!$G4)","v":""},{"$f":"IF(M162=\"\",\"\",M162*'PR details'!$G4)","v":""},{"$f":"IF(N162=\"\",\"\",N162*'PR details'!$G4)","v":""},{"$f":"IF(O162=\"\",\"\",O162*'PR details'!$G4)","v":""},{"$f":"IF(P162=\"\",\"\",P162*'PR details'!$G4)","v":""},{"$f":"IF(Q162=\"\",\"\",Q162*'PR details'!$G4)","v":""},{"$f":"IF(R162=\"\",\"\",R162*'PR details'!$G4)","v":""},{"$f":"IF(S162=\"\",\"\",S162*'PR details'!$G4)","v":""},{"$f":"IF(T162=\"\",\"\",T162*'PR details'!$G4)","v":""},{"$f":"IF(U162=\"\",\"\",U162*'PR details'!$G4)","v":""},{"$f":"IF(V162=\"\",\"\",V162*'PR details'!$G4)","v":""},{"$f":"IF(W162=\"\",\"\",W162*'PR details'!$G4)","v":""}]
[null,null,null,null,null,null,null,null,null,null,"Area ii",{"$f":"IF(L163=\"\",\"\",L163*'PR details'!$G5)","v":""},{"$f":"IF(M163=\"\",\"\",M163*'PR details'!$G5)","v":""},{"$f":"IF(N163=\"\",\"\",N163*'PR details'!$G5)","v":""},{"$f":"IF(O163=\"\",\"\",O163*'PR details'!$G5)","v":""},{"$f":"IF(P163=\"\",\"\",P163*'PR details'!$G5)","v":""},{"$f":"IF(Q163=\"\",\"\",Q163*'PR details'!$G5)","v":""},{"$f":"IF(R163=\"\",\"\",R163*'PR details'!$G5)","v":""},{"$f":"IF(S163=\"\",\"\",S163*'PR details'!$G5)","v":""},{"$f":"IF(T163=\"\",\"\",T163*'PR details'!$G5)","v":""},{"$f":"IF(U163=\"\",\"\",U163*'PR details'!$G5)","v":""},{"$f":"IF(V163=\"\",\"\",V163*'PR details'!$G5)","v":""},{"$f":"IF(W163=\"\",\"\",W163*'PR details'!$G5)","v":""}]
[null,null,null,null,null,null,null,null,null,null,"Area iii",{"$f":"IF(L164=\"\",\"\",L164*'PR details'!$G6)","v":""},{"$f":"IF(M164=\"\",\"\",M164*'PR details'!$G6)","v":""},{"$f":"IF(N164=\"\",\"\",N164*'PR details'!$G6)","v":""},{"$f":"IF(O164=\"\",\"\",O164*'PR details'!$G6)","v":""},{"$f":"IF(P164=\"\",\"\",P164*'PR details'!$G6)","v":""},{"$f":"IF(Q164=\"\",\"\",Q164*'PR details'!$G6)","v":""},{"$f":"IF(R164=\"\",\"\",R164*'PR details'!$G6)","v":""},{"$f":"IF(S164=\"\",\"\",S164*'PR details'!$G6)","v":""},{"$f":"IF(T164=\"\",\"\",T164*'PR details'!$G6)","v":""},{"$f":"IF(U164=\"\",\"\",U164*'PR details'!$G6)","v":""},{"$f":"IF(V164=\"\",\"\",V164*'PR details'!$G6)","v":""},{"$f":"IF(W164=\"\",\"\",W164*'PR details'!$G6)","v":""}]
[null,null,null,null,null,null,null,null,null,null,"Area iv",{"$f":"IF(L165=\"\",\"\",L165*'PR details'!$G7)","v":""},{"$f":"IF(M165=\"\",\"\",M165*'PR details'!$G7)","v":""},{"$f":"IF(N165=\"\",\"\",N165*'PR details'!$G7)","v":""},{"$f":"IF(O165=\"\",\"\",O165*'PR details'!$G7)","v":""},{"$f":"IF(P165=\"\",\"\",P165*'PR details'!$G7)","v":""},{"$f":"IF(Q165=\"\",\"\",Q165*'PR details'!$G7)","v":""},{"$f":"IF(R165=\"\",\"\",R165*'PR details'!$G7)","v":""},{"$f":"IF(S165=\"\",\"\",S165*'PR details'!$G7)","v":""},{"$f":"IF(T165=\"\",\"\",T165*'PR details'!$G7)","v":""},{"$f":"IF(U165=\"\",\"\",U165*'PR details'!$G7)","v":""},{"$f":"IF(V165=\"\",\"\",V165*'PR details'!$G7)","v":""},{"$f":"IF(W165=\"\",\"\",W165*'PR details'!$G7)","v":""}]
[null,null,null,null,null,null,null,null,null,null,"Area v",{"$f":"IF(L166=\"\",\"\",L166*'PR details'!$G8)","v":""},{"$f":"IF(M166=\"\",\"\",M166*'PR details'!$G8)","v":""},{"$f":"IF(N166=\"\",\"\",N166*'PR details'!$G8)","v":""},{"$f":"IF(O166=\"\",\"\",O166*'PR details'!$G8)","v":""},{"$f":"IF(P166=\"\",\"\",P166*'PR details'!$G8)","v":""},{"$f":"IF(Q166=\"\",\"\",Q166*'PR details'!$G8)","v":""},{"$f":"IF(R166=\"\",\"\",R166*'PR details'!$G8)","v":""},{"$f":"IF(S166=\"\",\"\",S166*'PR details'!$G8)","v":""},{"$f":"IF(T166=\"\",\"\",T166*'PR details'!$G8)","v":""},{"$f":"IF(U166=\"\",\"\",U166*'PR details'!$G8)","v":""},{"$f":"IF(V166=\"\",\"\",V166*'PR details'!$G8)","v":""},{"$f":"IF(W166=\"\",\"\",W166*'PR details'!$G8)","v":""}]
[null,null,null,null,null,null,null,null,null,null,"Area vi",{"$f":"IF(L167=\"\",\"\",L167*'PR details'!$G9)","v":""},{"$f":"IF(M167=\"\",\"\",M167*'PR details'!$G9)","v":""},{"$f":"IF(N167=\"\",\"\",N167*'PR details'!$G9)","v":""},{"$f":"IF(O167=\"\",\"\",O167*'PR details'!$G9)","v":""},{"$f":"IF(P167=\"\",\"\",P167*'PR details'!$G9)","v":""},{"$f":"IF(Q167=\"\",\"\",Q167*'PR details'!$G9)","v":""},{"$f":"IF(R167=\"\",\"\",R167*'PR details'!$G9)","v":""},{"$f":"IF(S167=\"\",\"\",S167*'PR details'!$G9)","v":""},{"$f":"IF(T167=\"\",\"\",T167*'PR details'!$G9)","v":""},{"$f":"IF(U167=\"\",\"\",U167*'PR details'!$G9)","v":""},{"$f":"IF(V167=\"\",\"\",V167*'PR details'!$G9)","v":""},{"$f":"IF(W167=\"\",\"\",W167*'PR details'!$G9)","v":""}]
[]
[]
[]
[null,null,null,null,null,null,null,"PR average"]
[]
[null,null,null,null,null,null,null,null,null,null,null,"Brominated flame retardants as mg/kg wet weight"]
[null,null,null,null,null,null,null,null,null,null,null,"2,2′,4,4′,6-penta-\n bromodiphenyl ether (BDE100)","Hexabromodiphenyl ether (BDE138) ","2,2′,4,4′,5,5′-hexa-\n bromodiphenyl ether (BDE153)","2,2′,4,4′,5,6′-hexa-bromodiphenyl ether (BDE154)","2,2´,4-tri-bromodiphenylether (BDE17)","2,2′,3,4,4′,5′,6-heptabromodiphenyl ether (BDE183)","2,2',3,3',4,4',5,5',6,6'-decabrominated diphenyl ether (BDE 209)","2,4,4'-tribromodiphenyl ether (BDE28)","2,2′,4,4′-Tetrabromodiphenyl ether (BDE47) ","2,3',4,4'-Tetrabromodiphenyl ether (BDE66)","2,2',3,4,4'-Pentabromodiphenyl ether  (BDE85)","2,2',4,4',5-pentabromodiphenyl ether   (BDE99)"]
[null,null,null,null,null,null,null,null,null,null,null,{"$f":"IF(COUNT(L176:L181)<1,\"\",SUM(L176:L181))","v":""},"","","","","","","","","","",""]

{"sheet":"PR details","index":17,"n_rows":52,"n_cols":14,"rows_kept":52,"cut":false,"hidden":true,"merged":[[2,7,2,8],[3,7,8,8]]}
[]
[null,"PR details:",null,null,"Dredge area tonnages:"]
[null,"Application number:",{"$f":"IF('Gwybodaeth ymgeiswyr'!E16=\"\",\"\",'Gwybodaeth ymgeiswyr'!E16)","v":""},null,"Dredge Area","Dredging tonnages","% total dredged material","Total dredged material"]
[null,"Date sampled:",{"$f":"IF('Gwybodaeth ymgeiswyr'!E18=\"\",\"\",'Gwybodaeth ymgeiswyr'!E18)","v":""},null,{"$f":"IF('Gwybodaeth ymgeiswyr'!C25=\"\",\"\",'Gwybodaeth ymgeiswyr'!C25)","v":"Ardal i"},{"$f":"IF('Gwybodaeth ymgeiswyr'!D25=\"\",\"\",'Gwybodaeth ymgeiswyr'!D25)","v":""},{"$f":"IF('Gwybodaeth ymgeiswyr'!E25=\"\",\"\",'Gwybodaeth ymgeiswyr'!E25)","v":""},{"$f":"IF('Gwybodaeth ymgeiswyr'!F25=\"\",\"\",'Gwybodaeth ymgeiswyr'!F25)","v":0},{"$f":"IF('Gwybodaeth ymgeiswyr'!G25=\"\",\"\",'Gwybodaeth ymgeiswyr'!G25)","v":""}]
[null,"Application title:",{"$f":"IF('Gwybodaeth ymgeiswyr'!E17=\"\",\"\",'Gwybodaeth ymgeiswyr'!E17)","v":""},null,{"$f":"IF('Gwybodaeth ymgeiswyr'!C26=\"\",\"\",'Gwybodaeth ymgeiswyr'!C26)","v":"Ardal ii"},{"$f":"IF('Gwybodaeth ymgeiswyr'!D26=\"\",\"\",'Gwybodaeth ymgeiswyr'!D26)","v":""},{"$f":"IF('Gwybodaeth ymgeiswyr'!E26=\"\",\"\",'Gwybodaeth ymgeiswyr'!E26)","v":""},{"$f":"IF('Gwybodaeth ymgeiswyr'!F26=\"\",\"\",'Gwybodaeth ymgeiswyr'!F26)","v":""},{"$f":"IF('Gwybodaeth ymgeiswyr'!G26=\"\",\"\",'Gwybodaeth ymgeiswyr'!G26)","v":""}]
[null,"Applicant:",{"$f":"IF('Gwybodaeth ymgeiswyr'!E15=\"\",\"\",'Gwybodaeth ymgeiswyr'!E15)","v":""},null,{"$f":"IF('Gwybodaeth ymgeiswyr'!C27=\"\",\"\",'Gwybodaeth ymgeiswyr'!C27)","v":"Ardal iii"},{"$f":"IF('Gwybodaeth ymgeiswyr'!D27=\"\",\"\",'Gwybodaeth ymgeiswyr'!D27)","v":""},{"$f":"IF('Gwybodaeth ymgeiswyr'!E27=\"\",\"\",'Gwybodaeth ymgeiswyr'!E27)","v":""},{"$f":"IF('Gwybodaeth ymgeiswyr'!F27=\"\",\"\",'Gwybodaeth ymgeiswyr'!F27)","v":""},{"$f":"IF('Gwybodaeth ymgeiswyr'!G27=\"\",\"\",'Gwybodaeth ymgeiswyr'!G27)","v":""}]
[null,null,null,null,{"$f":"IF('Gwybodaeth ymgeiswyr'!C28=\"\",\"\",'Gwybodaeth ymgeiswyr'!C28)","v":"Ardal iv"},{"$f":"IF('Gwybodaeth ymgeiswyr'!D28=\"\",\"\",'Gwybodaeth ymgeiswyr'!D28)","v":""},{"$f":"IF('Gwybodaeth ymgeiswyr'!E28=\"\",\"\",'Gwybodaeth ymgeiswyr'!E28)","v":""},{"$f":"IF('Gwybodaeth ymgeiswyr'!F28=\"\",\"\",'Gwybodaeth ymgeiswyr'!F28)","v":""},{"$f":"IF('Gwybodaeth ymgeiswyr'!G28=\"\",\"\",'Gwybodaeth ymgeiswyr'!G28)","v":""}]
[null,null,null,null,{"$f":"IF('Gwybodaeth ymgeiswyr'!C29=\"\",\"\",'Gwybodaeth ymgeiswyr'!C29)","v":"Ardal v"},{"$f":"IF('Gwybodaeth ymgeiswyr'!D29=\"\",\"\",'Gwybodaeth ymgeiswyr'!D29)","v":""},{"$f":"IF('Gwybodaeth ymgeiswyr'!E29=\"\",\"\",'Gwybodaeth ymgeiswyr'!E29)","v":""},{"$f":"IF('Gwybodaeth ymgeiswyr'!F29=\"\",\"\",'Gwybodaeth ymgeiswyr'!F29)","v":""},{"$f":"IF('Gwybodaeth ymgeiswyr'!G29=\"\",\"\",'Gwybodaeth ymgeiswyr'!G29)","v":""}]
[null,null,null,null,{"$f":"IF('Gwybodaeth ymgeiswyr'!C30=\"\",\"\",'Gwybodaeth ymgeiswyr'!C30)","v":"Ardal vi"},{"$f":"IF('Gwybodaeth ymgeiswyr'!D30=\"\",\"\",'Gwybodaeth ymgeiswyr'!D30)","v":""},{"$f":"IF('Gwybodaeth ymgeiswyr'!E30=\"\",\"\",'Gwybodaeth ymgeiswyr'!E30)","v":""},{"$f":"IF('Gwybodaeth ymgeiswyr'!F30=\"\",\"\",'Gwybodaeth ymgeiswyr'!F30)","v":""},{"$f":"IF('Gwybodaeth ymgeiswyr'!G30=\"\",\"\",'Gwybodaeth ymgeiswyr'!G30)","v":""}]
[]
[]
[]
[null,"PPM (mg/kg)"]
[null,"Metals & Tins","TS%","AS","CD","CR","CU","HG","NI","PB","ZN","DBT","TBT"]
[null,null,{"$f":"IFERROR(IF('Metals and TS Calcs'!W151=\"\",\"\",IF('Metals and TS Calcs'!W151=0,0,(ROUND('Metals and TS Calcs'!W151,2-1-INT(LOG10(ABS('Metals and TS Calcs'!W151))))))),\"\")","v":""},{"$f":"IFERROR(IF('Metals and TS Calcs'!L151=\"\",\"\",IF('Metals and TS Calcs'!L151=0,0,(ROUND('Metals and TS Calcs'!L151,4-1-INT(LOG10(ABS('Metals and TS Calcs'!L151))))))),\"\")","v":""},{"$f":"IFERROR(IF('Metals and TS Calcs'!M151=\"\",\"\",IF('Metals and TS Calcs'!M151=0,0,(ROUND('Metals and TS Calcs'!M151,3-1-INT(LOG10(ABS('Metals and TS Calcs'!M151))))))),\"\")","v":""},{"$f":"IFERROR(IF('Metals and TS Calcs'!N151=\"\",\"\",IF('Metals and TS Calcs'!N151=0,0,(ROUND('Metals and TS Calcs'!N151,4-1-INT(LOG10(ABS('Metals and TS Calcs'!N151))))))),\"\")","v":""},{"$f":"IFERROR(IF('Metals and TS Calcs'!O151=\"\",\"\",IF('Metals and TS Calcs'!O151=0,0,(ROUND('Metals and TS Calcs'!O151,4-1-INT(LOG10(ABS('Metals and TS Calcs'!O151))))))),\"\")","v":""},{"$f":"IFERROR(IF('Metals and TS Calcs'!P151=\"\",\"\",IF('Metals and TS Calcs'!P151=0,0,(ROUND('Metals and TS Calcs'!P151,3-1-INT(LOG10(ABS('Metals and TS Calcs'!P151))))))),\"\")","v":""},{"$f":"IFERROR(IF('Metals and TS Calcs'!Q151=\"\",\"\",IF('Metals and TS Calcs'!Q151=0,0,(ROUND('Metals and TS Calcs'!Q151,4-1-INT(LOG10(ABS('Metals and TS Calcs'!Q151))))))),\"\")","v":""},{"$f":"IFERROR(IF('Metals and TS Calcs'!R151=\"\",\"\",IF('Metals and TS Calcs'!R151=0,0,(ROUND('Metals and TS Calcs'!R151,4-1-INT(LOG10(ABS('Metals and TS Calcs'!R151))))))),\"\")","v":""},{"$f":"IFERROR(IF('Metals and TS Calcs'!S151=\"\",\"\",IF('Metals and TS Calcs'!S151=0,0,(ROUND('Metals and TS Calcs'!S151,4-1-INT(LOG10(ABS('Metals and TS Calcs'!S151))))))),\"\")","v":""},{"$f":"IFERROR(IF('Organotin calcs'!L153=\"\",\"\",IF('Organotin calcs'!L153=0,0,(ROUND('Organotin calcs'!L153,3-1-INT(LOG10(ABS('Organotin calcs'!L153))))))),\"\")","v":""},{"$f":"IFERROR(IF('Organotin calcs'!M153=\"\",\"\",IF('Organotin calcs'!M153=0,0,(ROUND('Organotin calcs'!M153,3-1-INT(LOG10(ABS('Organotin calcs'!M153))))))),\"\")","v":""}]
[]
[]
[]
[null,"PPB (ug/kg)"]
[null,"Hydrocarbons",null,"ACENAPH","ACENAPT","ANTHRAC","BAA","BAP","BBF","BENZGHI","BEP","BKF","C1N","C1PHEN"]
[null,null,null,{"$f":"IFERROR(IF('PAH calcs'!L189=\"\",\"\",IF('PAH calcs'!L189=0,0,(ROUND('PAH calcs'!L189,3-1-INT(LOG10(ABS('PAH calcs'!L189))))))),\"\")","v":""},{"$f":"IFERROR(IF('PAH calcs'!M189=\"\",\"\",IF('PAH calcs'!M189=0,0,(ROUND('PAH calcs'!M189,3-1-INT(LOG10(ABS('PAH calcs'!M189))))))),\"\")","v":""},{"$f":"IFERROR(IF('PAH calcs'!N189=\"\",\"\",IF('PAH calcs'!N189=0,0,(ROUND('PAH calcs'!N189,3-1-INT(LOG10(ABS('PAH calcs'!N189))))))),\"\")","v":""},{"$f":"IFERROR(IF('PAH calcs'!O189=\"\",\"\",IF('PAH calcs'!O189=0,0,(ROUND('PAH calcs'!O189,3-1-INT(LOG10(ABS('PAH calcs'!O189))))))),\"\")","v":""},{"$f":"IFERROR(IF('PAH calcs'!P189=\"\",\"\",IF('PAH calcs'!P189=0,0,(ROUND('PAH calcs'!P189,3-1-INT(LOG10(ABS('PAH calcs'!P189))))))),\"\")","v":""},{"$f":"IFERROR(IF('PAH calcs'!Q189=\"\",\"\",IF('PAH calcs'!Q189=0,0,(ROUND('PAH calcs'!Q189,3-1-INT(LOG10(ABS('PAH calcs'!Q189))))))),\"\")","v":""},{"$f":"IFERROR(IF('PAH calcs'!R189=\"\",\"\",IF('PAH calcs'!R189=0,0,(ROUND('PAH calcs'!R189,3-1-INT(LOG10(ABS('PAH calcs'!R189))))))),\"\")","v":""},{"$f":"IFERROR(IF('PAH calcs'!S189=\"\",\"\",IF('PAH calcs'!S189=0,0,(ROUND('PAH calcs'!S189,3-1-INT(LOG10(ABS('PAH calcs'!S189))))))),\"\")","v":""},{"$f":"IFERROR(IF('PAH calcs'!T189=\"\",\"\",IF('PAH calcs'!T189=0,0,(ROUND('PAH calcs'!T189,3-1-INT(LOG10(ABS('PAH calcs'!T189))))))),\"\")","v":""},{"$f":"IFERROR(IF('PAH calcs'!U189=\"\",\"\",IF('PAH calcs'!U189=0,0,(ROUND('PAH calcs'!U189,3-1-INT(LOG10(ABS('PAH calcs'!U189))))))),\"\")","v":""},{"$f":"IFERROR(IF('PAH calcs'!V189=\"\",\"\",IF('PAH calcs'!V189=0,0,(ROUND('PAH calcs'!V189,3-1-INT(LOG10(ABS('PAH calcs'!V189))))))),\"\")","v":""}]
[]
[null,"Hydrocarbons","C2N","C3N","CHRYSEN","DBENZAH","FLUORAN","FLUOREN","INDPYR","NAPTH","PERYLEN","PHENANT","PYRENE","THC (ppm)"]
[null,null,{"$f":"IFERROR(IF('PAH calcs'!W189=\"\",\"\",IF('PAH calcs'!W189=0,0,(ROUND('PAH calcs'!W189,3-1-INT(LOG10(ABS('PAH calcs'!W189))))))),\"\")","v":""},{"$f":"IFERROR(IF('PAH calcs'!X189=\"\",\"\",IF('PAH calcs'!X189=0,0,(ROUND('PAH calcs'!X189,3-1-INT(LOG10(ABS('PAH calcs'!X189))))))),\"\")","v":""},{"$f":"IFERROR(IF('PAH calcs'!Y189=\"\",\"\",IF('PAH calcs'!Y189=0,0,(ROUND('PAH calcs'!Y189,3-1-INT(LOG10(ABS('PAH calcs'!Y189))))))),\"\")","v":""},{"$f":"IFERROR(IF('PAH calcs'!Z189=\"\",\"\",IF('PAH calcs'!Z189=0,0,(ROUND('PAH calcs'!Z189,3-1-INT(LOG10(ABS('PAH calcs'!Z189))))))),\"\")","v":""},{"$f":"IFERROR(IF('PAH calcs'!AA189=\"\",\"\",IF('PAH calcs'!AA189=0,0,(ROUND('PAH calcs'!AA189,3-1-INT(LOG10(ABS('PAH calcs'!AA189))))))),\"\")","v":""},{"$f":"IFERROR(IF('PAH calcs'!AB189=\"\",\"\",IF('PAH calcs'!AB189=0,0,(ROUND('PAH calcs'!AB189,3-1-INT(LOG10(ABS('PAH calcs'!AB189))))))),\"\")","v":""},{"$f":"IFERROR(IF('PAH calcs'!AC189=\"\",\"\",IF('PAH calcs'!AC189=0,0,(ROUND('PAH calcs'!AC189,3-1-INT(LOG10(ABS('PAH calcs'!AC189))))))),\"\")","v":""},{"$f":"IFERROR(IF('PAH calcs'!AD189=\"\",\"\",IF('PAH calcs'!AD189=0,0,(ROUND('PAH calcs'!AD189,3-1-INT(LOG10(ABS('PAH calcs'!AD189))))))),\"\")","v":""},{"$f":"IFERROR(IF('PAH calcs'!AE189=\"\",\"\",IF('PAH calcs'!AE189=0,0,(ROUND('PAH calcs'!AE189,3-1-INT(LOG10(ABS('PAH calcs'!AE189))))))),\"\")","v":""},{"$f":"IFERROR(IF('PAH calcs'!AF189=\"\",\"\",IF('PAH calcs'!AF189=0,0,(ROUND('PAH calcs'!AF189,3-1-INT(LOG10(ABS('PAH calcs'!AF189))))))),\"\")","v":""},{"$f":"IFERROR(IF('PAH calcs'!AG189=\"\",\"\",IF('PAH calcs'!AG189=0,0,(ROUND('PAH calcs'!AG189,3-1-INT(LOG10(ABS('PAH calcs'!AG189))))))),\"\")","v":""},{"$f":"IFERROR(IF('PAH calcs'!AH189=\"\",\"\",IF('PAH calcs'!AH189=0,0,(ROUND('PAH calcs'!AH189,3-1-INT(LOG10(ABS('PAH calcs'!AH189))))))),\"\")","v":""}]
[]
[null,null,null," "]
[]
[null,"PPM (mg/kg)"]
[null,"Polychlorinated biphenyls","CB#101","CB#105","CB#110","CB#118","CB#128","CB#138","CB#141","CB#149","CB#151"]
[null,null,{"$f":"IFERROR(IF('PCB calcs'!L197=\"\",\"\",IF('PCB calcs'!L197=0,0,(ROUND('PCB calcs'!L197,3-1-INT(LOG10(ABS('PCB calcs'!L197))))))),\"\")","v":""},{"$f":"IFERROR(IF('PCB calcs'!M197=\"\",\"\",IF('PCB calcs'!M197=0,0,(ROUND('PCB calcs'!M197,3-1-INT(LOG10(ABS('PCB calcs'!M197))))))),\"\")","v":""},{"$f":"IFERROR(IF('PCB calcs'!N197=\"\",\"\",IF('PCB calcs'!N197=0,0,(ROUND('PCB calcs'!N197,3-1-INT(LOG10(ABS('PCB calcs'!N197))))))),\"\")","v":""},{"$f":"IFERROR(IF('PCB calcs'!O197=\"\",\"\",IF('PCB calcs'!O197=0,0,(ROUND('PCB calcs'!O197,3-1-INT(LOG10(ABS('PCB calcs'!O197))))))),\"\")","v":""},{"$f":"IFERROR(IF('PCB calcs'!P197=\"\",\"\",IF('PCB calcs'!P197=0,0,(ROUND('PCB calcs'!P197,3-1-INT(LOG10(ABS('PCB calcs'!P197))))))),\"\")","v":""},{"$f":"IFERROR(IF('PCB calcs'!Q197=\"\",\"\",IF('PCB calcs'!Q197=0,0,(ROUND('PCB calcs'!Q197,3-1-INT(LOG10(ABS('PCB calcs'!Q197))))))),\"\")","v":""},{"$f":"IFERROR(IF('PCB calcs'!R197=\"\",\"\",IF('PCB calcs'!R197=0,0,(ROUND('PCB calcs'!R197,3-1-INT(LOG10(ABS('PCB calcs'!R197))))))),\"\")","v":""},{"$f":"IFERROR(IF('PCB calcs'!S197=\"\",\"\",IF('PCB calcs'!S197=0,0,(ROUND('PCB calcs'!S197,3-1-INT(LOG10(ABS('PCB calcs'!S197))))))),\"\")","v":""},{"$f":"IFERROR(IF('PCB calcs'!T197=\"\",\"\",IF('PCB calcs'!T197=0,0,(ROUND('PCB calcs'!T197,3-1-INT(LOG10(ABS('PCB calcs'!T197))))))),\"\")","v":""}]
[]
[null,"Polychlorinated biphenyls","CB#153","CB#156","CB#158","CB#170","CB#18","CB#180","CB#183","CB#187","CB#194"]
[null,null,{"$f":"IFERROR(IF('PCB calcs'!U197=\"\",\"\",IF('PCB calcs'!U197=0,0,(ROUND('PCB calcs'!U197,3-1-INT(LOG10(ABS('PCB calcs'!U197))))))),\"\")","v":""},{"$f":"IFERROR(IF('PCB calcs'!V197=\"\",\"\",IF('PCB calcs'!V197=0,0,(ROUND('PCB calcs'!V197,3-1-INT(LOG10(ABS('PCB calcs'!V197))))))),\"\")","v":""},{"$f":"IFERROR(IF('PCB calcs'!W197=\"\",\"\",IF('PCB calcs'!W197=0,0,(ROUND('PCB calcs'!W197,3-1-INT(LOG10(ABS('PCB calcs'!W197))))))),\"\")","v":""},{"$f":"IFERROR(IF('PCB calcs'!X197=\"\",\"\",IF('PCB calcs'!X197=0,0,(ROUND('PCB calcs'!X197,3-1-INT(LOG10(ABS('PCB calcs'!X197))))))),\"\")","v":""},{"$f":"IFERROR(IF('PCB calcs'!Y197=\"\",\"\",IF('PCB calcs'!Y197=0,0,(ROUND('PCB calcs'!Y197,3-1-INT(LOG10(ABS('PCB calcs'!Y197))))))),\"\")","v":""},{"$f":"IFERROR(IF('PCB calcs'!Z197=\"\",\"\",IF('PCB calcs'!Z197=0,0,(ROUND('PCB calcs'!Z197,3-1-INT(LOG10(ABS('PCB calcs'!Z197))))))),\"\")","v":""},{"$f":"IFERROR(IF('PCB calcs'!AA197=\"\",\"\",IF('PCB calcs'!AA197=0,0,(ROUND('PCB calcs'!AA197,3-1-INT(LOG10(ABS('PCB calcs'!AA197))))))),\"\")","v":""},{"$f":"IFERROR(IF('PCB calcs'!AB197=\"\",\"\",IF('PCB calcs'!AB197=0,0,(ROUND('PCB calcs'!AB197,3-1-INT(LOG10(ABS('PCB calcs'!AB197))))))),\"\")","v":""},{"$f":"IFERROR(IF('PCB calcs'!AC197=\"\",\"\",IF('PCB calcs'!AC197=0,0,(ROUND('PCB calcs'!AC197,3-1-INT(LOG10(ABS('PCB calcs'!AC197))))))),\"\")","v":""}]
[]
[null,"Polychlorinated biphenyls","CB#28","CB#31","CB#44","CB#47","CB#49","CB#52","CB#66","TOT25CBS","TOTICES7"]
[null,null,{"$f":"IFERROR(IF('PCB calcs'!AD197=\"\",\"\",IF('PCB calcs'!AD197=0,0,(ROUND('PCB calcs'!AD197,3-1-INT(LOG10(ABS('PCB calcs'!AD197))))))),\"\")","v":""},{"$f":"IFERROR(IF('PCB calcs'!AE197=\"\",\"\",IF('PCB calcs'!AE197=0,0,(ROUND('PCB calcs'!AE197,3-1-INT(LOG10(ABS('PCB calcs'!AE197))))))),\"\")","v":""},{"$f":"IFERROR(IF('PCB calcs'!AF197=\"\",\"\",IF('PCB calcs'!AF197=0,0,(ROUND('PCB calcs'!AF197,3-1-INT(LOG10(ABS('PCB calcs'!AF197))))))),\"\")","v":""},{"$f":"IFERROR(IF('PCB calcs'!AG197=\"\",\"\",IF('PCB calcs'!AG197=0,0,(ROUND('PCB calcs'!AG197,3-1-INT(LOG10(ABS('PCB calcs'!AG197))))))),\"\")","v":""},{"$f":"IFERROR(IF('PCB calcs'!AH197=\"\",\"\",IF('PCB calcs'!AH197=0,0,(ROUND('PCB calcs'!AH197,3-1-INT(LOG10(ABS('PCB calcs'!AH197))))))),\"\")","v":""},{"$f":"IFERROR(IF('PCB calcs'!AI197=\"\",\"\",IF('PCB calcs'!AI197=0,0,(ROUND('PCB calcs'!AI197,3-1-INT(LOG10(ABS('PCB calcs'!AI197))))))),\"\")","v":""},{"$f":"IFERROR(IF('PCB calcs'!AJ197=\"\",\"\",IF('PCB calcs'!AJ197=0,0,(ROUND('PCB calcs'!AJ197,3-1-INT(LOG10(ABS('PCB calcs'!AJ197))))))),\"\")","v":""},{"$f":"IFERROR(IF('PCB calcs'!AL197=\"\",\"\",IF('PCB calcs'!AL197=0,0,(ROUND('PCB calcs'!AL197,3-1-INT(LOG10(ABS('PCB calcs'!AL197))))))),\"\")","v":""},{"$f":"IFERROR(IF('PCB calcs'!AK197=\"\",\"\",IF('PCB calcs'!AK197=0,0,(ROUND('PCB calcs'!AK197,3-1-INT(LOG10(ABS('PCB calcs'!AK197))))))),\"\")","v":""}]
[]
[]
[]
[null,"PPM (mg/kg)"]
[null,"Organochlorine pesticides","AHCH","BHCH","GHCH","DIELDRIN","HCB","PPDDE","PPDDT","PPTDE"]
[null,null,{"$f":"IFERROR(IF('Organochlorine calcs'!L189=\"\",\"\",IF('Organochlorine calcs'!L189=0,0,(ROUND('Organochlorine calcs'!L189,3-1-INT(LOG10(ABS('Organochlorine calcs'!L189))))))),\"\")","v":""},{"$f":"IFERROR(IF('Organochlorine calcs'!M189=\"\",\"\",IF('Organochlorine calcs'!M189=0,0,(ROUND('Organochlorine calcs'!M189,3-1-INT(LOG10(ABS('Organochlorine calcs'!M189))))))),\"\")","v":""},{"$f":"IFERROR(IF('Organochlorine calcs'!N189=\"\",\"\",IF('Organochlorine calcs'!N189=0,0,(ROUND('Organochlorine calcs'!N189,3-1-INT(LOG10(ABS('Organochlorine calcs'!N189))))))),\"\")","v":""},{"$f":"IFERROR(IF('Organochlorine calcs'!O189=\"\",\"\",IF('Organochlorine calcs'!O189=0,0,(ROUND('Organochlorine calcs'!O189,3-1-INT(LOG10(ABS('Organochlorine calcs'!O189))))))),\"\")","v":""},{"$f":"IFERROR(IF('Organochlorine calcs'!P189=\"\",\"\",IF('Organochlorine calcs'!P189=0,0,(ROUND('Organochlorine calcs'!P189,3-1-INT(LOG10(ABS('Organochlorine calcs'!P189))))))),\"\")","v":""},{"$f":"IFERROR(IF('Organochlorine calcs'!Q189=\"\",\"\",IF('Organochlorine calcs'!Q189=0,0,(ROUND('Organochlorine calcs'!Q189,3-1-INT(LOG10(ABS('Organochlorine calcs'!Q189))))))),\"\")","v":""},{"$f":"IFERROR(IF('Organochlorine calcs'!R189=\"\",\"\",IF('Organochlorine calcs'!R189=0,0,(ROUND('Organochlorine calcs'!R189,3-1-INT(LOG10(ABS('Organochlorine calcs'!R189))))))),\"\")","v":""},{"$f":"IFERROR(IF('Organochlorine calcs'!S189=\"\",\"\",IF('Organochlorine calcs'!S189=0,0,(ROUND('Organochlorine calcs'!S189,3-1-INT(LOG10(ABS('Organochlorine calcs'!S189))))))),\"\")","v":""}]
[]
[null,"Brominated flame retardants","BDE100","BDE138","BDE153","BDE154","BDE17","BDE183","BDE28","BDE47"]
[null,null,{"$f":"IFERROR(IF('BDE calcs'!L189=\"\",\"\",IF('BDE calcs'!L189=0,0,(ROUND('BDE calcs'!L189,3-1-INT(LOG10(ABS('BDE calcs'!L189))))))),\"\")","v":""},{"$f":"IFERROR(IF('BDE calcs'!M189=\"\",\"\",IF('BDE calcs'!M189=0,0,(ROUND('BDE calcs'!M189,3-1-INT(LOG10(ABS('BDE calcs'!M189))))))),\"\")","v":""},{"$f":"IFERROR(IF('BDE calcs'!N189=\"\",\"\",IF('BDE calcs'!N189=0,0,(ROUND('BDE calcs'!N189,3-1-INT(LOG10(ABS('BDE calcs'!N189))))))),\"\")","v":""},{"$f":"IFERROR(IF('BDE calcs'!O189=\"\",\"\",IF('BDE calcs'!O189=0,0,(ROUND('BDE calcs'!O189,3-1-INT(LOG10(ABS('BDE calcs'!O189))))))),\"\")","v":""},{"$f":"IFERROR(IF('BDE calcs'!P189=\"\",\"\",IF('BDE calcs'!P189=0,0,(ROUND('BDE calcs'!P189,3-1-INT(LOG10(ABS('BDE calcs'!P189))))))),\"\")","v":""},{"$f":"IFERROR(IF('BDE calcs'!Q189=\"\",\"\",IF('BDE calcs'!Q189=0,0,(ROUND('BDE calcs'!Q189,3-1-INT(LOG10(ABS('BDE calcs'!Q189))))))),\"\")","v":""},{"$f":"IFERROR(IF('BDE calcs'!S189=\"\",\"\",IF('BDE calcs'!S189=0,0,(ROUND('BDE calcs'!S189,3-1-INT(LOG10(ABS('BDE calcs'!S189))))))),\"\")","v":""},{"$f":"IFERROR(IF('BDE calcs'!T189=\"\",\"\",IF('BDE calcs'!T189=0,0,(ROUND('BDE calcs'!T189,3-1-INT(LOG10(ABS('BDE calcs'!T189))))))),\"\")","v":""}]
[]
[null,"Brominated flame retardants","BDE66","BDE85","BDE99",null,null,"BDE209"]
[null,null,{"$f":"IFERROR(IF('BDE calcs'!U189=\"\",\"\",IF('BDE calcs'!U189=0,0,(ROUND('BDE calcs'!U189,3-1-INT(LOG10(ABS('BDE calcs'!U189))))))),\"\")","v":""},{"$f":"IFERROR(IF('BDE calcs'!V189=\"\",\"\",IF('BDE calcs'!V189=0,0,(ROUND('BDE calcs'!V189,3-1-INT(LOG10(ABS('BDE calcs'!V189))))))),\"\")","v":""},{"$f":"IFERROR(IF('BDE calcs'!W189=\"\",\"\",IF('BDE calcs'!W189=0,0,(ROUND('BDE calcs'!W189,3-1-INT(LOG10(ABS('BDE calcs'!W189))))))),\"\")","v":""},null,null,{"$f":"IFERROR(IF('BDE calcs'!R189=\"\",\"\",IF('BDE calcs'!R189=0,0,(ROUND('BDE calcs'!R189,3-1-INT(LOG10(ABS('BDE calcs'!R189))))))),\"\")","v":""}]
[]
[]
[null,"PSA","% Gravel","% Sand","% Silt/Clay"]
[null,null,{"$f":"IF('Physical Stats'!L117=\"\",\"\",'Physical Stats'!L117)","v":""},{"$f":"IF('Physical Stats'!N117=\"\",\"\",'Physical Stats'!N117)","v":""},{"$f":"IF('Physical Stats'!O117=\"\",\"\",'Physical Stats'!O117)","v":""}]

{"sheet":"Import","index":18,"n_rows":2,"n_cols":87,"rows_kept":2,"cut":false,"hidden":true,"merged":[]}
["ApplicationNo","TS","Gravel","Sand","Silt","As","Cd","Cr","Cu","Hg","Ni","Pb","Zn","DBT","TBT","Acenapth","Acenapthylene","Antracn","BAA","BAP","BBF","BEP","Benzghip","BKF","C1N","C1PHEN","C2N","C3N","Chrysene","Debenzah","Flurant","Fluorene","Indypr","napth","perylene","phenant","pyrene","THC","PCB28","PCB52","PCB101","PCB118","PCB138","PCB153","PCB18","PCB105","PCB110","PCB128","PCB141","PCB149","PCB151","PCB156","PCB158","PCB170","PCB180","PCB183","PCB187","PCB194","PCB31","PCB44","PCB47","PCB49","PCB66","ICES7","AHCH","BHCH","GHCH","DIELDRIN","HCB","DDE","DDT","TDE","BDE100","BDE138","BDE153","BDE154","BDE17","BDE183","BDE209","BDE28","BDE47","BDE66","BDE85","BDE99","Ag","No. exempt from chemical analysis ","Tonnes exempt"]
[{"$f":"'PR details'!C3","v":""},{"$f":"'PR details'!C15","v":""},{"$f":"'PR details'!C52","v":""},{"$f":"'PR details'!D52","v":""},{"$f":"'PR details'!E52","v":""},{"$f":"'PR details'!D15","v":""},{"$f":"'PR details'!E15","v":""},{"$f":"'PR details'!F15","v":""},{"$f":"'PR details'!G15","v":""},{"$f":"'PR details'!H15","v":""},{"$f":"'PR details'!I15","v":""},{"$f":"'PR details'!J15","v":""},{"$f":"'PR details'!K15","v":""},{"$f":"'PR details'!L15","v":""},{"$f":"'PR details'!M15","v":""},{"$f":"'PR details'!D21","v":""},{"$f":"'PR details'!E21","v":""},{"$f":"'PR details'!F21","v":""},{"$f":"'PR details'!G21","v":""},{"$f":"'PR details'!H21","v":""},{"$f":"'PR details'!I21","v":""},{"$f":"'PR details'!K21","v":""},{"$f":"'PR details'!J21","v":""},{"$f":"'PR details'!L21","v":""},{"$f":"'PR details'!M21","v":""},{"$f":"'PR details'!N21","v":""},{"$f":"'PR details'!C24","v":""},{"$f":"'PR details'!D24","v":""},{"$f":"'PR details'!E24","v":""},{"$f":"'PR details'!F24","v":""},{"$f":"'PR details'!G24","v":""},{"$f":"'PR details'!H24","v":""},{"$f":"'PR details'!I24","v":""},{"$f":"'PR details'!J24","v":""},{"$f":"'PR details'!K24","v":""},{"$f":"'PR details'!L24","v":""},{"$f":"'PR details'!M24","v":""},{"$f":"'PR details'!N24","v":""},{"$f":"'PR details'!C36","v":""},{"$f":"'PR details'!H36","v":""},{"$f":"'PR details'!C30","v":""},{"$f":"'PR details'!F30","v":""},{"$f":"'PR details'!H30","v":""},{"$f":"'PR details'!C33","v":""},{"$f":"'PR details'!G33","v":""},{"$f":"'PR details'!D30","v":""},{"$f":"'PR details'!E30","v":""},{"$f":"'PR details'!G30","v":""},{"$f":"'PR details'!I30","v":""},{"$f":"'PR details'!J30","v":""},{"$f":"'PR details'!K30","v":""},{"$f":"'PR details'!D33","v":""},{"$f":"'PR details'!E33","v":""},{"$f":"'PR details'!F33","v":""},{"$f":"'PR details'!H33","v":""},{"$f":"'PR details'!I33","v":""},{"$f":"'PR details'!J33","v":""},{"$f":"'PR details'!K33","v":""},{"$f":"'PR details'!D36","v":""},{"$f":"'PR details'!E36","v":""},{"$f":"'PR details'!F36","v":""},{"$f":"'PR details'!G36","v":""},{"$f":"'PR details'!I36","v":""},{"$f":"'PR details'!K36","v":""},{"$f":"'PR details'!C42","v":""},{"$f":"'PR details'!D42","v":""},{"$f":"'PR details'!E42","v":""},{"$f":"'PR details'!F42","v":""},{"$f":"'PR details'!G42","v":""},{"$f":"'PR details'!H42","v":""},{"$f":"'PR details'!I42","v":""},{"$f":"'PR details'!J42","v":""},{"$f":"'PR details'!C45","v":""},{"$f":"'PR details'!D45","v":""},{"$f":"'PR details'!E45","v":""},{"$f":"'PR details'!F45","v":""},{"$f":"'PR details'!G45","v":""},{"$f":"'PR details'!H45","v":""},{"$f":"'PR details'!H48","v":""},{"$f":"'PR details'!I45","v":""},{"$f":"'PR details'!J45","v":""},{"$f":"'PR details'!C48","v":""},{"$f":"'PR details'!D48","v":""},{"$f":"'PR details'!E48","v":""},null,{"$f":"'Exempt Samples'!J54","v":0},{"$f":"'Exempt Samples'!M54","v":0}]